{"text_format":"1","workbook":"xlsx","n_sheets":4,"sheets":["Bilgi Girişi","kodlar","Liste","Birimler"],"not_rendered":{"charts":0,"images":1,"macros":1,"external_links":0,"defined_names":9,"comments":0,"pivot_tables":0},"unopened":[],"bounds":{"document_bytes":16777216,"sheet_cells":100000,"rows_first":2000,"rows_last":500,"rows_between":2000,"halvings":0,"cell_chars":16384,"cell_head_chars":4096},"cells_cut":0,"cells_raw":0,"read":"row_number_cap","date_system":"1900"}

{"sheet":"Bilgi Girişi","index":0,"n_rows":30,"n_cols":23,"rows_kept":30,"cut":false,"hidden":false,"merged":[[2,3,3,3]],"read":"row_number_cap"}
[]
[]
[null,"OKAS Kodu'nu \nSeçiniz/ Giriniz",null,null,null,null,null,{"$f":"IF(B4=\"\",\"\",IF(E4=\"\",\"\",\"DİKKAT\"))","v":""},null,null,null,null,"Alım Türü","OKAS Kodu","Alımın Tanımı","Alım Yöntemi","Gerekçesi","Miktarı","Birimi","Birim Fiyat TL","Tutarı (TL)",null,"Birim Adı"]
[null,null,{"$f":"IF(B4=\"\",0,1)","v":0},null,null,null,{"$f":"IF(E4=\"\",0,1)","v":0},{"$f":"IF(C4+G4>1,\"Dikkat Lütfen Tek Seçenek Giriniz\",\"\")","v":""},null,null,null,null,{"$f":"+E9","v":0},{"$f":"+H9","v":0},{"$f":"+H12","v":0},{"$f":"+B12","v":0},{"$f":"+E12","v":0},{"$f":"+B15","v":0},{"$f":"+E15","v":0},{"$f":"+E18","v":0},{"$f":"+E21","v":0},null,{"$f":"+E6","v":0}]
[]
[null,"Birim Adı",null,null,null,null,null,{"$f":"IF(H9=0,\"\",IF(E6=\"\",\"Lütfen Birim Adınızı Giriniz\",\"\"))","v":""}]
[]
[null,null,null,null,"Alım Türü",null,null,"OKAS Kodu"]
[null,null,null,null,{"$f":"IF(H4=\"Dikkat Lütfen Tek Seçenek Giriniz\",0,IF(B4=\"\",IF(ISERROR(VLOOKUP(H12,kodlar!$L$5:$N$9594,2,FALSE)),0,VLOOKUP(H12,kodlar!$L$5:$N$9594,2,FALSE)),IF(ISERROR(VLOOKUP(B4,kodlar!$I$5:$N$9594,3,FALSE)),0,VLOOKUP(B4,kodlar!$I$5:$N$9594,5,FALSE))))","v":0},null,null,{"$f":"IF(H4=\"Dikkat Lütfen Tek Seçenek Giriniz\",0,IF(B4=\"\",IF(ISERROR(VLOOKUP(E4,kodlar!$L$5:$N$9594,3,FALSE)),0,VLOOKUP(E4,kodlar!$L$5:$N$9594,3,FALSE)),+B4))","v":0}]
[]
[null,"Alım Yöntemi",null,null,"Gerekçesi",null,null,"Alımın Tanımı"]
[{"$f":"IF(H9=0,\"\",IF(B12=\"\",\"Alım Yöntemi Giriniz\",\"\"))","v":""},null,null,null,{"$f":"IF(B12=\"\",0,\"Kurum İhtiyacını  Gidermek İçin\")","v":0},null,null,{"$f":"IF(H4=\"Dikkat Lütfen Tek Seçenek Giriniz\",0,IF(E4=\"\",IF(ISERROR(VLOOKUP(B4,kodlar!$I$5:$N$9594,4,FALSE)),0,VLOOKUP(B4,kodlar!$I$5:$N$9594,4,FALSE)),+E4))","v":0}]
[]
[null,"Miktarı",null,null,"Birimi (Adet / Kg / vs)"]
[{"$f":"IF(H9=0,\"\",IF(B15=\"\",\"Miktar Giriniz\",\"\"))","v":""}]
[]
[null,null,null,null,"Birim Fiyat TL"]
[null,{"$f":"IF(H9=0,\"\",IF(E18=\"\",\"Birim Fiyatı Giriniz\",\"\"))","v":""}]
[]
[null,null,null,null,"Tutarı (TL)"]
[null,null,null,null,{"$f":"ROUND(B15*E18,2)","v":0}]
[]
[]
[]
[]
[]
[]
[]
[null,{"$f":"CONCATENATE(\"Afyon Kocatepe Üniversitesi / Genel Sekreterlik / Genel Sekreter Yrd. / Mustafa İŞBİLİR /   Ekim  2022 / \",+B30)","v":"Afyon Kocatepe Üniversitesi / Genel Sekreterlik / Genel Sekreter Yrd. / Mustafa İŞBİLİR /   Ekim  2022 / 2"}]
[null,2]

{"sheet":"kodlar","index":1,"n_rows":9594,"n_cols":17,"rows_kept":4500,"cut":true,"hidden":false,"merged":[[2,7,2,13]],"bounds":{"rows_first":2000,"rows_last":500,"rows_between":2000,"halvings":0}}
[]
[]
[null,null,null,null,null,null,null,"ORTAK KAMU ALIMLARI SÖZLÜĞÜ TAM ÜRÜN LİSTESİ"]
[null,null,"AlımYöntemi",null,"Birim Türleri",null,null,"Sira","CPV KODU","Sütun1","Sütun2","KALEM ADI","KALEM\nTÜRÜ","CPV KODU2"]
[null,null,"21 / f",null,"1/4 galon (qt)",null,null,1,3000000,{"$f":"IF(K5=1,COUNTIF($K$5:K5,1),\"\")","v":1},{"$f":"IF(ISNUMBER(SEARCH('Bilgi Girişi'!$E$4,KalemAdı,1))=TRUE,1,0)","v":1},"Tarım, çiftçilik, balıkçılık, ormancılık ve ilgili ürünler","Mal",3000000,null,null,{"$f":"IFERROR(VLOOKUP(ROW($P5),$J$5:$L$9594,3,FALSE),\"\")","v":"Soya fasulyeleri"}]
[null,null,"22 / d",null,"100 adet",null,null,2,3100000,{"$f":"IF(K6=1,COUNTIF($K$5:K6,1),\"\")","v":2},{"$f":"IF(ISNUMBER(SEARCH('Bilgi Girişi'!$E$4,KalemAdı,1))=TRUE,1,0)","v":1},"Tarım ve bahçecilik ürünleri","Mal",3100000,null,null,{"$f":"IFERROR(VLOOKUP(ROW($P6),$J$5:$L$9594,3,FALSE),\"\")","v":"Yer fıstıkları"}]
[null,null,"Diğer",null,"100 metre",null,null,3,3110000,{"$f":"IF(K7=1,COUNTIF($K$5:K7,1),\"\")","v":3},{"$f":"IF(ISNUMBER(SEARCH('Bilgi Girişi'!$E$4,KalemAdı,1))=TRUE,1,0)","v":1},"Tarla, bostan ve bahçe mahsulleri (işlenmemiş)","Mal",3110000,null,null,"Ayçiçeği tohumları"]
[null,null,null,null,"100 metrekare",null,null,4,3111000,{"$f":"IF(K8=1,COUNTIF($K$5:K8,1),\"\")","v":4},{"$f":"IF(ISNUMBER(SEARCH('Bilgi Girişi'!$E$4,KalemAdı,1))=TRUE,1,0)","v":1},"Tohumlar","Mal",3111000,null,null,"Pamuk tohumları, çiğit"]
[null,null,null,null,"1000 adet",null,null,5,3111100,{"$f":"IF(K9=1,COUNTIF($K$5:K9,1),\"\")","v":5},{"$f":"IF(ISNUMBER(SEARCH('Bilgi Girişi'!$E$4,KalemAdı,1))=TRUE,1,0)","v":1},"Soya fasulyeleri","Mal",3111100,null,null,"Susam tohumları"]
[null,null,null,null,"adam/ay",null,null,6,3111200,{"$f":"IF(K10=1,COUNTIF($K$5:K10,1),\"\")","v":6},{"$f":"IF(ISNUMBER(SEARCH('Bilgi Girişi'!$E$4,KalemAdı,1))=TRUE,1,0)","v":1},"Yer fıstıkları","Mal",3111200,null,null,"Hardal tohumları"]
[null,null,null,null,"adam/gün",null,null,7,3111300,{"$f":"IF(K11=1,COUNTIF($K$5:K11,1),\"\")","v":7},{"$f":"IF(ISNUMBER(SEARCH('Bilgi Girişi'!$E$4,KalemAdı,1))=TRUE,1,0)","v":1},"Ayçiçeği tohumları","Mal",3111300,null,null,"Sebze tohumları"]
[null,null,null,null,"adam/saat",null,null,8,3111400,{"$f":"IF(K12=1,COUNTIF($K$5:K12,1),\"\")","v":8},{"$f":"IF(ISNUMBER(SEARCH('Bilgi Girişi'!$E$4,KalemAdı,1))=TRUE,1,0)","v":1},"Pamuk tohumları, çiğit","Mal",3111400,null,null,"Kuru yemişler ve diğer meyve çekirdekleri"]
[null,null,null,null,"adam/yıl",null,null,9,3111500,{"$f":"IF(K13=1,COUNTIF($K$5:K13,1),\"\")","v":9},{"$f":"IF(ISNUMBER(SEARCH('Bilgi Girişi'!$E$4,KalemAdı,1))=TRUE,1,0)","v":1},"Susam tohumları","Mal",3111500,null,null,"Çiçek tohumları"]
[null,null,null,null,"adet",null,null,10,3111600,{"$f":"IF(K14=1,COUNTIF($K$5:K14,1),\"\")","v":10},{"$f":"IF(ISNUMBER(SEARCH('Bilgi Girişi'!$E$4,KalemAdı,1))=TRUE,1,0)","v":1},"Hardal tohumları","Mal",3111600,null,null,"İşlenmemiş tütün"]
[null,null,null,null,"adet*ay",null,null,11,3111700,{"$f":"IF(K15=1,COUNTIF($K$5:K15,1),\"\")","v":11},{"$f":"IF(ISNUMBER(SEARCH('Bilgi Girişi'!$E$4,KalemAdı,1))=TRUE,1,0)","v":1},"Sebze tohumları","Mal",3111700,null,null,"Şeker üretiminde kullanılan bitkiler"]
[null,null,null,null,"adet*gün",null,null,12,3111800,{"$f":"IF(K16=1,COUNTIF($K$5:K16,1),\"\")","v":12},{"$f":"IF(ISNUMBER(SEARCH('Bilgi Girişi'!$E$4,KalemAdı,1))=TRUE,1,0)","v":1},"Kuru yemişler ve diğer meyve çekirdekleri","Mal",3111800,null,null,"Şeker pancarı"]
[null,null,null,null,"ampul",null,null,13,3111900,{"$f":"IF(K17=1,COUNTIF($K$5:K17,1),\"\")","v":13},{"$f":"IF(ISNUMBER(SEARCH('Bilgi Girişi'!$E$4,KalemAdı,1))=TRUE,1,0)","v":1},"Çiçek tohumları","Mal",3111900,null,null,"Şeker kamışı"]
[null,null,null,null,"ano",null,null,14,3112000,{"$f":"IF(K18=1,COUNTIF($K$5:K18,1),\"\")","v":14},{"$f":"IF(ISNUMBER(SEARCH('Bilgi Girişi'!$E$4,KalemAdı,1))=TRUE,1,0)","v":1},"İşlenmemiş tütün","Mal",3112000,null,null,"Saman ve kaba yem"]
[null,null,null,null,"ar",null,null,15,3113000,{"$f":"IF(K19=1,COUNTIF($K$5:K19,1),\"\")","v":15},{"$f":"IF(ISNUMBER(SEARCH('Bilgi Girişi'!$E$4,KalemAdı,1))=TRUE,1,0)","v":1},"Şeker üretiminde kullanılan bitkiler","Mal",3113000,null,null,"Saman"]
[null,null,null,null,"araç",null,null,16,3113100,{"$f":"IF(K20=1,COUNTIF($K$5:K20,1),\"\")","v":16},{"$f":"IF(ISNUMBER(SEARCH('Bilgi Girişi'!$E$4,KalemAdı,1))=TRUE,1,0)","v":1},"Şeker pancarı","Mal",3113100,null,null,"Kaba yem"]
[null,null,null,null,"araç*ay",null,null,17,3113200,{"$f":"IF(K21=1,COUNTIF($K$5:K21,1),\"\")","v":17},{"$f":"IF(ISNUMBER(SEARCH('Bilgi Girişi'!$E$4,KalemAdı,1))=TRUE,1,0)","v":1},"Şeker kamışı","Mal",3113200,null,null,"Nebati hammaddeler, tekstil sanayinde kullanılan bitkiler"]
[null,null,null,null,"araç/ay",null,null,18,3114000,{"$f":"IF(K22=1,COUNTIF($K$5:K22,1),\"\")","v":18},{"$f":"IF(ISNUMBER(SEARCH('Bilgi Girişi'!$E$4,KalemAdı,1))=TRUE,1,0)","v":1},"Saman ve kaba yem","Mal",3114000,null,null,"Tekstil üretiminde kullanılan nebati ham maddeler, örülmeye elverişli bitkisel"]
[null,null,null,null,"ay",null,null,19,3114100,{"$f":"IF(K23=1,COUNTIF($K$5:K23,1),\"\")","v":19},{"$f":"IF(ISNUMBER(SEARCH('Bilgi Girişi'!$E$4,KalemAdı,1))=TRUE,1,0)","v":1},"Saman","Mal",3114100,null,null,"Pamuk"]
[null,null,null,null,"ayak",null,null,20,3114200,{"$f":"IF(K24=1,COUNTIF($K$5:K24,1),\"\")","v":20},{"$f":"IF(ISNUMBER(SEARCH('Bilgi Girişi'!$E$4,KalemAdı,1))=TRUE,1,0)","v":1},"Kaba yem","Mal",3114200,null,null,"Jüt"]
[null,null,null,null,"bağ",null,null,21,3115000,{"$f":"IF(K25=1,COUNTIF($K$5:K25,1),\"\")","v":21},{"$f":"IF(ISNUMBER(SEARCH('Bilgi Girişi'!$E$4,KalemAdı,1))=TRUE,1,0)","v":1},"Nebati hammaddeler, tekstil sanayinde kullanılan bitkiler","Mal",3115000,null,null,"Keten"]
[null,null,null,null,"bakım",null,null,22,3115100,{"$f":"IF(K26=1,COUNTIF($K$5:K26,1),\"\")","v":22},{"$f":"IF(ISNUMBER(SEARCH('Bilgi Girişi'!$E$4,KalemAdı,1))=TRUE,1,0)","v":1},"Tekstil üretiminde kullanılan nebati ham maddeler, örülmeye elverişli bitkisel","Mal",3115100,null,null,"Doğal kauçuk ve lateks ve ilgili ürünler"]
[null,null,null,null,"balya (be)",null,null,23,3115110,{"$f":"IF(K27=1,COUNTIF($K$5:K27,1),\"\")","v":23},{"$f":"IF(ISNUMBER(SEARCH('Bilgi Girişi'!$E$4,KalemAdı,1))=TRUE,1,0)","v":1},"Pamuk","Mal",3115110,null,null,"Tabii kauçuk"]
[null,null,null,null,"bar",null,null,24,3115120,{"$f":"IF(K28=1,COUNTIF($K$5:K28,1),\"\")","v":24},{"$f":"IF(ISNUMBER(SEARCH('Bilgi Girişi'!$E$4,KalemAdı,1))=TRUE,1,0)","v":1},"Jüt","Mal",3115120,null,null,"Tabii kauçuk özü"]
[null,null,null,null,"basım",null,null,25,3115130,{"$f":"IF(K29=1,COUNTIF($K$5:K29,1),\"\")","v":25},{"$f":"IF(ISNUMBER(SEARCH('Bilgi Girişi'!$E$4,KalemAdı,1))=TRUE,1,0)","v":1},"Keten","Mal",3115130,null,null,"Kauçuk özünden mamul ürünler"]
[null,null,null,null,"baz",null,null,26,3116000,{"$f":"IF(K30=1,COUNTIF($K$5:K30,1),\"\")","v":26},{"$f":"IF(ISNUMBER(SEARCH('Bilgi Girişi'!$E$4,KalemAdı,1))=TRUE,1,0)","v":1},"Doğal kauçuk ve lateks ve ilgili ürünler","Mal",3116000,null,null,"Sanayi ve tıpta kullanılan diğer özel bitkiler ve bitki tohumları"]
[null,null,null,null,"bidon",null,null,27,3116100,{"$f":"IF(K31=1,COUNTIF($K$5:K31,1),\"\")","v":27},{"$f":"IF(ISNUMBER(SEARCH('Bilgi Girişi'!$E$4,KalemAdı,1))=TRUE,1,0)","v":1},"Tabii kauçuk","Mal",3116100,null,null,"Parfümeri, eczacılık, haşarat mücadele ve benzeri amaçlar için kullanılan"]
[null,null,null,null,"binde",null,null,28,3116200,{"$f":"IF(K32=1,COUNTIF($K$5:K32,1),\"\")","v":28},{"$f":"IF(ISNUMBER(SEARCH('Bilgi Girişi'!$E$4,KalemAdı,1))=TRUE,1,0)","v":1},"Tabii kauçuk özü","Mal",3116200,null,null,"Parfümeride kullanılan bitkiler"]
[null,null,null,null,"blister",null,null,29,3116300,{"$f":"IF(K33=1,COUNTIF($K$5:K33,1),\"\")","v":29},{"$f":"IF(ISNUMBER(SEARCH('Bilgi Girişi'!$E$4,KalemAdı,1))=TRUE,1,0)","v":1},"Kauçuk özünden mamul ürünler","Mal",3116300,null,null,"Eczacılıkta kullanılan bitkiler"]
[null,null,null,null,"blok",null,null,30,3117000,{"$f":"IF(K34=1,COUNTIF($K$5:K34,1),\"\")","v":30},{"$f":"IF(ISNUMBER(SEARCH('Bilgi Girişi'!$E$4,KalemAdı,1))=TRUE,1,0)","v":1},"Sanayi ve tıpta kullanılan diğer özel bitkiler ve bitki tohumları","Mal",3117000,null,null,"Haşaratla mücadelede kullanılan bitkiler"]
[null,null,null,null,"bobin (cl)",null,null,31,3117100,{"$f":"IF(K35=1,COUNTIF($K$5:K35,1),\"\")","v":31},{"$f":"IF(ISNUMBER(SEARCH('Bilgi Girişi'!$E$4,KalemAdı,1))=TRUE,1,0)","v":1},"Parfümeri, eczacılık, haşarat mücadele ve benzeri amaçlar için kullanılan","Mal",3117100,null,null,"Mantar mücadelesi ve benzeri amaçlar için kullanılan bitkiler"]
[null,null,null,null,"boy",null,null,32,3117110,{"$f":"IF(K36=1,COUNTIF($K$5:K36,1),\"\")","v":32},{"$f":"IF(ISNUMBER(SEARCH('Bilgi Girişi'!$E$4,KalemAdı,1))=TRUE,1,0)","v":1},"Parfümeride kullanılan bitkiler","Mal",3117110,null,null,"Belirli alanlarda kullanılan bitkilerin tohumları"]
[null,null,null,null,"BTU (British thermal unit)",null,null,33,3117120,{"$f":"IF(K37=1,COUNTIF($K$5:K37,1),\"\")","v":33},{"$f":"IF(ISNUMBER(SEARCH('Bilgi Girişi'!$E$4,KalemAdı,1))=TRUE,1,0)","v":1},"Eczacılıkta kullanılan bitkiler","Mal",3117120,null,null,"Bahçecilik ve fidanlık ürünleri"]
[null,null,null,null,"cilt",null,null,34,3117130,{"$f":"IF(K38=1,COUNTIF($K$5:K38,1),\"\")","v":34},{"$f":"IF(ISNUMBER(SEARCH('Bilgi Girişi'!$E$4,KalemAdı,1))=TRUE,1,0)","v":1},"Haşaratla mücadelede kullanılan bitkiler","Mal",3117130,null,null,"Bahçıvanlık ürünleri"]
[null,null,null,null,"çevrim/döngü",null,null,35,3117140,{"$f":"IF(K39=1,COUNTIF($K$5:K39,1),\"\")","v":35},{"$f":"IF(ISNUMBER(SEARCH('Bilgi Girişi'!$E$4,KalemAdı,1))=TRUE,1,0)","v":1},"Mantar mücadelesi ve benzeri amaçlar için kullanılan bitkiler","Mal",3117140,null,null,"Canlı bitkiler, fidanlar, çiçek soğanları ve bitki aşı kalemleri"]
[null,null,null,null,"çift",null,null,36,3117200,{"$f":"IF(K40=1,COUNTIF($K$5:K40,1),\"\")","v":36},{"$f":"IF(ISNUMBER(SEARCH('Bilgi Girişi'!$E$4,KalemAdı,1))=TRUE,1,0)","v":1},"Belirli alanlarda kullanılan bitkilerin tohumları","Mal",3117200,null,null,"Kesme çiçekler"]
[null,null,null,null,"çuval",null,null,37,3120000,{"$f":"IF(K41=1,COUNTIF($K$5:K41,1),\"\")","v":37},{"$f":"IF(ISNUMBER(SEARCH('Bilgi Girişi'!$E$4,KalemAdı,1))=TRUE,1,0)","v":1},"Bahçecilik ve fidanlık ürünleri","Mal",3120000,null,null,"Çiçek aranjmanları"]
[null,null,null,null,"dakika",null,null,38,3121000,{"$f":"IF(K42=1,COUNTIF($K$5:K42,1),\"\")","v":38},{"$f":"IF(ISNUMBER(SEARCH('Bilgi Girişi'!$E$4,KalemAdı,1))=TRUE,1,0)","v":1},"Bahçıvanlık ürünleri","Mal",3121000,null,null,"İçecek ve baharat bitkileri"]
[null,null,null,null,"dakika/ay",null,null,39,3121100,{"$f":"IF(K43=1,COUNTIF($K$5:K43,1),\"\")","v":39},{"$f":"IF(ISNUMBER(SEARCH('Bilgi Girişi'!$E$4,KalemAdı,1))=TRUE,1,0)","v":1},"Canlı bitkiler, fidanlar, çiçek soğanları ve bitki aşı kalemleri","Mal",3121100,null,null,"İçilebilir mahsuller; kahve, çay, kakao, paraguay çayı"]
[null,null,null,null,"defter",null,null,40,3121200,{"$f":"IF(K44=1,COUNTIF($K$5:K44,1),\"\")","v":40},{"$f":"IF(ISNUMBER(SEARCH('Bilgi Girişi'!$E$4,KalemAdı,1))=TRUE,1,0)","v":1},"Kesme çiçekler","Mal",3121200,null,null,"Kahve taneleri"]
[null,null,null,null,"dekar",null,null,41,3121210,{"$f":"IF(K45=1,COUNTIF($K$5:K45,1),\"\")","v":41},{"$f":"IF(ISNUMBER(SEARCH('Bilgi Girişi'!$E$4,KalemAdı,1))=TRUE,1,0)","v":1},"Çiçek aranjmanları","Mal",3121210,null,null,"Çay fidanları"]
[null,null,null,null,"demet",null,null,42,3130000,{"$f":"IF(K46=1,COUNTIF($K$5:K46,1),\"\")","v":42},{"$f":"IF(ISNUMBER(SEARCH('Bilgi Girişi'!$E$4,KalemAdı,1))=TRUE,1,0)","v":1},"İçecek ve baharat bitkileri","Mal",3130000,null,null,"Paraguay çayı"]
[null,null,null,null,"desimetre",null,null,43,3131000,{"$f":"IF(K47=1,COUNTIF($K$5:K47,1),\"\")","v":43},{"$f":"IF(ISNUMBER(SEARCH('Bilgi Girişi'!$E$4,KalemAdı,1))=TRUE,1,0)","v":1},"İçilebilir mahsuller; kahve, çay, kakao, paraguay çayı","Mal",3131000,null,null,"Kakao taneleri"]
[null,null,null,null,"desimetrekare",null,null,44,3131100,{"$f":"IF(K48=1,COUNTIF($K$5:K48,1),\"\")","v":44},{"$f":"IF(ISNUMBER(SEARCH('Bilgi Girişi'!$E$4,KalemAdı,1))=TRUE,1,0)","v":1},"Kahve taneleri","Mal",3131100,null,null,"Baharatlar (işlenmemiş)"]
[null,null,null,null,"desimetreküp",null,null,45,3131200,{"$f":"IF(K49=1,COUNTIF($K$5:K49,1),\"\")","v":45},{"$f":"IF(ISNUMBER(SEARCH('Bilgi Girişi'!$E$4,KalemAdı,1))=TRUE,1,0)","v":1},"Çay fidanları","Mal",3131200,null,null,"Hayvansal ürünler ve ilgili ürünler"]
[null,null,null,null,"direk",null,null,46,3131300,{"$f":"IF(K50=1,COUNTIF($K$5:K50,1),\"\")","v":46},{"$f":"IF(ISNUMBER(SEARCH('Bilgi Girişi'!$E$4,KalemAdı,1))=TRUE,1,0)","v":1},"Paraguay çayı","Mal",3131300,null,null,"Boğa dölü"]
[null,null,null,null,"disk",null,null,47,3131400,{"$f":"IF(K51=1,COUNTIF($K$5:K51,1),\"\")","v":47},{"$f":"IF(ISNUMBER(SEARCH('Bilgi Girişi'!$E$4,KalemAdı,1))=TRUE,1,0)","v":1},"Kakao taneleri","Mal",3131400,null,null,"Hayvansal ürünler"]
[null,null,null,null,"doz",null,null,48,3132000,{"$f":"IF(K52=1,COUNTIF($K$5:K52,1),\"\")","v":48},{"$f":"IF(ISNUMBER(SEARCH('Bilgi Girişi'!$E$4,KalemAdı,1))=TRUE,1,0)","v":1},"Baharatlar (işlenmemiş)","Mal",3132000,null,null,"Tabii bal"]
[null,null,null,null,"dönem",null,null,49,3140000,{"$f":"IF(K53=1,COUNTIF($K$5:K53,1),\"\")","v":49},{"$f":"IF(ISNUMBER(SEARCH('Bilgi Girişi'!$E$4,KalemAdı,1))=TRUE,1,0)","v":1},"Hayvansal ürünler ve ilgili ürünler","Mal",3140000,null,null,"Salyangozlar"]
[null,null,null,null,"düzine",null,null,50,3141000,{"$f":"IF(K54=1,COUNTIF($K$5:K54,1),\"\")","v":50},{"$f":"IF(ISNUMBER(SEARCH('Bilgi Girişi'!$E$4,KalemAdı,1))=TRUE,1,0)","v":1},"Boğa dölü","Mal",3141000,null,null,"Yenilebilir hayvansal ürünler"]
[null,null,null,null,"feet",null,null,51,3142000,{"$f":"IF(K55=1,COUNTIF($K$5:K55,1),\"\")","v":51},{"$f":"IF(ISNUMBER(SEARCH('Bilgi Girişi'!$E$4,KalemAdı,1))=TRUE,1,0)","v":1},"Hayvansal ürünler","Mal",3142000,null,null,"Balmumları"]
[null,null,null,null,"flakon",null,null,52,3142100,{"$f":"IF(K56=1,COUNTIF($K$5:K56,1),\"\")","v":52},{"$f":"IF(ISNUMBER(SEARCH('Bilgi Girişi'!$E$4,KalemAdı,1))=TRUE,1,0)","v":1},"Tabii bal","Mal",3142100,null,null,"Yumurtalar"]
[null,null,null,null,"forma",null,null,53,3142200,{"$f":"IF(K57=1,COUNTIF($K$5:K57,1),\"\")","v":53},{"$f":"IF(ISNUMBER(SEARCH('Bilgi Girişi'!$E$4,KalemAdı,1))=TRUE,1,0)","v":1},"Salyangozlar","Mal",3142200,null,null,"Muhtelif çiftlik ürünleri"]
[null,null,null,null,"föy",null,null,54,3142300,{"$f":"IF(K58=1,COUNTIF($K$5:K58,1),\"\")","v":54},{"$f":"IF(ISNUMBER(SEARCH('Bilgi Girişi'!$E$4,KalemAdı,1))=TRUE,1,0)","v":1},"Yenilebilir hayvansal ürünler","Mal",3142300,null,null,"Tarımsal malzemeler"]
[null,null,null,null,"galon",null,null,55,3142400,{"$f":"IF(K59=1,COUNTIF($K$5:K59,1),\"\")","v":55},{"$f":"IF(ISNUMBER(SEARCH('Bilgi Girişi'!$E$4,KalemAdı,1))=TRUE,1,0)","v":1},"Balmumları","Mal",3142400,null,null,"Hububat, patatesler, sebzeler, meyveler ve kabuklu yemişler"]
[null,null,null,null,"gigabyte (GB)",null,null,56,3142500,{"$f":"IF(K60=1,COUNTIF($K$5:K60,1),\"\")","v":56},{"$f":"IF(ISNUMBER(SEARCH('Bilgi Girişi'!$E$4,KalemAdı,1))=TRUE,1,0)","v":1},"Yumurtalar","Mal",3142500,null,null,"Hububat ve patatesler"]
[null,null,null,null,"götürü",null,null,57,3143000,{"$f":"IF(K61=1,COUNTIF($K$5:K61,1),\"\")","v":57},{"$f":"IF(ISNUMBER(SEARCH('Bilgi Girişi'!$E$4,KalemAdı,1))=TRUE,1,0)","v":1},"Muhtelif çiftlik ürünleri","Mal",3143000,null,null,"Hububat"]
[null,null,null,null,"gram",null,null,58,3144000,{"$f":"IF(K62=1,COUNTIF($K$5:K62,1),\"\")","v":58},{"$f":"IF(ISNUMBER(SEARCH('Bilgi Girişi'!$E$4,KalemAdı,1))=TRUE,1,0)","v":1},"Tarımsal malzemeler","Mal",3144000,null,null,"Buğday"]
[null,null,null,null,"grup",null,null,59,3200000,{"$f":"IF(K63=1,COUNTIF($K$5:K63,1),\"\")","v":59},{"$f":"IF(ISNUMBER(SEARCH('Bilgi Girişi'!$E$4,KalemAdı,1))=TRUE,1,0)","v":1},"Hububat, patatesler, sebzeler, meyveler ve kabuklu yemişler","Mal",3200000,null,null,"Durum Buğdayı"]
[null,null,null,null,"gün",null,null,60,3210000,{"$f":"IF(K64=1,COUNTIF($K$5:K64,1),\"\")","v":60},{"$f":"IF(ISNUMBER(SEARCH('Bilgi Girişi'!$E$4,KalemAdı,1))=TRUE,1,0)","v":1},"Hububat ve patatesler","Mal",3210000,null,null,"Yumuşak buğday"]
[null,null,null,null,"hafta",null,null,61,3211000,{"$f":"IF(K65=1,COUNTIF($K$5:K65,1),\"\")","v":61},{"$f":"IF(ISNUMBER(SEARCH('Bilgi Girişi'!$E$4,KalemAdı,1))=TRUE,1,0)","v":1},"Hububat","Mal",3211000,null,null,"Mısır"]
[null,null,null,null,"hane",null,null,62,3211100,{"$f":"IF(K66=1,COUNTIF($K$5:K66,1),\"\")","v":62},{"$f":"IF(ISNUMBER(SEARCH('Bilgi Girişi'!$E$4,KalemAdı,1))=TRUE,1,0)","v":1},"Buğday","Mal",3211100,null,null,"Pirinç"]
[null,null,null,null,"hasta",null,null,63,3211110,{"$f":"IF(K67=1,COUNTIF($K$5:K67,1),\"\")","v":63},{"$f":"IF(ISNUMBER(SEARCH('Bilgi Girişi'!$E$4,KalemAdı,1))=TRUE,1,0)","v":1},"Durum Buğdayı","Mal",3211110,null,null,"Arpa"]
[null,null,null,null,"hat-m",null,null,64,3211120,{"$f":"IF(K68=1,COUNTIF($K$5:K68,1),\"\")","v":64},{"$f":"IF(ISNUMBER(SEARCH('Bilgi Girişi'!$E$4,KalemAdı,1))=TRUE,1,0)","v":1},"Yumuşak buğday","Mal",3211120,null,null,"Çavdar"]
[null,null,null,null,"hat-metre",null,null,65,3211200,{"$f":"IF(K69=1,COUNTIF($K$5:K69,1),\"\")","v":65},{"$f":"IF(ISNUMBER(SEARCH('Bilgi Girişi'!$E$4,KalemAdı,1))=TRUE,1,0)","v":1},"Mısır","Mal",3211200,null,null,"Yulaf"]
[null,null,null,null,"hektar",null,null,66,3211300,{"$f":"IF(K70=1,COUNTIF($K$5:K70,1),\"\")","v":66},{"$f":"IF(ISNUMBER(SEARCH('Bilgi Girişi'!$E$4,KalemAdı,1))=TRUE,1,0)","v":1},"Pirinç","Mal",3211300,null,null,{"$f":"IFERROR(VLOOKUP(ROW($P70),$J$5:$L$9594,3,FALSE),\"\")","v":"Malt"}]
[null,null,null,null,"inç",null,null,67,3211400,{"$f":"IF(K71=1,COUNTIF($K$5:K71,1),\"\")","v":67},{"$f":"IF(ISNUMBER(SEARCH('Bilgi Girişi'!$E$4,KalemAdı,1))=TRUE,1,0)","v":1},"Arpa","Mal",3211400,null,null,"Hububat ürnleri"]
[null,null,null,null,"iş günü",null,null,68,3211500,{"$f":"IF(K72=1,COUNTIF($K$5:K72,1),\"\")","v":68},{"$f":"IF(ISNUMBER(SEARCH('Bilgi Girişi'!$E$4,KalemAdı,1))=TRUE,1,0)","v":1},"Çavdar","Mal",3211500,null,null,"Patates ve kuru baklagiller"]
[null,null,null,null,"işlem",null,null,69,3211600,{"$f":"IF(K73=1,COUNTIF($K$5:K73,1),\"\")","v":69},{"$f":"IF(ISNUMBER(SEARCH('Bilgi Girişi'!$E$4,KalemAdı,1))=TRUE,1,0)","v":1},"Yulaf","Mal",3211600,null,null,"Patatesler"]
[null,null,null,null,"kapsül",null,null,70,3211700,{"$f":"IF(K74=1,COUNTIF($K$5:K74,1),\"\")","v":70},{"$f":"IF(ISNUMBER(SEARCH('Bilgi Girişi'!$E$4,KalemAdı,1))=TRUE,1,0)","v":1},"Malt","Mal",3211700,null,null,"Kuru baklagiller ve bakliyatlar"]
[null,null,null,null,"karakter",null,null,71,3211900,{"$f":"IF(K75=1,COUNTIF($K$5:K75,1),\"\")","v":71},{"$f":"IF(ISNUMBER(SEARCH('Bilgi Girişi'!$E$4,KalemAdı,1))=TRUE,1,0)","v":1},"Hububat ürnleri","Mal",3211900,null,null,"Kuru baklagiller"]
[null,null,null,null,"karşılıklı atış",null,null,72,3212000,{"$f":"IF(K76=1,COUNTIF($K$5:K76,1),\"\")","v":72},{"$f":"IF(ISNUMBER(SEARCH('Bilgi Girişi'!$E$4,KalemAdı,1))=TRUE,1,0)","v":1},"Patates ve kuru baklagiller","Mal",3212000,null,null,"Mercimekler"]
[null,null,null,null,"kartuş",null,null,73,3212100,{"$f":"IF(K77=1,COUNTIF($K$5:K77,1),\"\")","v":73},{"$f":"IF(ISNUMBER(SEARCH('Bilgi Girişi'!$E$4,KalemAdı,1))=TRUE,1,0)","v":1},"Patatesler","Mal",3212100,null,null,"Nohutlar"]
[null,null,null,null,"kasa",null,null,74,3212200,{"$f":"IF(K78=1,COUNTIF($K$5:K78,1),\"\")","v":74},{"$f":"IF(ISNUMBER(SEARCH('Bilgi Girişi'!$E$4,KalemAdı,1))=TRUE,1,0)","v":1},"Kuru baklagiller ve bakliyatlar","Mal",3212200,null,null,"Kurutulmuş bezelyeler"]
[null,null,null,null,"kelime",null,null,75,3212210,{"$f":"IF(K79=1,COUNTIF($K$5:K79,1),\"\")","v":75},{"$f":"IF(ISNUMBER(SEARCH('Bilgi Girişi'!$E$4,KalemAdı,1))=TRUE,1,0)","v":1},"Kuru baklagiller","Mal",3212210,null,null,"Kuru baklagiller"]
[null,null,null,null,"kesit",null,null,76,3212211,{"$f":"IF(K80=1,COUNTIF($K$5:K80,1),\"\")","v":76},{"$f":"IF(ISNUMBER(SEARCH('Bilgi Girişi'!$E$4,KalemAdı,1))=TRUE,1,0)","v":1},"Mercimekler","Mal",3212211,null,null,"Sebzeler, meyveler ve fındıklar"]
[null,null,null,null,"KIU",null,null,77,3212212,{"$f":"IF(K81=1,COUNTIF($K$5:K81,1),\"\")","v":77},{"$f":"IF(ISNUMBER(SEARCH('Bilgi Girişi'!$E$4,KalemAdı,1))=TRUE,1,0)","v":1},"Nohutlar","Mal",3212212,null,null,"Sebzeler"]
[null,null,null,null,"kilobayt",null,null,78,3212213,{"$f":"IF(K82=1,COUNTIF($K$5:K82,1),\"\")","v":78},{"$f":"IF(ISNUMBER(SEARCH('Bilgi Girişi'!$E$4,KalemAdı,1))=TRUE,1,0)","v":1},"Kurutulmuş bezelyeler","Mal",3212213,null,null,"Soğansı ve yumru sebzeler"]
[null,null,null,null,"kilogram",null,null,79,3212220,{"$f":"IF(K83=1,COUNTIF($K$5:K83,1),\"\")","v":79},{"$f":"IF(ISNUMBER(SEARCH('Bilgi Girişi'!$E$4,KalemAdı,1))=TRUE,1,0)","v":1},"Kuru baklagiller","Mal",3212220,null,null,"Kök sebzeler"]
[null,null,null,null,"kilogram/desi",null,null,80,3220000,{"$f":"IF(K84=1,COUNTIF($K$5:K84,1),\"\")","v":80},{"$f":"IF(ISNUMBER(SEARCH('Bilgi Girişi'!$E$4,KalemAdı,1))=TRUE,1,0)","v":1},"Sebzeler, meyveler ve fındıklar","Mal",3220000,null,null,"Pancar"]
[null,null,null,null,"kilogram/desimetreküp",null,null,81,3221000,{"$f":"IF(K85=1,COUNTIF($K$5:K85,1),\"\")","v":81},{"$f":"IF(ISNUMBER(SEARCH('Bilgi Girişi'!$E$4,KalemAdı,1))=TRUE,1,0)","v":1},"Sebzeler","Mal",3221000,null,null,"Havuçlar"]
[null,null,null,null,"kilometre",null,null,82,3221100,{"$f":"IF(K86=1,COUNTIF($K$5:K86,1),\"\")","v":82},{"$f":"IF(ISNUMBER(SEARCH('Bilgi Girişi'!$E$4,KalemAdı,1))=TRUE,1,0)","v":1},"Soğansı ve yumru sebzeler","Mal",3221100,null,null,"Soğanlar"]
[null,null,null,null,"kilometrekare",null,null,83,3221110,{"$f":"IF(K87=1,COUNTIF($K$5:K87,1),\"\")","v":83},{"$f":"IF(ISNUMBER(SEARCH('Bilgi Girişi'!$E$4,KalemAdı,1))=TRUE,1,0)","v":1},"Kök sebzeler","Mal",3221110,null,null,"Turplar"]
[null,null,null,null,"kilowatt",null,null,84,3221111,{"$f":"IF(K88=1,COUNTIF($K$5:K88,1),\"\")","v":84},{"$f":"IF(ISNUMBER(SEARCH('Bilgi Girişi'!$E$4,KalemAdı,1))=TRUE,1,0)","v":1},"Pancar","Mal",3221111,null,null,"Yumru sebzeler"]
[null,null,null,null,"kilowatt-saat",null,null,85,3221112,{"$f":"IF(K89=1,COUNTIF($K$5:K89,1),\"\")","v":85},{"$f":"IF(ISNUMBER(SEARCH('Bilgi Girişi'!$E$4,KalemAdı,1))=TRUE,1,0)","v":1},"Havuçlar","Mal",3221112,null,null,"Meyvesi yenen sebzeler"]
[null,null,null,null,"kişi",null,null,86,3221113,{"$f":"IF(K90=1,COUNTIF($K$5:K90,1),\"\")","v":86},{"$f":"IF(ISNUMBER(SEARCH('Bilgi Girişi'!$E$4,KalemAdı,1))=TRUE,1,0)","v":1},"Soğanlar","Mal",3221113,null,null,"Baklagil sebzeler"]
[null,null,null,null,"kişi*gün",null,null,87,3221114,{"$f":"IF(K91=1,COUNTIF($K$5:K91,1),\"\")","v":87},{"$f":"IF(ISNUMBER(SEARCH('Bilgi Girişi'!$E$4,KalemAdı,1))=TRUE,1,0)","v":1},"Turplar","Mal",3221114,null,null,"Baklalar"]
[null,null,null,null,"kit",null,null,88,3221120,{"$f":"IF(K92=1,COUNTIF($K$5:K92,1),\"\")","v":88},{"$f":"IF(ISNUMBER(SEARCH('Bilgi Girişi'!$E$4,KalemAdı,1))=TRUE,1,0)","v":1},"Yumru sebzeler","Mal",3221120,null,null,"Taze fasulyeler"]
[null,null,null,null,"klinik örnek",null,null,89,3221200,{"$f":"IF(K93=1,COUNTIF($K$5:K93,1),\"\")","v":89},{"$f":"IF(ISNUMBER(SEARCH('Bilgi Girişi'!$E$4,KalemAdı,1))=TRUE,1,0)","v":1},"Meyvesi yenen sebzeler","Mal",3221200,null,null,"Çalı fasulyeleri"]
[null,null,null,null,"koçan",null,null,90,3221210,{"$f":"IF(K94=1,COUNTIF($K$5:K94,1),\"\")","v":90},{"$f":"IF(ISNUMBER(SEARCH('Bilgi Girişi'!$E$4,KalemAdı,1))=TRUE,1,0)","v":1},"Baklagil sebzeler","Mal",3221210,null,null,"Bezelyeler"]
[null,null,null,null,"koli",null,null,91,3221211,{"$f":"IF(K95=1,COUNTIF($K$5:K95,1),\"\")","v":91},{"$f":"IF(ISNUMBER(SEARCH('Bilgi Girişi'!$E$4,KalemAdı,1))=TRUE,1,0)","v":1},"Baklalar","Mal",3221211,null,null,"Yeşil bezelye"]
[null,null,null,null,"komple",null,null,92,3221212,{"$f":"IF(K96=1,COUNTIF($K$5:K96,1),\"\")","v":92},{"$f":"IF(ISNUMBER(SEARCH('Bilgi Girişi'!$E$4,KalemAdı,1))=TRUE,1,0)","v":1},"Taze fasulyeler","Mal",3221212,null,null,"Kar bezelyesi"]
[null,null,null,null,"kova",null,null,93,3221213,{"$f":"IF(K97=1,COUNTIF($K$5:K97,1),\"\")","v":93},{"$f":"IF(ISNUMBER(SEARCH('Bilgi Girişi'!$E$4,KalemAdı,1))=TRUE,1,0)","v":1},"Çalı fasulyeleri","Mal",3221213,null,null,"Biberler"]
[null,null,null,null,"kule",null,null,94,3221220,{"$f":"IF(K98=1,COUNTIF($K$5:K98,1),\"\")","v":94},{"$f":"IF(ISNUMBER(SEARCH('Bilgi Girişi'!$E$4,KalemAdı,1))=TRUE,1,0)","v":1},"Bezelyeler","Mal",3221220,null,null,"Domatesler"]
[null,null,null,null,"kullanıcı",null,null,95,3221221,{"$f":"IF(K99=1,COUNTIF($K$5:K99,1),\"\")","v":95},{"$f":"IF(ISNUMBER(SEARCH('Bilgi Girişi'!$E$4,KalemAdı,1))=TRUE,1,0)","v":1},"Yeşil bezelye","Mal",3221221,null,null,"Sakız kabakları"]
[null,null,null,null,"kutu",null,null,96,3221222,{"$f":"IF(K100=1,COUNTIF($K$5:K100,1),\"\")","v":96},{"$f":"IF(ISNUMBER(SEARCH('Bilgi Girişi'!$E$4,KalemAdı,1))=TRUE,1,0)","v":1},"Kar bezelyesi","Mal",3221222,null,null,"Mantarlar"]
[null,null,null,null,"Kva (Kilo volt amper)",null,null,97,3221230,{"$f":"IF(K101=1,COUNTIF($K$5:K101,1),\"\")","v":97},{"$f":"IF(ISNUMBER(SEARCH('Bilgi Girişi'!$E$4,KalemAdı,1))=TRUE,1,0)","v":1},"Biberler","Mal",3221230,null,null,"Hıyarlar"]
[null,null,null,null,"kVar",null,null,98,3221240,{"$f":"IF(K102=1,COUNTIF($K$5:K102,1),\"\")","v":98},{"$f":"IF(ISNUMBER(SEARCH('Bilgi Girişi'!$E$4,KalemAdı,1))=TRUE,1,0)","v":1},"Domatesler","Mal",3221240,null,null,"Yaprağı yenen sebzeler"]
[null,null,null,null,"kvar",null,null,99,3221250,{"$f":"IF(K103=1,COUNTIF($K$5:K103,1),\"\")","v":99},{"$f":"IF(ISNUMBER(SEARCH('Bilgi Girişi'!$E$4,KalemAdı,1))=TRUE,1,0)","v":1},"Sakız kabakları","Mal",3221250,null,null,"Marul"]
[null,null,null,null,"libre",null,null,100,3221260,{"$f":"IF(K104=1,COUNTIF($K$5:K104,1),\"\")","v":100},{"$f":"IF(ISNUMBER(SEARCH('Bilgi Girişi'!$E$4,KalemAdı,1))=TRUE,1,0)","v":1},"Mantarlar","Mal",3221260,null,null,"Salatalık yaprakları"]
[null,null,null,null,"litre",null,null,101,3221270,{"$f":"IF(K105=1,COUNTIF($K$5:K105,1),\"\")","v":101},{"$f":"IF(ISNUMBER(SEARCH('Bilgi Girişi'!$E$4,KalemAdı,1))=TRUE,1,0)","v":1},"Hıyarlar","Mal",3221270,null,null,"Enginarlar"]
[null,null,null,null,"lot",null,null,102,3221300,{"$f":"IF(K106=1,COUNTIF($K$5:K106,1),\"\")","v":102},{"$f":"IF(ISNUMBER(SEARCH('Bilgi Girişi'!$E$4,KalemAdı,1))=TRUE,1,0)","v":1},"Yaprağı yenen sebzeler","Mal",3221300,null,null,"Ispanaklar"]
[null,null,null,null,"makarna",null,null,103,3221310,{"$f":"IF(K107=1,COUNTIF($K$5:K107,1),\"\")","v":103},{"$f":"IF(ISNUMBER(SEARCH('Bilgi Girişi'!$E$4,KalemAdı,1))=TRUE,1,0)","v":1},"Marul","Mal",3221310,null,null,"Lahanagiller"]
[null,null,null,null,"maktüen",null,null,104,3221320,{"$f":"IF(K108=1,COUNTIF($K$5:K108,1),\"\")","v":104},{"$f":"IF(ISNUMBER(SEARCH('Bilgi Girişi'!$E$4,KalemAdı,1))=TRUE,1,0)","v":1},"Salatalık yaprakları","Mal",3221320,null,null,"Lahana"]
[null,null,null,null,"malik",null,null,105,3221330,{"$f":"IF(K109=1,COUNTIF($K$5:K109,1),\"\")","v":105},{"$f":"IF(ISNUMBER(SEARCH('Bilgi Girişi'!$E$4,KalemAdı,1))=TRUE,1,0)","v":1},"Enginarlar","Mal",3221330,null,null,"Karnabahar"]
[null,null,null,null,"megawatt-saat",null,null,106,3221340,{"$f":"IF(K110=1,COUNTIF($K$5:K110,1),\"\")","v":106},{"$f":"IF(ISNUMBER(SEARCH('Bilgi Girişi'!$E$4,KalemAdı,1))=TRUE,1,0)","v":1},"Ispanaklar","Mal",3221340,null,null,"Brokoli"]
[null,null,null,null,"mer",null,null,107,3221400,{"$f":"IF(K111=1,COUNTIF($K$5:K111,1),\"\")","v":107},{"$f":"IF(ISNUMBER(SEARCH('Bilgi Girişi'!$E$4,KalemAdı,1))=TRUE,1,0)","v":1},"Lahanagiller","Mal",3221400,null,null,"Brüksel lahanası"]
[null,null,null,null,"metre",null,null,108,3221410,{"$f":"IF(K112=1,COUNTIF($K$5:K112,1),\"\")","v":108},{"$f":"IF(ISNUMBER(SEARCH('Bilgi Girişi'!$E$4,KalemAdı,1))=TRUE,1,0)","v":1},"Lahana","Mal",3221410,null,null,"Meyveler, turunçgiller, zeytinler, kuruyemiş ve diğer meyve çekirdekleri"]
[null,null,null,null,"metrekare",null,null,109,3221420,{"$f":"IF(K113=1,COUNTIF($K$5:K113,1),\"\")","v":109},{"$f":"IF(ISNUMBER(SEARCH('Bilgi Girişi'!$E$4,KalemAdı,1))=TRUE,1,0)","v":1},"Karnabahar","Mal",3221420,null,null,"Tropikal meyve ve sert kabuklu yemişler"]
[null,null,null,null,"metreküp",null,null,110,3221430,{"$f":"IF(K114=1,COUNTIF($K$5:K114,1),\"\")","v":110},{"$f":"IF(ISNUMBER(SEARCH('Bilgi Girişi'!$E$4,KalemAdı,1))=TRUE,1,0)","v":1},"Brokoli","Mal",3221430,null,null,"Tropikal meyveler"]
[null,null,null,null,"metreküp*kilometre",null,null,111,3221440,{"$f":"IF(K115=1,COUNTIF($K$5:K115,1),\"\")","v":111},{"$f":"IF(ISNUMBER(SEARCH('Bilgi Girişi'!$E$4,KalemAdı,1))=TRUE,1,0)","v":1},"Brüksel lahanası","Mal",3221440,null,null,"Muzlar"]
[null,null,null,null,"metretül",null,null,112,3222000,{"$f":"IF(K116=1,COUNTIF($K$5:K116,1),\"\")","v":112},{"$f":"IF(ISNUMBER(SEARCH('Bilgi Girişi'!$E$4,KalemAdı,1))=TRUE,1,0)","v":1},"Meyveler, turunçgiller, zeytinler, kuruyemiş ve diğer meyve çekirdekleri","Mal",3222000,null,null,"Ananaslar"]
[null,null,null,null,"mevsim",null,null,113,3222100,{"$f":"IF(K117=1,COUNTIF($K$5:K117,1),\"\")","v":113},{"$f":"IF(ISNUMBER(SEARCH('Bilgi Girişi'!$E$4,KalemAdı,1))=TRUE,1,0)","v":1},"Tropikal meyve ve sert kabuklu yemişler","Mal",3222100,null,null,"Mangolar"]
[null,null,null,null,"mikap",null,null,114,3222110,{"$f":"IF(K118=1,COUNTIF($K$5:K118,1),\"\")","v":114},{"$f":"IF(ISNUMBER(SEARCH('Bilgi Girişi'!$E$4,KalemAdı,1))=TRUE,1,0)","v":1},"Tropikal meyveler","Mal",3222110,null,null,"Hurmalar"]
[null,null,null,null,"mikrogram",null,null,115,3222111,{"$f":"IF(K119=1,COUNTIF($K$5:K119,1),\"\")","v":115},{"$f":"IF(ISNUMBER(SEARCH('Bilgi Girişi'!$E$4,KalemAdı,1))=TRUE,1,0)","v":1},"Muzlar","Mal",3222111,null,null,"Kuru üzümler"]
[null,null,null,null,"mikrolitre",null,null,116,3222112,{"$f":"IF(K120=1,COUNTIF($K$5:K120,1),\"\")","v":116},{"$f":"IF(ISNUMBER(SEARCH('Bilgi Girişi'!$E$4,KalemAdı,1))=TRUE,1,0)","v":1},"Ananaslar","Mal",3222112,null,null,"İncirler"]
[null,null,null,null,"mil",null,null,117,3222113,{"$f":"IF(K121=1,COUNTIF($K$5:K121,1),\"\")","v":117},{"$f":"IF(ISNUMBER(SEARCH('Bilgi Girişi'!$E$4,KalemAdı,1))=TRUE,1,0)","v":1},"Mangolar","Mal",3222113,null,null,"Avokadolar"]
[null,null,null,null,"miligram",null,null,118,3222114,{"$f":"IF(K122=1,COUNTIF($K$5:K122,1),\"\")","v":118},{"$f":"IF(ISNUMBER(SEARCH('Bilgi Girişi'!$E$4,KalemAdı,1))=TRUE,1,0)","v":1},"Hurmalar","Mal",3222114,null,null,"Kivi"]
[null,null,null,null,"mililitre",null,null,119,3222115,{"$f":"IF(K123=1,COUNTIF($K$5:K123,1),\"\")","v":119},{"$f":"IF(ISNUMBER(SEARCH('Bilgi Girişi'!$E$4,KalemAdı,1))=TRUE,1,0)","v":1},"Kuru üzümler","Mal",3222115,null,null,"Hindistan cevizleri"]
[null,null,null,null,"milimetre (mm)",null,null,120,3222116,{"$f":"IF(K124=1,COUNTIF($K$5:K124,1),\"\")","v":120},{"$f":"IF(ISNUMBER(SEARCH('Bilgi Girişi'!$E$4,KalemAdı,1))=TRUE,1,0)","v":1},"İncirler","Mal",3222116,null,null,"Turunçgiller"]
[null,null,null,null,"milimetre/metre (mm/m)",null,null,121,3222117,{"$f":"IF(K125=1,COUNTIF($K$5:K125,1),\"\")","v":121},{"$f":"IF(ISNUMBER(SEARCH('Bilgi Girişi'!$E$4,KalemAdı,1))=TRUE,1,0)","v":1},"Avokadolar","Mal",3222117,null,null,"Limonlar"]
[null,null,null,null,"millicurie (mCi)",null,null,122,3222118,{"$f":"IF(K126=1,COUNTIF($K$5:K126,1),\"\")","v":122},{"$f":"IF(ISNUMBER(SEARCH('Bilgi Girişi'!$E$4,KalemAdı,1))=TRUE,1,0)","v":1},"Kivi","Mal",3222118,null,null,"Portakallar"]
[null,null,null,null,"nokta",null,null,123,3222120,{"$f":"IF(K127=1,COUNTIF($K$5:K127,1),\"\")","v":123},{"$f":"IF(ISNUMBER(SEARCH('Bilgi Girişi'!$E$4,KalemAdı,1))=TRUE,1,0)","v":1},"Hindistan cevizleri","Mal",3222120,null,null,"Greyfurt"]
[null,null,null,null,"ons",null,null,124,3222200,{"$f":"IF(K128=1,COUNTIF($K$5:K128,1),\"\")","v":124},{"$f":"IF(ISNUMBER(SEARCH('Bilgi Girişi'!$E$4,KalemAdı,1))=TRUE,1,0)","v":1},"Turunçgiller","Mal",3222200,null,null,"Mandalinalar"]
[null,null,null,null,"öğün",null,null,125,3222210,{"$f":"IF(K129=1,COUNTIF($K$5:K129,1),\"\")","v":125},{"$f":"IF(ISNUMBER(SEARCH('Bilgi Girişi'!$E$4,KalemAdı,1))=TRUE,1,0)","v":1},"Limonlar","Mal",3222210,null,null,"Misket limonları"]
[null,null,null,null,"ölçüm",null,null,126,3222220,{"$f":"IF(K130=1,COUNTIF($K$5:K130,1),\"\")","v":126},{"$f":"IF(ISNUMBER(SEARCH('Bilgi Girişi'!$E$4,KalemAdı,1))=TRUE,1,0)","v":1},"Portakallar","Mal",3222220,null,null,"Tropikal olmayan meyveler"]
[null,null,null,null,"örnek",null,null,127,3222230,{"$f":"IF(K131=1,COUNTIF($K$5:K131,1),\"\")","v":127},{"$f":"IF(ISNUMBER(SEARCH('Bilgi Girişi'!$E$4,KalemAdı,1))=TRUE,1,0)","v":1},"Greyfurt","Mal",3222230,null,null,"Dutlar"]
[null,null,null,null,"pafta",null,null,128,3222240,{"$f":"IF(K132=1,COUNTIF($K$5:K132,1),\"\")","v":128},{"$f":"IF(ISNUMBER(SEARCH('Bilgi Girişi'!$E$4,KalemAdı,1))=TRUE,1,0)","v":1},"Mandalinalar","Mal",3222240,null,null,"Renk üzümleri"]
[null,null,null,null,"paket",null,null,129,3222250,{"$f":"IF(K133=1,COUNTIF($K$5:K133,1),\"\")","v":129},{"$f":"IF(ISNUMBER(SEARCH('Bilgi Girişi'!$E$4,KalemAdı,1))=TRUE,1,0)","v":1},"Misket limonları","Mal",3222250,null,null,"Bektaşi üzümleri"]
[null,null,null,null,"parsel",null,null,130,3222300,{"$f":"IF(K134=1,COUNTIF($K$5:K134,1),\"\")","v":130},{"$f":"IF(ISNUMBER(SEARCH('Bilgi Girişi'!$E$4,KalemAdı,1))=TRUE,1,0)","v":1},"Tropikal olmayan meyveler","Mal",3222300,null,null,{"$f":"IFERROR(VLOOKUP(ROW($P134),$J$5:$L$9594,3,FALSE),\"\")","v":"Çilekler"}]
[null,null,null,null,"pint (1/2 lt)",null,null,131,3222310,{"$f":"IF(K135=1,COUNTIF($K$5:K135,1),\"\")","v":131},{"$f":"IF(ISNUMBER(SEARCH('Bilgi Girişi'!$E$4,KalemAdı,1))=TRUE,1,0)","v":1},"Dutlar","Mal",3222310,null,null,"Ahududular"]
[null,null,null,null,"plaka",null,null,132,3222311,{"$f":"IF(K136=1,COUNTIF($K$5:K136,1),\"\")","v":132},{"$f":"IF(ISNUMBER(SEARCH('Bilgi Girişi'!$E$4,KalemAdı,1))=TRUE,1,0)","v":1},"Renk üzümleri","Mal",3222311,null,null,"Dağ çilekleri"]
[null,null,null,null,"plan",null,null,133,3222312,{"$f":"IF(K137=1,COUNTIF($K$5:K137,1),\"\")","v":133},{"$f":"IF(ISNUMBER(SEARCH('Bilgi Girişi'!$E$4,KalemAdı,1))=TRUE,1,0)","v":1},"Bektaşi üzümleri","Mal",3222312,null,null,"Elmalar, armutlar ve ayvalar"]
[null,null,null,null,"platform-m",null,null,134,3222313,{"$f":"IF(K138=1,COUNTIF($K$5:K138,1),\"\")","v":134},{"$f":"IF(ISNUMBER(SEARCH('Bilgi Girişi'!$E$4,KalemAdı,1))=TRUE,1,0)","v":1},"Çilekler","Mal",3222313,null,null,"Elmalar"]
[null,null,null,null,"puan",null,null,135,3222314,{"$f":"IF(K139=1,COUNTIF($K$5:K139,1),\"\")","v":135},{"$f":"IF(ISNUMBER(SEARCH('Bilgi Girişi'!$E$4,KalemAdı,1))=TRUE,1,0)","v":1},"Ahududular","Mal",3222314,null,null,"Armutlar"]
[null,null,null,null,"rapor",null,null,136,3222315,{"$f":"IF(K140=1,COUNTIF($K$5:K140,1),\"\")","v":136},{"$f":"IF(ISNUMBER(SEARCH('Bilgi Girişi'!$E$4,KalemAdı,1))=TRUE,1,0)","v":1},"Dağ çilekleri","Mal",3222315,null,null,"Ayvalar"]
[null,null,null,null,"rulo",null,null,137,3222320,{"$f":"IF(K141=1,COUNTIF($K$5:K141,1),\"\")","v":137},{"$f":"IF(ISNUMBER(SEARCH('Bilgi Girişi'!$E$4,KalemAdı,1))=TRUE,1,0)","v":1},"Elmalar, armutlar ve ayvalar","Mal",3222320,null,null,"İri çekirdekli meyveler"]
[null,null,null,null,"saat",null,null,138,3222321,{"$f":"IF(K142=1,COUNTIF($K$5:K142,1),\"\")","v":138},{"$f":"IF(ISNUMBER(SEARCH('Bilgi Girişi'!$E$4,KalemAdı,1))=TRUE,1,0)","v":1},"Elmalar","Mal",3222321,null,null,"Kayısılar"]
[null,null,null,null,"Sabi",null,null,139,3222322,{"$f":"IF(K143=1,COUNTIF($K$5:K143,1),\"\")","v":139},{"$f":"IF(ISNUMBER(SEARCH('Bilgi Girişi'!$E$4,KalemAdı,1))=TRUE,1,0)","v":1},"Armutlar","Mal",3222322,null,null,"Şeftaliler"]
[null,null,null,null,"sabit",null,null,140,3222323,{"$f":"IF(K144=1,COUNTIF($K$5:K144,1),\"\")","v":140},{"$f":"IF(ISNUMBER(SEARCH('Bilgi Girişi'!$E$4,KalemAdı,1))=TRUE,1,0)","v":1},"Ayvalar","Mal",3222323,null,null,"Kirazlar"]
[null,null,null,null,"sandık",null,null,141,3222330,{"$f":"IF(K145=1,COUNTIF($K$5:K145,1),\"\")","v":141},{"$f":"IF(ISNUMBER(SEARCH('Bilgi Girişi'!$E$4,KalemAdı,1))=TRUE,1,0)","v":1},"İri çekirdekli meyveler","Mal",3222330,null,null,"Erikler"]
[null,null,null,null,"saniye",null,null,142,3222331,{"$f":"IF(K146=1,COUNTIF($K$5:K146,1),\"\")","v":142},{"$f":"IF(ISNUMBER(SEARCH('Bilgi Girişi'!$E$4,KalemAdı,1))=TRUE,1,0)","v":1},"Kayısılar","Mal",3222331,null,null,"Üzümler"]
[null,null,null,null,"santilitre(sl)",null,null,143,3222332,{"$f":"IF(K147=1,COUNTIF($K$5:K147,1),\"\")","v":143},{"$f":"IF(ISNUMBER(SEARCH('Bilgi Girişi'!$E$4,KalemAdı,1))=TRUE,1,0)","v":1},"Şeftaliler","Mal",3222332,null,null,"Yenilen üzümler"]
[null,null,null,null,"santimetre",null,null,144,3222333,{"$f":"IF(K148=1,COUNTIF($K$5:K148,1),\"\")","v":144},{"$f":"IF(ISNUMBER(SEARCH('Bilgi Girişi'!$E$4,KalemAdı,1))=TRUE,1,0)","v":1},"Kirazlar","Mal",3222333,null,null,"Şaraplık üzümler"]
[null,null,null,null,"santimetreKare",null,null,145,3222334,{"$f":"IF(K149=1,COUNTIF($K$5:K149,1),\"\")","v":145},{"$f":"IF(ISNUMBER(SEARCH('Bilgi Girişi'!$E$4,KalemAdı,1))=TRUE,1,0)","v":1},"Erikler","Mal",3222334,null,null,"Zeytinler"]
[null,null,null,null,"santimetreküp",null,null,146,3222340,{"$f":"IF(K150=1,COUNTIF($K$5:K150,1),\"\")","v":146},{"$f":"IF(ISNUMBER(SEARCH('Bilgi Girişi'!$E$4,KalemAdı,1))=TRUE,1,0)","v":1},"Üzümler","Mal",3222340,null,null,"Tarım, avcılık ve balıkçılık ürünleri"]
[null,null,null,null,"sayfa",null,null,147,3222341,{"$f":"IF(K151=1,COUNTIF($K$5:K151,1),\"\")","v":147},{"$f":"IF(ISNUMBER(SEARCH('Bilgi Girişi'!$E$4,KalemAdı,1))=TRUE,1,0)","v":1},"Yenilen üzümler","Mal",3222341,null,null,"Balık, kabuklular ve su ürünleri"]
[null,null,null,null,"sayı",null,null,148,3222342,{"$f":"IF(K152=1,COUNTIF($K$5:K152,1),\"\")","v":148},{"$f":"IF(ISNUMBER(SEARCH('Bilgi Girişi'!$E$4,KalemAdı,1))=TRUE,1,0)","v":1},"Şaraplık üzümler","Mal",3222342,null,null,"Balık"]
[null,null,null,null,"seans",null,null,149,3222400,{"$f":"IF(K153=1,COUNTIF($K$5:K153,1),\"\")","v":149},{"$f":"IF(ISNUMBER(SEARCH('Bilgi Girişi'!$E$4,KalemAdı,1))=TRUE,1,0)","v":1},"Zeytinler","Mal",3222400,null,null,"Yassı balık"]
[null,null,null,null,"sefer",null,null,150,3300000,{"$f":"IF(K154=1,COUNTIF($K$5:K154,1),\"\")","v":150},{"$f":"IF(ISNUMBER(SEARCH('Bilgi Girişi'!$E$4,KalemAdı,1))=TRUE,1,0)","v":1},"Tarım, avcılık ve balıkçılık ürünleri","Mal",3300000,null,null,"Dil balığı"]
[null,null,null,null,"Serilim",null,null,151,3310000,{"$f":"IF(K155=1,COUNTIF($K$5:K155,1),\"\")","v":151},{"$f":"IF(ISNUMBER(SEARCH('Bilgi Girişi'!$E$4,KalemAdı,1))=TRUE,1,0)","v":1},"Balık, kabuklular ve su ürünleri","Mal",3310000,null,null,"Pisi balığı"]
[null,null,null,null,"set",null,null,152,3311000,{"$f":"IF(K156=1,COUNTIF($K$5:K156,1),\"\")","v":152},{"$f":"IF(ISNUMBER(SEARCH('Bilgi Girişi'!$E$4,KalemAdı,1))=TRUE,1,0)","v":1},"Balık","Mal",3311000,null,null,"Mezgitgiller ailesinden balık"]
[null,null,null,null,"sigorta değeri",null,null,153,3311100,{"$f":"IF(K157=1,COUNTIF($K$5:K157,1),\"\")","v":153},{"$f":"IF(ISNUMBER(SEARCH('Bilgi Girişi'!$E$4,KalemAdı,1))=TRUE,1,0)","v":1},"Yassı balık","Mal",3311100,null,null,"Morina"]
[null,null,null,null,"solüsyon",null,null,154,3311110,{"$f":"IF(K158=1,COUNTIF($K$5:K158,1),\"\")","v":154},{"$f":"IF(ISNUMBER(SEARCH('Bilgi Girişi'!$E$4,KalemAdı,1))=TRUE,1,0)","v":1},"Dil balığı","Mal",3311110,null,null,"Yeşil morina"]
[null,null,null,null,"spot",null,null,155,3311120,{"$f":"IF(K159=1,COUNTIF($K$5:K159,1),\"\")","v":155},{"$f":"IF(ISNUMBER(SEARCH('Bilgi Girişi'!$E$4,KalemAdı,1))=TRUE,1,0)","v":1},"Pisi balığı","Mal",3311120,null,null,"Barlam"]
[null,null,null,null,"standart metreküp",null,null,156,3311200,{"$f":"IF(K160=1,COUNTIF($K$5:K160,1),\"\")","v":156},{"$f":"IF(ISNUMBER(SEARCH('Bilgi Girişi'!$E$4,KalemAdı,1))=TRUE,1,0)","v":1},"Mezgitgiller ailesinden balık","Mal",3311200,null,null,"Mezgit"]
[null,null,null,null,"ster",null,null,157,3311210,{"$f":"IF(K161=1,COUNTIF($K$5:K161,1),\"\")","v":157},{"$f":"IF(ISNUMBER(SEARCH('Bilgi Girişi'!$E$4,KalemAdı,1))=TRUE,1,0)","v":1},"Morina","Mal",3311210,null,null,"Ringa"]
[null,null,null,null,"strip",null,null,158,3311220,{"$f":"IF(K162=1,COUNTIF($K$5:K162,1),\"\")","v":158},{"$f":"IF(ISNUMBER(SEARCH('Bilgi Girişi'!$E$4,KalemAdı,1))=TRUE,1,0)","v":1},"Yeşil morina","Mal",3311220,null,null,"Ton balığı (orkinos)"]
[null,null,null,null,"Şerit",null,null,159,3311230,{"$f":"IF(K163=1,COUNTIF($K$5:K163,1),\"\")","v":159},{"$f":"IF(ISNUMBER(SEARCH('Bilgi Girişi'!$E$4,KalemAdı,1))=TRUE,1,0)","v":1},"Barlam","Mal",3311230,null,null,"Mezgit"]
[null,null,null,null,"şişe",null,null,160,3311240,{"$f":"IF(K164=1,COUNTIF($K$5:K164,1),\"\")","v":160},{"$f":"IF(ISNUMBER(SEARCH('Bilgi Girişi'!$E$4,KalemAdı,1))=TRUE,1,0)","v":1},"Mezgit","Mal",3311240,null,null,"Yenilebilir yavru balıklar"]
[null,null,null,null,"tabak",null,null,161,3311300,{"$f":"IF(K165=1,COUNTIF($K$5:K165,1),\"\")","v":161},{"$f":"IF(ISNUMBER(SEARCH('Bilgi Girişi'!$E$4,KalemAdı,1))=TRUE,1,0)","v":1},"Ringa","Mal",3311300,null,null,"Somon"]
[null,null,null,null,"tabaka",null,null,162,3311400,{"$f":"IF(K166=1,COUNTIF($K$5:K166,1),\"\")","v":162},{"$f":"IF(ISNUMBER(SEARCH('Bilgi Girişi'!$E$4,KalemAdı,1))=TRUE,1,0)","v":1},"Ton balığı (orkinos)","Mal",3311400,null,null,"Kabuklu su hayvanları"]
[null,null,null,null,"tabldot",null,null,163,3311500,{"$f":"IF(K167=1,COUNTIF($K$5:K167,1),\"\")","v":163},{"$f":"IF(ISNUMBER(SEARCH('Bilgi Girişi'!$E$4,KalemAdı,1))=TRUE,1,0)","v":1},"Mezgit","Mal",3311500,null,null,"İstiridyeler"]
[null,null,null,null,"tablet",null,null,164,3311600,{"$f":"IF(K168=1,COUNTIF($K$5:K168,1),\"\")","v":164},{"$f":"IF(ISNUMBER(SEARCH('Bilgi Girişi'!$E$4,KalemAdı,1))=TRUE,1,0)","v":1},"Yenilebilir yavru balıklar","Mal",3311600,null,null,"Kabuklu deniz hayvanları"]
[null,null,null,null,"takım",null,null,165,3311700,{"$f":"IF(K169=1,COUNTIF($K$5:K169,1),\"\")","v":165},{"$f":"IF(ISNUMBER(SEARCH('Bilgi Girişi'!$E$4,KalemAdı,1))=TRUE,1,0)","v":1},"Somon","Mal",3311700,null,null,"Omurgasız su hayvanları"]
[null,null,null,null,"teneke",null,null,166,3312000,{"$f":"IF(K170=1,COUNTIF($K$5:K170,1),\"\")","v":166},{"$f":"IF(ISNUMBER(SEARCH('Bilgi Girişi'!$E$4,KalemAdı,1))=TRUE,1,0)","v":1},"Kabuklu su hayvanları","Mal",3312000,null,null,"Yumuşakçalar ve diğer su omurgasızları"]
[null,null,null,null,"Terminal",null,null,167,3312100,{"$f":"IF(K171=1,COUNTIF($K$5:K171,1),\"\")","v":167},{"$f":"IF(ISNUMBER(SEARCH('Bilgi Girişi'!$E$4,KalemAdı,1))=TRUE,1,0)","v":1},"İstiridyeler","Mal",3312100,null,null,"Mercanlar ve benzer ürünler"]
[null,null,null,null,"tescil",null,null,168,3312200,{"$f":"IF(K172=1,COUNTIF($K$5:K172,1),\"\")","v":168},{"$f":"IF(ISNUMBER(SEARCH('Bilgi Girişi'!$E$4,KalemAdı,1))=TRUE,1,0)","v":1},"Kabuklu deniz hayvanları","Mal",3312200,null,null,"Tabii süngerler"]
[null,null,null,null,"test",null,null,169,3312300,{"$f":"IF(K173=1,COUNTIF($K$5:K173,1),\"\")","v":169},{"$f":"IF(ISNUMBER(SEARCH('Bilgi Girişi'!$E$4,KalemAdı,1))=TRUE,1,0)","v":1},"Omurgasız su hayvanları","Mal",3312300,null,null,"Deniz yosunları"]
[null,null,null,null,"tetkik",null,null,170,3313000,{"$f":"IF(K174=1,COUNTIF($K$5:K174,1),\"\")","v":170},{"$f":"IF(ISNUMBER(SEARCH('Bilgi Girişi'!$E$4,KalemAdı,1))=TRUE,1,0)","v":1},"Yumuşakçalar ve diğer su omurgasızları","Mal",3313000,null,null,"Alg"]
[null,null,null,null,"ton",null,null,171,3313100,{"$f":"IF(K175=1,COUNTIF($K$5:K175,1),\"\")","v":171},{"$f":"IF(ISNUMBER(SEARCH('Bilgi Girişi'!$E$4,KalemAdı,1))=TRUE,1,0)","v":1},"Mercanlar ve benzer ürünler","Mal",3313100,null,null,"Sığırlar/büyükbaş hayvanlar, çiftlik hayvanları ve küçükbaş hayvanlar"]
[null,null,null,null,"ton*kilometre",null,null,172,3313200,{"$f":"IF(K176=1,COUNTIF($K$5:K176,1),\"\")","v":172},{"$f":"IF(ISNUMBER(SEARCH('Bilgi Girişi'!$E$4,KalemAdı,1))=TRUE,1,0)","v":1},"Tabii süngerler","Mal",3313200,null,null,"Sığırlar"]
[null,null,null,null,"top",null,null,173,3313300,{"$f":"IF(K177=1,COUNTIF($K$5:K177,1),\"\")","v":173},{"$f":"IF(ISNUMBER(SEARCH('Bilgi Girişi'!$E$4,KalemAdı,1))=TRUE,1,0)","v":1},"Deniz yosunları","Mal",3313300,null,null,"Büyükbaş sığır"]
[null,null,null,null,"torba",null,null,174,3313310,{"$f":"IF(K178=1,COUNTIF($K$5:K178,1),\"\")","v":174},{"$f":"IF(ISNUMBER(SEARCH('Bilgi Girişi'!$E$4,KalemAdı,1))=TRUE,1,0)","v":1},"Alg","Mal",3313310,null,null,"Danalar"]
[null,null,null,null,"tüp",null,null,175,3320000,{"$f":"IF(K179=1,COUNTIF($K$5:K179,1),\"\")","v":175},{"$f":"IF(ISNUMBER(SEARCH('Bilgi Girişi'!$E$4,KalemAdı,1))=TRUE,1,0)","v":1},"Sığırlar/büyükbaş hayvanlar, çiftlik hayvanları ve küçükbaş hayvanlar","Mal",3320000,null,null,"Çiftlik hayvanları"]
[null,null,null,null,"ünite",null,null,176,3321000,{"$f":"IF(K180=1,COUNTIF($K$5:K180,1),\"\")","v":176},{"$f":"IF(ISNUMBER(SEARCH('Bilgi Girişi'!$E$4,KalemAdı,1))=TRUE,1,0)","v":1},"Sığırlar","Mal",3321000,null,null,"Koyunlar"]
[null,null,null,null,"üye",null,null,177,3321100,{"$f":"IF(K181=1,COUNTIF($K$5:K181,1),\"\")","v":177},{"$f":"IF(ISNUMBER(SEARCH('Bilgi Girişi'!$E$4,KalemAdı,1))=TRUE,1,0)","v":1},"Büyükbaş sığır","Mal",3321100,null,null,"Keçiler"]
[null,null,null,null,"Vaka",null,null,178,3321200,{"$f":"IF(K182=1,COUNTIF($K$5:K182,1),\"\")","v":178},{"$f":"IF(ISNUMBER(SEARCH('Bilgi Girişi'!$E$4,KalemAdı,1))=TRUE,1,0)","v":1},"Danalar","Mal",3321200,null,null,"Atlar"]
[null,null,null,null,"vardiya",null,null,179,3322000,{"$f":"IF(K183=1,COUNTIF($K$5:K183,1),\"\")","v":179},{"$f":"IF(ISNUMBER(SEARCH('Bilgi Girişi'!$E$4,KalemAdı,1))=TRUE,1,0)","v":1},"Çiftlik hayvanları","Mal",3322000,null,null,"Domuzlar"]
[null,null,null,null,"varil",null,null,180,3322100,{"$f":"IF(K184=1,COUNTIF($K$5:K184,1),\"\")","v":180},{"$f":"IF(ISNUMBER(SEARCH('Bilgi Girişi'!$E$4,KalemAdı,1))=TRUE,1,0)","v":1},"Koyunlar","Mal",3322100,null,null,"Canlı kümes hayvanları"]
[null,null,null,null,"vial",null,null,181,3322200,{"$f":"IF(K185=1,COUNTIF($K$5:K185,1),\"\")","v":181},{"$f":"IF(ISNUMBER(SEARCH('Bilgi Girişi'!$E$4,KalemAdı,1))=TRUE,1,0)","v":1},"Keçiler","Mal",3322200,null,null,"Küçük hayvanlar"]
[null,null,null,null,"Yaprak",null,null,182,3322300,{"$f":"IF(K186=1,COUNTIF($K$5:K186,1),\"\")","v":182},{"$f":"IF(ISNUMBER(SEARCH('Bilgi Girişi'!$E$4,KalemAdı,1))=TRUE,1,0)","v":1},"Atlar","Mal",3322300,null,null,"Tavşanlar"]
[null,null,null,null,"Yarım sefer",null,null,183,3323000,{"$f":"IF(K187=1,COUNTIF($K$5:K187,1),\"\")","v":183},{"$f":"IF(ISNUMBER(SEARCH('Bilgi Girişi'!$E$4,KalemAdı,1))=TRUE,1,0)","v":1},"Domuzlar","Mal",3323000,null,null,"Yaban tavşanları"]
[null,null,null,null,"yıl",null,null,184,3324000,{"$f":"IF(K188=1,COUNTIF($K$5:K188,1),\"\")","v":184},{"$f":"IF(ISNUMBER(SEARCH('Bilgi Girişi'!$E$4,KalemAdı,1))=TRUE,1,0)","v":1},"Canlı kümes hayvanları","Mal",3324000,null,null,"Çiftlik hayvanları ürünleri"]
[null,null,null,null,"yüzde (%)",null,null,185,3325000,{"$f":"IF(K189=1,COUNTIF($K$5:K189,1),\"\")","v":185},{"$f":"IF(ISNUMBER(SEARCH('Bilgi Girişi'!$E$4,KalemAdı,1))=TRUE,1,0)","v":1},"Küçük hayvanlar","Mal",3325000,null,null,"Taze koyun ve keçi sütleri"]
[null,null,null,null,"Yüzdemetrekare",null,null,186,3325100,{"$f":"IF(K190=1,COUNTIF($K$5:K190,1),\"\")","v":186},{"$f":"IF(ISNUMBER(SEARCH('Bilgi Girişi'!$E$4,KalemAdı,1))=TRUE,1,0)","v":1},"Tavşanlar","Mal",3325100,null,null,"Koyun sütü"]
[null,null,null,null,null,null,null,187,3325200,{"$f":"IF(K191=1,COUNTIF($K$5:K191,1),\"\")","v":187},{"$f":"IF(ISNUMBER(SEARCH('Bilgi Girişi'!$E$4,KalemAdı,1))=TRUE,1,0)","v":1},"Yaban tavşanları","Mal",3325200,null,null,"Keçi sütü"]
[null,null,null,null,null,null,null,188,3330000,{"$f":"IF(K192=1,COUNTIF($K$5:K192,1),\"\")","v":188},{"$f":"IF(ISNUMBER(SEARCH('Bilgi Girişi'!$E$4,KalemAdı,1))=TRUE,1,0)","v":1},"Çiftlik hayvanları ürünleri","Mal",3330000,null,null,"Yün ve hayvan kılları"]
[null,null,null,null,null,null,null,189,3331000,{"$f":"IF(K193=1,COUNTIF($K$5:K193,1),\"\")","v":189},{"$f":"IF(ISNUMBER(SEARCH('Bilgi Girişi'!$E$4,KalemAdı,1))=TRUE,1,0)","v":1},"Taze koyun ve keçi sütleri","Mal",3331000,null,null,"Yapağı"]
[null,null,null,null,null,null,null,190,3331100,{"$f":"IF(K194=1,COUNTIF($K$5:K194,1),\"\")","v":190},{"$f":"IF(ISNUMBER(SEARCH('Bilgi Girişi'!$E$4,KalemAdı,1))=TRUE,1,0)","v":1},"Koyun sütü","Mal",3331100,null,null,"Hayvan kılı"]
[null,null,null,null,null,null,null,191,3331200,{"$f":"IF(K195=1,COUNTIF($K$5:K195,1),\"\")","v":191},{"$f":"IF(ISNUMBER(SEARCH('Bilgi Girişi'!$E$4,KalemAdı,1))=TRUE,1,0)","v":1},"Keçi sütü","Mal",3331200,null,null,"Taze inek sütü"]
[null,null,null,null,null,null,null,192,3332000,{"$f":"IF(K196=1,COUNTIF($K$5:K196,1),\"\")","v":192},{"$f":"IF(ISNUMBER(SEARCH('Bilgi Girişi'!$E$4,KalemAdı,1))=TRUE,1,0)","v":1},"Yün ve hayvan kılları","Mal",3332000,null,null,"Hayvan kulak künyeleri"]
[null,null,null,null,null,null,null,193,3332100,{"$f":"IF(K197=1,COUNTIF($K$5:K197,1),\"\")","v":193},{"$f":"IF(ISNUMBER(SEARCH('Bilgi Girişi'!$E$4,KalemAdı,1))=TRUE,1,0)","v":1},"Yapağı","Mal",3332100,null,null,"Sığırların kulaklarına takılan etiketler"]
[null,null,null,null,null,null,null,194,3332200,{"$f":"IF(K198=1,COUNTIF($K$5:K198,1),\"\")","v":194},{"$f":"IF(ISNUMBER(SEARCH('Bilgi Girişi'!$E$4,KalemAdı,1))=TRUE,1,0)","v":1},"Hayvan kılı","Mal",3332200,null,null,{"$f":"IFERROR(VLOOKUP(ROW($P198),$J$5:$L$9594,3,FALSE),\"\")","v":"Ormancılık ve kereste ürünleri"}]
[null,null,null,null,null,null,null,195,3333000,{"$f":"IF(K199=1,COUNTIF($K$5:K199,1),\"\")","v":195},{"$f":"IF(ISNUMBER(SEARCH('Bilgi Girişi'!$E$4,KalemAdı,1))=TRUE,1,0)","v":1},"Taze inek sütü","Mal",3333000,null,null,"Ağaç"]
[null,null,null,null,null,null,null,196,3340000,{"$f":"IF(K200=1,COUNTIF($K$5:K200,1),\"\")","v":196},{"$f":"IF(ISNUMBER(SEARCH('Bilgi Girişi'!$E$4,KalemAdı,1))=TRUE,1,0)","v":1},"Hayvan kulak künyeleri","Mal",3340000,null,null,"Kozalaklı ağaçlar"]
[null,null,null,null,null,null,null,197,3341000,{"$f":"IF(K201=1,COUNTIF($K$5:K201,1),\"\")","v":197},{"$f":"IF(ISNUMBER(SEARCH('Bilgi Girişi'!$E$4,KalemAdı,1))=TRUE,1,0)","v":1},"Sığırların kulaklarına takılan etiketler","Mal",3341000,null,null,"Tropik ağaçlar"]
[null,null,null,null,null,null,null,198,3400000,{"$f":"IF(K202=1,COUNTIF($K$5:K202,1),\"\")","v":198},{"$f":"IF(ISNUMBER(SEARCH('Bilgi Girişi'!$E$4,KalemAdı,1))=TRUE,1,0)","v":1},"Ormancılık ve kereste ürünleri","Mal",3400000,null,null,"Yakacak odun"]
[null,null,null,null,null,null,null,199,3410000,{"$f":"IF(K203=1,COUNTIF($K$5:K203,1),\"\")","v":199},{"$f":"IF(ISNUMBER(SEARCH('Bilgi Girişi'!$E$4,KalemAdı,1))=TRUE,1,0)","v":1},"Ağaç","Mal",3410000,null,null,"Kaba ağaçlar"]
[null,null,null,null,null,null,null,200,3411000,{"$f":"IF(K204=1,COUNTIF($K$5:K204,1),\"\")","v":200},{"$f":"IF(ISNUMBER(SEARCH('Bilgi Girişi'!$E$4,KalemAdı,1))=TRUE,1,0)","v":1},"Kozalaklı ağaçlar","Mal",3411000,null,null,"Yumuşak ağaçlar"]
[null,null,null,null,null,null,null,201,3412000,{"$f":"IF(K205=1,COUNTIF($K$5:K205,1),\"\")","v":201},{"$f":"IF(ISNUMBER(SEARCH('Bilgi Girişi'!$E$4,KalemAdı,1))=TRUE,1,0)","v":1},"Tropik ağaçlar","Mal",3412000,null,null,"Ağaç atıkları"]
[null,null,null,null,null,null,null,202,3413000,{"$f":"IF(K206=1,COUNTIF($K$5:K206,1),\"\")","v":202},{"$f":"IF(ISNUMBER(SEARCH('Bilgi Girişi'!$E$4,KalemAdı,1))=TRUE,1,0)","v":1},"Yakacak odun","Mal",3413000,null,null,"Ağaç kırpıntı ve hurdaları"]
[null,null,null,null,null,null,null,203,3414000,{"$f":"IF(K207=1,COUNTIF($K$5:K207,1),\"\")","v":203},{"$f":"IF(ISNUMBER(SEARCH('Bilgi Girişi'!$E$4,KalemAdı,1))=TRUE,1,0)","v":1},"Kaba ağaçlar","Mal",3414000,null,null,"Hızar tozu"]
[null,null,null,null,null,null,null,204,3415000,{"$f":"IF(K208=1,COUNTIF($K$5:K208,1),\"\")","v":204},{"$f":"IF(ISNUMBER(SEARCH('Bilgi Girişi'!$E$4,KalemAdı,1))=TRUE,1,0)","v":1},"Yumuşak ağaçlar","Mal",3415000,null,null,"Tomruklar"]
[null,null,null,null,null,null,null,205,3416000,{"$f":"IF(K209=1,COUNTIF($K$5:K209,1),\"\")","v":205},{"$f":"IF(ISNUMBER(SEARCH('Bilgi Girişi'!$E$4,KalemAdı,1))=TRUE,1,0)","v":1},"Ağaç atıkları","Mal",3416000,null,null,"Kozalaksız ağaç odunu"]
[null,null,null,null,null,null,null,206,3417000,{"$f":"IF(K210=1,COUNTIF($K$5:K210,1),\"\")","v":206},{"$f":"IF(ISNUMBER(SEARCH('Bilgi Girişi'!$E$4,KalemAdı,1))=TRUE,1,0)","v":1},"Ağaç kırpıntı ve hurdaları","Mal",3417000,null,null,"Kereste"]
[null,null,null,null,null,null,null,207,3417100,{"$f":"IF(K211=1,COUNTIF($K$5:K211,1),\"\")","v":207},{"$f":"IF(ISNUMBER(SEARCH('Bilgi Girişi'!$E$4,KalemAdı,1))=TRUE,1,0)","v":1},"Hızar tozu","Mal",3417100,null,null,"Kereste ürünleri"]
[null,null,null,null,null,null,null,208,3418000,{"$f":"IF(K212=1,COUNTIF($K$5:K212,1),\"\")","v":208},{"$f":"IF(ISNUMBER(SEARCH('Bilgi Girişi'!$E$4,KalemAdı,1))=TRUE,1,0)","v":1},"Tomruklar","Mal",3418000,null,null,"Madencilikte kullanılan kereste"]
[null,null,null,null,null,null,null,209,3418100,{"$f":"IF(K213=1,COUNTIF($K$5:K213,1),\"\")","v":209},{"$f":"IF(ISNUMBER(SEARCH('Bilgi Girişi'!$E$4,KalemAdı,1))=TRUE,1,0)","v":1},"Kozalaksız ağaç odunu","Mal",3418100,null,null,"Ağaç reçineleri"]
[null,null,null,null,null,null,null,210,3419000,{"$f":"IF(K214=1,COUNTIF($K$5:K214,1),\"\")","v":210},{"$f":"IF(ISNUMBER(SEARCH('Bilgi Girişi'!$E$4,KalemAdı,1))=TRUE,1,0)","v":1},"Kereste","Mal",3419000,null,null,"Balsamlar"]
[null,null,null,null,null,null,null,211,3419100,{"$f":"IF(K215=1,COUNTIF($K$5:K215,1),\"\")","v":211},{"$f":"IF(ISNUMBER(SEARCH('Bilgi Girişi'!$E$4,KalemAdı,1))=TRUE,1,0)","v":1},"Kereste ürünleri","Mal",3419100,null,null,"Gomalak"]
[null,null,null,null,null,null,null,212,3419200,{"$f":"IF(K216=1,COUNTIF($K$5:K216,1),\"\")","v":212},{"$f":"IF(ISNUMBER(SEARCH('Bilgi Girişi'!$E$4,KalemAdı,1))=TRUE,1,0)","v":1},"Madencilikte kullanılan kereste","Mal",3419200,null,null,"Ağaç mantarı, tıpa"]
[null,null,null,null,null,null,null,213,3420000,{"$f":"IF(K217=1,COUNTIF($K$5:K217,1),\"\")","v":213},{"$f":"IF(ISNUMBER(SEARCH('Bilgi Girişi'!$E$4,KalemAdı,1))=TRUE,1,0)","v":1},"Ağaç reçineleri","Mal",3420000,null,null,"Doğal mantar"]
[null,null,null,null,null,null,null,214,3421000,{"$f":"IF(K218=1,COUNTIF($K$5:K218,1),\"\")","v":214},{"$f":"IF(ISNUMBER(SEARCH('Bilgi Girişi'!$E$4,KalemAdı,1))=TRUE,1,0)","v":1},"Balsamlar","Mal",3421000,null,null,"Sepetçilik"]
[null,null,null,null,null,null,null,215,3422000,{"$f":"IF(K219=1,COUNTIF($K$5:K219,1),\"\")","v":215},{"$f":"IF(ISNUMBER(SEARCH('Bilgi Girişi'!$E$4,KalemAdı,1))=TRUE,1,0)","v":1},"Gomalak","Mal",3422000,null,null,"İnce dal örgüsü ürünler"]
[null,null,null,null,null,null,null,216,3430000,{"$f":"IF(K220=1,COUNTIF($K$5:K220,1),\"\")","v":216},{"$f":"IF(ISNUMBER(SEARCH('Bilgi Girişi'!$E$4,KalemAdı,1))=TRUE,1,0)","v":1},"Ağaç mantarı, tıpa","Mal",3430000,null,null,"Ormancılık ürünleri"]
[null,null,null,null,null,null,null,217,3431000,{"$f":"IF(K221=1,COUNTIF($K$5:K221,1),\"\")","v":217},{"$f":"IF(ISNUMBER(SEARCH('Bilgi Girişi'!$E$4,KalemAdı,1))=TRUE,1,0)","v":1},"Doğal mantar","Mal",3431000,null,null,"Süs bitkileri, otlar, yosun ve likenler"]
[null,null,null,null,null,null,null,218,3432000,{"$f":"IF(K222=1,COUNTIF($K$5:K222,1),\"\")","v":218},{"$f":"IF(ISNUMBER(SEARCH('Bilgi Girişi'!$E$4,KalemAdı,1))=TRUE,1,0)","v":1},"Sepetçilik","Mal",3432000,null,null,"Ağaç fidanlığı ürünleri"]
[null,null,null,null,null,null,null,219,3432100,{"$f":"IF(K223=1,COUNTIF($K$5:K223,1),\"\")","v":219},{"$f":"IF(ISNUMBER(SEARCH('Bilgi Girişi'!$E$4,KalemAdı,1))=TRUE,1,0)","v":1},"İnce dal örgüsü ürünler","Mal",3432100,null,null,"Bitkiler"]
[null,null,null,null,null,null,null,220,3440000,{"$f":"IF(K224=1,COUNTIF($K$5:K224,1),\"\")","v":220},{"$f":"IF(ISNUMBER(SEARCH('Bilgi Girişi'!$E$4,KalemAdı,1))=TRUE,1,0)","v":1},"Ormancılık ürünleri","Mal",3440000,null,null,"Yatakta yetiştirilen bitkiler"]
[null,null,null,null,null,null,null,221,3441000,{"$f":"IF(K225=1,COUNTIF($K$5:K225,1),\"\")","v":221},{"$f":"IF(ISNUMBER(SEARCH('Bilgi Girişi'!$E$4,KalemAdı,1))=TRUE,1,0)","v":1},"Süs bitkileri, otlar, yosun ve likenler","Mal",3441000,null,null,"Çiçek soğanları"]
[null,null,null,null,null,null,null,222,3450000,{"$f":"IF(K226=1,COUNTIF($K$5:K226,1),\"\")","v":222},{"$f":"IF(ISNUMBER(SEARCH('Bilgi Girişi'!$E$4,KalemAdı,1))=TRUE,1,0)","v":1},"Ağaç fidanlığı ürünleri","Mal",3450000,null,null,"Çalılar"]
[null,null,null,null,null,null,null,223,3451000,{"$f":"IF(K227=1,COUNTIF($K$5:K227,1),\"\")","v":223},{"$f":"IF(ISNUMBER(SEARCH('Bilgi Girişi'!$E$4,KalemAdı,1))=TRUE,1,0)","v":1},"Bitkiler","Mal",3451000,null,null,"Ağaçlar"]
[null,null,null,null,null,null,null,224,3451100,{"$f":"IF(K228=1,COUNTIF($K$5:K228,1),\"\")","v":224},{"$f":"IF(ISNUMBER(SEARCH('Bilgi Girişi'!$E$4,KalemAdı,1))=TRUE,1,0)","v":1},"Yatakta yetiştirilen bitkiler","Mal",3451100,null,null,"Kağıt hamuru"]
[null,null,null,null,null,null,null,225,3451200,{"$f":"IF(K229=1,COUNTIF($K$5:K229,1),\"\")","v":225},{"$f":"IF(ISNUMBER(SEARCH('Bilgi Girişi'!$E$4,KalemAdı,1))=TRUE,1,0)","v":1},"Çiçek soğanları","Mal",3451200,null,null,"Ağaç hamuru"]
[null,null,null,null,null,null,null,226,3451300,{"$f":"IF(K230=1,COUNTIF($K$5:K230,1),\"\")","v":226},{"$f":"IF(ISNUMBER(SEARCH('Bilgi Girişi'!$E$4,KalemAdı,1))=TRUE,1,0)","v":1},"Çalılar","Mal",3451300,null,null,"Kimyasal ağaç hamuru"]
[null,null,null,null,null,null,null,227,3452000,{"$f":"IF(K231=1,COUNTIF($K$5:K231,1),\"\")","v":227},{"$f":"IF(ISNUMBER(SEARCH('Bilgi Girişi'!$E$4,KalemAdı,1))=TRUE,1,0)","v":1},"Ağaçlar","Mal",3452000,null,null,"Petrol ürünleri, yakıt, elektrik ve diğer enerji kaynakları"]
[null,null,null,null,null,null,null,228,3460000,{"$f":"IF(K232=1,COUNTIF($K$5:K232,1),\"\")","v":228},{"$f":"IF(ISNUMBER(SEARCH('Bilgi Girişi'!$E$4,KalemAdı,1))=TRUE,1,0)","v":1},"Kağıt hamuru","Mal",3460000,null,null,"Yakıtlar"]
[null,null,null,null,null,null,null,229,3461000,{"$f":"IF(K233=1,COUNTIF($K$5:K233,1),\"\")","v":229},{"$f":"IF(ISNUMBER(SEARCH('Bilgi Girişi'!$E$4,KalemAdı,1))=TRUE,1,0)","v":1},"Ağaç hamuru","Mal",3461000,null,null,"Katı yakacaklar"]
[null,null,null,null,null,null,null,230,3461100,{"$f":"IF(K234=1,COUNTIF($K$5:K234,1),\"\")","v":230},{"$f":"IF(ISNUMBER(SEARCH('Bilgi Girişi'!$E$4,KalemAdı,1))=TRUE,1,0)","v":1},"Kimyasal ağaç hamuru","Mal",3461100,null,null,"Kömür ve kömür esaslı yakacaklar"]
[null,null,null,null,null,null,null,231,9000000,{"$f":"IF(K235=1,COUNTIF($K$5:K235,1),\"\")","v":231},{"$f":"IF(ISNUMBER(SEARCH('Bilgi Girişi'!$E$4,KalemAdı,1))=TRUE,1,0)","v":1},"Petrol ürünleri, yakıt, elektrik ve diğer enerji kaynakları","Mal",9000000,null,null,"Kömür"]
[null,null,null,null,null,null,null,232,9100000,{"$f":"IF(K236=1,COUNTIF($K$5:K236,1),\"\")","v":232},{"$f":"IF(ISNUMBER(SEARCH('Bilgi Girişi'!$E$4,KalemAdı,1))=TRUE,1,0)","v":1},"Yakıtlar","Mal",9100000,null,null,"Kömür esaslı yakacaklar"]
[null,null,null,null,null,null,null,233,9110000,{"$f":"IF(K237=1,COUNTIF($K$5:K237,1),\"\")","v":233},{"$f":"IF(ISNUMBER(SEARCH('Bilgi Girişi'!$E$4,KalemAdı,1))=TRUE,1,0)","v":1},"Katı yakacaklar","Mal",9110000,null,null,"Maden kömürü"]
[null,null,null,null,null,null,null,234,9111000,{"$f":"IF(K238=1,COUNTIF($K$5:K238,1),\"\")","v":234},{"$f":"IF(ISNUMBER(SEARCH('Bilgi Girişi'!$E$4,KalemAdı,1))=TRUE,1,0)","v":1},"Kömür ve kömür esaslı yakacaklar","Mal",9111000,null,null,"Briket kömürler"]
[null,null,null,null,null,null,null,235,9111100,{"$f":"IF(K239=1,COUNTIF($K$5:K239,1),\"\")","v":235},{"$f":"IF(ISNUMBER(SEARCH('Bilgi Girişi'!$E$4,KalemAdı,1))=TRUE,1,0)","v":1},"Kömür","Mal",9111100,null,null,"Fosil esaslı yakacaklar"]
[null,null,null,null,null,null,null,236,9111200,{"$f":"IF(K240=1,COUNTIF($K$5:K240,1),\"\")","v":236},{"$f":"IF(ISNUMBER(SEARCH('Bilgi Girişi'!$E$4,KalemAdı,1))=TRUE,1,0)","v":1},"Kömür esaslı yakacaklar","Mal",9111200,null,null,"Ağaç esaslı yakacaklar"]
[null,null,null,null,null,null,null,237,9111210,{"$f":"IF(K241=1,COUNTIF($K$5:K241,1),\"\")","v":237},{"$f":"IF(ISNUMBER(SEARCH('Bilgi Girişi'!$E$4,KalemAdı,1))=TRUE,1,0)","v":1},"Maden kömürü","Mal",9111210,null,null,"Linyit ve turba"]
[null,null,null,null,null,null,null,238,9111220,{"$f":"IF(K242=1,COUNTIF($K$5:K242,1),\"\")","v":238},{"$f":"IF(ISNUMBER(SEARCH('Bilgi Girişi'!$E$4,KalemAdı,1))=TRUE,1,0)","v":1},"Briket kömürler","Mal",9111220,null,null,"Linyit"]
[null,null,null,null,null,null,null,239,9111300,{"$f":"IF(K243=1,COUNTIF($K$5:K243,1),\"\")","v":239},{"$f":"IF(ISNUMBER(SEARCH('Bilgi Girişi'!$E$4,KalemAdı,1))=TRUE,1,0)","v":1},"Fosil esaslı yakacaklar","Mal",9111300,null,null,"Turba"]
[null,null,null,null,null,null,null,240,9111400,{"$f":"IF(K244=1,COUNTIF($K$5:K244,1),\"\")","v":240},{"$f":"IF(ISNUMBER(SEARCH('Bilgi Girişi'!$E$4,KalemAdı,1))=TRUE,1,0)","v":1},"Ağaç esaslı yakacaklar","Mal",9111400,null,null,"Kok"]
[null,null,null,null,null,null,null,241,9112000,{"$f":"IF(K245=1,COUNTIF($K$5:K245,1),\"\")","v":241},{"$f":"IF(ISNUMBER(SEARCH('Bilgi Girişi'!$E$4,KalemAdı,1))=TRUE,1,0)","v":1},"Linyit ve turba","Mal",9112000,null,null,"Gaz yakıtlar"]
[null,null,null,null,null,null,null,242,9112100,{"$f":"IF(K246=1,COUNTIF($K$5:K246,1),\"\")","v":242},{"$f":"IF(ISNUMBER(SEARCH('Bilgi Girişi'!$E$4,KalemAdı,1))=TRUE,1,0)","v":1},"Linyit","Mal",9112100,null,null,"Kömür gazı, şebeke gazı veya benzeri gazlar"]
[null,null,null,null,null,null,null,243,9112200,{"$f":"IF(K247=1,COUNTIF($K$5:K247,1),\"\")","v":243},{"$f":"IF(ISNUMBER(SEARCH('Bilgi Girişi'!$E$4,KalemAdı,1))=TRUE,1,0)","v":1},"Turba","Mal",9112200,null,null,"Kömür gazı ya da benzeri gazlar"]
[null,null,null,null,null,null,null,244,9113000,{"$f":"IF(K248=1,COUNTIF($K$5:K248,1),\"\")","v":244},{"$f":"IF(ISNUMBER(SEARCH('Bilgi Girişi'!$E$4,KalemAdı,1))=TRUE,1,0)","v":1},"Kok","Mal",9113000,null,null,"Şebeke gazı"]
[null,null,null,null,null,null,null,245,9120000,{"$f":"IF(K249=1,COUNTIF($K$5:K249,1),\"\")","v":245},{"$f":"IF(ISNUMBER(SEARCH('Bilgi Girişi'!$E$4,KalemAdı,1))=TRUE,1,0)","v":1},"Gaz yakıtlar","Mal",9120000,null,null,"Propan ve bütan"]
[null,null,null,null,null,null,null,246,9121000,{"$f":"IF(K250=1,COUNTIF($K$5:K250,1),\"\")","v":246},{"$f":"IF(ISNUMBER(SEARCH('Bilgi Girişi'!$E$4,KalemAdı,1))=TRUE,1,0)","v":1},"Kömür gazı, şebeke gazı veya benzeri gazlar","Mal",9121000,null,null,"Propan gazı"]
[null,null,null,null,null,null,null,247,9121100,{"$f":"IF(K251=1,COUNTIF($K$5:K251,1),\"\")","v":247},{"$f":"IF(ISNUMBER(SEARCH('Bilgi Girişi'!$E$4,KalemAdı,1))=TRUE,1,0)","v":1},"Kömür gazı ya da benzeri gazlar","Mal",9121100,null,null,"Sıvılaştırılmış propan gazı"]
[null,null,null,null,null,null,null,248,9121200,{"$f":"IF(K252=1,COUNTIF($K$5:K252,1),\"\")","v":248},{"$f":"IF(ISNUMBER(SEARCH('Bilgi Girişi'!$E$4,KalemAdı,1))=TRUE,1,0)","v":1},"Şebeke gazı","Mal",9121200,null,null,"Bütan gazı"]
[null,null,null,null,null,null,null,249,9122000,{"$f":"IF(K253=1,COUNTIF($K$5:K253,1),\"\")","v":249},{"$f":"IF(ISNUMBER(SEARCH('Bilgi Girişi'!$E$4,KalemAdı,1))=TRUE,1,0)","v":1},"Propan ve bütan","Mal",9122000,null,null,"Sıvılaştırılmış bütan gazı"]
[null,null,null,null,null,null,null,250,9122100,{"$f":"IF(K254=1,COUNTIF($K$5:K254,1),\"\")","v":250},{"$f":"IF(ISNUMBER(SEARCH('Bilgi Girişi'!$E$4,KalemAdı,1))=TRUE,1,0)","v":1},"Propan gazı","Mal",9122100,null,null,"Doğalgaz"]
[null,null,null,null,null,null,null,251,9122110,{"$f":"IF(K255=1,COUNTIF($K$5:K255,1),\"\")","v":251},{"$f":"IF(ISNUMBER(SEARCH('Bilgi Girişi'!$E$4,KalemAdı,1))=TRUE,1,0)","v":1},"Sıvılaştırılmış propan gazı","Mal",9122110,null,null,"Petrol ve damıtıklar"]
[null,null,null,null,null,null,null,252,9122200,{"$f":"IF(K256=1,COUNTIF($K$5:K256,1),\"\")","v":252},{"$f":"IF(ISNUMBER(SEARCH('Bilgi Girişi'!$E$4,KalemAdı,1))=TRUE,1,0)","v":1},"Bütan gazı","Mal",9122200,null,null,"Uçak gazyağları"]
[null,null,null,null,null,null,null,253,9122210,{"$f":"IF(K257=1,COUNTIF($K$5:K257,1),\"\")","v":253},{"$f":"IF(ISNUMBER(SEARCH('Bilgi Girişi'!$E$4,KalemAdı,1))=TRUE,1,0)","v":1},"Sıvılaştırılmış bütan gazı","Mal",9122210,null,null,"Gazyağı jet tipi yakıtlar"]
[null,null,null,null,null,null,null,254,9123000,{"$f":"IF(K258=1,COUNTIF($K$5:K258,1),\"\")","v":254},{"$f":"IF(ISNUMBER(SEARCH('Bilgi Girişi'!$E$4,KalemAdı,1))=TRUE,1,0)","v":1},"Doğalgaz","Mal",9123000,null,null,"Benzin"]
[null,null,null,null,null,null,null,255,9130000,{"$f":"IF(K259=1,COUNTIF($K$5:K259,1),\"\")","v":255},{"$f":"IF(ISNUMBER(SEARCH('Bilgi Girişi'!$E$4,KalemAdı,1))=TRUE,1,0)","v":1},"Petrol ve damıtıklar","Mal",9130000,null,null,"Kurşunsuz benzin"]
[null,null,null,null,null,null,null,256,9131000,{"$f":"IF(K260=1,COUNTIF($K$5:K260,1),\"\")","v":256},{"$f":"IF(ISNUMBER(SEARCH('Bilgi Girişi'!$E$4,KalemAdı,1))=TRUE,1,0)","v":1},"Uçak gazyağları","Mal",9131000,null,null,"Kurşunlu benzin"]
[null,null,null,null,null,null,null,257,9131100,{"$f":"IF(K261=1,COUNTIF($K$5:K261,1),\"\")","v":257},{"$f":"IF(ISNUMBER(SEARCH('Bilgi Girişi'!$E$4,KalemAdı,1))=TRUE,1,0)","v":1},"Gazyağı jet tipi yakıtlar","Mal",9131100,null,null,"Etanollü benzin"]
[null,null,null,null,null,null,null,258,9132000,{"$f":"IF(K262=1,COUNTIF($K$5:K262,1),\"\")","v":258},{"$f":"IF(ISNUMBER(SEARCH('Bilgi Girişi'!$E$4,KalemAdı,1))=TRUE,1,0)","v":1},"Benzin","Mal",9132000,null,null,{"$f":"IFERROR(VLOOKUP(ROW($P262),$J$5:$L$9594,3,FALSE),\"\")","v":"Sıvılaştırılmış Petrol Gazı (LPG)"}]
[null,null,null,null,null,null,null,259,9132100,{"$f":"IF(K263=1,COUNTIF($K$5:K263,1),\"\")","v":259},{"$f":"IF(ISNUMBER(SEARCH('Bilgi Girişi'!$E$4,KalemAdı,1))=TRUE,1,0)","v":1},"Kurşunsuz benzin","Mal",9132100,null,null,"Motorin"]
[null,null,null,null,null,null,null,260,9132200,{"$f":"IF(K264=1,COUNTIF($K$5:K264,1),\"\")","v":260},{"$f":"IF(ISNUMBER(SEARCH('Bilgi Girişi'!$E$4,KalemAdı,1))=TRUE,1,0)","v":1},"Kurşunlu benzin","Mal",9132200,null,null,"Dizel yağı"]
[null,null,null,null,null,null,null,261,9132300,{"$f":"IF(K265=1,COUNTIF($K$5:K265,1),\"\")","v":261},{"$f":"IF(ISNUMBER(SEARCH('Bilgi Girişi'!$E$4,KalemAdı,1))=TRUE,1,0)","v":1},"Etanollü benzin","Mal",9132300,null,null,"Dizel yakıtı, mazot"]
[null,null,null,null,null,null,null,262,9133000,{"$f":"IF(K266=1,COUNTIF($K$5:K266,1),\"\")","v":262},{"$f":"IF(ISNUMBER(SEARCH('Bilgi Girişi'!$E$4,KalemAdı,1))=TRUE,1,0)","v":1},"Sıvılaştırılmış Petrol Gazı (LPG)","Mal",9133000,null,null,"Dizel yakıt (0,2)"]
[null,null,null,null,null,null,null,263,9134000,{"$f":"IF(K267=1,COUNTIF($K$5:K267,1),\"\")","v":263},{"$f":"IF(ISNUMBER(SEARCH('Bilgi Girişi'!$E$4,KalemAdı,1))=TRUE,1,0)","v":1},"Motorin","Mal",9134000,null,null,"Dizel yakıt (EN 590)"]
[null,null,null,null,null,null,null,264,9134100,{"$f":"IF(K268=1,COUNTIF($K$5:K268,1),\"\")","v":264},{"$f":"IF(ISNUMBER(SEARCH('Bilgi Girişi'!$E$4,KalemAdı,1))=TRUE,1,0)","v":1},"Dizel yağı","Mal",9134100,null,null,"Biyodizel"]
[null,null,null,null,null,null,null,265,9134200,{"$f":"IF(K269=1,COUNTIF($K$5:K269,1),\"\")","v":265},{"$f":"IF(ISNUMBER(SEARCH('Bilgi Girişi'!$E$4,KalemAdı,1))=TRUE,1,0)","v":1},"Dizel yakıtı, mazot","Mal",9134200,null,null,"Biyodizel (B20)"]
[null,null,null,null,null,null,null,266,9134210,{"$f":"IF(K270=1,COUNTIF($K$5:K270,1),\"\")","v":266},{"$f":"IF(ISNUMBER(SEARCH('Bilgi Girişi'!$E$4,KalemAdı,1))=TRUE,1,0)","v":1},"Dizel yakıt (0,2)","Mal",9134210,null,null,"Biyodizel (B100)"]
[null,null,null,null,null,null,null,267,9134220,{"$f":"IF(K271=1,COUNTIF($K$5:K271,1),\"\")","v":267},{"$f":"IF(ISNUMBER(SEARCH('Bilgi Girişi'!$E$4,KalemAdı,1))=TRUE,1,0)","v":1},"Dizel yakıt (EN 590)","Mal",9134220,null,null,"Fueloiller"]
[null,null,null,null,null,null,null,268,9134230,{"$f":"IF(K272=1,COUNTIF($K$5:K272,1),\"\")","v":268},{"$f":"IF(ISNUMBER(SEARCH('Bilgi Girişi'!$E$4,KalemAdı,1))=TRUE,1,0)","v":1},"Biyodizel","Mal",9134230,null,null,"Isıtma yakıtları"]
[null,null,null,null,null,null,null,269,9134231,{"$f":"IF(K273=1,COUNTIF($K$5:K273,1),\"\")","v":269},{"$f":"IF(ISNUMBER(SEARCH('Bilgi Girişi'!$E$4,KalemAdı,1))=TRUE,1,0)","v":1},"Biyodizel (B20)","Mal",9134231,null,null,"Düşük sülfürlü yanıcı yağlar"]
[null,null,null,null,null,null,null,270,9134232,{"$f":"IF(K274=1,COUNTIF($K$5:K274,1),\"\")","v":270},{"$f":"IF(ISNUMBER(SEARCH('Bilgi Girişi'!$E$4,KalemAdı,1))=TRUE,1,0)","v":1},"Biyodizel (B100)","Mal",9134232,null,null,"Petrol, kömür ve petrol ürünleri"]
[null,null,null,null,null,null,null,271,9135000,{"$f":"IF(K275=1,COUNTIF($K$5:K275,1),\"\")","v":271},{"$f":"IF(ISNUMBER(SEARCH('Bilgi Girişi'!$E$4,KalemAdı,1))=TRUE,1,0)","v":1},"Fueloiller","Mal",9135000,null,null,"Yağlama preparatları"]
[null,null,null,null,null,null,null,272,9135100,{"$f":"IF(K276=1,COUNTIF($K$5:K276,1),\"\")","v":272},{"$f":"IF(ISNUMBER(SEARCH('Bilgi Girişi'!$E$4,KalemAdı,1))=TRUE,1,0)","v":1},"Isıtma yakıtları","Mal",9135100,null,null,"Yağlama yağları ve yağlama maddeleri"]
[null,null,null,null,null,null,null,273,9135110,{"$f":"IF(K277=1,COUNTIF($K$5:K277,1),\"\")","v":273},{"$f":"IF(ISNUMBER(SEARCH('Bilgi Girişi'!$E$4,KalemAdı,1))=TRUE,1,0)","v":1},"Düşük sülfürlü yanıcı yağlar","Mal",9135110,null,null,"Motor yağları"]
[null,null,null,null,null,null,null,274,9200000,{"$f":"IF(K278=1,COUNTIF($K$5:K278,1),\"\")","v":274},{"$f":"IF(ISNUMBER(SEARCH('Bilgi Girişi'!$E$4,KalemAdı,1))=TRUE,1,0)","v":1},"Petrol, kömür ve petrol ürünleri","Mal",9200000,null,null,"Kompresör yağlama yağları"]
[null,null,null,null,null,null,null,275,9210000,{"$f":"IF(K279=1,COUNTIF($K$5:K279,1),\"\")","v":275},{"$f":"IF(ISNUMBER(SEARCH('Bilgi Girişi'!$E$4,KalemAdı,1))=TRUE,1,0)","v":1},"Yağlama preparatları","Mal",9210000,null,null,"Türbin yağlama yağları"]
[null,null,null,null,null,null,null,276,9211000,{"$f":"IF(K280=1,COUNTIF($K$5:K280,1),\"\")","v":276},{"$f":"IF(ISNUMBER(SEARCH('Bilgi Girişi'!$E$4,KalemAdı,1))=TRUE,1,0)","v":1},"Yağlama yağları ve yağlama maddeleri","Mal",9211000,null,null,"Dişli yağları"]
[null,null,null,null,null,null,null,277,9211100,{"$f":"IF(K281=1,COUNTIF($K$5:K281,1),\"\")","v":277},{"$f":"IF(ISNUMBER(SEARCH('Bilgi Girişi'!$E$4,KalemAdı,1))=TRUE,1,0)","v":1},"Motor yağları","Mal",9211100,null,null,"Redüktör yağları"]
[null,null,null,null,null,null,null,278,9211200,{"$f":"IF(K282=1,COUNTIF($K$5:K282,1),\"\")","v":278},{"$f":"IF(ISNUMBER(SEARCH('Bilgi Girişi'!$E$4,KalemAdı,1))=TRUE,1,0)","v":1},"Kompresör yağlama yağları","Mal",9211200,null,null,"Hidrolik sistemleri ve başka amaçlarla kullanılan yağlar"]
[null,null,null,null,null,null,null,279,9211300,{"$f":"IF(K283=1,COUNTIF($K$5:K283,1),\"\")","v":279},{"$f":"IF(ISNUMBER(SEARCH('Bilgi Girişi'!$E$4,KalemAdı,1))=TRUE,1,0)","v":1},"Türbin yağlama yağları","Mal",9211300,null,null,"Hidrolik amaçlı sıvılar"]
[null,null,null,null,null,null,null,280,9211400,{"$f":"IF(K284=1,COUNTIF($K$5:K284,1),\"\")","v":280},{"$f":"IF(ISNUMBER(SEARCH('Bilgi Girişi'!$E$4,KalemAdı,1))=TRUE,1,0)","v":1},"Dişli yağları","Mal",9211400,null,null,"Kalıp ayırıcı yağlar"]
[null,null,null,null,null,null,null,281,9211500,{"$f":"IF(K285=1,COUNTIF($K$5:K285,1),\"\")","v":281},{"$f":"IF(ISNUMBER(SEARCH('Bilgi Girişi'!$E$4,KalemAdı,1))=TRUE,1,0)","v":1},"Redüktör yağları","Mal",9211500,null,null,"Paslanma önleyici yağlar"]
[null,null,null,null,null,null,null,282,9211600,{"$f":"IF(K286=1,COUNTIF($K$5:K286,1),\"\")","v":282},{"$f":"IF(ISNUMBER(SEARCH('Bilgi Girişi'!$E$4,KalemAdı,1))=TRUE,1,0)","v":1},"Hidrolik sistemleri ve başka amaçlarla kullanılan yağlar","Mal",9211600,null,null,"Elektrik yalıtım yağları"]
[null,null,null,null,null,null,null,283,9211610,{"$f":"IF(K287=1,COUNTIF($K$5:K287,1),\"\")","v":283},{"$f":"IF(ISNUMBER(SEARCH('Bilgi Girişi'!$E$4,KalemAdı,1))=TRUE,1,0)","v":1},"Hidrolik amaçlı sıvılar","Mal",9211610,null,null,"Hidrolik, fren sıvısı"]
[null,null,null,null,null,null,null,284,9211620,{"$f":"IF(K288=1,COUNTIF($K$5:K288,1),\"\")","v":284},{"$f":"IF(ISNUMBER(SEARCH('Bilgi Girişi'!$E$4,KalemAdı,1))=TRUE,1,0)","v":1},"Kalıp ayırıcı yağlar","Mal",9211620,null,null,"Beyaz yağlar ve sıvı parafin"]
[null,null,null,null,null,null,null,285,9211630,{"$f":"IF(K289=1,COUNTIF($K$5:K289,1),\"\")","v":285},{"$f":"IF(ISNUMBER(SEARCH('Bilgi Girişi'!$E$4,KalemAdı,1))=TRUE,1,0)","v":1},"Paslanma önleyici yağlar","Mal",9211630,null,null,"Beyaz yağlar"]
[null,null,null,null,null,null,null,286,9211640,{"$f":"IF(K290=1,COUNTIF($K$5:K290,1),\"\")","v":286},{"$f":"IF(ISNUMBER(SEARCH('Bilgi Girişi'!$E$4,KalemAdı,1))=TRUE,1,0)","v":1},"Elektrik yalıtım yağları","Mal",9211640,null,null,"Sıvı parafin"]
[null,null,null,null,null,null,null,287,9211650,{"$f":"IF(K291=1,COUNTIF($K$5:K291,1),\"\")","v":287},{"$f":"IF(ISNUMBER(SEARCH('Bilgi Girişi'!$E$4,KalemAdı,1))=TRUE,1,0)","v":1},"Hidrolik, fren sıvısı","Mal",9211650,null,null,"Petrol esaslı yağlar ve müstahzarları"]
[null,null,null,null,null,null,null,288,9211700,{"$f":"IF(K292=1,COUNTIF($K$5:K292,1),\"\")","v":288},{"$f":"IF(ISNUMBER(SEARCH('Bilgi Girişi'!$E$4,KalemAdı,1))=TRUE,1,0)","v":1},"Beyaz yağlar ve sıvı parafin","Mal",9211700,null,null,"Hafif yağlar"]
[null,null,null,null,null,null,null,289,9211710,{"$f":"IF(K293=1,COUNTIF($K$5:K293,1),\"\")","v":289},{"$f":"IF(ISNUMBER(SEARCH('Bilgi Girişi'!$E$4,KalemAdı,1))=TRUE,1,0)","v":1},"Beyaz yağlar","Mal",9211710,null,null,"Madeni yağlar"]
[null,null,null,null,null,null,null,290,9211720,{"$f":"IF(K294=1,COUNTIF($K$5:K294,1),\"\")","v":290},{"$f":"IF(ISNUMBER(SEARCH('Bilgi Girişi'!$E$4,KalemAdı,1))=TRUE,1,0)","v":1},"Sıvı parafin","Mal",9211720,null,null,"Sürtünme önleyici kayganlaştırıcı yağlar"]
[null,null,null,null,null,null,null,291,9211800,{"$f":"IF(K295=1,COUNTIF($K$5:K295,1),\"\")","v":291},{"$f":"IF(ISNUMBER(SEARCH('Bilgi Girişi'!$E$4,KalemAdı,1))=TRUE,1,0)","v":1},"Petrol esaslı yağlar ve müstahzarları","Mal",9211800,null,null,"Vazelin, mumlar ve özel alkoller"]
[null,null,null,null,null,null,null,292,9211810,{"$f":"IF(K296=1,COUNTIF($K$5:K296,1),\"\")","v":292},{"$f":"IF(ISNUMBER(SEARCH('Bilgi Girişi'!$E$4,KalemAdı,1))=TRUE,1,0)","v":1},"Hafif yağlar","Mal",9211810,null,null,"Vazelin, parafin ve petrol mumları"]
[null,null,null,null,null,null,null,293,9211820,{"$f":"IF(K297=1,COUNTIF($K$5:K297,1),\"\")","v":293},{"$f":"IF(ISNUMBER(SEARCH('Bilgi Girişi'!$E$4,KalemAdı,1))=TRUE,1,0)","v":1},"Madeni yağlar","Mal",9211820,null,null,"Vazelin"]
[null,null,null,null,null,null,null,294,9211900,{"$f":"IF(K298=1,COUNTIF($K$5:K298,1),\"\")","v":294},{"$f":"IF(ISNUMBER(SEARCH('Bilgi Girişi'!$E$4,KalemAdı,1))=TRUE,1,0)","v":1},"Sürtünme önleyici kayganlaştırıcı yağlar","Mal",9211900,null,null,"Parafin mumu"]
[null,null,null,null,null,null,null,295,9220000,{"$f":"IF(K299=1,COUNTIF($K$5:K299,1),\"\")","v":295},{"$f":"IF(ISNUMBER(SEARCH('Bilgi Girişi'!$E$4,KalemAdı,1))=TRUE,1,0)","v":1},"Vazelin, mumlar ve özel alkoller","Mal",9220000,null,null,"Petrol mumu"]
[null,null,null,null,null,null,null,296,9221000,{"$f":"IF(K300=1,COUNTIF($K$5:K300,1),\"\")","v":296},{"$f":"IF(ISNUMBER(SEARCH('Bilgi Girişi'!$E$4,KalemAdı,1))=TRUE,1,0)","v":1},"Vazelin, parafin ve petrol mumları","Mal",9221000,null,null,"Petrol tortular"]
[null,null,null,null,null,null,null,297,9221100,{"$f":"IF(K301=1,COUNTIF($K$5:K301,1),\"\")","v":297},{"$f":"IF(ISNUMBER(SEARCH('Bilgi Girişi'!$E$4,KalemAdı,1))=TRUE,1,0)","v":1},"Vazelin","Mal",9221100,null,null,"Özel alkoller"]
[null,null,null,null,null,null,null,298,9221200,{"$f":"IF(K302=1,COUNTIF($K$5:K302,1),\"\")","v":298},{"$f":"IF(ISNUMBER(SEARCH('Bilgi Girişi'!$E$4,KalemAdı,1))=TRUE,1,0)","v":1},"Parafin mumu","Mal",9221200,null,null,"Beyaz alkol"]
[null,null,null,null,null,null,null,299,9221300,{"$f":"IF(K303=1,COUNTIF($K$5:K303,1),\"\")","v":299},{"$f":"IF(ISNUMBER(SEARCH('Bilgi Girişi'!$E$4,KalemAdı,1))=TRUE,1,0)","v":1},"Petrol mumu","Mal",9221300,null,null,"Petrol (ham)"]
[null,null,null,null,null,null,null,300,9221400,{"$f":"IF(K304=1,COUNTIF($K$5:K304,1),\"\")","v":300},{"$f":"IF(ISNUMBER(SEARCH('Bilgi Girişi'!$E$4,KalemAdı,1))=TRUE,1,0)","v":1},"Petrol tortular","Mal",9221400,null,null,"Petrol ve kömür ile ilgili ürünler"]
[null,null,null,null,null,null,null,301,9222000,{"$f":"IF(K305=1,COUNTIF($K$5:K305,1),\"\")","v":301},{"$f":"IF(ISNUMBER(SEARCH('Bilgi Girişi'!$E$4,KalemAdı,1))=TRUE,1,0)","v":1},"Özel alkoller","Mal",9222000,null,null,"Bitümlü zift veya petrol taşı"]
[null,null,null,null,null,null,null,302,9222100,{"$f":"IF(K306=1,COUNTIF($K$5:K306,1),\"\")","v":302},{"$f":"IF(ISNUMBER(SEARCH('Bilgi Girişi'!$E$4,KalemAdı,1))=TRUE,1,0)","v":1},"Beyaz alkol","Mal",9222100,null,null,"Kömür esaslı ürünler"]
[null,null,null,null,null,null,null,303,9230000,{"$f":"IF(K307=1,COUNTIF($K$5:K307,1),\"\")","v":303},{"$f":"IF(ISNUMBER(SEARCH('Bilgi Girişi'!$E$4,KalemAdı,1))=TRUE,1,0)","v":1},"Petrol (ham)","Mal",9230000,null,null,"Kömür esaslı petrol"]
[null,null,null,null,null,null,null,304,9240000,{"$f":"IF(K308=1,COUNTIF($K$5:K308,1),\"\")","v":304},{"$f":"IF(ISNUMBER(SEARCH('Bilgi Girişi'!$E$4,KalemAdı,1))=TRUE,1,0)","v":1},"Petrol ve kömür ile ilgili ürünler","Mal",9240000,null,null,"Elektrik, ısıtma, güneş ve nükleer enerji"]
[null,null,null,null,null,null,null,305,9241000,{"$f":"IF(K309=1,COUNTIF($K$5:K309,1),\"\")","v":305},{"$f":"IF(ISNUMBER(SEARCH('Bilgi Girişi'!$E$4,KalemAdı,1))=TRUE,1,0)","v":1},"Bitümlü zift veya petrol taşı","Mal",9241000,null,null,"Elektrik"]
[null,null,null,null,null,null,null,306,9242000,{"$f":"IF(K310=1,COUNTIF($K$5:K310,1),\"\")","v":306},{"$f":"IF(ISNUMBER(SEARCH('Bilgi Girişi'!$E$4,KalemAdı,1))=TRUE,1,0)","v":1},"Kömür esaslı ürünler","Mal",9242000,null,null,"Buhar, sıcak su ve ilgili ürünler"]
[null,null,null,null,null,null,null,307,9242100,{"$f":"IF(K311=1,COUNTIF($K$5:K311,1),\"\")","v":307},{"$f":"IF(ISNUMBER(SEARCH('Bilgi Girişi'!$E$4,KalemAdı,1))=TRUE,1,0)","v":1},"Kömür esaslı petrol","Mal",9242100,null,null,"Sıcak su"]
[null,null,null,null,null,null,null,308,9300000,{"$f":"IF(K312=1,COUNTIF($K$5:K312,1),\"\")","v":308},{"$f":"IF(ISNUMBER(SEARCH('Bilgi Girişi'!$E$4,KalemAdı,1))=TRUE,1,0)","v":1},"Elektrik, ısıtma, güneş ve nükleer enerji","Mal",9300000,null,null,"Buhar"]
[null,null,null,null,null,null,null,309,9310000,{"$f":"IF(K313=1,COUNTIF($K$5:K313,1),\"\")","v":309},{"$f":"IF(ISNUMBER(SEARCH('Bilgi Girişi'!$E$4,KalemAdı,1))=TRUE,1,0)","v":1},"Elektrik","Mal",9310000,null,null,"Mahalli ısıtma"]
[null,null,null,null,null,null,null,310,9320000,{"$f":"IF(K314=1,COUNTIF($K$5:K314,1),\"\")","v":310},{"$f":"IF(ISNUMBER(SEARCH('Bilgi Girişi'!$E$4,KalemAdı,1))=TRUE,1,0)","v":1},"Buhar, sıcak su ve ilgili ürünler","Mal",9320000,null,null,"Uzak mesafeli ısıtma"]
[null,null,null,null,null,null,null,311,9321000,{"$f":"IF(K315=1,COUNTIF($K$5:K315,1),\"\")","v":311},{"$f":"IF(ISNUMBER(SEARCH('Bilgi Girişi'!$E$4,KalemAdı,1))=TRUE,1,0)","v":1},"Sıcak su","Mal",9321000,null,null,"Güneş enerjisi"]
[null,null,null,null,null,null,null,312,9322000,{"$f":"IF(K316=1,COUNTIF($K$5:K316,1),\"\")","v":312},{"$f":"IF(ISNUMBER(SEARCH('Bilgi Girişi'!$E$4,KalemAdı,1))=TRUE,1,0)","v":1},"Buhar","Mal",9322000,null,null,"Güneş enerjisi panelleri"]
[null,null,null,null,null,null,null,313,9323000,{"$f":"IF(K317=1,COUNTIF($K$5:K317,1),\"\")","v":313},{"$f":"IF(ISNUMBER(SEARCH('Bilgi Girişi'!$E$4,KalemAdı,1))=TRUE,1,0)","v":1},"Mahalli ısıtma","Mal",9323000,null,null,"Isı üretimi için güneş kollektörleri"]
[null,null,null,null,null,null,null,314,9324000,{"$f":"IF(K318=1,COUNTIF($K$5:K318,1),\"\")","v":314},{"$f":"IF(ISNUMBER(SEARCH('Bilgi Girişi'!$E$4,KalemAdı,1))=TRUE,1,0)","v":1},"Uzak mesafeli ısıtma","Mal",9324000,null,null,"Güneş fotovoltaik modülleri"]
[null,null,null,null,null,null,null,315,9330000,{"$f":"IF(K319=1,COUNTIF($K$5:K319,1),\"\")","v":315},{"$f":"IF(ISNUMBER(SEARCH('Bilgi Girişi'!$E$4,KalemAdı,1))=TRUE,1,0)","v":1},"Güneş enerjisi","Mal",9330000,null,null,"Güneş enerjisi tesisatı"]
[null,null,null,null,null,null,null,316,9331000,{"$f":"IF(K320=1,COUNTIF($K$5:K320,1),\"\")","v":316},{"$f":"IF(ISNUMBER(SEARCH('Bilgi Girişi'!$E$4,KalemAdı,1))=TRUE,1,0)","v":1},"Güneş enerjisi panelleri","Mal",9331000,null,null,"Nükleer yakıtlar"]
[null,null,null,null,null,null,null,317,9331100,{"$f":"IF(K321=1,COUNTIF($K$5:K321,1),\"\")","v":317},{"$f":"IF(ISNUMBER(SEARCH('Bilgi Girişi'!$E$4,KalemAdı,1))=TRUE,1,0)","v":1},"Isı üretimi için güneş kollektörleri","Mal",9331100,null,null,"Uranyum"]
[null,null,null,null,null,null,null,318,9331200,{"$f":"IF(K322=1,COUNTIF($K$5:K322,1),\"\")","v":318},{"$f":"IF(ISNUMBER(SEARCH('Bilgi Girişi'!$E$4,KalemAdı,1))=TRUE,1,0)","v":1},"Güneş fotovoltaik modülleri","Mal",9331200,null,null,"Plütonyum"]
[null,null,null,null,null,null,null,319,9332000,{"$f":"IF(K323=1,COUNTIF($K$5:K323,1),\"\")","v":319},{"$f":"IF(ISNUMBER(SEARCH('Bilgi Girişi'!$E$4,KalemAdı,1))=TRUE,1,0)","v":1},"Güneş enerjisi tesisatı","Mal",9332000,null,null,"Radyoaktif malzemeler"]
[null,null,null,null,null,null,null,320,9340000,{"$f":"IF(K324=1,COUNTIF($K$5:K324,1),\"\")","v":320},{"$f":"IF(ISNUMBER(SEARCH('Bilgi Girişi'!$E$4,KalemAdı,1))=TRUE,1,0)","v":1},"Nükleer yakıtlar","Mal",9340000,null,null,"Radyoizotoplar"]
[null,null,null,null,null,null,null,321,9341000,{"$f":"IF(K325=1,COUNTIF($K$5:K325,1),\"\")","v":321},{"$f":"IF(ISNUMBER(SEARCH('Bilgi Girişi'!$E$4,KalemAdı,1))=TRUE,1,0)","v":1},"Uranyum","Mal",9341000,null,null,"Madencilik, temel metaller ve ilgili ürünler"]
[null,null,null,null,null,null,null,322,9342000,{"$f":"IF(K326=1,COUNTIF($K$5:K326,1),\"\")","v":322},{"$f":"IF(ISNUMBER(SEARCH('Bilgi Girişi'!$E$4,KalemAdı,1))=TRUE,1,0)","v":1},"Plütonyum","Mal",9342000,null,null,{"$f":"IFERROR(VLOOKUP(ROW($P326),$J$5:$L$9594,3,FALSE),\"\")","v":"Kum ve kil"}]
[null,null,null,null,null,null,null,323,9343000,{"$f":"IF(K327=1,COUNTIF($K$5:K327,1),\"\")","v":323},{"$f":"IF(ISNUMBER(SEARCH('Bilgi Girişi'!$E$4,KalemAdı,1))=TRUE,1,0)","v":1},"Radyoaktif malzemeler","Mal",9343000,null,null,"Kum ve çakıl taşı ocağı ürünleri"]
[null,null,null,null,null,null,null,324,9344000,{"$f":"IF(K328=1,COUNTIF($K$5:K328,1),\"\")","v":324},{"$f":"IF(ISNUMBER(SEARCH('Bilgi Girişi'!$E$4,KalemAdı,1))=TRUE,1,0)","v":1},"Radyoizotoplar","Mal",9344000,null,null,"Kum"]
[null,null,null,null,null,null,null,325,14000000,{"$f":"IF(K329=1,COUNTIF($K$5:K329,1),\"\")","v":325},{"$f":"IF(ISNUMBER(SEARCH('Bilgi Girişi'!$E$4,KalemAdı,1))=TRUE,1,0)","v":1},"Madencilik, temel metaller ve ilgili ürünler","Mal",14000000,null,null,"Doğal kum"]
[null,null,null,null,null,null,null,326,14200000,{"$f":"IF(K330=1,COUNTIF($K$5:K330,1),\"\")","v":326},{"$f":"IF(ISNUMBER(SEARCH('Bilgi Girişi'!$E$4,KalemAdı,1))=TRUE,1,0)","v":1},"Kum ve kil","Mal",14200000,null,null,"Karışımlar, kum çakıl karışımları ve diğer agregatlar"]
[null,null,null,null,null,null,null,327,14210000,{"$f":"IF(K331=1,COUNTIF($K$5:K331,1),\"\")","v":327},{"$f":"IF(ISNUMBER(SEARCH('Bilgi Girişi'!$E$4,KalemAdı,1))=TRUE,1,0)","v":1},"Kum ve çakıl taşı ocağı ürünleri","Mal",14210000,null,null,"Çakıl taşı ve çakıllı kum"]
[null,null,null,null,null,null,null,328,14211000,{"$f":"IF(K332=1,COUNTIF($K$5:K332,1),\"\")","v":328},{"$f":"IF(ISNUMBER(SEARCH('Bilgi Girişi'!$E$4,KalemAdı,1))=TRUE,1,0)","v":1},"Kum","Mal",14211000,null,null,"Küçük çakıl"]
[null,null,null,null,null,null,null,329,14211100,{"$f":"IF(K333=1,COUNTIF($K$5:K333,1),\"\")","v":329},{"$f":"IF(ISNUMBER(SEARCH('Bilgi Girişi'!$E$4,KalemAdı,1))=TRUE,1,0)","v":1},"Doğal kum","Mal",14211100,null,null,"Çakıl"]
[null,null,null,null,null,null,null,330,14212000,{"$f":"IF(K334=1,COUNTIF($K$5:K334,1),\"\")","v":330},{"$f":"IF(ISNUMBER(SEARCH('Bilgi Girişi'!$E$4,KalemAdı,1))=TRUE,1,0)","v":1},"Karışımlar, kum çakıl karışımları ve diğer agregatlar","Mal",14212000,null,null,"Agregatlar"]
[null,null,null,null,null,null,null,331,14212100,{"$f":"IF(K335=1,COUNTIF($K$5:K335,1),\"\")","v":331},{"$f":"IF(ISNUMBER(SEARCH('Bilgi Girişi'!$E$4,KalemAdı,1))=TRUE,1,0)","v":1},"Çakıl taşı ve çakıllı kum","Mal",14212100,null,null,"Kum - çakıl karışımı"]
[null,null,null,null,null,null,null,332,14212110,{"$f":"IF(K336=1,COUNTIF($K$5:K336,1),\"\")","v":332},{"$f":"IF(ISNUMBER(SEARCH('Bilgi Girişi'!$E$4,KalemAdı,1))=TRUE,1,0)","v":1},"Küçük çakıl","Mal",14212110,null,null,"Kırılmış veya ezilmiş kayalar"]
[null,null,null,null,null,null,null,333,14212120,{"$f":"IF(K337=1,COUNTIF($K$5:K337,1),\"\")","v":333},{"$f":"IF(ISNUMBER(SEARCH('Bilgi Girişi'!$E$4,KalemAdı,1))=TRUE,1,0)","v":1},"Çakıl","Mal",14212120,null,null,"Safra"]
[null,null,null,null,null,null,null,334,14212200,{"$f":"IF(K338=1,COUNTIF($K$5:K338,1),\"\")","v":334},{"$f":"IF(ISNUMBER(SEARCH('Bilgi Girişi'!$E$4,KalemAdı,1))=TRUE,1,0)","v":1},"Agregatlar","Mal",14212200,null,null,"Granit ezmesi"]
[null,null,null,null,null,null,null,335,14212210,{"$f":"IF(K339=1,COUNTIF($K$5:K339,1),\"\")","v":335},{"$f":"IF(ISNUMBER(SEARCH('Bilgi Girişi'!$E$4,KalemAdı,1))=TRUE,1,0)","v":1},"Kum - çakıl karışımı","Mal",14212210,null,null,"Bazalt ezmesi"]
[null,null,null,null,null,null,null,336,14212300,{"$f":"IF(K340=1,COUNTIF($K$5:K340,1),\"\")","v":336},{"$f":"IF(ISNUMBER(SEARCH('Bilgi Girişi'!$E$4,KalemAdı,1))=TRUE,1,0)","v":1},"Kırılmış veya ezilmiş kayalar","Mal",14212300,null,null,"Toprak"]
[null,null,null,null,null,null,null,337,14212310,{"$f":"IF(K341=1,COUNTIF($K$5:K341,1),\"\")","v":337},{"$f":"IF(ISNUMBER(SEARCH('Bilgi Girişi'!$E$4,KalemAdı,1))=TRUE,1,0)","v":1},"Safra","Mal",14212310,null,null,"Yüzey toprağı"]
[null,null,null,null,null,null,null,338,14212320,{"$f":"IF(K342=1,COUNTIF($K$5:K342,1),\"\")","v":338},{"$f":"IF(ISNUMBER(SEARCH('Bilgi Girişi'!$E$4,KalemAdı,1))=TRUE,1,0)","v":1},"Granit ezmesi","Mal",14212320,null,null,"Dip toprak"]
[null,null,null,null,null,null,null,339,14212330,{"$f":"IF(K343=1,COUNTIF($K$5:K343,1),\"\")","v":339},{"$f":"IF(ISNUMBER(SEARCH('Bilgi Girişi'!$E$4,KalemAdı,1))=TRUE,1,0)","v":1},"Bazalt ezmesi","Mal",14212330,null,null,"Kaya yongaları"]
[null,null,null,null,null,null,null,340,14212400,{"$f":"IF(K344=1,COUNTIF($K$5:K344,1),\"\")","v":340},{"$f":"IF(ISNUMBER(SEARCH('Bilgi Girişi'!$E$4,KalemAdı,1))=TRUE,1,0)","v":1},"Toprak","Mal",14212400,null,null,"Makadam, asfalt ve katran kumlar"]
[null,null,null,null,null,null,null,341,14212410,{"$f":"IF(K345=1,COUNTIF($K$5:K345,1),\"\")","v":341},{"$f":"IF(ISNUMBER(SEARCH('Bilgi Girişi'!$E$4,KalemAdı,1))=TRUE,1,0)","v":1},"Yüzey toprağı","Mal",14212410,null,null,"Makadam"]
[null,null,null,null,null,null,null,342,14212420,{"$f":"IF(K346=1,COUNTIF($K$5:K346,1),\"\")","v":342},{"$f":"IF(ISNUMBER(SEARCH('Bilgi Girişi'!$E$4,KalemAdı,1))=TRUE,1,0)","v":1},"Dip toprak","Mal",14212420,null,null,"Asfalt"]
[null,null,null,null,null,null,null,343,14212430,{"$f":"IF(K347=1,COUNTIF($K$5:K347,1),\"\")","v":343},{"$f":"IF(ISNUMBER(SEARCH('Bilgi Girişi'!$E$4,KalemAdı,1))=TRUE,1,0)","v":1},"Kaya yongaları","Mal",14212430,null,null,"Katran kumu"]
[null,null,null,null,null,null,null,344,14213000,{"$f":"IF(K348=1,COUNTIF($K$5:K348,1),\"\")","v":344},{"$f":"IF(ISNUMBER(SEARCH('Bilgi Girişi'!$E$4,KalemAdı,1))=TRUE,1,0)","v":1},"Makadam, asfalt ve katran kumlar","Mal",14213000,null,null,"Kil ve kaolin"]
[null,null,null,null,null,null,null,345,14213100,{"$f":"IF(K349=1,COUNTIF($K$5:K349,1),\"\")","v":345},{"$f":"IF(ISNUMBER(SEARCH('Bilgi Girişi'!$E$4,KalemAdı,1))=TRUE,1,0)","v":1},"Makadam","Mal",14213100,null,null,"Kil"]
[null,null,null,null,null,null,null,346,14213200,{"$f":"IF(K350=1,COUNTIF($K$5:K350,1),\"\")","v":346},{"$f":"IF(ISNUMBER(SEARCH('Bilgi Girişi'!$E$4,KalemAdı,1))=TRUE,1,0)","v":1},"Asfalt","Mal",14213200,null,null,"Kaolin"]
[null,null,null,null,null,null,null,347,14213300,{"$f":"IF(K351=1,COUNTIF($K$5:K351,1),\"\")","v":347},{"$f":"IF(ISNUMBER(SEARCH('Bilgi Girişi'!$E$4,KalemAdı,1))=TRUE,1,0)","v":1},"Katran kumu","Mal",14213300,null,null,"Kimya ve gübre sanayiinde kullanılan mineraller"]
[null,null,null,null,null,null,null,348,14220000,{"$f":"IF(K352=1,COUNTIF($K$5:K352,1),\"\")","v":348},{"$f":"IF(ISNUMBER(SEARCH('Bilgi Girişi'!$E$4,KalemAdı,1))=TRUE,1,0)","v":1},"Kil ve kaolin","Mal",14220000,null,null,"Gübre mineralleri"]
[null,null,null,null,null,null,null,349,14221000,{"$f":"IF(K353=1,COUNTIF($K$5:K353,1),\"\")","v":349},{"$f":"IF(ISNUMBER(SEARCH('Bilgi Girişi'!$E$4,KalemAdı,1))=TRUE,1,0)","v":1},"Kil","Mal",14221000,null,null,"Tabii kalsiyum alüminyum kalsiyum fosfat ve tabii potasyum tuzları"]
[null,null,null,null,null,null,null,350,14222000,{"$f":"IF(K354=1,COUNTIF($K$5:K354,1),\"\")","v":350},{"$f":"IF(ISNUMBER(SEARCH('Bilgi Girişi'!$E$4,KalemAdı,1))=TRUE,1,0)","v":1},"Kaolin","Mal",14222000,null,null,"Tabii kalsiyum"]
[null,null,null,null,null,null,null,351,14300000,{"$f":"IF(K355=1,COUNTIF($K$5:K355,1),\"\")","v":351},{"$f":"IF(ISNUMBER(SEARCH('Bilgi Girişi'!$E$4,KalemAdı,1))=TRUE,1,0)","v":1},"Kimya ve gübre sanayiinde kullanılan mineraller","Mal",14300000,null,null,"Alüminyum kalsiyum fosfatlar"]
[null,null,null,null,null,null,null,352,14310000,{"$f":"IF(K356=1,COUNTIF($K$5:K356,1),\"\")","v":352},{"$f":"IF(ISNUMBER(SEARCH('Bilgi Girişi'!$E$4,KalemAdı,1))=TRUE,1,0)","v":1},"Gübre mineralleri","Mal",14310000,null,null,"Tabii ham potasyum tuzları"]
[null,null,null,null,null,null,null,353,14311000,{"$f":"IF(K357=1,COUNTIF($K$5:K357,1),\"\")","v":353},{"$f":"IF(ISNUMBER(SEARCH('Bilgi Girişi'!$E$4,KalemAdı,1))=TRUE,1,0)","v":1},"Tabii kalsiyum alüminyum kalsiyum fosfat ve tabii potasyum tuzları","Mal",14311000,null,null,"Demir piritleri"]
[null,null,null,null,null,null,null,354,14311100,{"$f":"IF(K358=1,COUNTIF($K$5:K358,1),\"\")","v":354},{"$f":"IF(ISNUMBER(SEARCH('Bilgi Girişi'!$E$4,KalemAdı,1))=TRUE,1,0)","v":1},"Tabii kalsiyum","Mal",14311100,null,null,"Kavrulmamış demir piritleri"]
[null,null,null,null,null,null,null,355,14311200,{"$f":"IF(K359=1,COUNTIF($K$5:K359,1),\"\")","v":355},{"$f":"IF(ISNUMBER(SEARCH('Bilgi Girişi'!$E$4,KalemAdı,1))=TRUE,1,0)","v":1},"Alüminyum kalsiyum fosfatlar","Mal",14311200,null,null,"Kimyasal mineraller"]
[null,null,null,null,null,null,null,356,14311300,{"$f":"IF(K360=1,COUNTIF($K$5:K360,1),\"\")","v":356},{"$f":"IF(ISNUMBER(SEARCH('Bilgi Girişi'!$E$4,KalemAdı,1))=TRUE,1,0)","v":1},"Tabii ham potasyum tuzları","Mal",14311300,null,null,"Tuz ve saf sodyum klorit"]
[null,null,null,null,null,null,null,357,14312000,{"$f":"IF(K361=1,COUNTIF($K$5:K361,1),\"\")","v":357},{"$f":"IF(ISNUMBER(SEARCH('Bilgi Girişi'!$E$4,KalemAdı,1))=TRUE,1,0)","v":1},"Demir piritleri","Mal",14312000,null,null,"Kaya tuzu"]
[null,null,null,null,null,null,null,358,14312100,{"$f":"IF(K362=1,COUNTIF($K$5:K362,1),\"\")","v":358},{"$f":"IF(ISNUMBER(SEARCH('Bilgi Girişi'!$E$4,KalemAdı,1))=TRUE,1,0)","v":1},"Kavrulmamış demir piritleri","Mal",14312100,null,null,"Deniz tuzu"]
[null,null,null,null,null,null,null,359,14320000,{"$f":"IF(K363=1,COUNTIF($K$5:K363,1),\"\")","v":359},{"$f":"IF(ISNUMBER(SEARCH('Bilgi Girişi'!$E$4,KalemAdı,1))=TRUE,1,0)","v":1},"Kimyasal mineraller","Mal",14320000,null,null,"Buharlaştırılmış tuz ve saf sodyum klorit"]
[null,null,null,null,null,null,null,360,14400000,{"$f":"IF(K364=1,COUNTIF($K$5:K364,1),\"\")","v":360},{"$f":"IF(ISNUMBER(SEARCH('Bilgi Girişi'!$E$4,KalemAdı,1))=TRUE,1,0)","v":1},"Tuz ve saf sodyum klorit","Mal",14400000,null,null,"Salamura tuzu"]
[null,null,null,null,null,null,null,361,14410000,{"$f":"IF(K365=1,COUNTIF($K$5:K365,1),\"\")","v":361},{"$f":"IF(ISNUMBER(SEARCH('Bilgi Girişi'!$E$4,KalemAdı,1))=TRUE,1,0)","v":1},"Kaya tuzu","Mal",14410000,null,null,"Diğer madencilik ve taşocakçılığı ürünleri"]
[null,null,null,null,null,null,null,362,14420000,{"$f":"IF(K366=1,COUNTIF($K$5:K366,1),\"\")","v":362},{"$f":"IF(ISNUMBER(SEARCH('Bilgi Girişi'!$E$4,KalemAdı,1))=TRUE,1,0)","v":1},"Deniz tuzu","Mal",14420000,null,null,"Değerli ve yarı değerli taşlar, pomza taşı, zımpara, doğal aşındırıcılar, diğer\nmineraller ve değerli metaller"]
[null,null,null,null,null,null,null,363,14430000,{"$f":"IF(K367=1,COUNTIF($K$5:K367,1),\"\")","v":363},{"$f":"IF(ISNUMBER(SEARCH('Bilgi Girişi'!$E$4,KalemAdı,1))=TRUE,1,0)","v":1},"Buharlaştırılmış tuz ve saf sodyum klorit","Mal",14430000,null,null,"Değerli ve yarı değerli taşlar"]
[null,null,null,null,null,null,null,364,14450000,{"$f":"IF(K368=1,COUNTIF($K$5:K368,1),\"\")","v":364},{"$f":"IF(ISNUMBER(SEARCH('Bilgi Girişi'!$E$4,KalemAdı,1))=TRUE,1,0)","v":1},"Salamura tuzu","Mal",14450000,null,null,"Değerli taşlar"]
[null,null,null,null,null,null,null,365,14500000,{"$f":"IF(K369=1,COUNTIF($K$5:K369,1),\"\")","v":365},{"$f":"IF(ISNUMBER(SEARCH('Bilgi Girişi'!$E$4,KalemAdı,1))=TRUE,1,0)","v":1},"Diğer madencilik ve taşocakçılığı ürünleri","Mal",14500000,null,null,"Değerli taşların, toz veya pudraları"]
[null,null,null,null,null,null,null,366,14520000,{"$f":"IF(K370=1,COUNTIF($K$5:K370,1),\"\")","v":366},{"$f":"IF(ISNUMBER(SEARCH('Bilgi Girişi'!$E$4,KalemAdı,1))=TRUE,1,0)","v":1},"Değerli ve yarı değerli taşlar, pomza taşı, zımpara, doğal aşındırıcılar, diğer\nmineraller ve değerli metaller","Mal",14520000,null,null,"Yarı değerli taşlar"]
[null,null,null,null,null,null,null,367,14521000,{"$f":"IF(K371=1,COUNTIF($K$5:K371,1),\"\")","v":367},{"$f":"IF(ISNUMBER(SEARCH('Bilgi Girişi'!$E$4,KalemAdı,1))=TRUE,1,0)","v":1},"Değerli ve yarı değerli taşlar","Mal",14521000,null,null,"Yarı değerli taşların toz ve pudraları"]
[null,null,null,null,null,null,null,368,14521100,{"$f":"IF(K372=1,COUNTIF($K$5:K372,1),\"\")","v":368},{"$f":"IF(ISNUMBER(SEARCH('Bilgi Girişi'!$E$4,KalemAdı,1))=TRUE,1,0)","v":1},"Değerli taşlar","Mal",14521100,null,null,"Sanayi elmasları, pomza taşı, zımpara ve diğer doğal aşındırıcılar"]
[null,null,null,null,null,null,null,369,14521140,{"$f":"IF(K373=1,COUNTIF($K$5:K373,1),\"\")","v":369},{"$f":"IF(ISNUMBER(SEARCH('Bilgi Girişi'!$E$4,KalemAdı,1))=TRUE,1,0)","v":1},"Değerli taşların, toz veya pudraları","Mal",14521140,null,null,"Sünger taşları"]
[null,null,null,null,null,null,null,370,14521200,{"$f":"IF(K374=1,COUNTIF($K$5:K374,1),\"\")","v":370},{"$f":"IF(ISNUMBER(SEARCH('Bilgi Girişi'!$E$4,KalemAdı,1))=TRUE,1,0)","v":1},"Yarı değerli taşlar","Mal",14521200,null,null,"Endüstriyel elmaslar"]
[null,null,null,null,null,null,null,371,14521210,{"$f":"IF(K375=1,COUNTIF($K$5:K375,1),\"\")","v":371},{"$f":"IF(ISNUMBER(SEARCH('Bilgi Girişi'!$E$4,KalemAdı,1))=TRUE,1,0)","v":1},"Yarı değerli taşların toz ve pudraları","Mal",14521210,null,null,"Zümrüt"]
[null,null,null,null,null,null,null,372,14522000,{"$f":"IF(K376=1,COUNTIF($K$5:K376,1),\"\")","v":372},{"$f":"IF(ISNUMBER(SEARCH('Bilgi Girişi'!$E$4,KalemAdı,1))=TRUE,1,0)","v":1},"Sanayi elmasları, pomza taşı, zımpara ve diğer doğal aşındırıcılar","Mal",14522000,null,null,"Tabii aşındırıcılar"]
[null,null,null,null,null,null,null,373,14522100,{"$f":"IF(K377=1,COUNTIF($K$5:K377,1),\"\")","v":373},{"$f":"IF(ISNUMBER(SEARCH('Bilgi Girişi'!$E$4,KalemAdı,1))=TRUE,1,0)","v":1},"Sünger taşları","Mal",14522100,null,null,"İlgili mineraller, değerli taşlar ve ilişkili ürünler"]
[null,null,null,null,null,null,null,374,14522200,{"$f":"IF(K378=1,COUNTIF($K$5:K378,1),\"\")","v":374},{"$f":"IF(ISNUMBER(SEARCH('Bilgi Girişi'!$E$4,KalemAdı,1))=TRUE,1,0)","v":1},"Endüstriyel elmaslar","Mal",14522200,null,null,"Mineraller"]
[null,null,null,null,null,null,null,375,14522300,{"$f":"IF(K379=1,COUNTIF($K$5:K379,1),\"\")","v":375},{"$f":"IF(ISNUMBER(SEARCH('Bilgi Girişi'!$E$4,KalemAdı,1))=TRUE,1,0)","v":1},"Zümrüt","Mal",14522300,null,null,"Altın"]
[null,null,null,null,null,null,null,376,14522400,{"$f":"IF(K380=1,COUNTIF($K$5:K380,1),\"\")","v":376},{"$f":"IF(ISNUMBER(SEARCH('Bilgi Girişi'!$E$4,KalemAdı,1))=TRUE,1,0)","v":1},"Tabii aşındırıcılar","Mal",14522400,null,null,"Gümüş"]
[null,null,null,null,null,null,null,377,14523000,{"$f":"IF(K381=1,COUNTIF($K$5:K381,1),\"\")","v":377},{"$f":"IF(ISNUMBER(SEARCH('Bilgi Girişi'!$E$4,KalemAdı,1))=TRUE,1,0)","v":1},"İlgili mineraller, değerli taşlar ve ilişkili ürünler","Mal",14523000,null,null,"Platin"]
[null,null,null,null,null,null,null,378,14523100,{"$f":"IF(K382=1,COUNTIF($K$5:K382,1),\"\")","v":378},{"$f":"IF(ISNUMBER(SEARCH('Bilgi Girişi'!$E$4,KalemAdı,1))=TRUE,1,0)","v":1},"Mineraller","Mal",14523100,null,null,"Metal cevherleri ve alaşımlar"]
[null,null,null,null,null,null,null,379,14523200,{"$f":"IF(K383=1,COUNTIF($K$5:K383,1),\"\")","v":379},{"$f":"IF(ISNUMBER(SEARCH('Bilgi Girişi'!$E$4,KalemAdı,1))=TRUE,1,0)","v":1},"Altın","Mal",14523200,null,null,"Metal cevherleri"]
[null,null,null,null,null,null,null,380,14523300,{"$f":"IF(K384=1,COUNTIF($K$5:K384,1),\"\")","v":380},{"$f":"IF(ISNUMBER(SEARCH('Bilgi Girişi'!$E$4,KalemAdı,1))=TRUE,1,0)","v":1},"Gümüş","Mal",14523300,null,null,"Demir cevherleri"]
[null,null,null,null,null,null,null,381,14523400,{"$f":"IF(K385=1,COUNTIF($K$5:K385,1),\"\")","v":381},{"$f":"IF(ISNUMBER(SEARCH('Bilgi Girişi'!$E$4,KalemAdı,1))=TRUE,1,0)","v":1},"Platin","Mal",14523400,null,null,"Demirsiz metal cevherleri"]
[null,null,null,null,null,null,null,382,14600000,{"$f":"IF(K386=1,COUNTIF($K$5:K386,1),\"\")","v":382},{"$f":"IF(ISNUMBER(SEARCH('Bilgi Girişi'!$E$4,KalemAdı,1))=TRUE,1,0)","v":1},"Metal cevherleri ve alaşımlar","Mal",14600000,null,null,"Bakır cevherleri"]
[null,null,null,null,null,null,null,383,14610000,{"$f":"IF(K387=1,COUNTIF($K$5:K387,1),\"\")","v":383},{"$f":"IF(ISNUMBER(SEARCH('Bilgi Girişi'!$E$4,KalemAdı,1))=TRUE,1,0)","v":1},"Metal cevherleri","Mal",14610000,null,null,"Nikel cevherleri"]
[null,null,null,null,null,null,null,384,14611000,{"$f":"IF(K388=1,COUNTIF($K$5:K388,1),\"\")","v":384},{"$f":"IF(ISNUMBER(SEARCH('Bilgi Girişi'!$E$4,KalemAdı,1))=TRUE,1,0)","v":1},"Demir cevherleri","Mal",14611000,null,null,"Alüminyum cevherleri"]
[null,null,null,null,null,null,null,385,14612000,{"$f":"IF(K389=1,COUNTIF($K$5:K389,1),\"\")","v":385},{"$f":"IF(ISNUMBER(SEARCH('Bilgi Girişi'!$E$4,KalemAdı,1))=TRUE,1,0)","v":1},"Demirsiz metal cevherleri","Mal",14612000,null,null,"Değerli metal cevherleri"]
[null,null,null,null,null,null,null,386,14612100,{"$f":"IF(K390=1,COUNTIF($K$5:K390,1),\"\")","v":386},{"$f":"IF(ISNUMBER(SEARCH('Bilgi Girişi'!$E$4,KalemAdı,1))=TRUE,1,0)","v":1},"Bakır cevherleri","Mal",14612100,null,null,{"$f":"IFERROR(VLOOKUP(ROW($P390),$J$5:$L$9594,3,FALSE),\"\")","v":"Kurşun cevherleri"}]
[null,null,null,null,null,null,null,387,14612200,{"$f":"IF(K391=1,COUNTIF($K$5:K391,1),\"\")","v":387},{"$f":"IF(ISNUMBER(SEARCH('Bilgi Girişi'!$E$4,KalemAdı,1))=TRUE,1,0)","v":1},"Nikel cevherleri","Mal",14612200,null,null,"Çinko cevherleri"]
[null,null,null,null,null,null,null,388,14612300,{"$f":"IF(K392=1,COUNTIF($K$5:K392,1),\"\")","v":388},{"$f":"IF(ISNUMBER(SEARCH('Bilgi Girişi'!$E$4,KalemAdı,1))=TRUE,1,0)","v":1},"Alüminyum cevherleri","Mal",14612300,null,null,"Kalay cevherleri"]
[null,null,null,null,null,null,null,389,14612400,{"$f":"IF(K393=1,COUNTIF($K$5:K393,1),\"\")","v":389},{"$f":"IF(ISNUMBER(SEARCH('Bilgi Girişi'!$E$4,KalemAdı,1))=TRUE,1,0)","v":1},"Değerli metal cevherleri","Mal",14612400,null,null,"Uranyum ve toryum cevherleri"]
[null,null,null,null,null,null,null,390,14612500,{"$f":"IF(K394=1,COUNTIF($K$5:K394,1),\"\")","v":390},{"$f":"IF(ISNUMBER(SEARCH('Bilgi Girişi'!$E$4,KalemAdı,1))=TRUE,1,0)","v":1},"Kurşun cevherleri","Mal",14612500,null,null,"Uranyum cevherleri"]
[null,null,null,null,null,null,null,391,14612600,{"$f":"IF(K395=1,COUNTIF($K$5:K395,1),\"\")","v":391},{"$f":"IF(ISNUMBER(SEARCH('Bilgi Girişi'!$E$4,KalemAdı,1))=TRUE,1,0)","v":1},"Çinko cevherleri","Mal",14612600,null,null,"Toryum cevherleri"]
[null,null,null,null,null,null,null,392,14612700,{"$f":"IF(K396=1,COUNTIF($K$5:K396,1),\"\")","v":392},{"$f":"IF(ISNUMBER(SEARCH('Bilgi Girişi'!$E$4,KalemAdı,1))=TRUE,1,0)","v":1},"Kalay cevherleri","Mal",14612700,null,null,"Çeşitli maden cevherleri"]
[null,null,null,null,null,null,null,393,14613000,{"$f":"IF(K397=1,COUNTIF($K$5:K397,1),\"\")","v":393},{"$f":"IF(ISNUMBER(SEARCH('Bilgi Girişi'!$E$4,KalemAdı,1))=TRUE,1,0)","v":1},"Uranyum ve toryum cevherleri","Mal",14613000,null,null,"Alaşımlar"]
[null,null,null,null,null,null,null,394,14613100,{"$f":"IF(K398=1,COUNTIF($K$5:K398,1),\"\")","v":394},{"$f":"IF(ISNUMBER(SEARCH('Bilgi Girişi'!$E$4,KalemAdı,1))=TRUE,1,0)","v":1},"Uranyum cevherleri","Mal",14613100,null,null,"Demir, ferro alaşımları"]
[null,null,null,null,null,null,null,395,14613200,{"$f":"IF(K399=1,COUNTIF($K$5:K399,1),\"\")","v":395},{"$f":"IF(ISNUMBER(SEARCH('Bilgi Girişi'!$E$4,KalemAdı,1))=TRUE,1,0)","v":1},"Toryum cevherleri","Mal",14613200,null,null,"ECSC standartları dışındaki demir alaşımları"]
[null,null,null,null,null,null,null,396,14614000,{"$f":"IF(K400=1,COUNTIF($K$5:K400,1),\"\")","v":396},{"$f":"IF(ISNUMBER(SEARCH('Bilgi Girişi'!$E$4,KalemAdı,1))=TRUE,1,0)","v":1},"Çeşitli maden cevherleri","Mal",14614000,null,null,"Ferro - manganez alaşımları"]
[null,null,null,null,null,null,null,397,14620000,{"$f":"IF(K401=1,COUNTIF($K$5:K401,1),\"\")","v":397},{"$f":"IF(ISNUMBER(SEARCH('Bilgi Girişi'!$E$4,KalemAdı,1))=TRUE,1,0)","v":1},"Alaşımlar","Mal",14620000,null,null,"Ferro - krom alaşımları"]
[null,null,null,null,null,null,null,398,14621000,{"$f":"IF(K402=1,COUNTIF($K$5:K402,1),\"\")","v":398},{"$f":"IF(ISNUMBER(SEARCH('Bilgi Girişi'!$E$4,KalemAdı,1))=TRUE,1,0)","v":1},"Demir, ferro alaşımları","Mal",14621000,null,null,"Ferro - nikel alaşımları"]
[null,null,null,null,null,null,null,399,14621100,{"$f":"IF(K403=1,COUNTIF($K$5:K403,1),\"\")","v":399},{"$f":"IF(ISNUMBER(SEARCH('Bilgi Girişi'!$E$4,KalemAdı,1))=TRUE,1,0)","v":1},"ECSC standartları dışındaki demir alaşımları","Mal",14621100,null,null,"Çelik"]
[null,null,null,null,null,null,null,400,14621110,{"$f":"IF(K404=1,COUNTIF($K$5:K404,1),\"\")","v":400},{"$f":"IF(ISNUMBER(SEARCH('Bilgi Girişi'!$E$4,KalemAdı,1))=TRUE,1,0)","v":1},"Ferro - manganez alaşımları","Mal",14621110,null,null,"Klinker, cüruf demir atık ve hurdaları"]
[null,null,null,null,null,null,null,401,14621120,{"$f":"IF(K405=1,COUNTIF($K$5:K405,1),\"\")","v":401},{"$f":"IF(ISNUMBER(SEARCH('Bilgi Girişi'!$E$4,KalemAdı,1))=TRUE,1,0)","v":1},"Ferro - krom alaşımları","Mal",14621120,null,null,"Ana metaller, demir çelik ürünleri"]
[null,null,null,null,null,null,null,402,14621130,{"$f":"IF(K406=1,COUNTIF($K$5:K406,1),\"\")","v":402},{"$f":"IF(ISNUMBER(SEARCH('Bilgi Girişi'!$E$4,KalemAdı,1))=TRUE,1,0)","v":1},"Ferro - nikel alaşımları","Mal",14621130,null,null,"Demir, kurşun, çinko, kalay ve bakır"]
[null,null,null,null,null,null,null,403,14622000,{"$f":"IF(K407=1,COUNTIF($K$5:K407,1),\"\")","v":403},{"$f":"IF(ISNUMBER(SEARCH('Bilgi Girişi'!$E$4,KalemAdı,1))=TRUE,1,0)","v":1},"Çelik","Mal",14622000,null,null,"Demir"]
[null,null,null,null,null,null,null,404,14630000,{"$f":"IF(K408=1,COUNTIF($K$5:K408,1),\"\")","v":404},{"$f":"IF(ISNUMBER(SEARCH('Bilgi Girişi'!$E$4,KalemAdı,1))=TRUE,1,0)","v":1},"Klinker, cüruf demir atık ve hurdaları","Mal",14630000,null,null,"Dökme demir, pik demir"]
[null,null,null,null,null,null,null,405,14700000,{"$f":"IF(K409=1,COUNTIF($K$5:K409,1),\"\")","v":405},{"$f":"IF(ISNUMBER(SEARCH('Bilgi Girişi'!$E$4,KalemAdı,1))=TRUE,1,0)","v":1},"Ana metaller, demir çelik ürünleri","Mal",14700000,null,null,"Kurşun"]
[null,null,null,null,null,null,null,406,14710000,{"$f":"IF(K410=1,COUNTIF($K$5:K410,1),\"\")","v":406},{"$f":"IF(ISNUMBER(SEARCH('Bilgi Girişi'!$E$4,KalemAdı,1))=TRUE,1,0)","v":1},"Demir, kurşun, çinko, kalay ve bakır","Mal",14710000,null,null,"Çinko"]
[null,null,null,null,null,null,null,407,14711000,{"$f":"IF(K411=1,COUNTIF($K$5:K411,1),\"\")","v":407},{"$f":"IF(ISNUMBER(SEARCH('Bilgi Girişi'!$E$4,KalemAdı,1))=TRUE,1,0)","v":1},"Demir","Mal",14711000,null,null,"Kalay"]
[null,null,null,null,null,null,null,408,14711100,{"$f":"IF(K412=1,COUNTIF($K$5:K412,1),\"\")","v":408},{"$f":"IF(ISNUMBER(SEARCH('Bilgi Girişi'!$E$4,KalemAdı,1))=TRUE,1,0)","v":1},"Dökme demir, pik demir","Mal",14711100,null,null,"Bakır"]
[null,null,null,null,null,null,null,409,14712000,{"$f":"IF(K413=1,COUNTIF($K$5:K413,1),\"\")","v":409},{"$f":"IF(ISNUMBER(SEARCH('Bilgi Girişi'!$E$4,KalemAdı,1))=TRUE,1,0)","v":1},"Kurşun","Mal",14712000,null,null,"Aluminyum, nikel, skandium, titanyum ve vanadyum"]
[null,null,null,null,null,null,null,410,14713000,{"$f":"IF(K414=1,COUNTIF($K$5:K414,1),\"\")","v":410},{"$f":"IF(ISNUMBER(SEARCH('Bilgi Girişi'!$E$4,KalemAdı,1))=TRUE,1,0)","v":1},"Çinko","Mal",14713000,null,null,"Aluminyum"]
[null,null,null,null,null,null,null,411,14714000,{"$f":"IF(K415=1,COUNTIF($K$5:K415,1),\"\")","v":411},{"$f":"IF(ISNUMBER(SEARCH('Bilgi Girişi'!$E$4,KalemAdı,1))=TRUE,1,0)","v":1},"Kalay","Mal",14714000,null,null,"Alüminyum oksit"]
[null,null,null,null,null,null,null,412,14715000,{"$f":"IF(K416=1,COUNTIF($K$5:K416,1),\"\")","v":412},{"$f":"IF(ISNUMBER(SEARCH('Bilgi Girişi'!$E$4,KalemAdı,1))=TRUE,1,0)","v":1},"Bakır","Mal",14715000,null,null,"Nikel"]
[null,null,null,null,null,null,null,413,14720000,{"$f":"IF(K417=1,COUNTIF($K$5:K417,1),\"\")","v":413},{"$f":"IF(ISNUMBER(SEARCH('Bilgi Girişi'!$E$4,KalemAdı,1))=TRUE,1,0)","v":1},"Aluminyum, nikel, skandium, titanyum ve vanadyum","Mal",14720000,null,null,"Skandiyum"]
[null,null,null,null,null,null,null,414,14721000,{"$f":"IF(K418=1,COUNTIF($K$5:K418,1),\"\")","v":414},{"$f":"IF(ISNUMBER(SEARCH('Bilgi Girişi'!$E$4,KalemAdı,1))=TRUE,1,0)","v":1},"Aluminyum","Mal",14721000,null,null,"Titanyum"]
[null,null,null,null,null,null,null,415,14721100,{"$f":"IF(K419=1,COUNTIF($K$5:K419,1),\"\")","v":415},{"$f":"IF(ISNUMBER(SEARCH('Bilgi Girişi'!$E$4,KalemAdı,1))=TRUE,1,0)","v":1},"Alüminyum oksit","Mal",14721100,null,null,"Vanadyum"]
[null,null,null,null,null,null,null,416,14722000,{"$f":"IF(K420=1,COUNTIF($K$5:K420,1),\"\")","v":416},{"$f":"IF(ISNUMBER(SEARCH('Bilgi Girişi'!$E$4,KalemAdı,1))=TRUE,1,0)","v":1},"Nikel","Mal",14722000,null,null,"Krom, manganez, kobalt, itriyum ve zirkonyum"]
[null,null,null,null,null,null,null,417,14723000,{"$f":"IF(K421=1,COUNTIF($K$5:K421,1),\"\")","v":417},{"$f":"IF(ISNUMBER(SEARCH('Bilgi Girişi'!$E$4,KalemAdı,1))=TRUE,1,0)","v":1},"Skandiyum","Mal",14723000,null,null,"Krom"]
[null,null,null,null,null,null,null,418,14724000,{"$f":"IF(K422=1,COUNTIF($K$5:K422,1),\"\")","v":418},{"$f":"IF(ISNUMBER(SEARCH('Bilgi Girişi'!$E$4,KalemAdı,1))=TRUE,1,0)","v":1},"Titanyum","Mal",14724000,null,null,"Manganez"]
[null,null,null,null,null,null,null,419,14725000,{"$f":"IF(K423=1,COUNTIF($K$5:K423,1),\"\")","v":419},{"$f":"IF(ISNUMBER(SEARCH('Bilgi Girişi'!$E$4,KalemAdı,1))=TRUE,1,0)","v":1},"Vanadyum","Mal",14725000,null,null,"Kobalt"]
[null,null,null,null,null,null,null,420,14730000,{"$f":"IF(K424=1,COUNTIF($K$5:K424,1),\"\")","v":420},{"$f":"IF(ISNUMBER(SEARCH('Bilgi Girişi'!$E$4,KalemAdı,1))=TRUE,1,0)","v":1},"Krom, manganez, kobalt, itriyum ve zirkonyum","Mal",14730000,null,null,"Itriyum"]
[null,null,null,null,null,null,null,421,14731000,{"$f":"IF(K425=1,COUNTIF($K$5:K425,1),\"\")","v":421},{"$f":"IF(ISNUMBER(SEARCH('Bilgi Girişi'!$E$4,KalemAdı,1))=TRUE,1,0)","v":1},"Krom","Mal",14731000,null,null,"Zirkonyum"]
[null,null,null,null,null,null,null,422,14732000,{"$f":"IF(K426=1,COUNTIF($K$5:K426,1),\"\")","v":422},{"$f":"IF(ISNUMBER(SEARCH('Bilgi Girişi'!$E$4,KalemAdı,1))=TRUE,1,0)","v":1},"Manganez","Mal",14732000,null,null,"Molibden, teknesyum, rutenyum ve rodyum"]
[null,null,null,null,null,null,null,423,14733000,{"$f":"IF(K427=1,COUNTIF($K$5:K427,1),\"\")","v":423},{"$f":"IF(ISNUMBER(SEARCH('Bilgi Girişi'!$E$4,KalemAdı,1))=TRUE,1,0)","v":1},"Kobalt","Mal",14733000,null,null,"Molibden"]
[null,null,null,null,null,null,null,424,14734000,{"$f":"IF(K428=1,COUNTIF($K$5:K428,1),\"\")","v":424},{"$f":"IF(ISNUMBER(SEARCH('Bilgi Girişi'!$E$4,KalemAdı,1))=TRUE,1,0)","v":1},"Itriyum","Mal",14734000,null,null,"Teknesyum"]
[null,null,null,null,null,null,null,425,14735000,{"$f":"IF(K429=1,COUNTIF($K$5:K429,1),\"\")","v":425},{"$f":"IF(ISNUMBER(SEARCH('Bilgi Girişi'!$E$4,KalemAdı,1))=TRUE,1,0)","v":1},"Zirkonyum","Mal",14735000,null,null,"Rutenyum"]
[null,null,null,null,null,null,null,426,14740000,{"$f":"IF(K430=1,COUNTIF($K$5:K430,1),\"\")","v":426},{"$f":"IF(ISNUMBER(SEARCH('Bilgi Girişi'!$E$4,KalemAdı,1))=TRUE,1,0)","v":1},"Molibden, teknesyum, rutenyum ve rodyum","Mal",14740000,null,null,"Rodyum"]
[null,null,null,null,null,null,null,427,14741000,{"$f":"IF(K431=1,COUNTIF($K$5:K431,1),\"\")","v":427},{"$f":"IF(ISNUMBER(SEARCH('Bilgi Girişi'!$E$4,KalemAdı,1))=TRUE,1,0)","v":1},"Molibden","Mal",14741000,null,null,"Kadmiyum, lutesyum, hafniyum, tantal ve tungsten"]
[null,null,null,null,null,null,null,428,14742000,{"$f":"IF(K432=1,COUNTIF($K$5:K432,1),\"\")","v":428},{"$f":"IF(ISNUMBER(SEARCH('Bilgi Girişi'!$E$4,KalemAdı,1))=TRUE,1,0)","v":1},"Teknesyum","Mal",14742000,null,null,"Kadmiyum"]
[null,null,null,null,null,null,null,429,14743000,{"$f":"IF(K433=1,COUNTIF($K$5:K433,1),\"\")","v":429},{"$f":"IF(ISNUMBER(SEARCH('Bilgi Girişi'!$E$4,KalemAdı,1))=TRUE,1,0)","v":1},"Rutenyum","Mal",14743000,null,null,"Lutesyum"]
[null,null,null,null,null,null,null,430,14744000,{"$f":"IF(K434=1,COUNTIF($K$5:K434,1),\"\")","v":430},{"$f":"IF(ISNUMBER(SEARCH('Bilgi Girişi'!$E$4,KalemAdı,1))=TRUE,1,0)","v":1},"Rodyum","Mal",14744000,null,null,"Hafniyum"]
[null,null,null,null,null,null,null,431,14750000,{"$f":"IF(K435=1,COUNTIF($K$5:K435,1),\"\")","v":431},{"$f":"IF(ISNUMBER(SEARCH('Bilgi Girişi'!$E$4,KalemAdı,1))=TRUE,1,0)","v":1},"Kadmiyum, lutesyum, hafniyum, tantal ve tungsten","Mal",14750000,null,null,"Tantal"]
[null,null,null,null,null,null,null,432,14751000,{"$f":"IF(K436=1,COUNTIF($K$5:K436,1),\"\")","v":432},{"$f":"IF(ISNUMBER(SEARCH('Bilgi Girişi'!$E$4,KalemAdı,1))=TRUE,1,0)","v":1},"Kadmiyum","Mal",14751000,null,null,"Tungsten"]
[null,null,null,null,null,null,null,433,14752000,{"$f":"IF(K437=1,COUNTIF($K$5:K437,1),\"\")","v":433},{"$f":"IF(ISNUMBER(SEARCH('Bilgi Girişi'!$E$4,KalemAdı,1))=TRUE,1,0)","v":1},"Lutesyum","Mal",14752000,null,null,"İridyum, galyum, indiyum, talyum ve baryum"]
[null,null,null,null,null,null,null,434,14753000,{"$f":"IF(K438=1,COUNTIF($K$5:K438,1),\"\")","v":434},{"$f":"IF(ISNUMBER(SEARCH('Bilgi Girişi'!$E$4,KalemAdı,1))=TRUE,1,0)","v":1},"Hafniyum","Mal",14753000,null,null,"İridyum"]
[null,null,null,null,null,null,null,435,14754000,{"$f":"IF(K439=1,COUNTIF($K$5:K439,1),\"\")","v":435},{"$f":"IF(ISNUMBER(SEARCH('Bilgi Girişi'!$E$4,KalemAdı,1))=TRUE,1,0)","v":1},"Tantal","Mal",14754000,null,null,"Galyum"]
[null,null,null,null,null,null,null,436,14755000,{"$f":"IF(K440=1,COUNTIF($K$5:K440,1),\"\")","v":436},{"$f":"IF(ISNUMBER(SEARCH('Bilgi Girişi'!$E$4,KalemAdı,1))=TRUE,1,0)","v":1},"Tungsten","Mal",14755000,null,null,"İndiyum"]
[null,null,null,null,null,null,null,437,14760000,{"$f":"IF(K441=1,COUNTIF($K$5:K441,1),\"\")","v":437},{"$f":"IF(ISNUMBER(SEARCH('Bilgi Girişi'!$E$4,KalemAdı,1))=TRUE,1,0)","v":1},"İridyum, galyum, indiyum, talyum ve baryum","Mal",14760000,null,null,"Talyum"]
[null,null,null,null,null,null,null,438,14761000,{"$f":"IF(K442=1,COUNTIF($K$5:K442,1),\"\")","v":438},{"$f":"IF(ISNUMBER(SEARCH('Bilgi Girişi'!$E$4,KalemAdı,1))=TRUE,1,0)","v":1},"İridyum","Mal",14761000,null,null,"Baryum"]
[null,null,null,null,null,null,null,439,14762000,{"$f":"IF(K443=1,COUNTIF($K$5:K443,1),\"\")","v":439},{"$f":"IF(ISNUMBER(SEARCH('Bilgi Girişi'!$E$4,KalemAdı,1))=TRUE,1,0)","v":1},"Galyum","Mal",14762000,null,null,"Sezyum, stronsiyum, rubidyum ve kalsiyum"]
[null,null,null,null,null,null,null,440,14763000,{"$f":"IF(K444=1,COUNTIF($K$5:K444,1),\"\")","v":440},{"$f":"IF(ISNUMBER(SEARCH('Bilgi Girişi'!$E$4,KalemAdı,1))=TRUE,1,0)","v":1},"İndiyum","Mal",14763000,null,null,"Sezyum"]
[null,null,null,null,null,null,null,441,14764000,{"$f":"IF(K445=1,COUNTIF($K$5:K445,1),\"\")","v":441},{"$f":"IF(ISNUMBER(SEARCH('Bilgi Girişi'!$E$4,KalemAdı,1))=TRUE,1,0)","v":1},"Talyum","Mal",14764000,null,null,"Stronsiyum"]
[null,null,null,null,null,null,null,442,14765000,{"$f":"IF(K446=1,COUNTIF($K$5:K446,1),\"\")","v":442},{"$f":"IF(ISNUMBER(SEARCH('Bilgi Girişi'!$E$4,KalemAdı,1))=TRUE,1,0)","v":1},"Baryum","Mal",14765000,null,null,"Rubidyum"]
[null,null,null,null,null,null,null,443,14770000,{"$f":"IF(K447=1,COUNTIF($K$5:K447,1),\"\")","v":443},{"$f":"IF(ISNUMBER(SEARCH('Bilgi Girişi'!$E$4,KalemAdı,1))=TRUE,1,0)","v":1},"Sezyum, stronsiyum, rubidyum ve kalsiyum","Mal",14770000,null,null,"Kalsiyum"]
[null,null,null,null,null,null,null,444,14771000,{"$f":"IF(K448=1,COUNTIF($K$5:K448,1),\"\")","v":444},{"$f":"IF(ISNUMBER(SEARCH('Bilgi Girişi'!$E$4,KalemAdı,1))=TRUE,1,0)","v":1},"Sezyum","Mal",14771000,null,null,"Potasyum, magnezyum, sodyum ve lityum"]
[null,null,null,null,null,null,null,445,14772000,{"$f":"IF(K449=1,COUNTIF($K$5:K449,1),\"\")","v":445},{"$f":"IF(ISNUMBER(SEARCH('Bilgi Girişi'!$E$4,KalemAdı,1))=TRUE,1,0)","v":1},"Stronsiyum","Mal",14772000,null,null,"Potasyum"]
[null,null,null,null,null,null,null,446,14773000,{"$f":"IF(K450=1,COUNTIF($K$5:K450,1),\"\")","v":446},{"$f":"IF(ISNUMBER(SEARCH('Bilgi Girişi'!$E$4,KalemAdı,1))=TRUE,1,0)","v":1},"Rubidyum","Mal",14773000,null,null,"Magnezyum"]
[null,null,null,null,null,null,null,447,14774000,{"$f":"IF(K451=1,COUNTIF($K$5:K451,1),\"\")","v":447},{"$f":"IF(ISNUMBER(SEARCH('Bilgi Girişi'!$E$4,KalemAdı,1))=TRUE,1,0)","v":1},"Kalsiyum","Mal",14774000,null,null,"Sodyum"]
[null,null,null,null,null,null,null,448,14780000,{"$f":"IF(K452=1,COUNTIF($K$5:K452,1),\"\")","v":448},{"$f":"IF(ISNUMBER(SEARCH('Bilgi Girişi'!$E$4,KalemAdı,1))=TRUE,1,0)","v":1},"Potasyum, magnezyum, sodyum ve lityum","Mal",14780000,null,null,"Lityum"]
[null,null,null,null,null,null,null,449,14781000,{"$f":"IF(K453=1,COUNTIF($K$5:K453,1),\"\")","v":449},{"$f":"IF(ISNUMBER(SEARCH('Bilgi Girişi'!$E$4,KalemAdı,1))=TRUE,1,0)","v":1},"Potasyum","Mal",14781000,null,null,"Niobyum, osmiyum, renyum ve paladyum"]
[null,null,null,null,null,null,null,450,14782000,{"$f":"IF(K454=1,COUNTIF($K$5:K454,1),\"\")","v":450},{"$f":"IF(ISNUMBER(SEARCH('Bilgi Girişi'!$E$4,KalemAdı,1))=TRUE,1,0)","v":1},"Magnezyum","Mal",14782000,null,null,{"$f":"IFERROR(VLOOKUP(ROW($P454),$J$5:$L$9594,3,FALSE),\"\")","v":"Niobyum"}]
[null,null,null,null,null,null,null,451,14783000,{"$f":"IF(K455=1,COUNTIF($K$5:K455,1),\"\")","v":451},{"$f":"IF(ISNUMBER(SEARCH('Bilgi Girişi'!$E$4,KalemAdı,1))=TRUE,1,0)","v":1},"Sodyum","Mal",14783000,null,null,"Osmiyum"]
[null,null,null,null,null,null,null,452,14784000,{"$f":"IF(K456=1,COUNTIF($K$5:K456,1),\"\")","v":452},{"$f":"IF(ISNUMBER(SEARCH('Bilgi Girişi'!$E$4,KalemAdı,1))=TRUE,1,0)","v":1},"Lityum","Mal",14784000,null,null,"Renyum"]
[null,null,null,null,null,null,null,453,14790000,{"$f":"IF(K457=1,COUNTIF($K$5:K457,1),\"\")","v":453},{"$f":"IF(ISNUMBER(SEARCH('Bilgi Girişi'!$E$4,KalemAdı,1))=TRUE,1,0)","v":1},"Niobyum, osmiyum, renyum ve paladyum","Mal",14790000,null,null,"Paladyum"]
[null,null,null,null,null,null,null,454,14791000,{"$f":"IF(K458=1,COUNTIF($K$5:K458,1),\"\")","v":454},{"$f":"IF(ISNUMBER(SEARCH('Bilgi Girişi'!$E$4,KalemAdı,1))=TRUE,1,0)","v":1},"Niobyum","Mal",14791000,null,null,"Diğer çeşitli metal olmayan mineral ürünler"]
[null,null,null,null,null,null,null,455,14792000,{"$f":"IF(K459=1,COUNTIF($K$5:K459,1),\"\")","v":455},{"$f":"IF(ISNUMBER(SEARCH('Bilgi Girişi'!$E$4,KalemAdı,1))=TRUE,1,0)","v":1},"Osmiyum","Mal",14792000,null,null,"Aşındırıcı ürünler, taşlama ürünleri"]
[null,null,null,null,null,null,null,456,14793000,{"$f":"IF(K460=1,COUNTIF($K$5:K460,1),\"\")","v":456},{"$f":"IF(ISNUMBER(SEARCH('Bilgi Girişi'!$E$4,KalemAdı,1))=TRUE,1,0)","v":1},"Renyum","Mal",14793000,null,null,"Değirmen, öğütme, bileği ve zımpara taşları ve çarkları"]
[null,null,null,null,null,null,null,457,14794000,{"$f":"IF(K461=1,COUNTIF($K$5:K461,1),\"\")","v":457},{"$f":"IF(ISNUMBER(SEARCH('Bilgi Girişi'!$E$4,KalemAdı,1))=TRUE,1,0)","v":1},"Paladyum","Mal",14794000,null,null,"Değirmen taşları"]
[null,null,null,null,null,null,null,458,14800000,{"$f":"IF(K462=1,COUNTIF($K$5:K462,1),\"\")","v":458},{"$f":"IF(ISNUMBER(SEARCH('Bilgi Girişi'!$E$4,KalemAdı,1))=TRUE,1,0)","v":1},"Diğer çeşitli metal olmayan mineral ürünler","Mal",14800000,null,null,"Bileği taşları"]
[null,null,null,null,null,null,null,459,14810000,{"$f":"IF(K463=1,COUNTIF($K$5:K463,1),\"\")","v":459},{"$f":"IF(ISNUMBER(SEARCH('Bilgi Girişi'!$E$4,KalemAdı,1))=TRUE,1,0)","v":1},"Aşındırıcı ürünler, taşlama ürünleri","Mal",14810000,null,null,"Bileği çarkları"]
[null,null,null,null,null,null,null,460,14811000,{"$f":"IF(K464=1,COUNTIF($K$5:K464,1),\"\")","v":460},{"$f":"IF(ISNUMBER(SEARCH('Bilgi Girişi'!$E$4,KalemAdı,1))=TRUE,1,0)","v":1},"Değirmen, öğütme, bileği ve zımpara taşları ve çarkları","Mal",14811000,null,null,"Aşındırıcı toz veya taneler"]
[null,null,null,null,null,null,null,461,14811100,{"$f":"IF(K465=1,COUNTIF($K$5:K465,1),\"\")","v":461},{"$f":"IF(ISNUMBER(SEARCH('Bilgi Girişi'!$E$4,KalemAdı,1))=TRUE,1,0)","v":1},"Değirmen taşları","Mal",14811100,null,null,"Suni korenden, korondum"]
[null,null,null,null,null,null,null,462,14811200,{"$f":"IF(K466=1,COUNTIF($K$5:K466,1),\"\")","v":462},{"$f":"IF(ISNUMBER(SEARCH('Bilgi Girişi'!$E$4,KalemAdı,1))=TRUE,1,0)","v":1},"Bileği taşları","Mal",14811200,null,null,"Suni grafit"]
[null,null,null,null,null,null,null,463,14811300,{"$f":"IF(K467=1,COUNTIF($K$5:K467,1),\"\")","v":463},{"$f":"IF(ISNUMBER(SEARCH('Bilgi Girişi'!$E$4,KalemAdı,1))=TRUE,1,0)","v":1},"Bileği çarkları","Mal",14811300,null,null,"Cam"]
[null,null,null,null,null,null,null,464,14812000,{"$f":"IF(K468=1,COUNTIF($K$5:K468,1),\"\")","v":464},{"$f":"IF(ISNUMBER(SEARCH('Bilgi Girişi'!$E$4,KalemAdı,1))=TRUE,1,0)","v":1},"Aşındırıcı toz veya taneler","Mal",14812000,null,null,"Cam elyafı"]
[null,null,null,null,null,null,null,465,14813000,{"$f":"IF(K469=1,COUNTIF($K$5:K469,1),\"\")","v":465},{"$f":"IF(ISNUMBER(SEARCH('Bilgi Girişi'!$E$4,KalemAdı,1))=TRUE,1,0)","v":1},"Suni korenden, korondum","Mal",14813000,null,null,"Geri kazanılmış ikincil hammaddeler"]
[null,null,null,null,null,null,null,466,14814000,{"$f":"IF(K470=1,COUNTIF($K$5:K470,1),\"\")","v":466},{"$f":"IF(ISNUMBER(SEARCH('Bilgi Girişi'!$E$4,KalemAdı,1))=TRUE,1,0)","v":1},"Suni grafit","Mal",14814000,null,null,"Geri kazanılmış ikincil metal hammaddeler"]
[null,null,null,null,null,null,null,467,14820000,{"$f":"IF(K471=1,COUNTIF($K$5:K471,1),\"\")","v":467},{"$f":"IF(ISNUMBER(SEARCH('Bilgi Girişi'!$E$4,KalemAdı,1))=TRUE,1,0)","v":1},"Cam","Mal",14820000,null,null,"Geri kazanılmış ikincil metal olmayan hammaddeler"]
[null,null,null,null,null,null,null,468,14830000,{"$f":"IF(K472=1,COUNTIF($K$5:K472,1),\"\")","v":468},{"$f":"IF(ISNUMBER(SEARCH('Bilgi Girişi'!$E$4,KalemAdı,1))=TRUE,1,0)","v":1},"Cam elyafı","Mal",14830000,null,null,"Nikel içeren kül ve kalıntılar"]
[null,null,null,null,null,null,null,469,14900000,{"$f":"IF(K473=1,COUNTIF($K$5:K473,1),\"\")","v":469},{"$f":"IF(ISNUMBER(SEARCH('Bilgi Girişi'!$E$4,KalemAdı,1))=TRUE,1,0)","v":1},"Geri kazanılmış ikincil hammaddeler","Mal",14900000,null,null,"Gıda, içecekler, tütün ve ilgili ürünler"]
[null,null,null,null,null,null,null,470,14910000,{"$f":"IF(K474=1,COUNTIF($K$5:K474,1),\"\")","v":470},{"$f":"IF(ISNUMBER(SEARCH('Bilgi Girişi'!$E$4,KalemAdı,1))=TRUE,1,0)","v":1},"Geri kazanılmış ikincil metal hammaddeler","Mal",14910000,null,null,"Hayvansal mezbaha ürünleri, et ve et ürünleri"]
[null,null,null,null,null,null,null,471,14920000,{"$f":"IF(K475=1,COUNTIF($K$5:K475,1),\"\")","v":471},{"$f":"IF(ISNUMBER(SEARCH('Bilgi Girişi'!$E$4,KalemAdı,1))=TRUE,1,0)","v":1},"Geri kazanılmış ikincil metal olmayan hammaddeler","Mal",14920000,null,null,"Et"]
[null,null,null,null,null,null,null,472,14930000,{"$f":"IF(K476=1,COUNTIF($K$5:K476,1),\"\")","v":472},{"$f":"IF(ISNUMBER(SEARCH('Bilgi Girişi'!$E$4,KalemAdı,1))=TRUE,1,0)","v":1},"Nikel içeren kül ve kalıntılar","Mal",14930000,null,null,"Yetişkin büyükbaş hayvan eti"]
[null,null,null,null,null,null,null,473,15000000,{"$f":"IF(K477=1,COUNTIF($K$5:K477,1),\"\")","v":473},{"$f":"IF(ISNUMBER(SEARCH('Bilgi Girişi'!$E$4,KalemAdı,1))=TRUE,1,0)","v":1},"Gıda, içecekler, tütün ve ilgili ürünler","Mal",15000000,null,null,"Sığır eti"]
[null,null,null,null,null,null,null,474,15100000,{"$f":"IF(K478=1,COUNTIF($K$5:K478,1),\"\")","v":474},{"$f":"IF(ISNUMBER(SEARCH('Bilgi Girişi'!$E$4,KalemAdı,1))=TRUE,1,0)","v":1},"Hayvansal mezbaha ürünleri, et ve et ürünleri","Mal",15100000,null,null,"Dana eti"]
[null,null,null,null,null,null,null,475,15110000,{"$f":"IF(K479=1,COUNTIF($K$5:K479,1),\"\")","v":475},{"$f":"IF(ISNUMBER(SEARCH('Bilgi Girişi'!$E$4,KalemAdı,1))=TRUE,1,0)","v":1},"Et","Mal",15110000,null,null,"Kümes hayvanları"]
[null,null,null,null,null,null,null,476,15111000,{"$f":"IF(K480=1,COUNTIF($K$5:K480,1),\"\")","v":476},{"$f":"IF(ISNUMBER(SEARCH('Bilgi Girişi'!$E$4,KalemAdı,1))=TRUE,1,0)","v":1},"Yetişkin büyükbaş hayvan eti","Mal",15111000,null,null,"Taze kümes hayvanları"]
[null,null,null,null,null,null,null,477,15111100,{"$f":"IF(K481=1,COUNTIF($K$5:K481,1),\"\")","v":477},{"$f":"IF(ISNUMBER(SEARCH('Bilgi Girişi'!$E$4,KalemAdı,1))=TRUE,1,0)","v":1},"Sığır eti","Mal",15111100,null,null,"Kazlar"]
[null,null,null,null,null,null,null,478,15111200,{"$f":"IF(K482=1,COUNTIF($K$5:K482,1),\"\")","v":478},{"$f":"IF(ISNUMBER(SEARCH('Bilgi Girişi'!$E$4,KalemAdı,1))=TRUE,1,0)","v":1},"Dana eti","Mal",15111200,null,null,"Hindiler"]
[null,null,null,null,null,null,null,479,15112000,{"$f":"IF(K483=1,COUNTIF($K$5:K483,1),\"\")","v":479},{"$f":"IF(ISNUMBER(SEARCH('Bilgi Girişi'!$E$4,KalemAdı,1))=TRUE,1,0)","v":1},"Kümes hayvanları","Mal",15112000,null,null,"Piliçler"]
[null,null,null,null,null,null,null,480,15112100,{"$f":"IF(K484=1,COUNTIF($K$5:K484,1),\"\")","v":480},{"$f":"IF(ISNUMBER(SEARCH('Bilgi Girişi'!$E$4,KalemAdı,1))=TRUE,1,0)","v":1},"Taze kümes hayvanları","Mal",15112100,null,null,"Ördekler"]
[null,null,null,null,null,null,null,481,15112110,{"$f":"IF(K485=1,COUNTIF($K$5:K485,1),\"\")","v":481},{"$f":"IF(ISNUMBER(SEARCH('Bilgi Girişi'!$E$4,KalemAdı,1))=TRUE,1,0)","v":1},"Kazlar","Mal",15112110,null,null,"Kümes hayvanlarının yenilebilen sakatatı"]
[null,null,null,null,null,null,null,482,15112120,{"$f":"IF(K486=1,COUNTIF($K$5:K486,1),\"\")","v":482},{"$f":"IF(ISNUMBER(SEARCH('Bilgi Girişi'!$E$4,KalemAdı,1))=TRUE,1,0)","v":1},"Hindiler","Mal",15112120,null,null,"Kaz ciğeri ezmesi"]
[null,null,null,null,null,null,null,483,15112130,{"$f":"IF(K487=1,COUNTIF($K$5:K487,1),\"\")","v":483},{"$f":"IF(ISNUMBER(SEARCH('Bilgi Girişi'!$E$4,KalemAdı,1))=TRUE,1,0)","v":1},"Piliçler","Mal",15112130,null,null,"Domuz etleri"]
[null,null,null,null,null,null,null,484,15112140,{"$f":"IF(K488=1,COUNTIF($K$5:K488,1),\"\")","v":484},{"$f":"IF(ISNUMBER(SEARCH('Bilgi Girişi'!$E$4,KalemAdı,1))=TRUE,1,0)","v":1},"Ördekler","Mal",15112140,null,null,"Diğer sakatat"]
[null,null,null,null,null,null,null,485,15112300,{"$f":"IF(K489=1,COUNTIF($K$5:K489,1),\"\")","v":485},{"$f":"IF(ISNUMBER(SEARCH('Bilgi Girişi'!$E$4,KalemAdı,1))=TRUE,1,0)","v":1},"Kümes hayvanlarının yenilebilen sakatatı","Mal",15112300,null,null,"Kuzu ve koyun etleri"]
[null,null,null,null,null,null,null,486,15112310,{"$f":"IF(K490=1,COUNTIF($K$5:K490,1),\"\")","v":486},{"$f":"IF(ISNUMBER(SEARCH('Bilgi Girişi'!$E$4,KalemAdı,1))=TRUE,1,0)","v":1},"Kaz ciğeri ezmesi","Mal",15112310,null,null,"Kuzu etleri"]
[null,null,null,null,null,null,null,487,15113000,{"$f":"IF(K491=1,COUNTIF($K$5:K491,1),\"\")","v":487},{"$f":"IF(ISNUMBER(SEARCH('Bilgi Girişi'!$E$4,KalemAdı,1))=TRUE,1,0)","v":1},"Domuz etleri","Mal",15113000,null,null,"Koyun etleri"]
[null,null,null,null,null,null,null,488,15114000,{"$f":"IF(K492=1,COUNTIF($K$5:K492,1),\"\")","v":488},{"$f":"IF(ISNUMBER(SEARCH('Bilgi Girişi'!$E$4,KalemAdı,1))=TRUE,1,0)","v":1},"Diğer sakatat","Mal",15114000,null,null,"Keçi etleri"]
[null,null,null,null,null,null,null,489,15115000,{"$f":"IF(K493=1,COUNTIF($K$5:K493,1),\"\")","v":489},{"$f":"IF(ISNUMBER(SEARCH('Bilgi Girişi'!$E$4,KalemAdı,1))=TRUE,1,0)","v":1},"Kuzu ve koyun etleri","Mal",15115000,null,null,"At, eşek, katır veya kırma eşek etleri"]
[null,null,null,null,null,null,null,490,15115100,{"$f":"IF(K494=1,COUNTIF($K$5:K494,1),\"\")","v":490},{"$f":"IF(ISNUMBER(SEARCH('Bilgi Girişi'!$E$4,KalemAdı,1))=TRUE,1,0)","v":1},"Kuzu etleri","Mal",15115100,null,null,"At eti"]
[null,null,null,null,null,null,null,491,15115200,{"$f":"IF(K495=1,COUNTIF($K$5:K495,1),\"\")","v":491},{"$f":"IF(ISNUMBER(SEARCH('Bilgi Girişi'!$E$4,KalemAdı,1))=TRUE,1,0)","v":1},"Koyun etleri","Mal",15115200,null,null,"Eşek, katır ve kırma eşek etleri"]
[null,null,null,null,null,null,null,492,15117000,{"$f":"IF(K496=1,COUNTIF($K$5:K496,1),\"\")","v":492},{"$f":"IF(ISNUMBER(SEARCH('Bilgi Girişi'!$E$4,KalemAdı,1))=TRUE,1,0)","v":1},"Keçi etleri","Mal",15117000,null,null,"Diğer hayvan etleri"]
[null,null,null,null,null,null,null,493,15118000,{"$f":"IF(K497=1,COUNTIF($K$5:K497,1),\"\")","v":493},{"$f":"IF(ISNUMBER(SEARCH('Bilgi Girişi'!$E$4,KalemAdı,1))=TRUE,1,0)","v":1},"At, eşek, katır veya kırma eşek etleri","Mal",15118000,null,null,"Tavşan eti"]
[null,null,null,null,null,null,null,494,15118100,{"$f":"IF(K498=1,COUNTIF($K$5:K498,1),\"\")","v":494},{"$f":"IF(ISNUMBER(SEARCH('Bilgi Girişi'!$E$4,KalemAdı,1))=TRUE,1,0)","v":1},"At eti","Mal",15118100,null,null,"Tavşan eti"]
[null,null,null,null,null,null,null,495,15118900,{"$f":"IF(K499=1,COUNTIF($K$5:K499,1),\"\")","v":495},{"$f":"IF(ISNUMBER(SEARCH('Bilgi Girişi'!$E$4,KalemAdı,1))=TRUE,1,0)","v":1},"Eşek, katır ve kırma eşek etleri","Mal",15118900,null,null,"Av hayvanı etleri"]
[null,null,null,null,null,null,null,496,15119000,{"$f":"IF(K500=1,COUNTIF($K$5:K500,1),\"\")","v":496},{"$f":"IF(ISNUMBER(SEARCH('Bilgi Girişi'!$E$4,KalemAdı,1))=TRUE,1,0)","v":1},"Diğer hayvan etleri","Mal",15119000,null,null,"Kurbağa bacağı"]
[null,null,null,null,null,null,null,497,15119100,{"$f":"IF(K501=1,COUNTIF($K$5:K501,1),\"\")","v":497},{"$f":"IF(ISNUMBER(SEARCH('Bilgi Girişi'!$E$4,KalemAdı,1))=TRUE,1,0)","v":1},"Tavşan eti","Mal",15119100,null,null,"Güvercin etleri"]
[null,null,null,null,null,null,null,498,15119200,{"$f":"IF(K502=1,COUNTIF($K$5:K502,1),\"\")","v":498},{"$f":"IF(ISNUMBER(SEARCH('Bilgi Girişi'!$E$4,KalemAdı,1))=TRUE,1,0)","v":1},"Tavşan eti","Mal",15119200,null,null,"Balık eti"]
[null,null,null,null,null,null,null,499,15119300,{"$f":"IF(K503=1,COUNTIF($K$5:K503,1),\"\")","v":499},{"$f":"IF(ISNUMBER(SEARCH('Bilgi Girişi'!$E$4,KalemAdı,1))=TRUE,1,0)","v":1},"Av hayvanı etleri","Mal",15119300,null,null,"Et ürünleri (işlenmiş)"]
[null,null,null,null,null,null,null,500,15119400,{"$f":"IF(K504=1,COUNTIF($K$5:K504,1),\"\")","v":500},{"$f":"IF(ISNUMBER(SEARCH('Bilgi Girişi'!$E$4,KalemAdı,1))=TRUE,1,0)","v":1},"Kurbağa bacağı","Mal",15119400,null,null,"İşlenmiş et ve et konserveleri"]
[null,null,null,null,null,null,null,501,15119500,{"$f":"IF(K505=1,COUNTIF($K$5:K505,1),\"\")","v":501},{"$f":"IF(ISNUMBER(SEARCH('Bilgi Girişi'!$E$4,KalemAdı,1))=TRUE,1,0)","v":1},"Güvercin etleri","Mal",15119500,null,null,"Et - sucuk ürünleri"]
[null,null,null,null,null,null,null,502,15119600,{"$f":"IF(K506=1,COUNTIF($K$5:K506,1),\"\")","v":502},{"$f":"IF(ISNUMBER(SEARCH('Bilgi Girişi'!$E$4,KalemAdı,1))=TRUE,1,0)","v":1},"Balık eti","Mal",15119600,null,null,"Et sucuğu"]
[null,null,null,null,null,null,null,503,15130000,{"$f":"IF(K507=1,COUNTIF($K$5:K507,1),\"\")","v":503},{"$f":"IF(ISNUMBER(SEARCH('Bilgi Girişi'!$E$4,KalemAdı,1))=TRUE,1,0)","v":1},"Et ürünleri (işlenmiş)","Mal",15130000,null,null,"Sucuk ürünleri"]
[null,null,null,null,null,null,null,504,15131000,{"$f":"IF(K508=1,COUNTIF($K$5:K508,1),\"\")","v":504},{"$f":"IF(ISNUMBER(SEARCH('Bilgi Girişi'!$E$4,KalemAdı,1))=TRUE,1,0)","v":1},"İşlenmiş et ve et konserveleri","Mal",15131000,null,null,"Sosis ve sucuklar"]
[null,null,null,null,null,null,null,505,15131100,{"$f":"IF(K509=1,COUNTIF($K$5:K509,1),\"\")","v":505},{"$f":"IF(ISNUMBER(SEARCH('Bilgi Girişi'!$E$4,KalemAdı,1))=TRUE,1,0)","v":1},"Et - sucuk ürünleri","Mal",15131100,null,null,"Siyah puding ve diğer kan sosisleri"]
[null,null,null,null,null,null,null,506,15131110,{"$f":"IF(K510=1,COUNTIF($K$5:K510,1),\"\")","v":506},{"$f":"IF(ISNUMBER(SEARCH('Bilgi Girişi'!$E$4,KalemAdı,1))=TRUE,1,0)","v":1},"Et sucuğu","Mal",15131110,null,null,"Kümes hayvanı etinden sosisler"]
[null,null,null,null,null,null,null,507,15131120,{"$f":"IF(K511=1,COUNTIF($K$5:K511,1),\"\")","v":507},{"$f":"IF(ISNUMBER(SEARCH('Bilgi Girişi'!$E$4,KalemAdı,1))=TRUE,1,0)","v":1},"Sucuk ürünleri","Mal",15131120,null,null,"Kurutulmuş, tuzlanmış, tütsülenmiş veya baharatlanmış etler"]
[null,null,null,null,null,null,null,508,15131130,{"$f":"IF(K512=1,COUNTIF($K$5:K512,1),\"\")","v":508},{"$f":"IF(ISNUMBER(SEARCH('Bilgi Girişi'!$E$4,KalemAdı,1))=TRUE,1,0)","v":1},"Sosis ve sucuklar","Mal",15131130,null,null,"Domuz budu jambonu"]
[null,null,null,null,null,null,null,509,15131134,{"$f":"IF(K513=1,COUNTIF($K$5:K513,1),\"\")","v":509},{"$f":"IF(ISNUMBER(SEARCH('Bilgi Girişi'!$E$4,KalemAdı,1))=TRUE,1,0)","v":1},"Siyah puding ve diğer kan sosisleri","Mal",15131134,null,null,"Beykın, tütsülenmiş domuz sırtı"]
[null,null,null,null,null,null,null,510,15131135,{"$f":"IF(K514=1,COUNTIF($K$5:K514,1),\"\")","v":510},{"$f":"IF(ISNUMBER(SEARCH('Bilgi Girişi'!$E$4,KalemAdı,1))=TRUE,1,0)","v":1},"Kümes hayvanı etinden sosisler","Mal",15131135,null,null,"Salam"]
[null,null,null,null,null,null,null,511,15131200,{"$f":"IF(K515=1,COUNTIF($K$5:K515,1),\"\")","v":511},{"$f":"IF(ISNUMBER(SEARCH('Bilgi Girişi'!$E$4,KalemAdı,1))=TRUE,1,0)","v":1},"Kurutulmuş, tuzlanmış, tütsülenmiş veya baharatlanmış etler","Mal",15131200,null,null,"İşlenmiş ciğer"]
[null,null,null,null,null,null,null,512,15131210,{"$f":"IF(K516=1,COUNTIF($K$5:K516,1),\"\")","v":512},{"$f":"IF(ISNUMBER(SEARCH('Bilgi Girişi'!$E$4,KalemAdı,1))=TRUE,1,0)","v":1},"Domuz budu jambonu","Mal",15131210,null,null,"Ezme (ciğer)"]
[null,null,null,null,null,null,null,513,15131220,{"$f":"IF(K517=1,COUNTIF($K$5:K517,1),\"\")","v":513},{"$f":"IF(ISNUMBER(SEARCH('Bilgi Girişi'!$E$4,KalemAdı,1))=TRUE,1,0)","v":1},"Beykın, tütsülenmiş domuz sırtı","Mal",15131220,null,null,"İşlenmiş ördek ve kaz ciğerleri"]
[null,null,null,null,null,null,null,514,15131230,{"$f":"IF(K518=1,COUNTIF($K$5:K518,1),\"\")","v":514},{"$f":"IF(ISNUMBER(SEARCH('Bilgi Girişi'!$E$4,KalemAdı,1))=TRUE,1,0)","v":1},"Salam","Mal",15131230,null,null,{"$f":"IFERROR(VLOOKUP(ROW($P518),$J$5:$L$9594,3,FALSE),\"\")","v":"Domuz etinden mamul ürünler"}]
[null,null,null,null,null,null,null,515,15131300,{"$f":"IF(K519=1,COUNTIF($K$5:K519,1),\"\")","v":515},{"$f":"IF(ISNUMBER(SEARCH('Bilgi Girişi'!$E$4,KalemAdı,1))=TRUE,1,0)","v":1},"İşlenmiş ciğer","Mal",15131300,null,null,"Domuz jambonu"]
[null,null,null,null,null,null,null,516,15131310,{"$f":"IF(K520=1,COUNTIF($K$5:K520,1),\"\")","v":516},{"$f":"IF(ISNUMBER(SEARCH('Bilgi Girişi'!$E$4,KalemAdı,1))=TRUE,1,0)","v":1},"Ezme (ciğer)","Mal",15131310,null,null,"Domuz eti köftesi"]
[null,null,null,null,null,null,null,517,15131320,{"$f":"IF(K521=1,COUNTIF($K$5:K521,1),\"\")","v":517},{"$f":"IF(ISNUMBER(SEARCH('Bilgi Girişi'!$E$4,KalemAdı,1))=TRUE,1,0)","v":1},"İşlenmiş ördek ve kaz ciğerleri","Mal",15131320,null,null,"Hazır domuz eti yemekleri"]
[null,null,null,null,null,null,null,518,15131400,{"$f":"IF(K522=1,COUNTIF($K$5:K522,1),\"\")","v":518},{"$f":"IF(ISNUMBER(SEARCH('Bilgi Girişi'!$E$4,KalemAdı,1))=TRUE,1,0)","v":1},"Domuz etinden mamul ürünler","Mal",15131400,null,null,"Kümes hayvanları etinden mamul ürünler"]
[null,null,null,null,null,null,null,519,15131410,{"$f":"IF(K523=1,COUNTIF($K$5:K523,1),\"\")","v":519},{"$f":"IF(ISNUMBER(SEARCH('Bilgi Girişi'!$E$4,KalemAdı,1))=TRUE,1,0)","v":1},"Domuz jambonu","Mal",15131410,null,null,"Sığır ve dana etinden mamul ürünler"]
[null,null,null,null,null,null,null,520,15131420,{"$f":"IF(K524=1,COUNTIF($K$5:K524,1),\"\")","v":520},{"$f":"IF(ISNUMBER(SEARCH('Bilgi Girişi'!$E$4,KalemAdı,1))=TRUE,1,0)","v":1},"Domuz eti köftesi","Mal",15131420,null,null,"Sığır eti köftesi"]
[null,null,null,null,null,null,null,521,15131490,{"$f":"IF(K525=1,COUNTIF($K$5:K525,1),\"\")","v":521},{"$f":"IF(ISNUMBER(SEARCH('Bilgi Girişi'!$E$4,KalemAdı,1))=TRUE,1,0)","v":1},"Hazır domuz eti yemekleri","Mal",15131490,null,null,"Sığır eti kıyması"]
[null,null,null,null,null,null,null,522,15131500,{"$f":"IF(K526=1,COUNTIF($K$5:K526,1),\"\")","v":522},{"$f":"IF(ISNUMBER(SEARCH('Bilgi Girişi'!$E$4,KalemAdı,1))=TRUE,1,0)","v":1},"Kümes hayvanları etinden mamul ürünler","Mal",15131500,null,null,"Sığır eti burger köftesi"]
[null,null,null,null,null,null,null,523,15131600,{"$f":"IF(K527=1,COUNTIF($K$5:K527,1),\"\")","v":523},{"$f":"IF(ISNUMBER(SEARCH('Bilgi Girişi'!$E$4,KalemAdı,1))=TRUE,1,0)","v":1},"Sığır ve dana etinden mamul ürünler","Mal",15131600,null,null,"İşlenmiş etler"]
[null,null,null,null,null,null,null,524,15131610,{"$f":"IF(K528=1,COUNTIF($K$5:K528,1),\"\")","v":524},{"$f":"IF(ISNUMBER(SEARCH('Bilgi Girişi'!$E$4,KalemAdı,1))=TRUE,1,0)","v":1},"Sığır eti köftesi","Mal",15131610,null,null,"İşlenmiş ve konserve balık"]
[null,null,null,null,null,null,null,525,15131620,{"$f":"IF(K529=1,COUNTIF($K$5:K529,1),\"\")","v":525},{"$f":"IF(ISNUMBER(SEARCH('Bilgi Girişi'!$E$4,KalemAdı,1))=TRUE,1,0)","v":1},"Sığır eti kıyması","Mal",15131620,null,null,"Balık filetoları, balık ciğerleri ve balık yumurtaları (taze ve dondurulmuş)"]
[null,null,null,null,null,null,null,526,15131640,{"$f":"IF(K530=1,COUNTIF($K$5:K530,1),\"\")","v":526},{"$f":"IF(ISNUMBER(SEARCH('Bilgi Girişi'!$E$4,KalemAdı,1))=TRUE,1,0)","v":1},"Sığır eti burger köftesi","Mal",15131640,null,null,"Balık filetoları"]
[null,null,null,null,null,null,null,527,15131700,{"$f":"IF(K531=1,COUNTIF($K$5:K531,1),\"\")","v":527},{"$f":"IF(ISNUMBER(SEARCH('Bilgi Girişi'!$E$4,KalemAdı,1))=TRUE,1,0)","v":1},"İşlenmiş etler","Mal",15131700,null,null,"Taze balık filetoları"]
[null,null,null,null,null,null,null,528,15200000,{"$f":"IF(K532=1,COUNTIF($K$5:K532,1),\"\")","v":528},{"$f":"IF(ISNUMBER(SEARCH('Bilgi Girişi'!$E$4,KalemAdı,1))=TRUE,1,0)","v":1},"İşlenmiş ve konserve balık","Mal",15200000,null,null,"Balık yumurtaları"]
[null,null,null,null,null,null,null,529,15210000,{"$f":"IF(K533=1,COUNTIF($K$5:K533,1),\"\")","v":529},{"$f":"IF(ISNUMBER(SEARCH('Bilgi Girişi'!$E$4,KalemAdı,1))=TRUE,1,0)","v":1},"Balık filetoları, balık ciğerleri ve balık yumurtaları (taze ve dondurulmuş)","Mal",15210000,null,null,"Balık ciğerleri"]
[null,null,null,null,null,null,null,530,15211000,{"$f":"IF(K534=1,COUNTIF($K$5:K534,1),\"\")","v":530},{"$f":"IF(ISNUMBER(SEARCH('Bilgi Girişi'!$E$4,KalemAdı,1))=TRUE,1,0)","v":1},"Balık filetoları","Mal",15211000,null,null,"Dondurulmuş balık, balık filetosu ve diğer balık etleri"]
[null,null,null,null,null,null,null,531,15211100,{"$f":"IF(K535=1,COUNTIF($K$5:K535,1),\"\")","v":531},{"$f":"IF(ISNUMBER(SEARCH('Bilgi Girişi'!$E$4,KalemAdı,1))=TRUE,1,0)","v":1},"Taze balık filetoları","Mal",15211100,null,null,"Dondurulmuş balık"]
[null,null,null,null,null,null,null,532,15212000,{"$f":"IF(K536=1,COUNTIF($K$5:K536,1),\"\")","v":532},{"$f":"IF(ISNUMBER(SEARCH('Bilgi Girişi'!$E$4,KalemAdı,1))=TRUE,1,0)","v":1},"Balık yumurtaları","Mal",15212000,null,null,"Dondurulmuş balık ürünleri"]
[null,null,null,null,null,null,null,533,15213000,{"$f":"IF(K537=1,COUNTIF($K$5:K537,1),\"\")","v":533},{"$f":"IF(ISNUMBER(SEARCH('Bilgi Girişi'!$E$4,KalemAdı,1))=TRUE,1,0)","v":1},"Balık ciğerleri","Mal",15213000,null,null,"Kurutulmuş, tuzlanmış, salamura edilmiş veya tütsülenmiş balıklar"]
[null,null,null,null,null,null,null,534,15220000,{"$f":"IF(K538=1,COUNTIF($K$5:K538,1),\"\")","v":534},{"$f":"IF(ISNUMBER(SEARCH('Bilgi Girişi'!$E$4,KalemAdı,1))=TRUE,1,0)","v":1},"Dondurulmuş balık, balık filetosu ve diğer balık etleri","Mal",15220000,null,null,"Kurutulmuş balıklar"]
[null,null,null,null,null,null,null,535,15221000,{"$f":"IF(K539=1,COUNTIF($K$5:K539,1),\"\")","v":535},{"$f":"IF(ISNUMBER(SEARCH('Bilgi Girişi'!$E$4,KalemAdı,1))=TRUE,1,0)","v":1},"Dondurulmuş balık","Mal",15221000,null,null,"Tuzlanmış balıklar"]
[null,null,null,null,null,null,null,536,15229000,{"$f":"IF(K540=1,COUNTIF($K$5:K540,1),\"\")","v":536},{"$f":"IF(ISNUMBER(SEARCH('Bilgi Girişi'!$E$4,KalemAdı,1))=TRUE,1,0)","v":1},"Dondurulmuş balık ürünleri","Mal",15229000,null,null,"Salamura edilmiş balıklar"]
[null,null,null,null,null,null,null,537,15230000,{"$f":"IF(K541=1,COUNTIF($K$5:K541,1),\"\")","v":537},{"$f":"IF(ISNUMBER(SEARCH('Bilgi Girişi'!$E$4,KalemAdı,1))=TRUE,1,0)","v":1},"Kurutulmuş, tuzlanmış, salamura edilmiş veya tütsülenmiş balıklar","Mal",15230000,null,null,"Tütsülenmiş balıklar"]
[null,null,null,null,null,null,null,538,15231000,{"$f":"IF(K542=1,COUNTIF($K$5:K542,1),\"\")","v":538},{"$f":"IF(ISNUMBER(SEARCH('Bilgi Girişi'!$E$4,KalemAdı,1))=TRUE,1,0)","v":1},"Kurutulmuş balıklar","Mal",15231000,null,null,"Konserve edilmiş balık"]
[null,null,null,null,null,null,null,539,15232000,{"$f":"IF(K543=1,COUNTIF($K$5:K543,1),\"\")","v":539},{"$f":"IF(ISNUMBER(SEARCH('Bilgi Girişi'!$E$4,KalemAdı,1))=TRUE,1,0)","v":1},"Tuzlanmış balıklar","Mal",15232000,null,null,"Konserve edilmiş veya kutulanmış, diğer şekillerde işlenmiş veya saklanmış"]
[null,null,null,null,null,null,null,540,15233000,{"$f":"IF(K544=1,COUNTIF($K$5:K544,1),\"\")","v":540},{"$f":"IF(ISNUMBER(SEARCH('Bilgi Girişi'!$E$4,KalemAdı,1))=TRUE,1,0)","v":1},"Salamura edilmiş balıklar","Mal",15233000,null,null,"konserve edilmiş balık (kutuda)"]
[null,null,null,null,null,null,null,541,15234000,{"$f":"IF(K545=1,COUNTIF($K$5:K545,1),\"\")","v":541},{"$f":"IF(ISNUMBER(SEARCH('Bilgi Girişi'!$E$4,KalemAdı,1))=TRUE,1,0)","v":1},"Tütsülenmiş balıklar","Mal",15234000,null,null,"Somon konservesi"]
[null,null,null,null,null,null,null,542,15235000,{"$f":"IF(K546=1,COUNTIF($K$5:K546,1),\"\")","v":542},{"$f":"IF(ISNUMBER(SEARCH('Bilgi Girişi'!$E$4,KalemAdı,1))=TRUE,1,0)","v":1},"Konserve edilmiş balık","Mal",15235000,null,null,"İşlenmiş veya konserve ringa"]
[null,null,null,null,null,null,null,543,15240000,{"$f":"IF(K547=1,COUNTIF($K$5:K547,1),\"\")","v":543},{"$f":"IF(ISNUMBER(SEARCH('Bilgi Girişi'!$E$4,KalemAdı,1))=TRUE,1,0)","v":1},"Konserve edilmiş veya kutulanmış, diğer şekillerde işlenmiş veya saklanmış","Mal",15240000,null,null,"Sardalye"]
[null,null,null,null,null,null,null,544,15241000,{"$f":"IF(K548=1,COUNTIF($K$5:K548,1),\"\")","v":544},{"$f":"IF(ISNUMBER(SEARCH('Bilgi Girişi'!$E$4,KalemAdı,1))=TRUE,1,0)","v":1},"konserve edilmiş balık (kutuda)","Mal",15241000,null,null,"Konserve ton balığı"]
[null,null,null,null,null,null,null,545,15241100,{"$f":"IF(K549=1,COUNTIF($K$5:K549,1),\"\")","v":545},{"$f":"IF(ISNUMBER(SEARCH('Bilgi Girişi'!$E$4,KalemAdı,1))=TRUE,1,0)","v":1},"Somon konservesi","Mal",15241100,null,null,"Uskumru"]
[null,null,null,null,null,null,null,546,15241200,{"$f":"IF(K550=1,COUNTIF($K$5:K550,1),\"\")","v":546},{"$f":"IF(ISNUMBER(SEARCH('Bilgi Girişi'!$E$4,KalemAdı,1))=TRUE,1,0)","v":1},"İşlenmiş veya konserve ringa","Mal",15241200,null,null,"Hamsi"]
[null,null,null,null,null,null,null,547,15241300,{"$f":"IF(K551=1,COUNTIF($K$5:K551,1),\"\")","v":547},{"$f":"IF(ISNUMBER(SEARCH('Bilgi Girişi'!$E$4,KalemAdı,1))=TRUE,1,0)","v":1},"Sardalye","Mal",15241300,null,null,"Parmak şeklinde kızartılıp kaplanmış balık etleri"]
[null,null,null,null,null,null,null,548,15241400,{"$f":"IF(K552=1,COUNTIF($K$5:K552,1),\"\")","v":548},{"$f":"IF(ISNUMBER(SEARCH('Bilgi Girişi'!$E$4,KalemAdı,1))=TRUE,1,0)","v":1},"Konserve ton balığı","Mal",15241400,null,null,"Tütsülenmiş hazır balık ürünleri"]
[null,null,null,null,null,null,null,549,15241500,{"$f":"IF(K553=1,COUNTIF($K$5:K553,1),\"\")","v":549},{"$f":"IF(ISNUMBER(SEARCH('Bilgi Girişi'!$E$4,KalemAdı,1))=TRUE,1,0)","v":1},"Uskumru","Mal",15241500,null,null,"Hazır balık yemekleri"]
[null,null,null,null,null,null,null,550,15241600,{"$f":"IF(K554=1,COUNTIF($K$5:K554,1),\"\")","v":550},{"$f":"IF(ISNUMBER(SEARCH('Bilgi Girişi'!$E$4,KalemAdı,1))=TRUE,1,0)","v":1},"Hamsi","Mal",15241600,null,null,"Balık müstahzarları"]
[null,null,null,null,null,null,null,551,15241700,{"$f":"IF(K555=1,COUNTIF($K$5:K555,1),\"\")","v":551},{"$f":"IF(ISNUMBER(SEARCH('Bilgi Girişi'!$E$4,KalemAdı,1))=TRUE,1,0)","v":1},"Parmak şeklinde kızartılıp kaplanmış balık etleri","Mal",15241700,null,null,"Havyar ve balık yumurtası"]
[null,null,null,null,null,null,null,552,15241800,{"$f":"IF(K556=1,COUNTIF($K$5:K556,1),\"\")","v":552},{"$f":"IF(ISNUMBER(SEARCH('Bilgi Girişi'!$E$4,KalemAdı,1))=TRUE,1,0)","v":1},"Tütsülenmiş hazır balık ürünleri","Mal",15241800,null,null,"Havyar"]
[null,null,null,null,null,null,null,553,15242000,{"$f":"IF(K557=1,COUNTIF($K$5:K557,1),\"\")","v":553},{"$f":"IF(ISNUMBER(SEARCH('Bilgi Girişi'!$E$4,KalemAdı,1))=TRUE,1,0)","v":1},"Hazır balık yemekleri","Mal",15242000,null,null,"Balık yumurtaları"]
[null,null,null,null,null,null,null,554,15243000,{"$f":"IF(K558=1,COUNTIF($K$5:K558,1),\"\")","v":554},{"$f":"IF(ISNUMBER(SEARCH('Bilgi Girişi'!$E$4,KalemAdı,1))=TRUE,1,0)","v":1},"Balık müstahzarları","Mal",15243000,null,null,"Deniz ürünleri (işlenmiş)"]
[null,null,null,null,null,null,null,555,15244000,{"$f":"IF(K559=1,COUNTIF($K$5:K559,1),\"\")","v":555},{"$f":"IF(ISNUMBER(SEARCH('Bilgi Girişi'!$E$4,KalemAdı,1))=TRUE,1,0)","v":1},"Havyar ve balık yumurtası","Mal",15244000,null,null,"Donduruluş kabuklu deniz ürünleri"]
[null,null,null,null,null,null,null,556,15244100,{"$f":"IF(K560=1,COUNTIF($K$5:K560,1),\"\")","v":556},{"$f":"IF(ISNUMBER(SEARCH('Bilgi Girişi'!$E$4,KalemAdı,1))=TRUE,1,0)","v":1},"Havyar","Mal",15244100,null,null,"Konserve veya hazır kabuklu deniz ürünleri"]
[null,null,null,null,null,null,null,557,15244200,{"$f":"IF(K561=1,COUNTIF($K$5:K561,1),\"\")","v":557},{"$f":"IF(ISNUMBER(SEARCH('Bilgi Girişi'!$E$4,KalemAdı,1))=TRUE,1,0)","v":1},"Balık yumurtaları","Mal",15244200,null,null,"Sert kabuklu deniz ürünleri"]
[null,null,null,null,null,null,null,558,15250000,{"$f":"IF(K562=1,COUNTIF($K$5:K562,1),\"\")","v":558},{"$f":"IF(ISNUMBER(SEARCH('Bilgi Girişi'!$E$4,KalemAdı,1))=TRUE,1,0)","v":1},"Deniz ürünleri (işlenmiş)","Mal",15250000,null,null,"Meyve, sebze ve ilgili ürünler (işlenmiş)"]
[null,null,null,null,null,null,null,559,15251000,{"$f":"IF(K563=1,COUNTIF($K$5:K563,1),\"\")","v":559},{"$f":"IF(ISNUMBER(SEARCH('Bilgi Girişi'!$E$4,KalemAdı,1))=TRUE,1,0)","v":1},"Donduruluş kabuklu deniz ürünleri","Mal",15251000,null,null,"Patates ve patates ürünleri (işlenmiş)"]
[null,null,null,null,null,null,null,560,15252000,{"$f":"IF(K564=1,COUNTIF($K$5:K564,1),\"\")","v":560},{"$f":"IF(ISNUMBER(SEARCH('Bilgi Girişi'!$E$4,KalemAdı,1))=TRUE,1,0)","v":1},"Konserve veya hazır kabuklu deniz ürünleri","Mal",15252000,null,null,"Dondurulmuş patates"]
[null,null,null,null,null,null,null,561,15253000,{"$f":"IF(K565=1,COUNTIF($K$5:K565,1),\"\")","v":561},{"$f":"IF(ISNUMBER(SEARCH('Bilgi Girişi'!$E$4,KalemAdı,1))=TRUE,1,0)","v":1},"Sert kabuklu deniz ürünleri","Mal",15253000,null,null,"Patates kızartma ve cipsleri"]
[null,null,null,null,null,null,null,562,15300000,{"$f":"IF(K566=1,COUNTIF($K$5:K566,1),\"\")","v":562},{"$f":"IF(ISNUMBER(SEARCH('Bilgi Girişi'!$E$4,KalemAdı,1))=TRUE,1,0)","v":1},"Meyve, sebze ve ilgili ürünler (işlenmiş)","Mal",15300000,null,null,"Doğranmış, dilimlenmiş ve diğer dondurulmuş patatesler"]
[null,null,null,null,null,null,null,563,15310000,{"$f":"IF(K567=1,COUNTIF($K$5:K567,1),\"\")","v":563},{"$f":"IF(ISNUMBER(SEARCH('Bilgi Girişi'!$E$4,KalemAdı,1))=TRUE,1,0)","v":1},"Patates ve patates ürünleri (işlenmiş)","Mal",15310000,null,null,"Patates ürünleri"]
[null,null,null,null,null,null,null,564,15311000,{"$f":"IF(K568=1,COUNTIF($K$5:K568,1),\"\")","v":564},{"$f":"IF(ISNUMBER(SEARCH('Bilgi Girişi'!$E$4,KalemAdı,1))=TRUE,1,0)","v":1},"Dondurulmuş patates","Mal",15311000,null,null,"Hazır patates püresi"]
[null,null,null,null,null,null,null,565,15311100,{"$f":"IF(K569=1,COUNTIF($K$5:K569,1),\"\")","v":565},{"$f":"IF(ISNUMBER(SEARCH('Bilgi Girişi'!$E$4,KalemAdı,1))=TRUE,1,0)","v":1},"Patates kızartma ve cipsleri","Mal",15311100,null,null,"Az kızarmış patates cipsleri"]
[null,null,null,null,null,null,null,566,15311200,{"$f":"IF(K570=1,COUNTIF($K$5:K570,1),\"\")","v":566},{"$f":"IF(ISNUMBER(SEARCH('Bilgi Girişi'!$E$4,KalemAdı,1))=TRUE,1,0)","v":1},"Doğranmış, dilimlenmiş ve diğer dondurulmuş patatesler","Mal",15311200,null,null,"Patates gevrekleri"]
[null,null,null,null,null,null,null,567,15312000,{"$f":"IF(K571=1,COUNTIF($K$5:K571,1),\"\")","v":567},{"$f":"IF(ISNUMBER(SEARCH('Bilgi Girişi'!$E$4,KalemAdı,1))=TRUE,1,0)","v":1},"Patates ürünleri","Mal",15312000,null,null,"Tatlandırılmış patates gevrekleri"]
[null,null,null,null,null,null,null,568,15312100,{"$f":"IF(K572=1,COUNTIF($K$5:K572,1),\"\")","v":568},{"$f":"IF(ISNUMBER(SEARCH('Bilgi Girişi'!$E$4,KalemAdı,1))=TRUE,1,0)","v":1},"Hazır patates püresi","Mal",15312100,null,null,"Patates çerezleri"]
[null,null,null,null,null,null,null,569,15312200,{"$f":"IF(K573=1,COUNTIF($K$5:K573,1),\"\")","v":569},{"$f":"IF(ISNUMBER(SEARCH('Bilgi Girişi'!$E$4,KalemAdı,1))=TRUE,1,0)","v":1},"Az kızarmış patates cipsleri","Mal",15312200,null,null,"Patates kroketleri"]
[null,null,null,null,null,null,null,570,15312300,{"$f":"IF(K574=1,COUNTIF($K$5:K574,1),\"\")","v":570},{"$f":"IF(ISNUMBER(SEARCH('Bilgi Girişi'!$E$4,KalemAdı,1))=TRUE,1,0)","v":1},"Patates gevrekleri","Mal",15312300,null,null,"İşlenmiş patatesler"]
[null,null,null,null,null,null,null,571,15312310,{"$f":"IF(K575=1,COUNTIF($K$5:K575,1),\"\")","v":571},{"$f":"IF(ISNUMBER(SEARCH('Bilgi Girişi'!$E$4,KalemAdı,1))=TRUE,1,0)","v":1},"Tatlandırılmış patates gevrekleri","Mal",15312310,null,null,"Meyve ve sebze suları"]
[null,null,null,null,null,null,null,572,15312400,{"$f":"IF(K576=1,COUNTIF($K$5:K576,1),\"\")","v":572},{"$f":"IF(ISNUMBER(SEARCH('Bilgi Girişi'!$E$4,KalemAdı,1))=TRUE,1,0)","v":1},"Patates çerezleri","Mal",15312400,null,null,"Meyve suları"]
[null,null,null,null,null,null,null,573,15312500,{"$f":"IF(K577=1,COUNTIF($K$5:K577,1),\"\")","v":573},{"$f":"IF(ISNUMBER(SEARCH('Bilgi Girişi'!$E$4,KalemAdı,1))=TRUE,1,0)","v":1},"Patates kroketleri","Mal",15312500,null,null,"Portakal suyu"]
[null,null,null,null,null,null,null,574,15313000,{"$f":"IF(K578=1,COUNTIF($K$5:K578,1),\"\")","v":574},{"$f":"IF(ISNUMBER(SEARCH('Bilgi Girişi'!$E$4,KalemAdı,1))=TRUE,1,0)","v":1},"İşlenmiş patatesler","Mal",15313000,null,null,"Greyfurt suyu"]
[null,null,null,null,null,null,null,575,15320000,{"$f":"IF(K579=1,COUNTIF($K$5:K579,1),\"\")","v":575},{"$f":"IF(ISNUMBER(SEARCH('Bilgi Girişi'!$E$4,KalemAdı,1))=TRUE,1,0)","v":1},"Meyve ve sebze suları","Mal",15320000,null,null,"Limon suyu"]
[null,null,null,null,null,null,null,576,15321000,{"$f":"IF(K580=1,COUNTIF($K$5:K580,1),\"\")","v":576},{"$f":"IF(ISNUMBER(SEARCH('Bilgi Girişi'!$E$4,KalemAdı,1))=TRUE,1,0)","v":1},"Meyve suları","Mal",15321000,null,null,"Ananas suyu"]
[null,null,null,null,null,null,null,577,15321100,{"$f":"IF(K581=1,COUNTIF($K$5:K581,1),\"\")","v":577},{"$f":"IF(ISNUMBER(SEARCH('Bilgi Girişi'!$E$4,KalemAdı,1))=TRUE,1,0)","v":1},"Portakal suyu","Mal",15321100,null,null,"Üzüm suyu"]
[null,null,null,null,null,null,null,578,15321200,{"$f":"IF(K582=1,COUNTIF($K$5:K582,1),\"\")","v":578},{"$f":"IF(ISNUMBER(SEARCH('Bilgi Girişi'!$E$4,KalemAdı,1))=TRUE,1,0)","v":1},"Greyfurt suyu","Mal",15321200,null,null,{"$f":"IFERROR(VLOOKUP(ROW($P582),$J$5:$L$9594,3,FALSE),\"\")","v":"Elma suyu"}]
[null,null,null,null,null,null,null,579,15321300,{"$f":"IF(K583=1,COUNTIF($K$5:K583,1),\"\")","v":579},{"$f":"IF(ISNUMBER(SEARCH('Bilgi Girişi'!$E$4,KalemAdı,1))=TRUE,1,0)","v":1},"Limon suyu","Mal",15321300,null,null,"Konsantre edilmemiş meyve suyu karışımları"]
[null,null,null,null,null,null,null,580,15321400,{"$f":"IF(K584=1,COUNTIF($K$5:K584,1),\"\")","v":580},{"$f":"IF(ISNUMBER(SEARCH('Bilgi Girişi'!$E$4,KalemAdı,1))=TRUE,1,0)","v":1},"Ananas suyu","Mal",15321400,null,null,"Konsantre edilmiş meyve suları"]
[null,null,null,null,null,null,null,581,15321500,{"$f":"IF(K585=1,COUNTIF($K$5:K585,1),\"\")","v":581},{"$f":"IF(ISNUMBER(SEARCH('Bilgi Girişi'!$E$4,KalemAdı,1))=TRUE,1,0)","v":1},"Üzüm suyu","Mal",15321500,null,null,"Sebze suları"]
[null,null,null,null,null,null,null,582,15321600,{"$f":"IF(K586=1,COUNTIF($K$5:K586,1),\"\")","v":582},{"$f":"IF(ISNUMBER(SEARCH('Bilgi Girişi'!$E$4,KalemAdı,1))=TRUE,1,0)","v":1},"Elma suyu","Mal",15321600,null,null,"Domates suyu"]
[null,null,null,null,null,null,null,583,15321700,{"$f":"IF(K587=1,COUNTIF($K$5:K587,1),\"\")","v":583},{"$f":"IF(ISNUMBER(SEARCH('Bilgi Girişi'!$E$4,KalemAdı,1))=TRUE,1,0)","v":1},"Konsantre edilmemiş meyve suyu karışımları","Mal",15321700,null,null,"İşlenmiş meyve ve sebze"]
[null,null,null,null,null,null,null,584,15321800,{"$f":"IF(K588=1,COUNTIF($K$5:K588,1),\"\")","v":584},{"$f":"IF(ISNUMBER(SEARCH('Bilgi Girişi'!$E$4,KalemAdı,1))=TRUE,1,0)","v":1},"Konsantre edilmiş meyve suları","Mal",15321800,null,null,"İşlenmiş sebzeler"]
[null,null,null,null,null,null,null,585,15322000,{"$f":"IF(K589=1,COUNTIF($K$5:K589,1),\"\")","v":585},{"$f":"IF(ISNUMBER(SEARCH('Bilgi Girişi'!$E$4,KalemAdı,1))=TRUE,1,0)","v":1},"Sebze suları","Mal",15322000,null,null,"Taze veya dondurulmuş sebzeler"]
[null,null,null,null,null,null,null,586,15322100,{"$f":"IF(K590=1,COUNTIF($K$5:K590,1),\"\")","v":586},{"$f":"IF(ISNUMBER(SEARCH('Bilgi Girişi'!$E$4,KalemAdı,1))=TRUE,1,0)","v":1},"Domates suyu","Mal",15322100,null,null,"İşlenmiş köklü sebzeler"]
[null,null,null,null,null,null,null,587,15330000,{"$f":"IF(K591=1,COUNTIF($K$5:K591,1),\"\")","v":587},{"$f":"IF(ISNUMBER(SEARCH('Bilgi Girişi'!$E$4,KalemAdı,1))=TRUE,1,0)","v":1},"İşlenmiş meyve ve sebze","Mal",15330000,null,null,"İşlenmiş yumru köklü sebzeler"]
[null,null,null,null,null,null,null,588,15331000,{"$f":"IF(K592=1,COUNTIF($K$5:K592,1),\"\")","v":588},{"$f":"IF(ISNUMBER(SEARCH('Bilgi Girişi'!$E$4,KalemAdı,1))=TRUE,1,0)","v":1},"İşlenmiş sebzeler","Mal",15331000,null,null,"Baklagiller, bezelyeler, biberler, domatesler ve diğer sebzeler"]
[null,null,null,null,null,null,null,589,15331100,{"$f":"IF(K593=1,COUNTIF($K$5:K593,1),\"\")","v":589},{"$f":"IF(ISNUMBER(SEARCH('Bilgi Girişi'!$E$4,KalemAdı,1))=TRUE,1,0)","v":1},"Taze veya dondurulmuş sebzeler","Mal",15331100,null,null,"İşlenmiş baklagiller"]
[null,null,null,null,null,null,null,590,15331110,{"$f":"IF(K594=1,COUNTIF($K$5:K594,1),\"\")","v":590},{"$f":"IF(ISNUMBER(SEARCH('Bilgi Girişi'!$E$4,KalemAdı,1))=TRUE,1,0)","v":1},"İşlenmiş köklü sebzeler","Mal",15331110,null,null,"İşlenmiş bezelyeler"]
[null,null,null,null,null,null,null,591,15331120,{"$f":"IF(K595=1,COUNTIF($K$5:K595,1),\"\")","v":591},{"$f":"IF(ISNUMBER(SEARCH('Bilgi Girişi'!$E$4,KalemAdı,1))=TRUE,1,0)","v":1},"İşlenmiş yumru köklü sebzeler","Mal",15331120,null,null,"Kuru bezelyeler"]
[null,null,null,null,null,null,null,592,15331130,{"$f":"IF(K596=1,COUNTIF($K$5:K596,1),\"\")","v":592},{"$f":"IF(ISNUMBER(SEARCH('Bilgi Girişi'!$E$4,KalemAdı,1))=TRUE,1,0)","v":1},"Baklagiller, bezelyeler, biberler, domatesler ve diğer sebzeler","Mal",15331130,null,null,"İşlenmiş domatesler"]
[null,null,null,null,null,null,null,593,15331131,{"$f":"IF(K597=1,COUNTIF($K$5:K597,1),\"\")","v":593},{"$f":"IF(ISNUMBER(SEARCH('Bilgi Girişi'!$E$4,KalemAdı,1))=TRUE,1,0)","v":1},"İşlenmiş baklagiller","Mal",15331131,null,null,"İşlenmiş mantarlar"]
[null,null,null,null,null,null,null,594,15331132,{"$f":"IF(K598=1,COUNTIF($K$5:K598,1),\"\")","v":594},{"$f":"IF(ISNUMBER(SEARCH('Bilgi Girişi'!$E$4,KalemAdı,1))=TRUE,1,0)","v":1},"İşlenmiş bezelyeler","Mal",15331132,null,null,"İşlenmiş biberler"]
[null,null,null,null,null,null,null,595,15331133,{"$f":"IF(K599=1,COUNTIF($K$5:K599,1),\"\")","v":595},{"$f":"IF(ISNUMBER(SEARCH('Bilgi Girişi'!$E$4,KalemAdı,1))=TRUE,1,0)","v":1},"Kuru bezelyeler","Mal",15331133,null,null,"Soya filizi"]
[null,null,null,null,null,null,null,596,15331134,{"$f":"IF(K600=1,COUNTIF($K$5:K600,1),\"\")","v":596},{"$f":"IF(ISNUMBER(SEARCH('Bilgi Girişi'!$E$4,KalemAdı,1))=TRUE,1,0)","v":1},"İşlenmiş domatesler","Mal",15331134,null,null,"Yer mantarları"]
[null,null,null,null,null,null,null,597,15331135,{"$f":"IF(K601=1,COUNTIF($K$5:K601,1),\"\")","v":597},{"$f":"IF(ISNUMBER(SEARCH('Bilgi Girişi'!$E$4,KalemAdı,1))=TRUE,1,0)","v":1},"İşlenmiş mantarlar","Mal",15331135,null,null,"Yapraklı sebzeler ve lahanagiller"]
[null,null,null,null,null,null,null,598,15331136,{"$f":"IF(K602=1,COUNTIF($K$5:K602,1),\"\")","v":598},{"$f":"IF(ISNUMBER(SEARCH('Bilgi Girişi'!$E$4,KalemAdı,1))=TRUE,1,0)","v":1},"İşlenmiş biberler","Mal",15331136,null,null,"İşlenmiş lahanalar"]
[null,null,null,null,null,null,null,599,15331137,{"$f":"IF(K603=1,COUNTIF($K$5:K603,1),\"\")","v":599},{"$f":"IF(ISNUMBER(SEARCH('Bilgi Girişi'!$E$4,KalemAdı,1))=TRUE,1,0)","v":1},"Soya filizi","Mal",15331137,null,null,"İşlenmiş baklagil ve bezelyegiller"]
[null,null,null,null,null,null,null,600,15331138,{"$f":"IF(K604=1,COUNTIF($K$5:K604,1),\"\")","v":600},{"$f":"IF(ISNUMBER(SEARCH('Bilgi Girişi'!$E$4,KalemAdı,1))=TRUE,1,0)","v":1},"Yer mantarları","Mal",15331138,null,null,"Dondurulmuş sebzeler"]
[null,null,null,null,null,null,null,601,15331140,{"$f":"IF(K605=1,COUNTIF($K$5:K605,1),\"\")","v":601},{"$f":"IF(ISNUMBER(SEARCH('Bilgi Girişi'!$E$4,KalemAdı,1))=TRUE,1,0)","v":1},"Yapraklı sebzeler ve lahanagiller","Mal",15331140,null,null,"Konserve ve/veya diğer usullerle korunmuş sebzeler"]
[null,null,null,null,null,null,null,602,15331142,{"$f":"IF(K606=1,COUNTIF($K$5:K606,1),\"\")","v":602},{"$f":"IF(ISNUMBER(SEARCH('Bilgi Girişi'!$E$4,KalemAdı,1))=TRUE,1,0)","v":1},"İşlenmiş lahanalar","Mal",15331142,null,null,"Domates soslu fasulyeleri"]
[null,null,null,null,null,null,null,603,15331150,{"$f":"IF(K607=1,COUNTIF($K$5:K607,1),\"\")","v":603},{"$f":"IF(ISNUMBER(SEARCH('Bilgi Girişi'!$E$4,KalemAdı,1))=TRUE,1,0)","v":1},"İşlenmiş baklagil ve bezelyegiller","Mal",15331150,null,null,"Pişirilmiş fasulyeler"]
[null,null,null,null,null,null,null,604,15331170,{"$f":"IF(K608=1,COUNTIF($K$5:K608,1),\"\")","v":604},{"$f":"IF(ISNUMBER(SEARCH('Bilgi Girişi'!$E$4,KalemAdı,1))=TRUE,1,0)","v":1},"Dondurulmuş sebzeler","Mal",15331170,null,null,"Korunmuş domatesler"]
[null,null,null,null,null,null,null,605,15331400,{"$f":"IF(K609=1,COUNTIF($K$5:K609,1),\"\")","v":605},{"$f":"IF(ISNUMBER(SEARCH('Bilgi Girişi'!$E$4,KalemAdı,1))=TRUE,1,0)","v":1},"Konserve ve/veya diğer usullerle korunmuş sebzeler","Mal",15331400,null,null,"Konserve domatesler"]
[null,null,null,null,null,null,null,606,15331410,{"$f":"IF(K610=1,COUNTIF($K$5:K610,1),\"\")","v":606},{"$f":"IF(ISNUMBER(SEARCH('Bilgi Girişi'!$E$4,KalemAdı,1))=TRUE,1,0)","v":1},"Domates soslu fasulyeleri","Mal",15331410,null,null,"Domates püresi"]
[null,null,null,null,null,null,null,607,15331411,{"$f":"IF(K611=1,COUNTIF($K$5:K611,1),\"\")","v":607},{"$f":"IF(ISNUMBER(SEARCH('Bilgi Girişi'!$E$4,KalemAdı,1))=TRUE,1,0)","v":1},"Pişirilmiş fasulyeler","Mal",15331411,null,null,"Domates salçası/Konsantre domates püresi"]
[null,null,null,null,null,null,null,608,15331420,{"$f":"IF(K612=1,COUNTIF($K$5:K612,1),\"\")","v":608},{"$f":"IF(ISNUMBER(SEARCH('Bilgi Girişi'!$E$4,KalemAdı,1))=TRUE,1,0)","v":1},"Korunmuş domatesler","Mal",15331420,null,null,"Domates salçası"]
[null,null,null,null,null,null,null,609,15331423,{"$f":"IF(K613=1,COUNTIF($K$5:K613,1),\"\")","v":609},{"$f":"IF(ISNUMBER(SEARCH('Bilgi Girişi'!$E$4,KalemAdı,1))=TRUE,1,0)","v":1},"Konserve domatesler","Mal",15331423,null,null,"Konserve mantarlar"]
[null,null,null,null,null,null,null,610,15331425,{"$f":"IF(K614=1,COUNTIF($K$5:K614,1),\"\")","v":610},{"$f":"IF(ISNUMBER(SEARCH('Bilgi Girişi'!$E$4,KalemAdı,1))=TRUE,1,0)","v":1},"Domates püresi","Mal",15331425,null,null,"İşlenmiş zeytin"]
[null,null,null,null,null,null,null,611,15331427,{"$f":"IF(K615=1,COUNTIF($K$5:K615,1),\"\")","v":611},{"$f":"IF(ISNUMBER(SEARCH('Bilgi Girişi'!$E$4,KalemAdı,1))=TRUE,1,0)","v":1},"Domates salçası/Konsantre domates püresi","Mal",15331427,null,null,"Konserve ve sebzeler"]
[null,null,null,null,null,null,null,612,15331428,{"$f":"IF(K616=1,COUNTIF($K$5:K616,1),\"\")","v":612},{"$f":"IF(ISNUMBER(SEARCH('Bilgi Girişi'!$E$4,KalemAdı,1))=TRUE,1,0)","v":1},"Domates salçası","Mal",15331428,null,null,"Lahana tuzlaması konservesi (ekşi bir alman yemeği)"]
[null,null,null,null,null,null,null,613,15331430,{"$f":"IF(K617=1,COUNTIF($K$5:K617,1),\"\")","v":613},{"$f":"IF(ISNUMBER(SEARCH('Bilgi Girişi'!$E$4,KalemAdı,1))=TRUE,1,0)","v":1},"Konserve mantarlar","Mal",15331430,null,null,"Konserve baklagiller"]
[null,null,null,null,null,null,null,614,15331450,{"$f":"IF(K618=1,COUNTIF($K$5:K618,1),\"\")","v":614},{"$f":"IF(ISNUMBER(SEARCH('Bilgi Girişi'!$E$4,KalemAdı,1))=TRUE,1,0)","v":1},"İşlenmiş zeytin","Mal",15331450,null,null,"Kabuklu baklagil konservesi"]
[null,null,null,null,null,null,null,615,15331460,{"$f":"IF(K619=1,COUNTIF($K$5:K619,1),\"\")","v":615},{"$f":"IF(ISNUMBER(SEARCH('Bilgi Girişi'!$E$4,KalemAdı,1))=TRUE,1,0)","v":1},"Konserve ve sebzeler","Mal",15331460,null,null,"Bütün baklagil konservesi"]
[null,null,null,null,null,null,null,616,15331461,{"$f":"IF(K620=1,COUNTIF($K$5:K620,1),\"\")","v":616},{"$f":"IF(ISNUMBER(SEARCH('Bilgi Girişi'!$E$4,KalemAdı,1))=TRUE,1,0)","v":1},"Lahana tuzlaması konservesi (ekşi bir alman yemeği)","Mal",15331461,null,null,"Konserve ısırgan otu"]
[null,null,null,null,null,null,null,617,15331462,{"$f":"IF(K621=1,COUNTIF($K$5:K621,1),\"\")","v":617},{"$f":"IF(ISNUMBER(SEARCH('Bilgi Girişi'!$E$4,KalemAdı,1))=TRUE,1,0)","v":1},"Konserve baklagiller","Mal",15331462,null,null,"Konserve zeytin"]
[null,null,null,null,null,null,null,618,15331463,{"$f":"IF(K622=1,COUNTIF($K$5:K622,1),\"\")","v":618},{"$f":"IF(ISNUMBER(SEARCH('Bilgi Girişi'!$E$4,KalemAdı,1))=TRUE,1,0)","v":1},"Kabuklu baklagil konservesi","Mal",15331463,null,null,"Tatlı mısır"]
[null,null,null,null,null,null,null,619,15331464,{"$f":"IF(K623=1,COUNTIF($K$5:K623,1),\"\")","v":619},{"$f":"IF(ISNUMBER(SEARCH('Bilgi Girişi'!$E$4,KalemAdı,1))=TRUE,1,0)","v":1},"Bütün baklagil konservesi","Mal",15331464,null,null,"Geçici olarak korunmuş sebzeler"]
[null,null,null,null,null,null,null,620,15331465,{"$f":"IF(K624=1,COUNTIF($K$5:K624,1),\"\")","v":620},{"$f":"IF(ISNUMBER(SEARCH('Bilgi Girişi'!$E$4,KalemAdı,1))=TRUE,1,0)","v":1},"Konserve ısırgan otu","Mal",15331465,null,null,"Sirkede korunmuş sebzeler"]
[null,null,null,null,null,null,null,621,15331466,{"$f":"IF(K625=1,COUNTIF($K$5:K625,1),\"\")","v":621},{"$f":"IF(ISNUMBER(SEARCH('Bilgi Girişi'!$E$4,KalemAdı,1))=TRUE,1,0)","v":1},"Konserve zeytin","Mal",15331466,null,null,"İşlenmiş meyve ve kuru yemişler"]
[null,null,null,null,null,null,null,622,15331470,{"$f":"IF(K626=1,COUNTIF($K$5:K626,1),\"\")","v":622},{"$f":"IF(ISNUMBER(SEARCH('Bilgi Girişi'!$E$4,KalemAdı,1))=TRUE,1,0)","v":1},"Tatlı mısır","Mal",15331470,null,null,"İşlenmiş meyveler"]
[null,null,null,null,null,null,null,623,15331480,{"$f":"IF(K627=1,COUNTIF($K$5:K627,1),\"\")","v":623},{"$f":"IF(ISNUMBER(SEARCH('Bilgi Girişi'!$E$4,KalemAdı,1))=TRUE,1,0)","v":1},"Geçici olarak korunmuş sebzeler","Mal",15331480,null,null,"İşlenmiş elmalar"]
[null,null,null,null,null,null,null,624,15331500,{"$f":"IF(K628=1,COUNTIF($K$5:K628,1),\"\")","v":624},{"$f":"IF(ISNUMBER(SEARCH('Bilgi Girişi'!$E$4,KalemAdı,1))=TRUE,1,0)","v":1},"Sirkede korunmuş sebzeler","Mal",15331500,null,null,"İşlenmiş armutlar"]
[null,null,null,null,null,null,null,625,15332000,{"$f":"IF(K629=1,COUNTIF($K$5:K629,1),\"\")","v":625},{"$f":"IF(ISNUMBER(SEARCH('Bilgi Girişi'!$E$4,KalemAdı,1))=TRUE,1,0)","v":1},"İşlenmiş meyve ve kuru yemişler","Mal",15332000,null,null,"İşlenmiş muzlar"]
[null,null,null,null,null,null,null,626,15332100,{"$f":"IF(K630=1,COUNTIF($K$5:K630,1),\"\")","v":626},{"$f":"IF(ISNUMBER(SEARCH('Bilgi Girişi'!$E$4,KalemAdı,1))=TRUE,1,0)","v":1},"İşlenmiş meyveler","Mal",15332100,null,null,"Ravent, keçi kulağı bitkisi"]
[null,null,null,null,null,null,null,627,15332140,{"$f":"IF(K631=1,COUNTIF($K$5:K631,1),\"\")","v":627},{"$f":"IF(ISNUMBER(SEARCH('Bilgi Girişi'!$E$4,KalemAdı,1))=TRUE,1,0)","v":1},"İşlenmiş elmalar","Mal",15332140,null,null,"Kavun – karpuz"]
[null,null,null,null,null,null,null,628,15332150,{"$f":"IF(K632=1,COUNTIF($K$5:K632,1),\"\")","v":628},{"$f":"IF(ISNUMBER(SEARCH('Bilgi Girişi'!$E$4,KalemAdı,1))=TRUE,1,0)","v":1},"İşlenmiş armutlar","Mal",15332150,null,null,"Reçel ve marmelat, meyve jöleleri, meyve veya fındık püresi ve macunlar"]
[null,null,null,null,null,null,null,629,15332160,{"$f":"IF(K633=1,COUNTIF($K$5:K633,1),\"\")","v":629},{"$f":"IF(ISNUMBER(SEARCH('Bilgi Girişi'!$E$4,KalemAdı,1))=TRUE,1,0)","v":1},"İşlenmiş muzlar","Mal",15332160,null,null,"Marmelatlar"]
[null,null,null,null,null,null,null,630,15332170,{"$f":"IF(K634=1,COUNTIF($K$5:K634,1),\"\")","v":630},{"$f":"IF(ISNUMBER(SEARCH('Bilgi Girişi'!$E$4,KalemAdı,1))=TRUE,1,0)","v":1},"Ravent, keçi kulağı bitkisi","Mal",15332170,null,null,"Portakal marmelatı"]
[null,null,null,null,null,null,null,631,15332180,{"$f":"IF(K635=1,COUNTIF($K$5:K635,1),\"\")","v":631},{"$f":"IF(ISNUMBER(SEARCH('Bilgi Girişi'!$E$4,KalemAdı,1))=TRUE,1,0)","v":1},"Kavun – karpuz","Mal",15332180,null,null,"Limon marmelatı"]
[null,null,null,null,null,null,null,632,15332200,{"$f":"IF(K636=1,COUNTIF($K$5:K636,1),\"\")","v":632},{"$f":"IF(ISNUMBER(SEARCH('Bilgi Girişi'!$E$4,KalemAdı,1))=TRUE,1,0)","v":1},"Reçel ve marmelat, meyve jöleleri, meyve veya fındık püresi ve macunlar","Mal",15332200,null,null,"Meyve jöleleri"]
[null,null,null,null,null,null,null,633,15332230,{"$f":"IF(K637=1,COUNTIF($K$5:K637,1),\"\")","v":633},{"$f":"IF(ISNUMBER(SEARCH('Bilgi Girişi'!$E$4,KalemAdı,1))=TRUE,1,0)","v":1},"Marmelatlar","Mal",15332230,null,null,"Meyve ezmeleri"]
[null,null,null,null,null,null,null,634,15332231,{"$f":"IF(K638=1,COUNTIF($K$5:K638,1),\"\")","v":634},{"$f":"IF(ISNUMBER(SEARCH('Bilgi Girişi'!$E$4,KalemAdı,1))=TRUE,1,0)","v":1},"Portakal marmelatı","Mal",15332231,null,null,"Fındık - fıstık ezmeleri"]
[null,null,null,null,null,null,null,635,15332232,{"$f":"IF(K639=1,COUNTIF($K$5:K639,1),\"\")","v":635},{"$f":"IF(ISNUMBER(SEARCH('Bilgi Girişi'!$E$4,KalemAdı,1))=TRUE,1,0)","v":1},"Limon marmelatı","Mal",15332232,null,null,"Fıstık ezmesi"]
[null,null,null,null,null,null,null,636,15332240,{"$f":"IF(K640=1,COUNTIF($K$5:K640,1),\"\")","v":636},{"$f":"IF(ISNUMBER(SEARCH('Bilgi Girişi'!$E$4,KalemAdı,1))=TRUE,1,0)","v":1},"Meyve jöleleri","Mal",15332240,null,null,"Meyve püresi"]
[null,null,null,null,null,null,null,637,15332250,{"$f":"IF(K641=1,COUNTIF($K$5:K641,1),\"\")","v":637},{"$f":"IF(ISNUMBER(SEARCH('Bilgi Girişi'!$E$4,KalemAdı,1))=TRUE,1,0)","v":1},"Meyve ezmeleri","Mal",15332250,null,null,"Reçeller"]
[null,null,null,null,null,null,null,638,15332260,{"$f":"IF(K642=1,COUNTIF($K$5:K642,1),\"\")","v":638},{"$f":"IF(ISNUMBER(SEARCH('Bilgi Girişi'!$E$4,KalemAdı,1))=TRUE,1,0)","v":1},"Fındık - fıstık ezmeleri","Mal",15332260,null,null,"Kayısı reçeli"]
[null,null,null,null,null,null,null,639,15332261,{"$f":"IF(K643=1,COUNTIF($K$5:K643,1),\"\")","v":639},{"$f":"IF(ISNUMBER(SEARCH('Bilgi Girişi'!$E$4,KalemAdı,1))=TRUE,1,0)","v":1},"Fıstık ezmesi","Mal",15332261,null,null,"Böğürtlen reçeli"]
[null,null,null,null,null,null,null,640,15332270,{"$f":"IF(K644=1,COUNTIF($K$5:K644,1),\"\")","v":640},{"$f":"IF(ISNUMBER(SEARCH('Bilgi Girişi'!$E$4,KalemAdı,1))=TRUE,1,0)","v":1},"Meyve püresi","Mal",15332270,null,null,"Siyah kuru üzümü reçeli"]
[null,null,null,null,null,null,null,641,15332290,{"$f":"IF(K645=1,COUNTIF($K$5:K645,1),\"\")","v":641},{"$f":"IF(ISNUMBER(SEARCH('Bilgi Girişi'!$E$4,KalemAdı,1))=TRUE,1,0)","v":1},"Reçeller","Mal",15332290,null,null,"Vişne reçeli"]
[null,null,null,null,null,null,null,642,15332291,{"$f":"IF(K646=1,COUNTIF($K$5:K646,1),\"\")","v":642},{"$f":"IF(ISNUMBER(SEARCH('Bilgi Girişi'!$E$4,KalemAdı,1))=TRUE,1,0)","v":1},"Kayısı reçeli","Mal",15332291,null,null,{"$f":"IFERROR(VLOOKUP(ROW($P646),$J$5:$L$9594,3,FALSE),\"\")","v":"Ahududu reçeli"}]
[null,null,null,null,null,null,null,643,15332292,{"$f":"IF(K647=1,COUNTIF($K$5:K647,1),\"\")","v":643},{"$f":"IF(ISNUMBER(SEARCH('Bilgi Girişi'!$E$4,KalemAdı,1))=TRUE,1,0)","v":1},"Böğürtlen reçeli","Mal",15332292,null,null,"Çilek reçeli"]
[null,null,null,null,null,null,null,644,15332293,{"$f":"IF(K648=1,COUNTIF($K$5:K648,1),\"\")","v":644},{"$f":"IF(ISNUMBER(SEARCH('Bilgi Girişi'!$E$4,KalemAdı,1))=TRUE,1,0)","v":1},"Siyah kuru üzümü reçeli","Mal",15332293,null,null,"İşlenmiş kuru yemişler"]
[null,null,null,null,null,null,null,645,15332294,{"$f":"IF(K649=1,COUNTIF($K$5:K649,1),\"\")","v":645},{"$f":"IF(ISNUMBER(SEARCH('Bilgi Girişi'!$E$4,KalemAdı,1))=TRUE,1,0)","v":1},"Vişne reçeli","Mal",15332294,null,null,"Kavrulmuş veya tuzlanmış kuru yemişler"]
[null,null,null,null,null,null,null,646,15332295,{"$f":"IF(K650=1,COUNTIF($K$5:K650,1),\"\")","v":646},{"$f":"IF(ISNUMBER(SEARCH('Bilgi Girişi'!$E$4,KalemAdı,1))=TRUE,1,0)","v":1},"Ahududu reçeli","Mal",15332295,null,null,"Diğer konserve meyveler"]
[null,null,null,null,null,null,null,647,15332296,{"$f":"IF(K651=1,COUNTIF($K$5:K651,1),\"\")","v":647},{"$f":"IF(ISNUMBER(SEARCH('Bilgi Girişi'!$E$4,KalemAdı,1))=TRUE,1,0)","v":1},"Çilek reçeli","Mal",15332296,null,null,"Kurutulmuş meyveler"]
[null,null,null,null,null,null,null,648,15332300,{"$f":"IF(K652=1,COUNTIF($K$5:K652,1),\"\")","v":648},{"$f":"IF(ISNUMBER(SEARCH('Bilgi Girişi'!$E$4,KalemAdı,1))=TRUE,1,0)","v":1},"İşlenmiş kuru yemişler","Mal",15332300,null,null,"İşlenmiş kuşüzümü"]
[null,null,null,null,null,null,null,649,15332310,{"$f":"IF(K653=1,COUNTIF($K$5:K653,1),\"\")","v":649},{"$f":"IF(ISNUMBER(SEARCH('Bilgi Girişi'!$E$4,KalemAdı,1))=TRUE,1,0)","v":1},"Kavrulmuş veya tuzlanmış kuru yemişler","Mal",15332310,null,null,"İşlenmiş kuru üzüm"]
[null,null,null,null,null,null,null,650,15332400,{"$f":"IF(K654=1,COUNTIF($K$5:K654,1),\"\")","v":650},{"$f":"IF(ISNUMBER(SEARCH('Bilgi Girişi'!$E$4,KalemAdı,1))=TRUE,1,0)","v":1},"Diğer konserve meyveler","Mal",15332400,null,null,"Sultani kuru üzüm"]
[null,null,null,null,null,null,null,651,15332410,{"$f":"IF(K655=1,COUNTIF($K$5:K655,1),\"\")","v":651},{"$f":"IF(ISNUMBER(SEARCH('Bilgi Girişi'!$E$4,KalemAdı,1))=TRUE,1,0)","v":1},"Kurutulmuş meyveler","Mal",15332410,null,null,"Sebze döküntü ve artıkları"]
[null,null,null,null,null,null,null,652,15332411,{"$f":"IF(K656=1,COUNTIF($K$5:K656,1),\"\")","v":652},{"$f":"IF(ISNUMBER(SEARCH('Bilgi Girişi'!$E$4,KalemAdı,1))=TRUE,1,0)","v":1},"İşlenmiş kuşüzümü","Mal",15332411,null,null,"Hayvansal veya bitkisel katı ve sıvı yağlar"]
[null,null,null,null,null,null,null,653,15332412,{"$f":"IF(K657=1,COUNTIF($K$5:K657,1),\"\")","v":653},{"$f":"IF(ISNUMBER(SEARCH('Bilgi Girişi'!$E$4,KalemAdı,1))=TRUE,1,0)","v":1},"İşlenmiş kuru üzüm","Mal",15332412,null,null,"Ham hayvansal ve bitkisel yağlar"]
[null,null,null,null,null,null,null,654,15332419,{"$f":"IF(K658=1,COUNTIF($K$5:K658,1),\"\")","v":654},{"$f":"IF(ISNUMBER(SEARCH('Bilgi Girişi'!$E$4,KalemAdı,1))=TRUE,1,0)","v":1},"Sultani kuru üzüm","Mal",15332419,null,null,"Hayvansal veya bitkisel yağlar"]
[null,null,null,null,null,null,null,655,15333000,{"$f":"IF(K659=1,COUNTIF($K$5:K659,1),\"\")","v":655},{"$f":"IF(ISNUMBER(SEARCH('Bilgi Girişi'!$E$4,KalemAdı,1))=TRUE,1,0)","v":1},"Sebze döküntü ve artıkları","Mal",15333000,null,null,"Bitkisel yağlar"]
[null,null,null,null,null,null,null,656,15400000,{"$f":"IF(K660=1,COUNTIF($K$5:K660,1),\"\")","v":656},{"$f":"IF(ISNUMBER(SEARCH('Bilgi Girişi'!$E$4,KalemAdı,1))=TRUE,1,0)","v":1},"Hayvansal veya bitkisel katı ve sıvı yağlar","Mal",15400000,null,null,"Zeytinyağı"]
[null,null,null,null,null,null,null,657,15410000,{"$f":"IF(K661=1,COUNTIF($K$5:K661,1),\"\")","v":657},{"$f":"IF(ISNUMBER(SEARCH('Bilgi Girişi'!$E$4,KalemAdı,1))=TRUE,1,0)","v":1},"Ham hayvansal ve bitkisel yağlar","Mal",15410000,null,null,"Susam yağı"]
[null,null,null,null,null,null,null,658,15411000,{"$f":"IF(K662=1,COUNTIF($K$5:K662,1),\"\")","v":658},{"$f":"IF(ISNUMBER(SEARCH('Bilgi Girişi'!$E$4,KalemAdı,1))=TRUE,1,0)","v":1},"Hayvansal veya bitkisel yağlar","Mal",15411000,null,null,"Yerfıstığı yağı"]
[null,null,null,null,null,null,null,659,15411100,{"$f":"IF(K663=1,COUNTIF($K$5:K663,1),\"\")","v":659},{"$f":"IF(ISNUMBER(SEARCH('Bilgi Girişi'!$E$4,KalemAdı,1))=TRUE,1,0)","v":1},"Bitkisel yağlar","Mal",15411100,null,null,"Hindistan cevizi yağı"]
[null,null,null,null,null,null,null,660,15411110,{"$f":"IF(K664=1,COUNTIF($K$5:K664,1),\"\")","v":660},{"$f":"IF(ISNUMBER(SEARCH('Bilgi Girişi'!$E$4,KalemAdı,1))=TRUE,1,0)","v":1},"Zeytinyağı","Mal",15411110,null,null,"Pişirme yağları"]
[null,null,null,null,null,null,null,661,15411120,{"$f":"IF(K665=1,COUNTIF($K$5:K665,1),\"\")","v":661},{"$f":"IF(ISNUMBER(SEARCH('Bilgi Girişi'!$E$4,KalemAdı,1))=TRUE,1,0)","v":1},"Susam yağı","Mal",15411120,null,null,"Kızartma yağları"]
[null,null,null,null,null,null,null,662,15411130,{"$f":"IF(K666=1,COUNTIF($K$5:K666,1),\"\")","v":662},{"$f":"IF(ISNUMBER(SEARCH('Bilgi Girişi'!$E$4,KalemAdı,1))=TRUE,1,0)","v":1},"Yerfıstığı yağı","Mal",15411130,null,null,"Ham katı yağlar"]
[null,null,null,null,null,null,null,663,15411140,{"$f":"IF(K667=1,COUNTIF($K$5:K667,1),\"\")","v":663},{"$f":"IF(ISNUMBER(SEARCH('Bilgi Girişi'!$E$4,KalemAdı,1))=TRUE,1,0)","v":1},"Hindistan cevizi yağı","Mal",15411140,null,null,"Hayvansal katı yağlar"]
[null,null,null,null,null,null,null,664,15411200,{"$f":"IF(K668=1,COUNTIF($K$5:K668,1),\"\")","v":664},{"$f":"IF(ISNUMBER(SEARCH('Bilgi Girişi'!$E$4,KalemAdı,1))=TRUE,1,0)","v":1},"Pişirme yağları","Mal",15411200,null,null,"Bitkisel katı yağlar"]
[null,null,null,null,null,null,null,665,15411210,{"$f":"IF(K669=1,COUNTIF($K$5:K669,1),\"\")","v":665},{"$f":"IF(ISNUMBER(SEARCH('Bilgi Girişi'!$E$4,KalemAdı,1))=TRUE,1,0)","v":1},"Kızartma yağları","Mal",15411210,null,null,"Bitkisel yağların imalinde ortaya çıkan küspe ve diğer katı artıklar"]
[null,null,null,null,null,null,null,666,15412000,{"$f":"IF(K670=1,COUNTIF($K$5:K670,1),\"\")","v":666},{"$f":"IF(ISNUMBER(SEARCH('Bilgi Girişi'!$E$4,KalemAdı,1))=TRUE,1,0)","v":1},"Ham katı yağlar","Mal",15412000,null,null,"Küspe"]
[null,null,null,null,null,null,null,667,15412100,{"$f":"IF(K671=1,COUNTIF($K$5:K671,1),\"\")","v":667},{"$f":"IF(ISNUMBER(SEARCH('Bilgi Girişi'!$E$4,KalemAdı,1))=TRUE,1,0)","v":1},"Hayvansal katı yağlar","Mal",15412100,null,null,"Rafine sıvı ve katı yağlar"]
[null,null,null,null,null,null,null,668,15412200,{"$f":"IF(K672=1,COUNTIF($K$5:K672,1),\"\")","v":668},{"$f":"IF(ISNUMBER(SEARCH('Bilgi Girişi'!$E$4,KalemAdı,1))=TRUE,1,0)","v":1},"Bitkisel katı yağlar","Mal",15412200,null,null,"Rafine sıvı yağlar"]
[null,null,null,null,null,null,null,669,15413000,{"$f":"IF(K673=1,COUNTIF($K$5:K673,1),\"\")","v":669},{"$f":"IF(ISNUMBER(SEARCH('Bilgi Girişi'!$E$4,KalemAdı,1))=TRUE,1,0)","v":1},"Bitkisel yağların imalinde ortaya çıkan küspe ve diğer katı artıklar","Mal",15413000,null,null,"Rafine katı yağlar"]
[null,null,null,null,null,null,null,670,15413100,{"$f":"IF(K674=1,COUNTIF($K$5:K674,1),\"\")","v":670},{"$f":"IF(ISNUMBER(SEARCH('Bilgi Girişi'!$E$4,KalemAdı,1))=TRUE,1,0)","v":1},"Küspe","Mal",15413100,null,null,"Sertleştirilmiş veya esterifiye edilmiş yağlar"]
[null,null,null,null,null,null,null,671,15420000,{"$f":"IF(K675=1,COUNTIF($K$5:K675,1),\"\")","v":671},{"$f":"IF(ISNUMBER(SEARCH('Bilgi Girişi'!$E$4,KalemAdı,1))=TRUE,1,0)","v":1},"Rafine sıvı ve katı yağlar","Mal",15420000,null,null,"Bitkisel mumlar"]
[null,null,null,null,null,null,null,672,15421000,{"$f":"IF(K676=1,COUNTIF($K$5:K676,1),\"\")","v":672},{"$f":"IF(ISNUMBER(SEARCH('Bilgi Girişi'!$E$4,KalemAdı,1))=TRUE,1,0)","v":1},"Rafine sıvı yağlar","Mal",15421000,null,null,"Yenilebilir katı yağlar"]
[null,null,null,null,null,null,null,673,15422000,{"$f":"IF(K677=1,COUNTIF($K$5:K677,1),\"\")","v":673},{"$f":"IF(ISNUMBER(SEARCH('Bilgi Girişi'!$E$4,KalemAdı,1))=TRUE,1,0)","v":1},"Rafine katı yağlar","Mal",15422000,null,null,"Margarinler ve benzeri müstahzarlar"]
[null,null,null,null,null,null,null,674,15423000,{"$f":"IF(K678=1,COUNTIF($K$5:K678,1),\"\")","v":674},{"$f":"IF(ISNUMBER(SEARCH('Bilgi Girişi'!$E$4,KalemAdı,1))=TRUE,1,0)","v":1},"Sertleştirilmiş veya esterifiye edilmiş yağlar","Mal",15423000,null,null,"Margarinler"]
[null,null,null,null,null,null,null,675,15424000,{"$f":"IF(K679=1,COUNTIF($K$5:K679,1),\"\")","v":675},{"$f":"IF(ISNUMBER(SEARCH('Bilgi Girişi'!$E$4,KalemAdı,1))=TRUE,1,0)","v":1},"Bitkisel mumlar","Mal",15424000,null,null,"Sıvı margarin"]
[null,null,null,null,null,null,null,676,15430000,{"$f":"IF(K680=1,COUNTIF($K$5:K680,1),\"\")","v":676},{"$f":"IF(ISNUMBER(SEARCH('Bilgi Girişi'!$E$4,KalemAdı,1))=TRUE,1,0)","v":1},"Yenilebilir katı yağlar","Mal",15430000,null,null,"Hafif veya düşük yağlı sürülebilir margarinler"]
[null,null,null,null,null,null,null,677,15431000,{"$f":"IF(K681=1,COUNTIF($K$5:K681,1),\"\")","v":677},{"$f":"IF(ISNUMBER(SEARCH('Bilgi Girişi'!$E$4,KalemAdı,1))=TRUE,1,0)","v":1},"Margarinler ve benzeri müstahzarlar","Mal",15431000,null,null,"Mandıra ürünleri"]
[null,null,null,null,null,null,null,678,15431100,{"$f":"IF(K682=1,COUNTIF($K$5:K682,1),\"\")","v":678},{"$f":"IF(ISNUMBER(SEARCH('Bilgi Girişi'!$E$4,KalemAdı,1))=TRUE,1,0)","v":1},"Margarinler","Mal",15431100,null,null,"Süt, kaymak ve krema (işlenmiş)"]
[null,null,null,null,null,null,null,679,15431110,{"$f":"IF(K683=1,COUNTIF($K$5:K683,1),\"\")","v":679},{"$f":"IF(ISNUMBER(SEARCH('Bilgi Girişi'!$E$4,KalemAdı,1))=TRUE,1,0)","v":1},"Sıvı margarin","Mal",15431110,null,null,"Süt"]
[null,null,null,null,null,null,null,680,15431200,{"$f":"IF(K684=1,COUNTIF($K$5:K684,1),\"\")","v":680},{"$f":"IF(ISNUMBER(SEARCH('Bilgi Girişi'!$E$4,KalemAdı,1))=TRUE,1,0)","v":1},"Hafif veya düşük yağlı sürülebilir margarinler","Mal",15431200,null,null,"Pastörize süt"]
[null,null,null,null,null,null,null,681,15500000,{"$f":"IF(K685=1,COUNTIF($K$5:K685,1),\"\")","v":681},{"$f":"IF(ISNUMBER(SEARCH('Bilgi Girişi'!$E$4,KalemAdı,1))=TRUE,1,0)","v":1},"Mandıra ürünleri","Mal",15500000,null,null,"Sterilize süt"]
[null,null,null,null,null,null,null,682,15510000,{"$f":"IF(K686=1,COUNTIF($K$5:K686,1),\"\")","v":682},{"$f":"IF(ISNUMBER(SEARCH('Bilgi Girişi'!$E$4,KalemAdı,1))=TRUE,1,0)","v":1},"Süt, kaymak ve krema (işlenmiş)","Mal",15510000,null,null,"İşlenmiş uzun ömürlü süt"]
[null,null,null,null,null,null,null,683,15511000,{"$f":"IF(K687=1,COUNTIF($K$5:K687,1),\"\")","v":683},{"$f":"IF(ISNUMBER(SEARCH('Bilgi Girişi'!$E$4,KalemAdı,1))=TRUE,1,0)","v":1},"Süt","Mal",15511000,null,null,"Yağı alınmış süt"]
[null,null,null,null,null,null,null,684,15511100,{"$f":"IF(K688=1,COUNTIF($K$5:K688,1),\"\")","v":684},{"$f":"IF(ISNUMBER(SEARCH('Bilgi Girişi'!$E$4,KalemAdı,1))=TRUE,1,0)","v":1},"Pastörize süt","Mal",15511100,null,null,"Yarım yağlı süt"]
[null,null,null,null,null,null,null,685,15511200,{"$f":"IF(K689=1,COUNTIF($K$5:K689,1),\"\")","v":685},{"$f":"IF(ISNUMBER(SEARCH('Bilgi Girişi'!$E$4,KalemAdı,1))=TRUE,1,0)","v":1},"Sterilize süt","Mal",15511200,null,null,"Tam yağlı süt"]
[null,null,null,null,null,null,null,686,15511210,{"$f":"IF(K690=1,COUNTIF($K$5:K690,1),\"\")","v":686},{"$f":"IF(ISNUMBER(SEARCH('Bilgi Girişi'!$E$4,KalemAdı,1))=TRUE,1,0)","v":1},"İşlenmiş uzun ömürlü süt","Mal",15511210,null,null,"Konsantre edilmiş süt"]
[null,null,null,null,null,null,null,687,15511300,{"$f":"IF(K691=1,COUNTIF($K$5:K691,1),\"\")","v":687},{"$f":"IF(ISNUMBER(SEARCH('Bilgi Girişi'!$E$4,KalemAdı,1))=TRUE,1,0)","v":1},"Yağı alınmış süt","Mal",15511300,null,null,"Süt tozu"]
[null,null,null,null,null,null,null,688,15511400,{"$f":"IF(K692=1,COUNTIF($K$5:K692,1),\"\")","v":688},{"$f":"IF(ISNUMBER(SEARCH('Bilgi Girişi'!$E$4,KalemAdı,1))=TRUE,1,0)","v":1},"Yarım yağlı süt","Mal",15511400,null,null,"Kaymak, krema"]
[null,null,null,null,null,null,null,689,15511500,{"$f":"IF(K693=1,COUNTIF($K$5:K693,1),\"\")","v":689},{"$f":"IF(ISNUMBER(SEARCH('Bilgi Girişi'!$E$4,KalemAdı,1))=TRUE,1,0)","v":1},"Tam yağlı süt","Mal",15511500,null,null,"Yağı alınmış krema"]
[null,null,null,null,null,null,null,690,15511600,{"$f":"IF(K694=1,COUNTIF($K$5:K694,1),\"\")","v":690},{"$f":"IF(ISNUMBER(SEARCH('Bilgi Girişi'!$E$4,KalemAdı,1))=TRUE,1,0)","v":1},"Konsantre edilmiş süt","Mal",15511600,null,null,"Tam yağlı krema"]
[null,null,null,null,null,null,null,691,15511700,{"$f":"IF(K695=1,COUNTIF($K$5:K695,1),\"\")","v":691},{"$f":"IF(ISNUMBER(SEARCH('Bilgi Girişi'!$E$4,KalemAdı,1))=TRUE,1,0)","v":1},"Süt tozu","Mal",15511700,null,null,"Süt kesiği"]
[null,null,null,null,null,null,null,692,15512000,{"$f":"IF(K696=1,COUNTIF($K$5:K696,1),\"\")","v":692},{"$f":"IF(ISNUMBER(SEARCH('Bilgi Girişi'!$E$4,KalemAdı,1))=TRUE,1,0)","v":1},"Kaymak, krema","Mal",15512000,null,null,"Krem şanti"]
[null,null,null,null,null,null,null,693,15512100,{"$f":"IF(K697=1,COUNTIF($K$5:K697,1),\"\")","v":693},{"$f":"IF(ISNUMBER(SEARCH('Bilgi Girişi'!$E$4,KalemAdı,1))=TRUE,1,0)","v":1},"Yağı alınmış krema","Mal",15512100,null,null,"Tereyağı"]
[null,null,null,null,null,null,null,694,15512200,{"$f":"IF(K698=1,COUNTIF($K$5:K698,1),\"\")","v":694},{"$f":"IF(ISNUMBER(SEARCH('Bilgi Girişi'!$E$4,KalemAdı,1))=TRUE,1,0)","v":1},"Tam yağlı krema","Mal",15512200,null,null,"Peynir ürünleri"]
[null,null,null,null,null,null,null,695,15512300,{"$f":"IF(K699=1,COUNTIF($K$5:K699,1),\"\")","v":695},{"$f":"IF(ISNUMBER(SEARCH('Bilgi Girişi'!$E$4,KalemAdı,1))=TRUE,1,0)","v":1},"Süt kesiği","Mal",15512300,null,null,"Sofralık peynir"]
[null,null,null,null,null,null,null,696,15512900,{"$f":"IF(K700=1,COUNTIF($K$5:K700,1),\"\")","v":696},{"$f":"IF(ISNUMBER(SEARCH('Bilgi Girişi'!$E$4,KalemAdı,1))=TRUE,1,0)","v":1},"Krem şanti","Mal",15512900,null,null,"Taze peynir"]
[null,null,null,null,null,null,null,697,15530000,{"$f":"IF(K701=1,COUNTIF($K$5:K701,1),\"\")","v":697},{"$f":"IF(ISNUMBER(SEARCH('Bilgi Girişi'!$E$4,KalemAdı,1))=TRUE,1,0)","v":1},"Tereyağı","Mal",15530000,null,null,"Süzme peynir"]
[null,null,null,null,null,null,null,698,15540000,{"$f":"IF(K702=1,COUNTIF($K$5:K702,1),\"\")","v":698},{"$f":"IF(ISNUMBER(SEARCH('Bilgi Girişi'!$E$4,KalemAdı,1))=TRUE,1,0)","v":1},"Peynir ürünleri","Mal",15540000,null,null,"Yumuşak peynir"]
[null,null,null,null,null,null,null,699,15541000,{"$f":"IF(K703=1,COUNTIF($K$5:K703,1),\"\")","v":699},{"$f":"IF(ISNUMBER(SEARCH('Bilgi Girişi'!$E$4,KalemAdı,1))=TRUE,1,0)","v":1},"Sofralık peynir","Mal",15541000,null,null,"Feta peyniri"]
[null,null,null,null,null,null,null,700,15542000,{"$f":"IF(K704=1,COUNTIF($K$5:K704,1),\"\")","v":700},{"$f":"IF(ISNUMBER(SEARCH('Bilgi Girişi'!$E$4,KalemAdı,1))=TRUE,1,0)","v":1},"Taze peynir","Mal",15542000,null,null,"Rendelenmiş veya toz peynir"]
[null,null,null,null,null,null,null,701,15542100,{"$f":"IF(K705=1,COUNTIF($K$5:K705,1),\"\")","v":701},{"$f":"IF(ISNUMBER(SEARCH('Bilgi Girişi'!$E$4,KalemAdı,1))=TRUE,1,0)","v":1},"Süzme peynir","Mal",15542100,null,null,"Küflü peynir"]
[null,null,null,null,null,null,null,702,15542200,{"$f":"IF(K706=1,COUNTIF($K$5:K706,1),\"\")","v":702},{"$f":"IF(ISNUMBER(SEARCH('Bilgi Girişi'!$E$4,KalemAdı,1))=TRUE,1,0)","v":1},"Yumuşak peynir","Mal",15542200,null,null,"Çedar peynir"]
[null,null,null,null,null,null,null,703,15542300,{"$f":"IF(K707=1,COUNTIF($K$5:K707,1),\"\")","v":703},{"$f":"IF(ISNUMBER(SEARCH('Bilgi Girişi'!$E$4,KalemAdı,1))=TRUE,1,0)","v":1},"Feta peyniri","Mal",15542300,null,null,"Rendelenmiş peynir"]
[null,null,null,null,null,null,null,704,15543000,{"$f":"IF(K708=1,COUNTIF($K$5:K708,1),\"\")","v":704},{"$f":"IF(ISNUMBER(SEARCH('Bilgi Girişi'!$E$4,KalemAdı,1))=TRUE,1,0)","v":1},"Rendelenmiş veya toz peynir","Mal",15543000,null,null,"Parmazan peyniri"]
[null,null,null,null,null,null,null,705,15543100,{"$f":"IF(K709=1,COUNTIF($K$5:K709,1),\"\")","v":705},{"$f":"IF(ISNUMBER(SEARCH('Bilgi Girişi'!$E$4,KalemAdı,1))=TRUE,1,0)","v":1},"Küflü peynir","Mal",15543100,null,null,"Sert peynir"]
[null,null,null,null,null,null,null,706,15543200,{"$f":"IF(K710=1,COUNTIF($K$5:K710,1),\"\")","v":706},{"$f":"IF(ISNUMBER(SEARCH('Bilgi Girişi'!$E$4,KalemAdı,1))=TRUE,1,0)","v":1},"Çedar peynir","Mal",15543200,null,null,{"$f":"IFERROR(VLOOKUP(ROW($P710),$J$5:$L$9594,3,FALSE),\"\")","v":"Eritme peynirler"}]
[null,null,null,null,null,null,null,707,15543300,{"$f":"IF(K711=1,COUNTIF($K$5:K711,1),\"\")","v":707},{"$f":"IF(ISNUMBER(SEARCH('Bilgi Girişi'!$E$4,KalemAdı,1))=TRUE,1,0)","v":1},"Rendelenmiş peynir","Mal",15543300,null,null,"Çeşitli mandıra ürünleri"]
[null,null,null,null,null,null,null,708,15543400,{"$f":"IF(K712=1,COUNTIF($K$5:K712,1),\"\")","v":708},{"$f":"IF(ISNUMBER(SEARCH('Bilgi Girişi'!$E$4,KalemAdı,1))=TRUE,1,0)","v":1},"Parmazan peyniri","Mal",15543400,null,null,"Yoğurt ve diğer fermente edilmiş veya asitlendirilmiş süt ürünleri"]
[null,null,null,null,null,null,null,709,15544000,{"$f":"IF(K713=1,COUNTIF($K$5:K713,1),\"\")","v":709},{"$f":"IF(ISNUMBER(SEARCH('Bilgi Girişi'!$E$4,KalemAdı,1))=TRUE,1,0)","v":1},"Sert peynir","Mal",15544000,null,null,"Yoğurt"]
[null,null,null,null,null,null,null,710,15545000,{"$f":"IF(K714=1,COUNTIF($K$5:K714,1),\"\")","v":710},{"$f":"IF(ISNUMBER(SEARCH('Bilgi Girişi'!$E$4,KalemAdı,1))=TRUE,1,0)","v":1},"Eritme peynirler","Mal",15545000,null,null,"Tatlandırıcı katkısız yoğurt"]
[null,null,null,null,null,null,null,711,15550000,{"$f":"IF(K715=1,COUNTIF($K$5:K715,1),\"\")","v":711},{"$f":"IF(ISNUMBER(SEARCH('Bilgi Girişi'!$E$4,KalemAdı,1))=TRUE,1,0)","v":1},"Çeşitli mandıra ürünleri","Mal",15550000,null,null,"Tatlandırıcı katkılı yoğurt"]
[null,null,null,null,null,null,null,712,15551000,{"$f":"IF(K716=1,COUNTIF($K$5:K716,1),\"\")","v":712},{"$f":"IF(ISNUMBER(SEARCH('Bilgi Girişi'!$E$4,KalemAdı,1))=TRUE,1,0)","v":1},"Yoğurt ve diğer fermente edilmiş veya asitlendirilmiş süt ürünleri","Mal",15551000,null,null,"Yayık ayranı"]
[null,null,null,null,null,null,null,713,15551300,{"$f":"IF(K717=1,COUNTIF($K$5:K717,1),\"\")","v":713},{"$f":"IF(ISNUMBER(SEARCH('Bilgi Girişi'!$E$4,KalemAdı,1))=TRUE,1,0)","v":1},"Yoğurt","Mal",15551300,null,null,"Kazein"]
[null,null,null,null,null,null,null,714,15551310,{"$f":"IF(K718=1,COUNTIF($K$5:K718,1),\"\")","v":714},{"$f":"IF(ISNUMBER(SEARCH('Bilgi Girişi'!$E$4,KalemAdı,1))=TRUE,1,0)","v":1},"Tatlandırıcı katkısız yoğurt","Mal",15551310,null,null,"Laktoz veya laktoz şurubu"]
[null,null,null,null,null,null,null,715,15551320,{"$f":"IF(K719=1,COUNTIF($K$5:K719,1),\"\")","v":715},{"$f":"IF(ISNUMBER(SEARCH('Bilgi Girişi'!$E$4,KalemAdı,1))=TRUE,1,0)","v":1},"Tatlandırıcı katkılı yoğurt","Mal",15551320,null,null,"Kesilmiş sütün suyu"]
[null,null,null,null,null,null,null,716,15551500,{"$f":"IF(K720=1,COUNTIF($K$5:K720,1),\"\")","v":716},{"$f":"IF(ISNUMBER(SEARCH('Bilgi Girişi'!$E$4,KalemAdı,1))=TRUE,1,0)","v":1},"Yayık ayranı","Mal",15551500,null,null,"Dondurma ve benzeri ürünler"]
[null,null,null,null,null,null,null,717,15552000,{"$f":"IF(K721=1,COUNTIF($K$5:K721,1),\"\")","v":717},{"$f":"IF(ISNUMBER(SEARCH('Bilgi Girişi'!$E$4,KalemAdı,1))=TRUE,1,0)","v":1},"Kazein","Mal",15552000,null,null,"Dondurma"]
[null,null,null,null,null,null,null,718,15553000,{"$f":"IF(K722=1,COUNTIF($K$5:K722,1),\"\")","v":718},{"$f":"IF(ISNUMBER(SEARCH('Bilgi Girişi'!$E$4,KalemAdı,1))=TRUE,1,0)","v":1},"Laktoz veya laktoz şurubu","Mal",15553000,null,null,"Buzlu sütlü şerbet"]
[null,null,null,null,null,null,null,719,15554000,{"$f":"IF(K723=1,COUNTIF($K$5:K723,1),\"\")","v":719},{"$f":"IF(ISNUMBER(SEARCH('Bilgi Girişi'!$E$4,KalemAdı,1))=TRUE,1,0)","v":1},"Kesilmiş sütün suyu","Mal",15554000,null,null,"Değirmencilik ürünleri; un, hububat, nişasta ve ürünleri"]
[null,null,null,null,null,null,null,720,15555000,{"$f":"IF(K724=1,COUNTIF($K$5:K724,1),\"\")","v":720},{"$f":"IF(ISNUMBER(SEARCH('Bilgi Girişi'!$E$4,KalemAdı,1))=TRUE,1,0)","v":1},"Dondurma ve benzeri ürünler","Mal",15555000,null,null,"Değirmencilik ürünleri"]
[null,null,null,null,null,null,null,721,15555100,{"$f":"IF(K725=1,COUNTIF($K$5:K725,1),\"\")","v":721},{"$f":"IF(ISNUMBER(SEARCH('Bilgi Girişi'!$E$4,KalemAdı,1))=TRUE,1,0)","v":1},"Dondurma","Mal",15555100,null,null,"Kabuklu pirinç"]
[null,null,null,null,null,null,null,722,15555200,{"$f":"IF(K726=1,COUNTIF($K$5:K726,1),\"\")","v":722},{"$f":"IF(ISNUMBER(SEARCH('Bilgi Girişi'!$E$4,KalemAdı,1))=TRUE,1,0)","v":1},"Buzlu sütlü şerbet","Mal",15555200,null,null,"Hububat unları veya bitkisel unlar ve ilgili ürünler"]
[null,null,null,null,null,null,null,723,15600000,{"$f":"IF(K727=1,COUNTIF($K$5:K727,1),\"\")","v":723},{"$f":"IF(ISNUMBER(SEARCH('Bilgi Girişi'!$E$4,KalemAdı,1))=TRUE,1,0)","v":1},"Değirmencilik ürünleri; un, hububat, nişasta ve ürünleri","Mal",15600000,null,null,"Buğday unu"]
[null,null,null,null,null,null,null,724,15610000,{"$f":"IF(K728=1,COUNTIF($K$5:K728,1),\"\")","v":724},{"$f":"IF(ISNUMBER(SEARCH('Bilgi Girişi'!$E$4,KalemAdı,1))=TRUE,1,0)","v":1},"Değirmencilik ürünleri","Mal",15610000,null,null,"Kepekli un"]
[null,null,null,null,null,null,null,725,15611000,{"$f":"IF(K729=1,COUNTIF($K$5:K729,1),\"\")","v":725},{"$f":"IF(ISNUMBER(SEARCH('Bilgi Girişi'!$E$4,KalemAdı,1))=TRUE,1,0)","v":1},"Kabuklu pirinç","Mal",15611000,null,null,"Ekmeklik un"]
[null,null,null,null,null,null,null,726,15612000,{"$f":"IF(K730=1,COUNTIF($K$5:K730,1),\"\")","v":726},{"$f":"IF(ISNUMBER(SEARCH('Bilgi Girişi'!$E$4,KalemAdı,1))=TRUE,1,0)","v":1},"Hububat unları veya bitkisel unlar ve ilgili ürünler","Mal",15612000,null,null,"Katkısız un"]
[null,null,null,null,null,null,null,727,15612100,{"$f":"IF(K731=1,COUNTIF($K$5:K731,1),\"\")","v":727},{"$f":"IF(ISNUMBER(SEARCH('Bilgi Girişi'!$E$4,KalemAdı,1))=TRUE,1,0)","v":1},"Buğday unu","Mal",15612100,null,null,"Pastalık – hamur işi unu"]
[null,null,null,null,null,null,null,728,15612110,{"$f":"IF(K732=1,COUNTIF($K$5:K732,1),\"\")","v":728},{"$f":"IF(ISNUMBER(SEARCH('Bilgi Girişi'!$E$4,KalemAdı,1))=TRUE,1,0)","v":1},"Kepekli un","Mal",15612110,null,null,"Kendiliğinden kabaran un"]
[null,null,null,null,null,null,null,729,15612120,{"$f":"IF(K733=1,COUNTIF($K$5:K733,1),\"\")","v":729},{"$f":"IF(ISNUMBER(SEARCH('Bilgi Girişi'!$E$4,KalemAdı,1))=TRUE,1,0)","v":1},"Ekmeklik un","Mal",15612120,null,null,"Diğer hububat unları"]
[null,null,null,null,null,null,null,730,15612130,{"$f":"IF(K734=1,COUNTIF($K$5:K734,1),\"\")","v":730},{"$f":"IF(ISNUMBER(SEARCH('Bilgi Girişi'!$E$4,KalemAdı,1))=TRUE,1,0)","v":1},"Katkısız un","Mal",15612130,null,null,"Mısır unu"]
[null,null,null,null,null,null,null,731,15612150,{"$f":"IF(K735=1,COUNTIF($K$5:K735,1),\"\")","v":731},{"$f":"IF(ISNUMBER(SEARCH('Bilgi Girişi'!$E$4,KalemAdı,1))=TRUE,1,0)","v":1},"Pastalık – hamur işi unu","Mal",15612150,null,null,"Pirinç unu"]
[null,null,null,null,null,null,null,732,15612190,{"$f":"IF(K736=1,COUNTIF($K$5:K736,1),\"\")","v":732},{"$f":"IF(ISNUMBER(SEARCH('Bilgi Girişi'!$E$4,KalemAdı,1))=TRUE,1,0)","v":1},"Kendiliğinden kabaran un","Mal",15612190,null,null,"Bitkisel un ve bitkisel unlu gıdalar"]
[null,null,null,null,null,null,null,733,15612200,{"$f":"IF(K737=1,COUNTIF($K$5:K737,1),\"\")","v":733},{"$f":"IF(ISNUMBER(SEARCH('Bilgi Girişi'!$E$4,KalemAdı,1))=TRUE,1,0)","v":1},"Diğer hububat unları","Mal",15612200,null,null,"Fırıncılık ürünlerinin hazırlamasında kullanılan karışımlar"]
[null,null,null,null,null,null,null,734,15612210,{"$f":"IF(K738=1,COUNTIF($K$5:K738,1),\"\")","v":734},{"$f":"IF(ISNUMBER(SEARCH('Bilgi Girişi'!$E$4,KalemAdı,1))=TRUE,1,0)","v":1},"Mısır unu","Mal",15612210,null,null,"Kek karışımları"]
[null,null,null,null,null,null,null,735,15612220,{"$f":"IF(K739=1,COUNTIF($K$5:K739,1),\"\")","v":735},{"$f":"IF(ISNUMBER(SEARCH('Bilgi Girişi'!$E$4,KalemAdı,1))=TRUE,1,0)","v":1},"Pirinç unu","Mal",15612220,null,null,"Kabartma karışımları"]
[null,null,null,null,null,null,null,736,15612300,{"$f":"IF(K740=1,COUNTIF($K$5:K740,1),\"\")","v":736},{"$f":"IF(ISNUMBER(SEARCH('Bilgi Girişi'!$E$4,KalemAdı,1))=TRUE,1,0)","v":1},"Bitkisel un ve bitkisel unlu gıdalar","Mal",15612300,null,null,"Pastane ve fırın ürünleri"]
[null,null,null,null,null,null,null,737,15612400,{"$f":"IF(K741=1,COUNTIF($K$5:K741,1),\"\")","v":737},{"$f":"IF(ISNUMBER(SEARCH('Bilgi Girişi'!$E$4,KalemAdı,1))=TRUE,1,0)","v":1},"Fırıncılık ürünlerinin hazırlamasında kullanılan karışımlar","Mal",15612400,null,null,"Diğer tahıl ve hububat ürünleri"]
[null,null,null,null,null,null,null,738,15612410,{"$f":"IF(K742=1,COUNTIF($K$5:K742,1),\"\")","v":738},{"$f":"IF(ISNUMBER(SEARCH('Bilgi Girişi'!$E$4,KalemAdı,1))=TRUE,1,0)","v":1},"Kek karışımları","Mal",15612410,null,null,"Öğütülmüş yulaflar"]
[null,null,null,null,null,null,null,739,15612420,{"$f":"IF(K743=1,COUNTIF($K$5:K743,1),\"\")","v":739},{"$f":"IF(ISNUMBER(SEARCH('Bilgi Girişi'!$E$4,KalemAdı,1))=TRUE,1,0)","v":1},"Kabartma karışımları","Mal",15612420,null,null,"Diğer tahıl mamulleri"]
[null,null,null,null,null,null,null,740,15612500,{"$f":"IF(K744=1,COUNTIF($K$5:K744,1),\"\")","v":740},{"$f":"IF(ISNUMBER(SEARCH('Bilgi Girişi'!$E$4,KalemAdı,1))=TRUE,1,0)","v":1},"Pastane ve fırın ürünleri","Mal",15612500,null,null,"Hazır kahvaltılık tahıl yiyecekleri"]
[null,null,null,null,null,null,null,741,15613000,{"$f":"IF(K745=1,COUNTIF($K$5:K745,1),\"\")","v":741},{"$f":"IF(ISNUMBER(SEARCH('Bilgi Girişi'!$E$4,KalemAdı,1))=TRUE,1,0)","v":1},"Diğer tahıl ve hububat ürünleri","Mal",15613000,null,null,"Mısır gevreği"]
[null,null,null,null,null,null,null,742,15613100,{"$f":"IF(K746=1,COUNTIF($K$5:K746,1),\"\")","v":742},{"$f":"IF(ISNUMBER(SEARCH('Bilgi Girişi'!$E$4,KalemAdı,1))=TRUE,1,0)","v":1},"Öğütülmüş yulaflar","Mal",15613100,null,null,"Müsli veya eşdeğeri"]
[null,null,null,null,null,null,null,743,15613300,{"$f":"IF(K747=1,COUNTIF($K$5:K747,1),\"\")","v":743},{"$f":"IF(ISNUMBER(SEARCH('Bilgi Girişi'!$E$4,KalemAdı,1))=TRUE,1,0)","v":1},"Diğer tahıl mamulleri","Mal",15613300,null,null,"İşlenerek taneleri irileştirilmiş kahvaltılık buğday"]
[null,null,null,null,null,null,null,744,15613310,{"$f":"IF(K748=1,COUNTIF($K$5:K748,1),\"\")","v":744},{"$f":"IF(ISNUMBER(SEARCH('Bilgi Girişi'!$E$4,KalemAdı,1))=TRUE,1,0)","v":1},"Hazır kahvaltılık tahıl yiyecekleri","Mal",15613310,null,null,"Yulaf ezmesi"]
[null,null,null,null,null,null,null,745,15613311,{"$f":"IF(K749=1,COUNTIF($K$5:K749,1),\"\")","v":745},{"$f":"IF(ISNUMBER(SEARCH('Bilgi Girişi'!$E$4,KalemAdı,1))=TRUE,1,0)","v":1},"Mısır gevreği","Mal",15613311,null,null,"İşlenmiş pirinç"]
[null,null,null,null,null,null,null,746,15613313,{"$f":"IF(K750=1,COUNTIF($K$5:K750,1),\"\")","v":746},{"$f":"IF(ISNUMBER(SEARCH('Bilgi Girişi'!$E$4,KalemAdı,1))=TRUE,1,0)","v":1},"Müsli veya eşdeğeri","Mal",15613313,null,null,"Uzun taneli pirinç"]
[null,null,null,null,null,null,null,747,15613319,{"$f":"IF(K751=1,COUNTIF($K$5:K751,1),\"\")","v":747},{"$f":"IF(ISNUMBER(SEARCH('Bilgi Girişi'!$E$4,KalemAdı,1))=TRUE,1,0)","v":1},"İşlenerek taneleri irileştirilmiş kahvaltılık buğday","Mal",15613319,null,null,"Öğütülmüş pirinç"]
[null,null,null,null,null,null,null,748,15613380,{"$f":"IF(K752=1,COUNTIF($K$5:K752,1),\"\")","v":748},{"$f":"IF(ISNUMBER(SEARCH('Bilgi Girişi'!$E$4,KalemAdı,1))=TRUE,1,0)","v":1},"Yulaf ezmesi","Mal",15613380,null,null,"Kırık pirinç"]
[null,null,null,null,null,null,null,749,15614000,{"$f":"IF(K753=1,COUNTIF($K$5:K753,1),\"\")","v":749},{"$f":"IF(ISNUMBER(SEARCH('Bilgi Girişi'!$E$4,KalemAdı,1))=TRUE,1,0)","v":1},"İşlenmiş pirinç","Mal",15614000,null,null,"Kepekli un"]
[null,null,null,null,null,null,null,750,15614100,{"$f":"IF(K754=1,COUNTIF($K$5:K754,1),\"\")","v":750},{"$f":"IF(ISNUMBER(SEARCH('Bilgi Girişi'!$E$4,KalemAdı,1))=TRUE,1,0)","v":1},"Uzun taneli pirinç","Mal",15614100,null,null,"Nişasta ve nişasta ürünleri"]
[null,null,null,null,null,null,null,751,15614200,{"$f":"IF(K755=1,COUNTIF($K$5:K755,1),\"\")","v":751},{"$f":"IF(ISNUMBER(SEARCH('Bilgi Girişi'!$E$4,KalemAdı,1))=TRUE,1,0)","v":1},"Öğütülmüş pirinç","Mal",15614200,null,null,"Mısır yağı ve fraksiyonları (kimyasal)"]
[null,null,null,null,null,null,null,752,15614300,{"$f":"IF(K756=1,COUNTIF($K$5:K756,1),\"\")","v":752},{"$f":"IF(ISNUMBER(SEARCH('Bilgi Girişi'!$E$4,KalemAdı,1))=TRUE,1,0)","v":1},"Kırık pirinç","Mal",15614300,null,null,"Glikoz ve glikoz ürünleri; fruktoz ve fruktoz ürünleri"]
[null,null,null,null,null,null,null,753,15615000,{"$f":"IF(K757=1,COUNTIF($K$5:K757,1),\"\")","v":753},{"$f":"IF(ISNUMBER(SEARCH('Bilgi Girişi'!$E$4,KalemAdı,1))=TRUE,1,0)","v":1},"Kepekli un","Mal",15615000,null,null,"Glikoz ve glikoz ürünleri"]
[null,null,null,null,null,null,null,754,15620000,{"$f":"IF(K758=1,COUNTIF($K$5:K758,1),\"\")","v":754},{"$f":"IF(ISNUMBER(SEARCH('Bilgi Girişi'!$E$4,KalemAdı,1))=TRUE,1,0)","v":1},"Nişasta ve nişasta ürünleri","Mal",15620000,null,null,"Glikoz"]
[null,null,null,null,null,null,null,755,15621000,{"$f":"IF(K759=1,COUNTIF($K$5:K759,1),\"\")","v":755},{"$f":"IF(ISNUMBER(SEARCH('Bilgi Girişi'!$E$4,KalemAdı,1))=TRUE,1,0)","v":1},"Mısır yağı ve fraksiyonları (kimyasal)","Mal",15621000,null,null,"Glikoz şurubu"]
[null,null,null,null,null,null,null,756,15622000,{"$f":"IF(K760=1,COUNTIF($K$5:K760,1),\"\")","v":756},{"$f":"IF(ISNUMBER(SEARCH('Bilgi Girişi'!$E$4,KalemAdı,1))=TRUE,1,0)","v":1},"Glikoz ve glikoz ürünleri; fruktoz ve fruktoz ürünleri","Mal",15622000,null,null,"Früktoz ve früktoz ürünleri"]
[null,null,null,null,null,null,null,757,15622100,{"$f":"IF(K761=1,COUNTIF($K$5:K761,1),\"\")","v":757},{"$f":"IF(ISNUMBER(SEARCH('Bilgi Girişi'!$E$4,KalemAdı,1))=TRUE,1,0)","v":1},"Glikoz ve glikoz ürünleri","Mal",15622100,null,null,"Früktoz"]
[null,null,null,null,null,null,null,758,15622110,{"$f":"IF(K762=1,COUNTIF($K$5:K762,1),\"\")","v":758},{"$f":"IF(ISNUMBER(SEARCH('Bilgi Girişi'!$E$4,KalemAdı,1))=TRUE,1,0)","v":1},"Glikoz","Mal",15622110,null,null,"Früktoz müstahzarları"]
[null,null,null,null,null,null,null,759,15622120,{"$f":"IF(K763=1,COUNTIF($K$5:K763,1),\"\")","v":759},{"$f":"IF(ISNUMBER(SEARCH('Bilgi Girişi'!$E$4,KalemAdı,1))=TRUE,1,0)","v":1},"Glikoz şurubu","Mal",15622120,null,null,"Früktoz solüsyonları"]
[null,null,null,null,null,null,null,760,15622300,{"$f":"IF(K764=1,COUNTIF($K$5:K764,1),\"\")","v":760},{"$f":"IF(ISNUMBER(SEARCH('Bilgi Girişi'!$E$4,KalemAdı,1))=TRUE,1,0)","v":1},"Früktoz ve früktoz ürünleri","Mal",15622300,null,null,"Früktoz şurubu"]
[null,null,null,null,null,null,null,761,15622310,{"$f":"IF(K765=1,COUNTIF($K$5:K765,1),\"\")","v":761},{"$f":"IF(ISNUMBER(SEARCH('Bilgi Girişi'!$E$4,KalemAdı,1))=TRUE,1,0)","v":1},"Früktoz","Mal",15622310,null,null,"Nişastalar"]
[null,null,null,null,null,null,null,762,15622320,{"$f":"IF(K766=1,COUNTIF($K$5:K766,1),\"\")","v":762},{"$f":"IF(ISNUMBER(SEARCH('Bilgi Girişi'!$E$4,KalemAdı,1))=TRUE,1,0)","v":1},"Früktoz müstahzarları","Mal",15622320,null,null,"Tapyoka"]
[null,null,null,null,null,null,null,763,15622321,{"$f":"IF(K767=1,COUNTIF($K$5:K767,1),\"\")","v":763},{"$f":"IF(ISNUMBER(SEARCH('Bilgi Girişi'!$E$4,KalemAdı,1))=TRUE,1,0)","v":1},"Früktoz solüsyonları","Mal",15622321,null,null,"İrmik"]
[null,null,null,null,null,null,null,764,15622322,{"$f":"IF(K768=1,COUNTIF($K$5:K768,1),\"\")","v":764},{"$f":"IF(ISNUMBER(SEARCH('Bilgi Girişi'!$E$4,KalemAdı,1))=TRUE,1,0)","v":1},"Früktoz şurubu","Mal",15622322,null,null,"Kastard pudrası"]
[null,null,null,null,null,null,null,765,15623000,{"$f":"IF(K769=1,COUNTIF($K$5:K769,1),\"\")","v":765},{"$f":"IF(ISNUMBER(SEARCH('Bilgi Girişi'!$E$4,KalemAdı,1))=TRUE,1,0)","v":1},"Nişastalar","Mal",15623000,null,null,"Hazır hayvan yemleri"]
[null,null,null,null,null,null,null,766,15624000,{"$f":"IF(K770=1,COUNTIF($K$5:K770,1),\"\")","v":766},{"$f":"IF(ISNUMBER(SEARCH('Bilgi Girişi'!$E$4,KalemAdı,1))=TRUE,1,0)","v":1},"Tapyoka","Mal",15624000,null,null,"Çiftlik hayvanları ve diğer hayvanlar için hazır yem"]
[null,null,null,null,null,null,null,767,15625000,{"$f":"IF(K771=1,COUNTIF($K$5:K771,1),\"\")","v":767},{"$f":"IF(ISNUMBER(SEARCH('Bilgi Girişi'!$E$4,KalemAdı,1))=TRUE,1,0)","v":1},"İrmik","Mal",15625000,null,null,"Balık yemi"]
[null,null,null,null,null,null,null,768,15626000,{"$f":"IF(K772=1,COUNTIF($K$5:K772,1),\"\")","v":768},{"$f":"IF(ISNUMBER(SEARCH('Bilgi Girişi'!$E$4,KalemAdı,1))=TRUE,1,0)","v":1},"Kastard pudrası","Mal",15626000,null,null,"Kuru yem"]
[null,null,null,null,null,null,null,769,15700000,{"$f":"IF(K773=1,COUNTIF($K$5:K773,1),\"\")","v":769},{"$f":"IF(ISNUMBER(SEARCH('Bilgi Girişi'!$E$4,KalemAdı,1))=TRUE,1,0)","v":1},"Hazır hayvan yemleri","Mal",15700000,null,null,"Ev hayvanları için hazır yemler"]
[null,null,null,null,null,null,null,770,15710000,{"$f":"IF(K774=1,COUNTIF($K$5:K774,1),\"\")","v":770},{"$f":"IF(ISNUMBER(SEARCH('Bilgi Girişi'!$E$4,KalemAdı,1))=TRUE,1,0)","v":1},"Çiftlik hayvanları ve diğer hayvanlar için hazır yem","Mal",15710000,null,null,{"$f":"IFERROR(VLOOKUP(ROW($P774),$J$5:$L$9594,3,FALSE),\"\")","v":"Diğer gıda maddeleri"}]
[null,null,null,null,null,null,null,771,15711000,{"$f":"IF(K775=1,COUNTIF($K$5:K775,1),\"\")","v":771},{"$f":"IF(ISNUMBER(SEARCH('Bilgi Girişi'!$E$4,KalemAdı,1))=TRUE,1,0)","v":1},"Balık yemi","Mal",15711000,null,null,"Ekmek ürünleri, taze pastane ürünleri ve kekler"]
[null,null,null,null,null,null,null,772,15712000,{"$f":"IF(K776=1,COUNTIF($K$5:K776,1),\"\")","v":772},{"$f":"IF(ISNUMBER(SEARCH('Bilgi Girişi'!$E$4,KalemAdı,1))=TRUE,1,0)","v":1},"Kuru yem","Mal",15712000,null,null,"Ekmek ürünleri"]
[null,null,null,null,null,null,null,773,15713000,{"$f":"IF(K777=1,COUNTIF($K$5:K777,1),\"\")","v":773},{"$f":"IF(ISNUMBER(SEARCH('Bilgi Girişi'!$E$4,KalemAdı,1))=TRUE,1,0)","v":1},"Ev hayvanları için hazır yemler","Mal",15713000,null,null,"Ekmek"]
[null,null,null,null,null,null,null,774,15800000,{"$f":"IF(K778=1,COUNTIF($K$5:K778,1),\"\")","v":774},{"$f":"IF(ISNUMBER(SEARCH('Bilgi Girişi'!$E$4,KalemAdı,1))=TRUE,1,0)","v":1},"Diğer gıda maddeleri","Mal",15800000,null,null,"Yuvarlak francala"]
[null,null,null,null,null,null,null,775,15810000,{"$f":"IF(K779=1,COUNTIF($K$5:K779,1),\"\")","v":775},{"$f":"IF(ISNUMBER(SEARCH('Bilgi Girişi'!$E$4,KalemAdı,1))=TRUE,1,0)","v":1},"Ekmek ürünleri, taze pastane ürünleri ve kekler","Mal",15810000,null,null,"Çörekler, Kruvasanlar"]
[null,null,null,null,null,null,null,776,15811000,{"$f":"IF(K780=1,COUNTIF($K$5:K780,1),\"\")","v":776},{"$f":"IF(ISNUMBER(SEARCH('Bilgi Girişi'!$E$4,KalemAdı,1))=TRUE,1,0)","v":1},"Ekmek ürünleri","Mal",15811000,null,null,"Krampetler"]
[null,null,null,null,null,null,null,777,15811100,{"$f":"IF(K781=1,COUNTIF($K$5:K781,1),\"\")","v":777},{"$f":"IF(ISNUMBER(SEARCH('Bilgi Girişi'!$E$4,KalemAdı,1))=TRUE,1,0)","v":1},"Ekmek","Mal",15811100,null,null,"Hazır ekmek ürünleri"]
[null,null,null,null,null,null,null,778,15811200,{"$f":"IF(K782=1,COUNTIF($K$5:K782,1),\"\")","v":778},{"$f":"IF(ISNUMBER(SEARCH('Bilgi Girişi'!$E$4,KalemAdı,1))=TRUE,1,0)","v":1},"Yuvarlak francala","Mal",15811200,null,null,"Sandviçler"]
[null,null,null,null,null,null,null,779,15811300,{"$f":"IF(K783=1,COUNTIF($K$5:K783,1),\"\")","v":779},{"$f":"IF(ISNUMBER(SEARCH('Bilgi Girişi'!$E$4,KalemAdı,1))=TRUE,1,0)","v":1},"Çörekler, Kruvasanlar","Mal",15811300,null,null,"Hazır sandviçler"]
[null,null,null,null,null,null,null,780,15811400,{"$f":"IF(K784=1,COUNTIF($K$5:K784,1),\"\")","v":780},{"$f":"IF(ISNUMBER(SEARCH('Bilgi Girişi'!$E$4,KalemAdı,1))=TRUE,1,0)","v":1},"Krampetler","Mal",15811400,null,null,"Pastane ürünleri ve kekler"]
[null,null,null,null,null,null,null,781,15811500,{"$f":"IF(K785=1,COUNTIF($K$5:K785,1),\"\")","v":781},{"$f":"IF(ISNUMBER(SEARCH('Bilgi Girişi'!$E$4,KalemAdı,1))=TRUE,1,0)","v":1},"Hazır ekmek ürünleri","Mal",15811500,null,null,"Pastane ürünleri"]
[null,null,null,null,null,null,null,782,15811510,{"$f":"IF(K786=1,COUNTIF($K$5:K786,1),\"\")","v":782},{"$f":"IF(ISNUMBER(SEARCH('Bilgi Girişi'!$E$4,KalemAdı,1))=TRUE,1,0)","v":1},"Sandviçler","Mal",15811510,null,null,"Börekler"]
[null,null,null,null,null,null,null,783,15811511,{"$f":"IF(K787=1,COUNTIF($K$5:K787,1),\"\")","v":783},{"$f":"IF(ISNUMBER(SEARCH('Bilgi Girişi'!$E$4,KalemAdı,1))=TRUE,1,0)","v":1},"Hazır sandviçler","Mal",15811511,null,null,"Savory böreği"]
[null,null,null,null,null,null,null,784,15812000,{"$f":"IF(K788=1,COUNTIF($K$5:K788,1),\"\")","v":784},{"$f":"IF(ISNUMBER(SEARCH('Bilgi Girişi'!$E$4,KalemAdı,1))=TRUE,1,0)","v":1},"Pastane ürünleri ve kekler","Mal",15812000,null,null,"Tatlı börekler"]
[null,null,null,null,null,null,null,785,15812100,{"$f":"IF(K789=1,COUNTIF($K$5:K789,1),\"\")","v":785},{"$f":"IF(ISNUMBER(SEARCH('Bilgi Girişi'!$E$4,KalemAdı,1))=TRUE,1,0)","v":1},"Pastane ürünleri","Mal",15812100,null,null,"Pasta ve kekler"]
[null,null,null,null,null,null,null,786,15812120,{"$f":"IF(K790=1,COUNTIF($K$5:K790,1),\"\")","v":786},{"$f":"IF(ISNUMBER(SEARCH('Bilgi Girişi'!$E$4,KalemAdı,1))=TRUE,1,0)","v":1},"Börekler","Mal",15812120,null,null,"Sabahları tüketilen ürünler"]
[null,null,null,null,null,null,null,787,15812121,{"$f":"IF(K791=1,COUNTIF($K$5:K791,1),\"\")","v":787},{"$f":"IF(ISNUMBER(SEARCH('Bilgi Girişi'!$E$4,KalemAdı,1))=TRUE,1,0)","v":1},"Savory böreği","Mal",15812121,null,null,"Peksimet ve bisküviler, dayanıklı pastane ürünleri ve kekler"]
[null,null,null,null,null,null,null,788,15812122,{"$f":"IF(K792=1,COUNTIF($K$5:K792,1),\"\")","v":788},{"$f":"IF(ISNUMBER(SEARCH('Bilgi Girişi'!$E$4,KalemAdı,1))=TRUE,1,0)","v":1},"Tatlı börekler","Mal",15812122,null,null,"Kızarmış ekmek ürünleri ve hamur işleri"]
[null,null,null,null,null,null,null,789,15812200,{"$f":"IF(K793=1,COUNTIF($K$5:K793,1),\"\")","v":789},{"$f":"IF(ISNUMBER(SEARCH('Bilgi Girişi'!$E$4,KalemAdı,1))=TRUE,1,0)","v":1},"Pasta ve kekler","Mal",15812200,null,null,"Kızarmış ekmek ürünleri"]
[null,null,null,null,null,null,null,790,15813000,{"$f":"IF(K794=1,COUNTIF($K$5:K794,1),\"\")","v":790},{"$f":"IF(ISNUMBER(SEARCH('Bilgi Girişi'!$E$4,KalemAdı,1))=TRUE,1,0)","v":1},"Sabahları tüketilen ürünler","Mal",15813000,null,null,"Kızarmış ekmek"]
[null,null,null,null,null,null,null,791,15820000,{"$f":"IF(K795=1,COUNTIF($K$5:K795,1),\"\")","v":791},{"$f":"IF(ISNUMBER(SEARCH('Bilgi Girişi'!$E$4,KalemAdı,1))=TRUE,1,0)","v":1},"Peksimet ve bisküviler, dayanıklı pastane ürünleri ve kekler","Mal",15820000,null,null,"Gevrek ekmek ve peksimet"]
[null,null,null,null,null,null,null,792,15821000,{"$f":"IF(K796=1,COUNTIF($K$5:K796,1),\"\")","v":792},{"$f":"IF(ISNUMBER(SEARCH('Bilgi Girişi'!$E$4,KalemAdı,1))=TRUE,1,0)","v":1},"Kızarmış ekmek ürünleri ve hamur işleri","Mal",15821000,null,null,"Krikkraklar"]
[null,null,null,null,null,null,null,793,15821100,{"$f":"IF(K797=1,COUNTIF($K$5:K797,1),\"\")","v":793},{"$f":"IF(ISNUMBER(SEARCH('Bilgi Girişi'!$E$4,KalemAdı,1))=TRUE,1,0)","v":1},"Kızarmış ekmek ürünleri","Mal",15821100,null,null,"Tatlı bisküviler"]
[null,null,null,null,null,null,null,794,15821110,{"$f":"IF(K798=1,COUNTIF($K$5:K798,1),\"\")","v":794},{"$f":"IF(ISNUMBER(SEARCH('Bilgi Girişi'!$E$4,KalemAdı,1))=TRUE,1,0)","v":1},"Kızarmış ekmek","Mal",15821110,null,null,"Şeker ve şeker mamulleri"]
[null,null,null,null,null,null,null,795,15821130,{"$f":"IF(K799=1,COUNTIF($K$5:K799,1),\"\")","v":795},{"$f":"IF(ISNUMBER(SEARCH('Bilgi Girişi'!$E$4,KalemAdı,1))=TRUE,1,0)","v":1},"Gevrek ekmek ve peksimet","Mal",15821130,null,null,"Şeker"]
[null,null,null,null,null,null,null,796,15821150,{"$f":"IF(K800=1,COUNTIF($K$5:K800,1),\"\")","v":796},{"$f":"IF(ISNUMBER(SEARCH('Bilgi Girişi'!$E$4,KalemAdı,1))=TRUE,1,0)","v":1},"Krikkraklar","Mal",15821150,null,null,"Beyaz şeker"]
[null,null,null,null,null,null,null,797,15821200,{"$f":"IF(K801=1,COUNTIF($K$5:K801,1),\"\")","v":797},{"$f":"IF(ISNUMBER(SEARCH('Bilgi Girişi'!$E$4,KalemAdı,1))=TRUE,1,0)","v":1},"Tatlı bisküviler","Mal",15821200,null,null,"Akçaağaç şekeri ve akçaağaç şurubu"]
[null,null,null,null,null,null,null,798,15830000,{"$f":"IF(K802=1,COUNTIF($K$5:K802,1),\"\")","v":798},{"$f":"IF(ISNUMBER(SEARCH('Bilgi Girişi'!$E$4,KalemAdı,1))=TRUE,1,0)","v":1},"Şeker ve şeker mamulleri","Mal",15830000,null,null,"Pekmezler, melaslar"]
[null,null,null,null,null,null,null,799,15831000,{"$f":"IF(K803=1,COUNTIF($K$5:K803,1),\"\")","v":799},{"$f":"IF(ISNUMBER(SEARCH('Bilgi Girişi'!$E$4,KalemAdı,1))=TRUE,1,0)","v":1},"Şeker","Mal",15831000,null,null,"Şeker şurupları"]
[null,null,null,null,null,null,null,800,15831200,{"$f":"IF(K804=1,COUNTIF($K$5:K804,1),\"\")","v":800},{"$f":"IF(ISNUMBER(SEARCH('Bilgi Girişi'!$E$4,KalemAdı,1))=TRUE,1,0)","v":1},"Beyaz şeker","Mal",15831200,null,null,"Bal"]
[null,null,null,null,null,null,null,801,15831300,{"$f":"IF(K805=1,COUNTIF($K$5:K805,1),\"\")","v":801},{"$f":"IF(ISNUMBER(SEARCH('Bilgi Girişi'!$E$4,KalemAdı,1))=TRUE,1,0)","v":1},"Akçaağaç şekeri ve akçaağaç şurubu","Mal",15831300,null,null,"Şeker üretim artıkları"]
[null,null,null,null,null,null,null,802,15831400,{"$f":"IF(K806=1,COUNTIF($K$5:K806,1),\"\")","v":802},{"$f":"IF(ISNUMBER(SEARCH('Bilgi Girişi'!$E$4,KalemAdı,1))=TRUE,1,0)","v":1},"Pekmezler, melaslar","Mal",15831400,null,null,"Şeker ürünleri"]
[null,null,null,null,null,null,null,803,15831500,{"$f":"IF(K807=1,COUNTIF($K$5:K807,1),\"\")","v":803},{"$f":"IF(ISNUMBER(SEARCH('Bilgi Girişi'!$E$4,KalemAdı,1))=TRUE,1,0)","v":1},"Şeker şurupları","Mal",15831500,null,null,"Tatlılar"]
[null,null,null,null,null,null,null,804,15831600,{"$f":"IF(K808=1,COUNTIF($K$5:K808,1),\"\")","v":804},{"$f":"IF(ISNUMBER(SEARCH('Bilgi Girişi'!$E$4,KalemAdı,1))=TRUE,1,0)","v":1},"Bal","Mal",15831600,null,null,"Tart ve turtalar"]
[null,null,null,null,null,null,null,805,15832000,{"$f":"IF(K809=1,COUNTIF($K$5:K809,1),\"\")","v":805},{"$f":"IF(ISNUMBER(SEARCH('Bilgi Girişi'!$E$4,KalemAdı,1))=TRUE,1,0)","v":1},"Şeker üretim artıkları","Mal",15832000,null,null,"Kakao, çikolata ve şekerlemeler"]
[null,null,null,null,null,null,null,806,15833000,{"$f":"IF(K810=1,COUNTIF($K$5:K810,1),\"\")","v":806},{"$f":"IF(ISNUMBER(SEARCH('Bilgi Girişi'!$E$4,KalemAdı,1))=TRUE,1,0)","v":1},"Şeker ürünleri","Mal",15833000,null,null,"Kakao"]
[null,null,null,null,null,null,null,807,15833100,{"$f":"IF(K811=1,COUNTIF($K$5:K811,1),\"\")","v":807},{"$f":"IF(ISNUMBER(SEARCH('Bilgi Girişi'!$E$4,KalemAdı,1))=TRUE,1,0)","v":1},"Tatlılar","Mal",15833100,null,null,"Kakao ezmesi"]
[null,null,null,null,null,null,null,808,15833110,{"$f":"IF(K812=1,COUNTIF($K$5:K812,1),\"\")","v":808},{"$f":"IF(ISNUMBER(SEARCH('Bilgi Girişi'!$E$4,KalemAdı,1))=TRUE,1,0)","v":1},"Tart ve turtalar","Mal",15833110,null,null,"Kakao yağı"]
[null,null,null,null,null,null,null,809,15840000,{"$f":"IF(K813=1,COUNTIF($K$5:K813,1),\"\")","v":809},{"$f":"IF(ISNUMBER(SEARCH('Bilgi Girişi'!$E$4,KalemAdı,1))=TRUE,1,0)","v":1},"Kakao, çikolata ve şekerlemeler","Mal",15840000,null,null,"Tatlandırılmamış toz kakao"]
[null,null,null,null,null,null,null,810,15841000,{"$f":"IF(K814=1,COUNTIF($K$5:K814,1),\"\")","v":810},{"$f":"IF(ISNUMBER(SEARCH('Bilgi Girişi'!$E$4,KalemAdı,1))=TRUE,1,0)","v":1},"Kakao","Mal",15841000,null,null,"Tatlandırılmış toz kakao"]
[null,null,null,null,null,null,null,811,15841100,{"$f":"IF(K815=1,COUNTIF($K$5:K815,1),\"\")","v":811},{"$f":"IF(ISNUMBER(SEARCH('Bilgi Girişi'!$E$4,KalemAdı,1))=TRUE,1,0)","v":1},"Kakao ezmesi","Mal",15841100,null,null,"Çikolata ve şekerlemeler"]
[null,null,null,null,null,null,null,812,15841200,{"$f":"IF(K816=1,COUNTIF($K$5:K816,1),\"\")","v":812},{"$f":"IF(ISNUMBER(SEARCH('Bilgi Girişi'!$E$4,KalemAdı,1))=TRUE,1,0)","v":1},"Kakao yağı","Mal",15841200,null,null,"Çikolata"]
[null,null,null,null,null,null,null,813,15841300,{"$f":"IF(K817=1,COUNTIF($K$5:K817,1),\"\")","v":813},{"$f":"IF(ISNUMBER(SEARCH('Bilgi Girişi'!$E$4,KalemAdı,1))=TRUE,1,0)","v":1},"Tatlandırılmamış toz kakao","Mal",15841300,null,null,"Çikolata mamulleri"]
[null,null,null,null,null,null,null,814,15841400,{"$f":"IF(K818=1,COUNTIF($K$5:K818,1),\"\")","v":814},{"$f":"IF(ISNUMBER(SEARCH('Bilgi Girişi'!$E$4,KalemAdı,1))=TRUE,1,0)","v":1},"Tatlandırılmış toz kakao","Mal",15841400,null,null,"İçilebilir çikolata"]
[null,null,null,null,null,null,null,815,15842000,{"$f":"IF(K819=1,COUNTIF($K$5:K819,1),\"\")","v":815},{"$f":"IF(ISNUMBER(SEARCH('Bilgi Girişi'!$E$4,KalemAdı,1))=TRUE,1,0)","v":1},"Çikolata ve şekerlemeler","Mal",15842000,null,null,"Çubuk çikolata"]
[null,null,null,null,null,null,null,816,15842100,{"$f":"IF(K820=1,COUNTIF($K$5:K820,1),\"\")","v":816},{"$f":"IF(ISNUMBER(SEARCH('Bilgi Girişi'!$E$4,KalemAdı,1))=TRUE,1,0)","v":1},"Çikolata","Mal",15842100,null,null,"Şekerlemeler (kakao içermeyen)"]
[null,null,null,null,null,null,null,817,15842200,{"$f":"IF(K821=1,COUNTIF($K$5:K821,1),\"\")","v":817},{"$f":"IF(ISNUMBER(SEARCH('Bilgi Girişi'!$E$4,KalemAdı,1))=TRUE,1,0)","v":1},"Çikolata mamulleri","Mal",15842200,null,null,"Kaynatılmış tatlılar"]
[null,null,null,null,null,null,null,818,15842210,{"$f":"IF(K822=1,COUNTIF($K$5:K822,1),\"\")","v":818},{"$f":"IF(ISNUMBER(SEARCH('Bilgi Girişi'!$E$4,KalemAdı,1))=TRUE,1,0)","v":1},"İçilebilir çikolata","Mal",15842210,null,null,"Nugat"]
[null,null,null,null,null,null,null,819,15842220,{"$f":"IF(K823=1,COUNTIF($K$5:K823,1),\"\")","v":819},{"$f":"IF(ISNUMBER(SEARCH('Bilgi Girişi'!$E$4,KalemAdı,1))=TRUE,1,0)","v":1},"Çubuk çikolata","Mal",15842220,null,null,"Şekerle konserve edilmiş meyve ve kuru yemişler"]
[null,null,null,null,null,null,null,820,15842300,{"$f":"IF(K824=1,COUNTIF($K$5:K824,1),\"\")","v":820},{"$f":"IF(ISNUMBER(SEARCH('Bilgi Girişi'!$E$4,KalemAdı,1))=TRUE,1,0)","v":1},"Şekerlemeler (kakao içermeyen)","Mal",15842300,null,null,"Makarna mamulleri"]
[null,null,null,null,null,null,null,821,15842310,{"$f":"IF(K825=1,COUNTIF($K$5:K825,1),\"\")","v":821},{"$f":"IF(ISNUMBER(SEARCH('Bilgi Girişi'!$E$4,KalemAdı,1))=TRUE,1,0)","v":1},"Kaynatılmış tatlılar","Mal",15842310,null,null,"İrmik mamuller"]
[null,null,null,null,null,null,null,822,15842320,{"$f":"IF(K826=1,COUNTIF($K$5:K826,1),\"\")","v":822},{"$f":"IF(ISNUMBER(SEARCH('Bilgi Girişi'!$E$4,KalemAdı,1))=TRUE,1,0)","v":1},"Nugat","Mal",15842320,null,null,"Pişirilmemiş makarna"]
[null,null,null,null,null,null,null,823,15842400,{"$f":"IF(K827=1,COUNTIF($K$5:K827,1),\"\")","v":823},{"$f":"IF(ISNUMBER(SEARCH('Bilgi Girişi'!$E$4,KalemAdı,1))=TRUE,1,0)","v":1},"Şekerle konserve edilmiş meyve ve kuru yemişler","Mal",15842400,null,null,"Hazır, pişirilmiş makarna ve kuskus"]
[null,null,null,null,null,null,null,824,15850000,{"$f":"IF(K828=1,COUNTIF($K$5:K828,1),\"\")","v":824},{"$f":"IF(ISNUMBER(SEARCH('Bilgi Girişi'!$E$4,KalemAdı,1))=TRUE,1,0)","v":1},"Makarna mamulleri","Mal",15850000,null,null,"Hazır makarna"]
[null,null,null,null,null,null,null,825,15851000,{"$f":"IF(K829=1,COUNTIF($K$5:K829,1),\"\")","v":825},{"$f":"IF(ISNUMBER(SEARCH('Bilgi Girişi'!$E$4,KalemAdı,1))=TRUE,1,0)","v":1},"İrmik mamuller","Mal",15851000,null,null,"Makarna dolması"]
[null,null,null,null,null,null,null,826,15851100,{"$f":"IF(K830=1,COUNTIF($K$5:K830,1),\"\")","v":826},{"$f":"IF(ISNUMBER(SEARCH('Bilgi Girişi'!$E$4,KalemAdı,1))=TRUE,1,0)","v":1},"Pişirilmemiş makarna","Mal",15851100,null,null,"Lazanya"]
[null,null,null,null,null,null,null,827,15851200,{"$f":"IF(K831=1,COUNTIF($K$5:K831,1),\"\")","v":827},{"$f":"IF(ISNUMBER(SEARCH('Bilgi Girişi'!$E$4,KalemAdı,1))=TRUE,1,0)","v":1},"Hazır, pişirilmiş makarna ve kuskus","Mal",15851200,null,null,"Kuskus"]
[null,null,null,null,null,null,null,828,15851210,{"$f":"IF(K832=1,COUNTIF($K$5:K832,1),\"\")","v":828},{"$f":"IF(ISNUMBER(SEARCH('Bilgi Girişi'!$E$4,KalemAdı,1))=TRUE,1,0)","v":1},"Hazır makarna","Mal",15851210,null,null,"Konserve makarna"]
[null,null,null,null,null,null,null,829,15851220,{"$f":"IF(K833=1,COUNTIF($K$5:K833,1),\"\")","v":829},{"$f":"IF(ISNUMBER(SEARCH('Bilgi Girişi'!$E$4,KalemAdı,1))=TRUE,1,0)","v":1},"Makarna dolması","Mal",15851220,null,null,"Kahve, çay ve benzeri ürünler"]
[null,null,null,null,null,null,null,830,15851230,{"$f":"IF(K834=1,COUNTIF($K$5:K834,1),\"\")","v":830},{"$f":"IF(ISNUMBER(SEARCH('Bilgi Girişi'!$E$4,KalemAdı,1))=TRUE,1,0)","v":1},"Lazanya","Mal",15851230,null,null,"Kahve"]
[null,null,null,null,null,null,null,831,15851250,{"$f":"IF(K835=1,COUNTIF($K$5:K835,1),\"\")","v":831},{"$f":"IF(ISNUMBER(SEARCH('Bilgi Girişi'!$E$4,KalemAdı,1))=TRUE,1,0)","v":1},"Kuskus","Mal",15851250,null,null,"Kavrulmuş kahve"]
[null,null,null,null,null,null,null,832,15851290,{"$f":"IF(K836=1,COUNTIF($K$5:K836,1),\"\")","v":832},{"$f":"IF(ISNUMBER(SEARCH('Bilgi Girişi'!$E$4,KalemAdı,1))=TRUE,1,0)","v":1},"Konserve makarna","Mal",15851290,null,null,"Kafeinsiz kahve"]
[null,null,null,null,null,null,null,833,15860000,{"$f":"IF(K837=1,COUNTIF($K$5:K837,1),\"\")","v":833},{"$f":"IF(ISNUMBER(SEARCH('Bilgi Girişi'!$E$4,KalemAdı,1))=TRUE,1,0)","v":1},"Kahve, çay ve benzeri ürünler","Mal",15860000,null,null,"Yapay kahveler"]
[null,null,null,null,null,null,null,834,15861000,{"$f":"IF(K838=1,COUNTIF($K$5:K838,1),\"\")","v":834},{"$f":"IF(ISNUMBER(SEARCH('Bilgi Girişi'!$E$4,KalemAdı,1))=TRUE,1,0)","v":1},"Kahve","Mal",15861000,null,null,{"$f":"IFERROR(VLOOKUP(ROW($P838),$J$5:$L$9594,3,FALSE),\"\")","v":"Çay"}]
[null,null,null,null,null,null,null,835,15861100,{"$f":"IF(K839=1,COUNTIF($K$5:K839,1),\"\")","v":835},{"$f":"IF(ISNUMBER(SEARCH('Bilgi Girişi'!$E$4,KalemAdı,1))=TRUE,1,0)","v":1},"Kavrulmuş kahve","Mal",15861100,null,null,"Yeşil çay"]
[null,null,null,null,null,null,null,836,15861200,{"$f":"IF(K840=1,COUNTIF($K$5:K840,1),\"\")","v":836},{"$f":"IF(ISNUMBER(SEARCH('Bilgi Girişi'!$E$4,KalemAdı,1))=TRUE,1,0)","v":1},"Kafeinsiz kahve","Mal",15861200,null,null,"Siyah çay"]
[null,null,null,null,null,null,null,837,15862000,{"$f":"IF(K841=1,COUNTIF($K$5:K841,1),\"\")","v":837},{"$f":"IF(ISNUMBER(SEARCH('Bilgi Girişi'!$E$4,KalemAdı,1))=TRUE,1,0)","v":1},"Yapay kahveler","Mal",15862000,null,null,"Çay veya mate preperatları"]
[null,null,null,null,null,null,null,838,15863000,{"$f":"IF(K842=1,COUNTIF($K$5:K842,1),\"\")","v":838},{"$f":"IF(ISNUMBER(SEARCH('Bilgi Girişi'!$E$4,KalemAdı,1))=TRUE,1,0)","v":1},"Çay","Mal",15863000,null,null,"Poşet çaylar"]
[null,null,null,null,null,null,null,839,15863100,{"$f":"IF(K843=1,COUNTIF($K$5:K843,1),\"\")","v":839},{"$f":"IF(ISNUMBER(SEARCH('Bilgi Girişi'!$E$4,KalemAdı,1))=TRUE,1,0)","v":1},"Yeşil çay","Mal",15863100,null,null,"Diğer bitki çaylar; adaçayı, ıhlamur, vb."]
[null,null,null,null,null,null,null,840,15863200,{"$f":"IF(K844=1,COUNTIF($K$5:K844,1),\"\")","v":840},{"$f":"IF(ISNUMBER(SEARCH('Bilgi Girişi'!$E$4,KalemAdı,1))=TRUE,1,0)","v":1},"Siyah çay","Mal",15863200,null,null,"Baharat ve çeşniler"]
[null,null,null,null,null,null,null,841,15864000,{"$f":"IF(K845=1,COUNTIF($K$5:K845,1),\"\")","v":841},{"$f":"IF(ISNUMBER(SEARCH('Bilgi Girişi'!$E$4,KalemAdı,1))=TRUE,1,0)","v":1},"Çay veya mate preperatları","Mal",15864000,null,null,"Sirke, soslar, baharat karışımları, hardal tozu, hazır hardal"]
[null,null,null,null,null,null,null,842,15864100,{"$f":"IF(K846=1,COUNTIF($K$5:K846,1),\"\")","v":842},{"$f":"IF(ISNUMBER(SEARCH('Bilgi Girişi'!$E$4,KalemAdı,1))=TRUE,1,0)","v":1},"Poşet çaylar","Mal",15864100,null,null,"Sirke ve yapay sirkeler"]
[null,null,null,null,null,null,null,843,15865000,{"$f":"IF(K847=1,COUNTIF($K$5:K847,1),\"\")","v":843},{"$f":"IF(ISNUMBER(SEARCH('Bilgi Girişi'!$E$4,KalemAdı,1))=TRUE,1,0)","v":1},"Diğer bitki çaylar; adaçayı, ıhlamur, vb.","Mal",15865000,null,null,"Sirke veya eşdeğeri"]
[null,null,null,null,null,null,null,844,15870000,{"$f":"IF(K848=1,COUNTIF($K$5:K848,1),\"\")","v":844},{"$f":"IF(ISNUMBER(SEARCH('Bilgi Girişi'!$E$4,KalemAdı,1))=TRUE,1,0)","v":1},"Baharat ve çeşniler","Mal",15870000,null,null,"Soslar, baharat ve çeşni karışımları"]
[null,null,null,null,null,null,null,845,15871000,{"$f":"IF(K849=1,COUNTIF($K$5:K849,1),\"\")","v":845},{"$f":"IF(ISNUMBER(SEARCH('Bilgi Girişi'!$E$4,KalemAdı,1))=TRUE,1,0)","v":1},"Sirke, soslar, baharat karışımları, hardal tozu, hazır hardal","Mal",15871000,null,null,"Soya sosu"]
[null,null,null,null,null,null,null,846,15871100,{"$f":"IF(K850=1,COUNTIF($K$5:K850,1),\"\")","v":846},{"$f":"IF(ISNUMBER(SEARCH('Bilgi Girişi'!$E$4,KalemAdı,1))=TRUE,1,0)","v":1},"Sirke ve yapay sirkeler","Mal",15871100,null,null,"Domates ketçabı"]
[null,null,null,null,null,null,null,847,15871110,{"$f":"IF(K851=1,COUNTIF($K$5:K851,1),\"\")","v":847},{"$f":"IF(ISNUMBER(SEARCH('Bilgi Girişi'!$E$4,KalemAdı,1))=TRUE,1,0)","v":1},"Sirke veya eşdeğeri","Mal",15871110,null,null,"Hazır hardal"]
[null,null,null,null,null,null,null,848,15871200,{"$f":"IF(K852=1,COUNTIF($K$5:K852,1),\"\")","v":848},{"$f":"IF(ISNUMBER(SEARCH('Bilgi Girişi'!$E$4,KalemAdı,1))=TRUE,1,0)","v":1},"Soslar, baharat ve çeşni karışımları","Mal",15871200,null,null,"Soslar"]
[null,null,null,null,null,null,null,849,15871210,{"$f":"IF(K853=1,COUNTIF($K$5:K853,1),\"\")","v":849},{"$f":"IF(ISNUMBER(SEARCH('Bilgi Girişi'!$E$4,KalemAdı,1))=TRUE,1,0)","v":1},"Soya sosu","Mal",15871210,null,null,"Karışık çeşniler"]
[null,null,null,null,null,null,null,850,15871230,{"$f":"IF(K854=1,COUNTIF($K$5:K854,1),\"\")","v":850},{"$f":"IF(ISNUMBER(SEARCH('Bilgi Girişi'!$E$4,KalemAdı,1))=TRUE,1,0)","v":1},"Domates ketçabı","Mal",15871230,null,null,"Mayonez"]
[null,null,null,null,null,null,null,851,15871250,{"$f":"IF(K855=1,COUNTIF($K$5:K855,1),\"\")","v":851},{"$f":"IF(ISNUMBER(SEARCH('Bilgi Girişi'!$E$4,KalemAdı,1))=TRUE,1,0)","v":1},"Hazır hardal","Mal",15871250,null,null,"Sandviçlere sürülen mamuller"]
[null,null,null,null,null,null,null,852,15871260,{"$f":"IF(K856=1,COUNTIF($K$5:K856,1),\"\")","v":852},{"$f":"IF(ISNUMBER(SEARCH('Bilgi Girişi'!$E$4,KalemAdı,1))=TRUE,1,0)","v":1},"Soslar","Mal",15871260,null,null,"Cutney salçası"]
[null,null,null,null,null,null,null,853,15871270,{"$f":"IF(K857=1,COUNTIF($K$5:K857,1),\"\")","v":853},{"$f":"IF(ISNUMBER(SEARCH('Bilgi Girişi'!$E$4,KalemAdı,1))=TRUE,1,0)","v":1},"Karışık çeşniler","Mal",15871270,null,null,"Baharat ve baharatlı bitkiler"]
[null,null,null,null,null,null,null,854,15871273,{"$f":"IF(K858=1,COUNTIF($K$5:K858,1),\"\")","v":854},{"$f":"IF(ISNUMBER(SEARCH('Bilgi Girişi'!$E$4,KalemAdı,1))=TRUE,1,0)","v":1},"Mayonez","Mal",15871273,null,null,"Biber"]
[null,null,null,null,null,null,null,855,15871274,{"$f":"IF(K859=1,COUNTIF($K$5:K859,1),\"\")","v":855},{"$f":"IF(ISNUMBER(SEARCH('Bilgi Girişi'!$E$4,KalemAdı,1))=TRUE,1,0)","v":1},"Sandviçlere sürülen mamuller","Mal",15871274,null,null,"Baharatlar"]
[null,null,null,null,null,null,null,856,15871279,{"$f":"IF(K860=1,COUNTIF($K$5:K860,1),\"\")","v":856},{"$f":"IF(ISNUMBER(SEARCH('Bilgi Girişi'!$E$4,KalemAdı,1))=TRUE,1,0)","v":1},"Cutney salçası","Mal",15871279,null,null,"Baharatlı bitkiler"]
[null,null,null,null,null,null,null,857,15872000,{"$f":"IF(K861=1,COUNTIF($K$5:K861,1),\"\")","v":857},{"$f":"IF(ISNUMBER(SEARCH('Bilgi Girişi'!$E$4,KalemAdı,1))=TRUE,1,0)","v":1},"Baharat ve baharatlı bitkiler","Mal",15872000,null,null,"Tuz"]
[null,null,null,null,null,null,null,858,15872100,{"$f":"IF(K862=1,COUNTIF($K$5:K862,1),\"\")","v":858},{"$f":"IF(ISNUMBER(SEARCH('Bilgi Girişi'!$E$4,KalemAdı,1))=TRUE,1,0)","v":1},"Biber","Mal",15872100,null,null,"Zencefil"]
[null,null,null,null,null,null,null,859,15872200,{"$f":"IF(K863=1,COUNTIF($K$5:K863,1),\"\")","v":859},{"$f":"IF(ISNUMBER(SEARCH('Bilgi Girişi'!$E$4,KalemAdı,1))=TRUE,1,0)","v":1},"Baharatlar","Mal",15872200,null,null,"Özel beslenme ürünleri"]
[null,null,null,null,null,null,null,860,15872300,{"$f":"IF(K864=1,COUNTIF($K$5:K864,1),\"\")","v":860},{"$f":"IF(ISNUMBER(SEARCH('Bilgi Girişi'!$E$4,KalemAdı,1))=TRUE,1,0)","v":1},"Baharatlı bitkiler","Mal",15872300,null,null,"Homojenize gıda müstahzarları"]
[null,null,null,null,null,null,null,861,15872400,{"$f":"IF(K865=1,COUNTIF($K$5:K865,1),\"\")","v":861},{"$f":"IF(ISNUMBER(SEARCH('Bilgi Girişi'!$E$4,KalemAdı,1))=TRUE,1,0)","v":1},"Tuz","Mal",15872400,null,null,"Diyet amaçlı ürünler"]
[null,null,null,null,null,null,null,862,15872500,{"$f":"IF(K866=1,COUNTIF($K$5:K866,1),\"\")","v":862},{"$f":"IF(ISNUMBER(SEARCH('Bilgi Girişi'!$E$4,KalemAdı,1))=TRUE,1,0)","v":1},"Zencefil","Mal",15872500,null,null,"Mamalar"]
[null,null,null,null,null,null,null,863,15880000,{"$f":"IF(K867=1,COUNTIF($K$5:K867,1),\"\")","v":863},{"$f":"IF(ISNUMBER(SEARCH('Bilgi Girişi'!$E$4,KalemAdı,1))=TRUE,1,0)","v":1},"Özel beslenme ürünleri","Mal",15880000,null,null,"Diğer gıda maddeleri ve kuru ürünler"]
[null,null,null,null,null,null,null,864,15881000,{"$f":"IF(K868=1,COUNTIF($K$5:K868,1),\"\")","v":864},{"$f":"IF(ISNUMBER(SEARCH('Bilgi Girişi'!$E$4,KalemAdı,1))=TRUE,1,0)","v":1},"Homojenize gıda müstahzarları","Mal",15881000,null,null,"Çorba, et veya balık suları"]
[null,null,null,null,null,null,null,865,15882000,{"$f":"IF(K869=1,COUNTIF($K$5:K869,1),\"\")","v":865},{"$f":"IF(ISNUMBER(SEARCH('Bilgi Girişi'!$E$4,KalemAdı,1))=TRUE,1,0)","v":1},"Diyet amaçlı ürünler","Mal",15882000,null,null,"Et çorbaları"]
[null,null,null,null,null,null,null,866,15884000,{"$f":"IF(K870=1,COUNTIF($K$5:K870,1),\"\")","v":866},{"$f":"IF(ISNUMBER(SEARCH('Bilgi Girişi'!$E$4,KalemAdı,1))=TRUE,1,0)","v":1},"Mamalar","Mal",15884000,null,null,"Balık çorbaları"]
[null,null,null,null,null,null,null,867,15890000,{"$f":"IF(K871=1,COUNTIF($K$5:K871,1),\"\")","v":867},{"$f":"IF(ISNUMBER(SEARCH('Bilgi Girişi'!$E$4,KalemAdı,1))=TRUE,1,0)","v":1},"Diğer gıda maddeleri ve kuru ürünler","Mal",15890000,null,null,"Karışık çorbalar"]
[null,null,null,null,null,null,null,868,15891000,{"$f":"IF(K872=1,COUNTIF($K$5:K872,1),\"\")","v":868},{"$f":"IF(ISNUMBER(SEARCH('Bilgi Girişi'!$E$4,KalemAdı,1))=TRUE,1,0)","v":1},"Çorba, et veya balık suları","Mal",15891000,null,null,"Çorbalar"]
[null,null,null,null,null,null,null,869,15891100,{"$f":"IF(K873=1,COUNTIF($K$5:K873,1),\"\")","v":869},{"$f":"IF(ISNUMBER(SEARCH('Bilgi Girişi'!$E$4,KalemAdı,1))=TRUE,1,0)","v":1},"Et çorbaları","Mal",15891100,null,null,"Hazır çorbalar"]
[null,null,null,null,null,null,null,870,15891200,{"$f":"IF(K874=1,COUNTIF($K$5:K874,1),\"\")","v":870},{"$f":"IF(ISNUMBER(SEARCH('Bilgi Girişi'!$E$4,KalemAdı,1))=TRUE,1,0)","v":1},"Balık çorbaları","Mal",15891200,null,null,"Et veya balık suları"]
[null,null,null,null,null,null,null,871,15891300,{"$f":"IF(K875=1,COUNTIF($K$5:K875,1),\"\")","v":871},{"$f":"IF(ISNUMBER(SEARCH('Bilgi Girişi'!$E$4,KalemAdı,1))=TRUE,1,0)","v":1},"Karışık çorbalar","Mal",15891300,null,null,"Çorbalık et uları"]
[null,null,null,null,null,null,null,872,15891400,{"$f":"IF(K876=1,COUNTIF($K$5:K876,1),\"\")","v":872},{"$f":"IF(ISNUMBER(SEARCH('Bilgi Girişi'!$E$4,KalemAdı,1))=TRUE,1,0)","v":1},"Çorbalar","Mal",15891400,null,null,"Hazır çorbalık etsuyu veya tavuksuyu"]
[null,null,null,null,null,null,null,873,15891410,{"$f":"IF(K877=1,COUNTIF($K$5:K877,1),\"\")","v":873},{"$f":"IF(ISNUMBER(SEARCH('Bilgi Girişi'!$E$4,KalemAdı,1))=TRUE,1,0)","v":1},"Hazır çorbalar","Mal",15891410,null,null,"Sebze çorbaları"]
[null,null,null,null,null,null,null,874,15891500,{"$f":"IF(K878=1,COUNTIF($K$5:K878,1),\"\")","v":874},{"$f":"IF(ISNUMBER(SEARCH('Bilgi Girişi'!$E$4,KalemAdı,1))=TRUE,1,0)","v":1},"Et veya balık suları","Mal",15891500,null,null,"Bitki özleri, peptik maddeler, yapışkan sıvılar ve koyulaştırıcı maddeler"]
[null,null,null,null,null,null,null,875,15891600,{"$f":"IF(K879=1,COUNTIF($K$5:K879,1),\"\")","v":875},{"$f":"IF(ISNUMBER(SEARCH('Bilgi Girişi'!$E$4,KalemAdı,1))=TRUE,1,0)","v":1},"Çorbalık et uları","Mal",15891600,null,null,"Sebze özsuları"]
[null,null,null,null,null,null,null,876,15891610,{"$f":"IF(K880=1,COUNTIF($K$5:K880,1),\"\")","v":876},{"$f":"IF(ISNUMBER(SEARCH('Bilgi Girişi'!$E$4,KalemAdı,1))=TRUE,1,0)","v":1},"Hazır çorbalık etsuyu veya tavuksuyu","Mal",15891610,null,null,"Sebze hulasaları"]
[null,null,null,null,null,null,null,877,15891900,{"$f":"IF(K881=1,COUNTIF($K$5:K881,1),\"\")","v":877},{"$f":"IF(ISNUMBER(SEARCH('Bilgi Girişi'!$E$4,KalemAdı,1))=TRUE,1,0)","v":1},"Sebze çorbaları","Mal",15891900,null,null,"Koyulaştırıcı maddeler"]
[null,null,null,null,null,null,null,878,15892000,{"$f":"IF(K882=1,COUNTIF($K$5:K882,1),\"\")","v":878},{"$f":"IF(ISNUMBER(SEARCH('Bilgi Girişi'!$E$4,KalemAdı,1))=TRUE,1,0)","v":1},"Bitki özleri, peptik maddeler, yapışkan sıvılar ve koyulaştırıcı maddeler","Mal",15892000,null,null,"Kuru gıdalar"]
[null,null,null,null,null,null,null,879,15892100,{"$f":"IF(K883=1,COUNTIF($K$5:K883,1),\"\")","v":879},{"$f":"IF(ISNUMBER(SEARCH('Bilgi Girişi'!$E$4,KalemAdı,1))=TRUE,1,0)","v":1},"Sebze özsuları","Mal",15892100,null,null,"Gıda karışımları"]
[null,null,null,null,null,null,null,880,15892200,{"$f":"IF(K884=1,COUNTIF($K$5:K884,1),\"\")","v":880},{"$f":"IF(ISNUMBER(SEARCH('Bilgi Girişi'!$E$4,KalemAdı,1))=TRUE,1,0)","v":1},"Sebze hulasaları","Mal",15892200,null,null,"Tatlı karışımları"]
[null,null,null,null,null,null,null,881,15892400,{"$f":"IF(K885=1,COUNTIF($K$5:K885,1),\"\")","v":881},{"$f":"IF(ISNUMBER(SEARCH('Bilgi Girişi'!$E$4,KalemAdı,1))=TRUE,1,0)","v":1},"Koyulaştırıcı maddeler","Mal",15892400,null,null,"Etsuyu karışımları"]
[null,null,null,null,null,null,null,882,15893000,{"$f":"IF(K886=1,COUNTIF($K$5:K886,1),\"\")","v":882},{"$f":"IF(ISNUMBER(SEARCH('Bilgi Girişi'!$E$4,KalemAdı,1))=TRUE,1,0)","v":1},"Kuru gıdalar","Mal",15893000,null,null,"İşlenmiş gıda ürünleri"]
[null,null,null,null,null,null,null,883,15893100,{"$f":"IF(K887=1,COUNTIF($K$5:K887,1),\"\")","v":883},{"$f":"IF(ISNUMBER(SEARCH('Bilgi Girişi'!$E$4,KalemAdı,1))=TRUE,1,0)","v":1},"Gıda karışımları","Mal",15893100,null,null,"Vejeteryan paketleri"]
[null,null,null,null,null,null,null,884,15893200,{"$f":"IF(K888=1,COUNTIF($K$5:K888,1),\"\")","v":884},{"$f":"IF(ISNUMBER(SEARCH('Bilgi Girişi'!$E$4,KalemAdı,1))=TRUE,1,0)","v":1},"Tatlı karışımları","Mal",15893200,null,null,"Hazır yemekler"]
[null,null,null,null,null,null,null,885,15893300,{"$f":"IF(K889=1,COUNTIF($K$5:K889,1),\"\")","v":885},{"$f":"IF(ISNUMBER(SEARCH('Bilgi Girişi'!$E$4,KalemAdı,1))=TRUE,1,0)","v":1},"Etsuyu karışımları","Mal",15893300,null,null,"Okul yemekleri"]
[null,null,null,null,null,null,null,886,15894000,{"$f":"IF(K890=1,COUNTIF($K$5:K890,1),\"\")","v":886},{"$f":"IF(ISNUMBER(SEARCH('Bilgi Girişi'!$E$4,KalemAdı,1))=TRUE,1,0)","v":1},"İşlenmiş gıda ürünleri","Mal",15894000,null,null,"Hastane yemekleri"]
[null,null,null,null,null,null,null,887,15894100,{"$f":"IF(K891=1,COUNTIF($K$5:K891,1),\"\")","v":887},{"$f":"IF(ISNUMBER(SEARCH('Bilgi Girişi'!$E$4,KalemAdı,1))=TRUE,1,0)","v":1},"Vejeteryan paketleri","Mal",15894100,null,null,"Hazır yemek porsiyonları"]
[null,null,null,null,null,null,null,888,15894200,{"$f":"IF(K892=1,COUNTIF($K$5:K892,1),\"\")","v":888},{"$f":"IF(ISNUMBER(SEARCH('Bilgi Girişi'!$E$4,KalemAdı,1))=TRUE,1,0)","v":1},"Hazır yemekler","Mal",15894200,null,null,"Hafif ara yemekleri"]
[null,null,null,null,null,null,null,889,15894210,{"$f":"IF(K893=1,COUNTIF($K$5:K893,1),\"\")","v":889},{"$f":"IF(ISNUMBER(SEARCH('Bilgi Girişi'!$E$4,KalemAdı,1))=TRUE,1,0)","v":1},"Okul yemekleri","Mal",15894210,null,null,"Satış otomatlarında satılan yiyecek ürünleri"]
[null,null,null,null,null,null,null,890,15894220,{"$f":"IF(K894=1,COUNTIF($K$5:K894,1),\"\")","v":890},{"$f":"IF(ISNUMBER(SEARCH('Bilgi Girişi'!$E$4,KalemAdı,1))=TRUE,1,0)","v":1},"Hastane yemekleri","Mal",15894220,null,null,"Sandviç katkıları"]
[null,null,null,null,null,null,null,891,15894300,{"$f":"IF(K895=1,COUNTIF($K$5:K895,1),\"\")","v":891},{"$f":"IF(ISNUMBER(SEARCH('Bilgi Girişi'!$E$4,KalemAdı,1))=TRUE,1,0)","v":1},"Hazır yemek porsiyonları","Mal",15894300,null,null,"Şarküteri"]
[null,null,null,null,null,null,null,892,15894400,{"$f":"IF(K896=1,COUNTIF($K$5:K896,1),\"\")","v":892},{"$f":"IF(ISNUMBER(SEARCH('Bilgi Girişi'!$E$4,KalemAdı,1))=TRUE,1,0)","v":1},"Hafif ara yemekleri","Mal",15894400,null,null,"Fast-food ürünleri"]
[null,null,null,null,null,null,null,893,15894500,{"$f":"IF(K897=1,COUNTIF($K$5:K897,1),\"\")","v":893},{"$f":"IF(ISNUMBER(SEARCH('Bilgi Girişi'!$E$4,KalemAdı,1))=TRUE,1,0)","v":1},"Satış otomatlarında satılan yiyecek ürünleri","Mal",15894500,null,null,"Hamburgerler"]
[null,null,null,null,null,null,null,894,15894600,{"$f":"IF(K898=1,COUNTIF($K$5:K898,1),\"\")","v":894},{"$f":"IF(ISNUMBER(SEARCH('Bilgi Girişi'!$E$4,KalemAdı,1))=TRUE,1,0)","v":1},"Sandviç katkıları","Mal",15894600,null,null,"Derin dondurulmuş ürünler"]
[null,null,null,null,null,null,null,895,15894700,{"$f":"IF(K899=1,COUNTIF($K$5:K899,1),\"\")","v":895},{"$f":"IF(ISNUMBER(SEARCH('Bilgi Girişi'!$E$4,KalemAdı,1))=TRUE,1,0)","v":1},"Şarküteri","Mal",15894700,null,null,"Konserve ürünler ve kumanyalar"]
[null,null,null,null,null,null,null,896,15895000,{"$f":"IF(K900=1,COUNTIF($K$5:K900,1),\"\")","v":896},{"$f":"IF(ISNUMBER(SEARCH('Bilgi Girişi'!$E$4,KalemAdı,1))=TRUE,1,0)","v":1},"Fast-food ürünleri","Mal",15895000,null,null,"Kumanyalar"]
[null,null,null,null,null,null,null,897,15895100,{"$f":"IF(K901=1,COUNTIF($K$5:K901,1),\"\")","v":897},{"$f":"IF(ISNUMBER(SEARCH('Bilgi Girişi'!$E$4,KalemAdı,1))=TRUE,1,0)","v":1},"Hamburgerler","Mal",15895100,null,null,"Konserve edilmiş mahsuller"]
[null,null,null,null,null,null,null,898,15896000,{"$f":"IF(K902=1,COUNTIF($K$5:K902,1),\"\")","v":898},{"$f":"IF(ISNUMBER(SEARCH('Bilgi Girişi'!$E$4,KalemAdı,1))=TRUE,1,0)","v":1},"Derin dondurulmuş ürünler","Mal",15896000,null,null,{"$f":"IFERROR(VLOOKUP(ROW($P902),$J$5:$L$9594,3,FALSE),\"\")","v":"Yiyecek paketleri"}]
[null,null,null,null,null,null,null,899,15897000,{"$f":"IF(K903=1,COUNTIF($K$5:K903,1),\"\")","v":899},{"$f":"IF(ISNUMBER(SEARCH('Bilgi Girişi'!$E$4,KalemAdı,1))=TRUE,1,0)","v":1},"Konserve ürünler ve kumanyalar","Mal",15897000,null,null,"Maya"]
[null,null,null,null,null,null,null,900,15897100,{"$f":"IF(K904=1,COUNTIF($K$5:K904,1),\"\")","v":900},{"$f":"IF(ISNUMBER(SEARCH('Bilgi Girişi'!$E$4,KalemAdı,1))=TRUE,1,0)","v":1},"Kumanyalar","Mal",15897100,null,null,"Kabartma tozu"]
[null,null,null,null,null,null,null,901,15897200,{"$f":"IF(K905=1,COUNTIF($K$5:K905,1),\"\")","v":901},{"$f":"IF(ISNUMBER(SEARCH('Bilgi Girişi'!$E$4,KalemAdı,1))=TRUE,1,0)","v":1},"Konserve edilmiş mahsuller","Mal",15897200,null,null,"İçecekler, tütün ve ilgili ürünler"]
[null,null,null,null,null,null,null,902,15897300,{"$f":"IF(K906=1,COUNTIF($K$5:K906,1),\"\")","v":902},{"$f":"IF(ISNUMBER(SEARCH('Bilgi Girişi'!$E$4,KalemAdı,1))=TRUE,1,0)","v":1},"Yiyecek paketleri","Mal",15897300,null,null,"Damıtılmış alkollü içecekler ve içkiler"]
[null,null,null,null,null,null,null,903,15898000,{"$f":"IF(K907=1,COUNTIF($K$5:K907,1),\"\")","v":903},{"$f":"IF(ISNUMBER(SEARCH('Bilgi Girişi'!$E$4,KalemAdı,1))=TRUE,1,0)","v":1},"Maya","Mal",15898000,null,null,"Alkollü meşrubat"]
[null,null,null,null,null,null,null,904,15899000,{"$f":"IF(K908=1,COUNTIF($K$5:K908,1),\"\")","v":904},{"$f":"IF(ISNUMBER(SEARCH('Bilgi Girişi'!$E$4,KalemAdı,1))=TRUE,1,0)","v":1},"Kabartma tozu","Mal",15899000,null,null,"Alkoller"]
[null,null,null,null,null,null,null,905,15900000,{"$f":"IF(K909=1,COUNTIF($K$5:K909,1),\"\")","v":905},{"$f":"IF(ISNUMBER(SEARCH('Bilgi Girişi'!$E$4,KalemAdı,1))=TRUE,1,0)","v":1},"İçecekler, tütün ve ilgili ürünler","Mal",15900000,null,null,"Likörler"]
[null,null,null,null,null,null,null,906,15910000,{"$f":"IF(K910=1,COUNTIF($K$5:K910,1),\"\")","v":906},{"$f":"IF(ISNUMBER(SEARCH('Bilgi Girişi'!$E$4,KalemAdı,1))=TRUE,1,0)","v":1},"Damıtılmış alkollü içecekler ve içkiler","Mal",15910000,null,null,"Şaraplar"]
[null,null,null,null,null,null,null,907,15911000,{"$f":"IF(K911=1,COUNTIF($K$5:K911,1),\"\")","v":907},{"$f":"IF(ISNUMBER(SEARCH('Bilgi Girişi'!$E$4,KalemAdı,1))=TRUE,1,0)","v":1},"Alkollü meşrubat","Mal",15911000,null,null,"Tatlandırıcı katkısız şaraplar"]
[null,null,null,null,null,null,null,908,15911100,{"$f":"IF(K912=1,COUNTIF($K$5:K912,1),\"\")","v":908},{"$f":"IF(ISNUMBER(SEARCH('Bilgi Girişi'!$E$4,KalemAdı,1))=TRUE,1,0)","v":1},"Alkoller","Mal",15911100,null,null,"Köpüklü şarap"]
[null,null,null,null,null,null,null,909,15911200,{"$f":"IF(K913=1,COUNTIF($K$5:K913,1),\"\")","v":909},{"$f":"IF(ISNUMBER(SEARCH('Bilgi Girişi'!$E$4,KalemAdı,1))=TRUE,1,0)","v":1},"Likörler","Mal",15911200,null,null,"Sofra şarabı"]
[null,null,null,null,null,null,null,910,15930000,{"$f":"IF(K914=1,COUNTIF($K$5:K914,1),\"\")","v":910},{"$f":"IF(ISNUMBER(SEARCH('Bilgi Girişi'!$E$4,KalemAdı,1))=TRUE,1,0)","v":1},"Şaraplar","Mal",15930000,null,null,"Porto şarabı"]
[null,null,null,null,null,null,null,911,15931000,{"$f":"IF(K915=1,COUNTIF($K$5:K915,1),\"\")","v":911},{"$f":"IF(ISNUMBER(SEARCH('Bilgi Girişi'!$E$4,KalemAdı,1))=TRUE,1,0)","v":1},"Tatlandırıcı katkısız şaraplar","Mal",15931000,null,null,"Maderya şarabı"]
[null,null,null,null,null,null,null,912,15931100,{"$f":"IF(K916=1,COUNTIF($K$5:K916,1),\"\")","v":912},{"$f":"IF(ISNUMBER(SEARCH('Bilgi Girişi'!$E$4,KalemAdı,1))=TRUE,1,0)","v":1},"Köpüklü şarap","Mal",15931100,null,null,"Üzüm şırası"]
[null,null,null,null,null,null,null,913,15931200,{"$f":"IF(K917=1,COUNTIF($K$5:K917,1),\"\")","v":913},{"$f":"IF(ISNUMBER(SEARCH('Bilgi Girişi'!$E$4,KalemAdı,1))=TRUE,1,0)","v":1},"Sofra şarabı","Mal",15931200,null,null,"Beyaz İspanyol şarabı"]
[null,null,null,null,null,null,null,914,15931300,{"$f":"IF(K918=1,COUNTIF($K$5:K918,1),\"\")","v":914},{"$f":"IF(ISNUMBER(SEARCH('Bilgi Girişi'!$E$4,KalemAdı,1))=TRUE,1,0)","v":1},"Porto şarabı","Mal",15931300,null,null,"Şarap tortusu"]
[null,null,null,null,null,null,null,915,15931400,{"$f":"IF(K919=1,COUNTIF($K$5:K919,1),\"\")","v":915},{"$f":"IF(ISNUMBER(SEARCH('Bilgi Girişi'!$E$4,KalemAdı,1))=TRUE,1,0)","v":1},"Maderya şarabı","Mal",15931400,null,null,"Elma şarabı ve diğer meyve şarapları"]
[null,null,null,null,null,null,null,916,15931500,{"$f":"IF(K920=1,COUNTIF($K$5:K920,1),\"\")","v":916},{"$f":"IF(ISNUMBER(SEARCH('Bilgi Girişi'!$E$4,KalemAdı,1))=TRUE,1,0)","v":1},"Üzüm şırası","Mal",15931500,null,null,"Elma şarabı"]
[null,null,null,null,null,null,null,917,15931600,{"$f":"IF(K921=1,COUNTIF($K$5:K921,1),\"\")","v":917},{"$f":"IF(ISNUMBER(SEARCH('Bilgi Girişi'!$E$4,KalemAdı,1))=TRUE,1,0)","v":1},"Beyaz İspanyol şarabı","Mal",15931600,null,null,"Meyve şarapları"]
[null,null,null,null,null,null,null,918,15932000,{"$f":"IF(K922=1,COUNTIF($K$5:K922,1),\"\")","v":918},{"$f":"IF(ISNUMBER(SEARCH('Bilgi Girişi'!$E$4,KalemAdı,1))=TRUE,1,0)","v":1},"Şarap tortusu","Mal",15932000,null,null,"Diğer damıtılmamış mayalı içecekler"]
[null,null,null,null,null,null,null,919,15940000,{"$f":"IF(K923=1,COUNTIF($K$5:K923,1),\"\")","v":919},{"$f":"IF(ISNUMBER(SEARCH('Bilgi Girişi'!$E$4,KalemAdı,1))=TRUE,1,0)","v":1},"Elma şarabı ve diğer meyve şarapları","Mal",15940000,null,null,"Vermut"]
[null,null,null,null,null,null,null,920,15941000,{"$f":"IF(K924=1,COUNTIF($K$5:K924,1),\"\")","v":920},{"$f":"IF(ISNUMBER(SEARCH('Bilgi Girişi'!$E$4,KalemAdı,1))=TRUE,1,0)","v":1},"Elma şarabı","Mal",15941000,null,null,"Malt birası"]
[null,null,null,null,null,null,null,921,15942000,{"$f":"IF(K925=1,COUNTIF($K$5:K925,1),\"\")","v":921},{"$f":"IF(ISNUMBER(SEARCH('Bilgi Girişi'!$E$4,KalemAdı,1))=TRUE,1,0)","v":1},"Meyve şarapları","Mal",15942000,null,null,"Bira"]
[null,null,null,null,null,null,null,922,15950000,{"$f":"IF(K926=1,COUNTIF($K$5:K926,1),\"\")","v":922},{"$f":"IF(ISNUMBER(SEARCH('Bilgi Girişi'!$E$4,KalemAdı,1))=TRUE,1,0)","v":1},"Diğer damıtılmamış mayalı içecekler","Mal",15950000,null,null,"Lager birası"]
[null,null,null,null,null,null,null,923,15951000,{"$f":"IF(K927=1,COUNTIF($K$5:K927,1),\"\")","v":923},{"$f":"IF(ISNUMBER(SEARCH('Bilgi Girişi'!$E$4,KalemAdı,1))=TRUE,1,0)","v":1},"Vermut","Mal",15951000,null,null,"Bira ve damıtma tortuları"]
[null,null,null,null,null,null,null,924,15960000,{"$f":"IF(K928=1,COUNTIF($K$5:K928,1),\"\")","v":924},{"$f":"IF(ISNUMBER(SEARCH('Bilgi Girişi'!$E$4,KalemAdı,1))=TRUE,1,0)","v":1},"Malt birası","Mal",15960000,null,null,"Alkolsüz içecekler"]
[null,null,null,null,null,null,null,925,15961000,{"$f":"IF(K929=1,COUNTIF($K$5:K929,1),\"\")","v":925},{"$f":"IF(ISNUMBER(SEARCH('Bilgi Girişi'!$E$4,KalemAdı,1))=TRUE,1,0)","v":1},"Bira","Mal",15961000,null,null,"Maden suyu"]
[null,null,null,null,null,null,null,926,15961100,{"$f":"IF(K930=1,COUNTIF($K$5:K930,1),\"\")","v":926},{"$f":"IF(ISNUMBER(SEARCH('Bilgi Girişi'!$E$4,KalemAdı,1))=TRUE,1,0)","v":1},"Lager birası","Mal",15961100,null,null,"Dinlendirilmiş (köpürmeyen) maden suyu"]
[null,null,null,null,null,null,null,927,15962000,{"$f":"IF(K931=1,COUNTIF($K$5:K931,1),\"\")","v":927},{"$f":"IF(ISNUMBER(SEARCH('Bilgi Girişi'!$E$4,KalemAdı,1))=TRUE,1,0)","v":1},"Bira ve damıtma tortuları","Mal",15962000,null,null,"Köpüklü maden suyu"]
[null,null,null,null,null,null,null,928,15980000,{"$f":"IF(K932=1,COUNTIF($K$5:K932,1),\"\")","v":928},{"$f":"IF(ISNUMBER(SEARCH('Bilgi Girişi'!$E$4,KalemAdı,1))=TRUE,1,0)","v":1},"Alkolsüz içecekler","Mal",15980000,null,null,"Katı haldeki su; buz veya kar"]
[null,null,null,null,null,null,null,929,15981000,{"$f":"IF(K933=1,COUNTIF($K$5:K933,1),\"\")","v":929},{"$f":"IF(ISNUMBER(SEARCH('Bilgi Girişi'!$E$4,KalemAdı,1))=TRUE,1,0)","v":1},"Maden suyu","Mal",15981000,null,null,"Buz"]
[null,null,null,null,null,null,null,930,15981100,{"$f":"IF(K934=1,COUNTIF($K$5:K934,1),\"\")","v":930},{"$f":"IF(ISNUMBER(SEARCH('Bilgi Girişi'!$E$4,KalemAdı,1))=TRUE,1,0)","v":1},"Dinlendirilmiş (köpürmeyen) maden suyu","Mal",15981100,null,null,"Kar"]
[null,null,null,null,null,null,null,931,15981200,{"$f":"IF(K935=1,COUNTIF($K$5:K935,1),\"\")","v":931},{"$f":"IF(ISNUMBER(SEARCH('Bilgi Girişi'!$E$4,KalemAdı,1))=TRUE,1,0)","v":1},"Köpüklü maden suyu","Mal",15981200,null,null,"Tatlandırılmış maden suyu"]
[null,null,null,null,null,null,null,932,15981300,{"$f":"IF(K936=1,COUNTIF($K$5:K936,1),\"\")","v":932},{"$f":"IF(ISNUMBER(SEARCH('Bilgi Girişi'!$E$4,KalemAdı,1))=TRUE,1,0)","v":1},"Katı haldeki su; buz veya kar","Mal",15981300,null,null,"Diğer alkolsüz içecekler"]
[null,null,null,null,null,null,null,933,15981310,{"$f":"IF(K937=1,COUNTIF($K$5:K937,1),\"\")","v":933},{"$f":"IF(ISNUMBER(SEARCH('Bilgi Girişi'!$E$4,KalemAdı,1))=TRUE,1,0)","v":1},"Buz","Mal",15981310,null,null,"Meyve ve pelte ezmeleri"]
[null,null,null,null,null,null,null,934,15981320,{"$f":"IF(K938=1,COUNTIF($K$5:K938,1),\"\")","v":934},{"$f":"IF(ISNUMBER(SEARCH('Bilgi Girişi'!$E$4,KalemAdı,1))=TRUE,1,0)","v":1},"Kar","Mal",15981320,null,null,"Çikolatalı süt"]
[null,null,null,null,null,null,null,935,15981400,{"$f":"IF(K939=1,COUNTIF($K$5:K939,1),\"\")","v":935},{"$f":"IF(ISNUMBER(SEARCH('Bilgi Girişi'!$E$4,KalemAdı,1))=TRUE,1,0)","v":1},"Tatlandırılmış maden suyu","Mal",15981400,null,null,"Tütün, tütün mamulleri ve malzemeleri"]
[null,null,null,null,null,null,null,936,15982000,{"$f":"IF(K940=1,COUNTIF($K$5:K940,1),\"\")","v":936},{"$f":"IF(ISNUMBER(SEARCH('Bilgi Girişi'!$E$4,KalemAdı,1))=TRUE,1,0)","v":1},"Diğer alkolsüz içecekler","Mal",15982000,null,null,"Tütün mamulleri"]
[null,null,null,null,null,null,null,937,15982100,{"$f":"IF(K941=1,COUNTIF($K$5:K941,1),\"\")","v":937},{"$f":"IF(ISNUMBER(SEARCH('Bilgi Girişi'!$E$4,KalemAdı,1))=TRUE,1,0)","v":1},"Meyve ve pelte ezmeleri","Mal",15982100,null,null,"Sigaralar, purolar"]
[null,null,null,null,null,null,null,938,15982200,{"$f":"IF(K942=1,COUNTIF($K$5:K942,1),\"\")","v":938},{"$f":"IF(ISNUMBER(SEARCH('Bilgi Girişi'!$E$4,KalemAdı,1))=TRUE,1,0)","v":1},"Çikolatalı süt","Mal",15982200,null,null,"Sigarillolar"]
[null,null,null,null,null,null,null,939,15990000,{"$f":"IF(K943=1,COUNTIF($K$5:K943,1),\"\")","v":939},{"$f":"IF(ISNUMBER(SEARCH('Bilgi Girişi'!$E$4,KalemAdı,1))=TRUE,1,0)","v":1},"Tütün, tütün mamulleri ve malzemeleri","Mal",15990000,null,null,"Sigaralar"]
[null,null,null,null,null,null,null,940,15991000,{"$f":"IF(K944=1,COUNTIF($K$5:K944,1),\"\")","v":940},{"$f":"IF(ISNUMBER(SEARCH('Bilgi Girişi'!$E$4,KalemAdı,1))=TRUE,1,0)","v":1},"Tütün mamulleri","Mal",15991000,null,null,"Tütün"]
[null,null,null,null,null,null,null,941,15991100,{"$f":"IF(K945=1,COUNTIF($K$5:K945,1),\"\")","v":941},{"$f":"IF(ISNUMBER(SEARCH('Bilgi Girişi'!$E$4,KalemAdı,1))=TRUE,1,0)","v":1},"Sigaralar, purolar","Mal",15991100,null,null,"İşlenmiş tütün"]
[null,null,null,null,null,null,null,942,15991200,{"$f":"IF(K946=1,COUNTIF($K$5:K946,1),\"\")","v":942},{"$f":"IF(ISNUMBER(SEARCH('Bilgi Girişi'!$E$4,KalemAdı,1))=TRUE,1,0)","v":1},"Sigarillolar","Mal",15991200,null,null,"Tütüncü malzemeler"]
[null,null,null,null,null,null,null,943,15991300,{"$f":"IF(K947=1,COUNTIF($K$5:K947,1),\"\")","v":943},{"$f":"IF(ISNUMBER(SEARCH('Bilgi Girişi'!$E$4,KalemAdı,1))=TRUE,1,0)","v":1},"Sigaralar","Mal",15991300,null,null,"Sigara kağıtları ve filtre kağıtları"]
[null,null,null,null,null,null,null,944,15992000,{"$f":"IF(K948=1,COUNTIF($K$5:K948,1),\"\")","v":944},{"$f":"IF(ISNUMBER(SEARCH('Bilgi Girişi'!$E$4,KalemAdı,1))=TRUE,1,0)","v":1},"Tütün","Mal",15992000,null,null,"Sigara kağıtları"]
[null,null,null,null,null,null,null,945,15992100,{"$f":"IF(K949=1,COUNTIF($K$5:K949,1),\"\")","v":945},{"$f":"IF(ISNUMBER(SEARCH('Bilgi Girişi'!$E$4,KalemAdı,1))=TRUE,1,0)","v":1},"İşlenmiş tütün","Mal",15992100,null,null,"Filtre kağıtları"]
[null,null,null,null,null,null,null,946,15993000,{"$f":"IF(K950=1,COUNTIF($K$5:K950,1),\"\")","v":946},{"$f":"IF(ISNUMBER(SEARCH('Bilgi Girişi'!$E$4,KalemAdı,1))=TRUE,1,0)","v":1},"Tütüncü malzemeler","Mal",15993000,null,null,"Tarım makineleri"]
[null,null,null,null,null,null,null,947,15994000,{"$f":"IF(K951=1,COUNTIF($K$5:K951,1),\"\")","v":947},{"$f":"IF(ISNUMBER(SEARCH('Bilgi Girişi'!$E$4,KalemAdı,1))=TRUE,1,0)","v":1},"Sigara kağıtları ve filtre kağıtları","Mal",15994000,null,null,"Toprağın hazırlanması ya da ekim amaçlı tarım ve orman makineleri"]
[null,null,null,null,null,null,null,948,15994100,{"$f":"IF(K952=1,COUNTIF($K$5:K952,1),\"\")","v":948},{"$f":"IF(ISNUMBER(SEARCH('Bilgi Girişi'!$E$4,KalemAdı,1))=TRUE,1,0)","v":1},"Sigara kağıtları","Mal",15994100,null,null,"Pulluk ya da diskli tırmıklar"]
[null,null,null,null,null,null,null,949,15994200,{"$f":"IF(K953=1,COUNTIF($K$5:K953,1),\"\")","v":949},{"$f":"IF(ISNUMBER(SEARCH('Bilgi Girişi'!$E$4,KalemAdı,1))=TRUE,1,0)","v":1},"Filtre kağıtları","Mal",15994200,null,null,"Tırmıklar, biçici, ekici, ot sökücü veya çapalar"]
[null,null,null,null,null,null,null,950,16000000,{"$f":"IF(K954=1,COUNTIF($K$5:K954,1),\"\")","v":950},{"$f":"IF(ISNUMBER(SEARCH('Bilgi Girişi'!$E$4,KalemAdı,1))=TRUE,1,0)","v":1},"Tarım makineleri","Mal",16000000,null,null,"Tohum ekici, fidan dikici veya ağaç taşıma makineleri"]
[null,null,null,null,null,null,null,951,16100000,{"$f":"IF(K955=1,COUNTIF($K$5:K955,1),\"\")","v":951},{"$f":"IF(ISNUMBER(SEARCH('Bilgi Girişi'!$E$4,KalemAdı,1))=TRUE,1,0)","v":1},"Toprağın hazırlanması ya da ekim amaçlı tarım ve orman makineleri","Mal",16100000,null,null,"Gübreleme makine ve ekipmanı"]
[null,null,null,null,null,null,null,952,16110000,{"$f":"IF(K956=1,COUNTIF($K$5:K956,1),\"\")","v":952},{"$f":"IF(ISNUMBER(SEARCH('Bilgi Girişi'!$E$4,KalemAdı,1))=TRUE,1,0)","v":1},"Pulluk ya da diskli tırmıklar","Mal",16110000,null,null,"Gübre dağıtıcıları"]
[null,null,null,null,null,null,null,953,16120000,{"$f":"IF(K957=1,COUNTIF($K$5:K957,1),\"\")","v":953},{"$f":"IF(ISNUMBER(SEARCH('Bilgi Girişi'!$E$4,KalemAdı,1))=TRUE,1,0)","v":1},"Tırmıklar, biçici, ekici, ot sökücü veya çapalar","Mal",16120000,null,null,"Çim alanları ya da spor sahaları için biçki ruloları"]
[null,null,null,null,null,null,null,954,16130000,{"$f":"IF(K958=1,COUNTIF($K$5:K958,1),\"\")","v":954},{"$f":"IF(ISNUMBER(SEARCH('Bilgi Girişi'!$E$4,KalemAdı,1))=TRUE,1,0)","v":1},"Tohum ekici, fidan dikici veya ağaç taşıma makineleri","Mal",16130000,null,null,"Çeşitli bahçe ekipmanları"]
[null,null,null,null,null,null,null,955,16140000,{"$f":"IF(K959=1,COUNTIF($K$5:K959,1),\"\")","v":955},{"$f":"IF(ISNUMBER(SEARCH('Bilgi Girişi'!$E$4,KalemAdı,1))=TRUE,1,0)","v":1},"Gübreleme makine ve ekipmanı","Mal",16140000,null,null,"Hasat ve harman makineleri"]
[null,null,null,null,null,null,null,956,16141000,{"$f":"IF(K960=1,COUNTIF($K$5:K960,1),\"\")","v":956},{"$f":"IF(ISNUMBER(SEARCH('Bilgi Girişi'!$E$4,KalemAdı,1))=TRUE,1,0)","v":1},"Gübre dağıtıcıları","Mal",16141000,null,null,"Biçerler"]
[null,null,null,null,null,null,null,957,16150000,{"$f":"IF(K961=1,COUNTIF($K$5:K961,1),\"\")","v":957},{"$f":"IF(ISNUMBER(SEARCH('Bilgi Girişi'!$E$4,KalemAdı,1))=TRUE,1,0)","v":1},"Çim alanları ya da spor sahaları için biçki ruloları","Mal",16150000,null,null,"Ot biçme makineleri"]
[null,null,null,null,null,null,null,958,16160000,{"$f":"IF(K962=1,COUNTIF($K$5:K962,1),\"\")","v":958},{"$f":"IF(ISNUMBER(SEARCH('Bilgi Girişi'!$E$4,KalemAdı,1))=TRUE,1,0)","v":1},"Çeşitli bahçe ekipmanları","Mal",16160000,null,null,"Bahçe çimi, park ve spor sahaları için çim biçme makineleri"]
[null,null,null,null,null,null,null,959,16300000,{"$f":"IF(K963=1,COUNTIF($K$5:K963,1),\"\")","v":959},{"$f":"IF(ISNUMBER(SEARCH('Bilgi Girişi'!$E$4,KalemAdı,1))=TRUE,1,0)","v":1},"Hasat ve harman makineleri","Mal",16300000,null,null,"Ot hazırlama cihaz ve makineleri"]
[null,null,null,null,null,null,null,960,16310000,{"$f":"IF(K964=1,COUNTIF($K$5:K964,1),\"\")","v":960},{"$f":"IF(ISNUMBER(SEARCH('Bilgi Girişi'!$E$4,KalemAdı,1))=TRUE,1,0)","v":1},"Biçerler","Mal",16310000,null,null,"Ot veya saman balyalama makineleri"]
[null,null,null,null,null,null,null,961,16311000,{"$f":"IF(K965=1,COUNTIF($K$5:K965,1),\"\")","v":961},{"$f":"IF(ISNUMBER(SEARCH('Bilgi Girişi'!$E$4,KalemAdı,1))=TRUE,1,0)","v":1},"Ot biçme makineleri","Mal",16311000,null,null,"Ot veya samanı toplayıp balyalamaya yarayan makineler"]
[null,null,null,null,null,null,null,962,16311100,{"$f":"IF(K966=1,COUNTIF($K$5:K966,1),\"\")","v":962},{"$f":"IF(ISNUMBER(SEARCH('Bilgi Girişi'!$E$4,KalemAdı,1))=TRUE,1,0)","v":1},"Bahçe çimi, park ve spor sahaları için çim biçme makineleri","Mal",16311100,null,null,{"$f":"IFERROR(VLOOKUP(ROW($P966),$J$5:$L$9594,3,FALSE),\"\")","v":"Hasat ve harman makineleri"}]
[null,null,null,null,null,null,null,963,16320000,{"$f":"IF(K967=1,COUNTIF($K$5:K967,1),\"\")","v":963},{"$f":"IF(ISNUMBER(SEARCH('Bilgi Girişi'!$E$4,KalemAdı,1))=TRUE,1,0)","v":1},"Ot hazırlama cihaz ve makineleri","Mal",16320000,null,null,"Tarım ve bahçecilik için sıvı veya toz atma veya püskürtme cihazları"]
[null,null,null,null,null,null,null,964,16330000,{"$f":"IF(K968=1,COUNTIF($K$5:K968,1),\"\")","v":964},{"$f":"IF(ISNUMBER(SEARCH('Bilgi Girişi'!$E$4,KalemAdı,1))=TRUE,1,0)","v":1},"Ot veya saman balyalama makineleri","Mal",16330000,null,null,"Tarımda kullanılmaya yönelik kendinden yüklemeli ve boşaltmalı römork ve"]
[null,null,null,null,null,null,null,965,16331000,{"$f":"IF(K969=1,COUNTIF($K$5:K969,1),\"\")","v":965},{"$f":"IF(ISNUMBER(SEARCH('Bilgi Girişi'!$E$4,KalemAdı,1))=TRUE,1,0)","v":1},"Ot veya samanı toplayıp balyalamaya yarayan makineler","Mal",16331000,null,null,"Tarımda kullanılmaya yönelik kendinden yüklemeli römorklar"]
[null,null,null,null,null,null,null,966,16340000,{"$f":"IF(K970=1,COUNTIF($K$5:K970,1),\"\")","v":966},{"$f":"IF(ISNUMBER(SEARCH('Bilgi Girişi'!$E$4,KalemAdı,1))=TRUE,1,0)","v":1},"Hasat ve harman makineleri","Mal",16340000,null,null,"Tarımda kullanılmaya yönelik kendinden boşaltmalı römorklar"]
[null,null,null,null,null,null,null,967,16400000,{"$f":"IF(K971=1,COUNTIF($K$5:K971,1),\"\")","v":967},{"$f":"IF(ISNUMBER(SEARCH('Bilgi Girişi'!$E$4,KalemAdı,1))=TRUE,1,0)","v":1},"Tarım ve bahçecilik için sıvı veya toz atma veya püskürtme cihazları","Mal",16400000,null,null,"Tarımda kullanılmaya yönelik kendinden yüklemeli yarı römorklar"]
[null,null,null,null,null,null,null,968,16500000,{"$f":"IF(K972=1,COUNTIF($K$5:K972,1),\"\")","v":968},{"$f":"IF(ISNUMBER(SEARCH('Bilgi Girişi'!$E$4,KalemAdı,1))=TRUE,1,0)","v":1},"Tarımda kullanılmaya yönelik kendinden yüklemeli ve boşaltmalı römork ve","Mal",16500000,null,null,"Tarımda kullanılmaya yönelik kendinden boşaltmalı yarı römorklar"]
[null,null,null,null,null,null,null,969,16510000,{"$f":"IF(K973=1,COUNTIF($K$5:K973,1),\"\")","v":969},{"$f":"IF(ISNUMBER(SEARCH('Bilgi Girişi'!$E$4,KalemAdı,1))=TRUE,1,0)","v":1},"Tarımda kullanılmaya yönelik kendinden yüklemeli römorklar","Mal",16510000,null,null,"Tarım veya ormanda kullanılmaya yönelik ihtisas makineleri"]
[null,null,null,null,null,null,null,970,16520000,{"$f":"IF(K974=1,COUNTIF($K$5:K974,1),\"\")","v":970},{"$f":"IF(ISNUMBER(SEARCH('Bilgi Girişi'!$E$4,KalemAdı,1))=TRUE,1,0)","v":1},"Tarımda kullanılmaya yönelik kendinden boşaltmalı römorklar","Mal",16520000,null,null,"Yumurtaları, meyveleri ya da diğer tarım ürünlerini temizlemeye, ağırlık ve\nbüyüklüklerine göre ayırmaya yönelik makineler"]
[null,null,null,null,null,null,null,971,16530000,{"$f":"IF(K975=1,COUNTIF($K$5:K975,1),\"\")","v":971},{"$f":"IF(ISNUMBER(SEARCH('Bilgi Girişi'!$E$4,KalemAdı,1))=TRUE,1,0)","v":1},"Tarımda kullanılmaya yönelik kendinden yüklemeli yarı römorklar","Mal",16530000,null,null,"Yumurta, meyve ve tarım ürünlerini temizleme makineleri"]
[null,null,null,null,null,null,null,972,16540000,{"$f":"IF(K976=1,COUNTIF($K$5:K976,1),\"\")","v":972},{"$f":"IF(ISNUMBER(SEARCH('Bilgi Girişi'!$E$4,KalemAdı,1))=TRUE,1,0)","v":1},"Tarımda kullanılmaya yönelik kendinden boşaltmalı yarı römorklar","Mal",16540000,null,null,"Yumurta temizleme makineleri"]
[null,null,null,null,null,null,null,973,16600000,{"$f":"IF(K977=1,COUNTIF($K$5:K977,1),\"\")","v":973},{"$f":"IF(ISNUMBER(SEARCH('Bilgi Girişi'!$E$4,KalemAdı,1))=TRUE,1,0)","v":1},"Tarım veya ormanda kullanılmaya yönelik ihtisas makineleri","Mal",16600000,null,null,"Meyve temizleme makineleri"]
[null,null,null,null,null,null,null,974,16610000,{"$f":"IF(K978=1,COUNTIF($K$5:K978,1),\"\")","v":974},{"$f":"IF(ISNUMBER(SEARCH('Bilgi Girişi'!$E$4,KalemAdı,1))=TRUE,1,0)","v":1},"Yumurtaları, meyveleri ya da diğer tarım ürünlerini temizlemeye, ağırlık ve\nbüyüklüklerine göre ayırmaya yönelik makineler","Mal",16610000,null,null,"Yumurta, meyve ve tarım ürünlerini büyüklük yada ağırlıklarına göre sıralama"]
[null,null,null,null,null,null,null,975,16611000,{"$f":"IF(K979=1,COUNTIF($K$5:K979,1),\"\")","v":975},{"$f":"IF(ISNUMBER(SEARCH('Bilgi Girişi'!$E$4,KalemAdı,1))=TRUE,1,0)","v":1},"Yumurta, meyve ve tarım ürünlerini temizleme makineleri","Mal",16611000,null,null,"Yumurtaları büyüklük yada ağırlıklarına göre sıralama veya ayırma makineleri"]
[null,null,null,null,null,null,null,976,16611100,{"$f":"IF(K980=1,COUNTIF($K$5:K980,1),\"\")","v":976},{"$f":"IF(ISNUMBER(SEARCH('Bilgi Girişi'!$E$4,KalemAdı,1))=TRUE,1,0)","v":1},"Yumurta temizleme makineleri","Mal",16611100,null,null,"Meyveleri büyüklük yada ağırlıklarına göre sıralama veya ayırma makineleri"]
[null,null,null,null,null,null,null,977,16611200,{"$f":"IF(K981=1,COUNTIF($K$5:K981,1),\"\")","v":977},{"$f":"IF(ISNUMBER(SEARCH('Bilgi Girişi'!$E$4,KalemAdı,1))=TRUE,1,0)","v":1},"Meyve temizleme makineleri","Mal",16611200,null,null,"Tohum, tahıl ya da kuru sebzeleri temizleme, büyüklük yada ağırlıklarına göre\nsıralama veya ayırma makineleri"]
[null,null,null,null,null,null,null,978,16612000,{"$f":"IF(K982=1,COUNTIF($K$5:K982,1),\"\")","v":978},{"$f":"IF(ISNUMBER(SEARCH('Bilgi Girişi'!$E$4,KalemAdı,1))=TRUE,1,0)","v":1},"Yumurta, meyve ve tarım ürünlerini büyüklük yada ağırlıklarına göre sıralama","Mal",16612000,null,null,"Süt sağma makineleri"]
[null,null,null,null,null,null,null,979,16612100,{"$f":"IF(K983=1,COUNTIF($K$5:K983,1),\"\")","v":979},{"$f":"IF(ISNUMBER(SEARCH('Bilgi Girişi'!$E$4,KalemAdı,1))=TRUE,1,0)","v":1},"Yumurtaları büyüklük yada ağırlıklarına göre sıralama veya ayırma makineleri","Mal",16612100,null,null,"Hayvan yemi hazırlama makineleri"]
[null,null,null,null,null,null,null,980,16612200,{"$f":"IF(K984=1,COUNTIF($K$5:K984,1),\"\")","v":980},{"$f":"IF(ISNUMBER(SEARCH('Bilgi Girişi'!$E$4,KalemAdı,1))=TRUE,1,0)","v":1},"Meyveleri büyüklük yada ağırlıklarına göre sıralama veya ayırma makineleri","Mal",16612200,null,null,"Arıcılıkta kullanılan makineler"]
[null,null,null,null,null,null,null,981,16613000,{"$f":"IF(K985=1,COUNTIF($K$5:K985,1),\"\")","v":981},{"$f":"IF(ISNUMBER(SEARCH('Bilgi Girişi'!$E$4,KalemAdı,1))=TRUE,1,0)","v":1},"Tohum, tahıl ya da kuru sebzeleri temizleme, büyüklük yada ağırlıklarına göre\nsıralama veya ayırma makineleri","Mal",16613000,null,null,"Tavukçuluk makineleri"]
[null,null,null,null,null,null,null,982,16620000,{"$f":"IF(K986=1,COUNTIF($K$5:K986,1),\"\")","v":982},{"$f":"IF(ISNUMBER(SEARCH('Bilgi Girişi'!$E$4,KalemAdı,1))=TRUE,1,0)","v":1},"Süt sağma makineleri","Mal",16620000,null,null,"Tavukçulukta kullanılan kuluçka makineleri ve civciv bakım üniteleri"]
[null,null,null,null,null,null,null,983,16630000,{"$f":"IF(K987=1,COUNTIF($K$5:K987,1),\"\")","v":983},{"$f":"IF(ISNUMBER(SEARCH('Bilgi Girişi'!$E$4,KalemAdı,1))=TRUE,1,0)","v":1},"Hayvan yemi hazırlama makineleri","Mal",16630000,null,null,"Traktörler"]
[null,null,null,null,null,null,null,984,16640000,{"$f":"IF(K988=1,COUNTIF($K$5:K988,1),\"\")","v":984},{"$f":"IF(ISNUMBER(SEARCH('Bilgi Girişi'!$E$4,KalemAdı,1))=TRUE,1,0)","v":1},"Arıcılıkta kullanılan makineler","Mal",16640000,null,null,"Yaya tarafından kumanda edilen tarımsal amaçlı traktörler"]
[null,null,null,null,null,null,null,985,16650000,{"$f":"IF(K989=1,COUNTIF($K$5:K989,1),\"\")","v":985},{"$f":"IF(ISNUMBER(SEARCH('Bilgi Girişi'!$E$4,KalemAdı,1))=TRUE,1,0)","v":1},"Tavukçuluk makineleri","Mal",16650000,null,null,"Kullanılmış traktörler"]
[null,null,null,null,null,null,null,986,16651000,{"$f":"IF(K990=1,COUNTIF($K$5:K990,1),\"\")","v":986},{"$f":"IF(ISNUMBER(SEARCH('Bilgi Girişi'!$E$4,KalemAdı,1))=TRUE,1,0)","v":1},"Tavukçulukta kullanılan kuluçka makineleri ve civciv bakım üniteleri","Mal",16651000,null,null,"Cer motorları"]
[null,null,null,null,null,null,null,987,16700000,{"$f":"IF(K991=1,COUNTIF($K$5:K991,1),\"\")","v":987},{"$f":"IF(ISNUMBER(SEARCH('Bilgi Girişi'!$E$4,KalemAdı,1))=TRUE,1,0)","v":1},"Traktörler","Mal",16700000,null,null,"Tarım ve ormancılık makinelerinin parçaları"]
[null,null,null,null,null,null,null,988,16710000,{"$f":"IF(K992=1,COUNTIF($K$5:K992,1),\"\")","v":988},{"$f":"IF(ISNUMBER(SEARCH('Bilgi Girişi'!$E$4,KalemAdı,1))=TRUE,1,0)","v":1},"Yaya tarafından kumanda edilen tarımsal amaçlı traktörler","Mal",16710000,null,null,"Tarım makineleri parçaları"]
[null,null,null,null,null,null,null,989,16720000,{"$f":"IF(K993=1,COUNTIF($K$5:K993,1),\"\")","v":989},{"$f":"IF(ISNUMBER(SEARCH('Bilgi Girişi'!$E$4,KalemAdı,1))=TRUE,1,0)","v":1},"Kullanılmış traktörler","Mal",16720000,null,null,"Orman makineleri parçaları"]
[null,null,null,null,null,null,null,990,16730000,{"$f":"IF(K994=1,COUNTIF($K$5:K994,1),\"\")","v":990},{"$f":"IF(ISNUMBER(SEARCH('Bilgi Girişi'!$E$4,KalemAdı,1))=TRUE,1,0)","v":1},"Cer motorları","Mal",16730000,null,null,"Giyim, ayakkabı, bavul eşyaları ve aksesuarlar"]
[null,null,null,null,null,null,null,991,16800000,{"$f":"IF(K995=1,COUNTIF($K$5:K995,1),\"\")","v":991},{"$f":"IF(ISNUMBER(SEARCH('Bilgi Girişi'!$E$4,KalemAdı,1))=TRUE,1,0)","v":1},"Tarım ve ormancılık makinelerinin parçaları","Mal",16800000,null,null,"İş kıyafetleri, özel iş giysisi ve aksesuarları"]
[null,null,null,null,null,null,null,992,16810000,{"$f":"IF(K996=1,COUNTIF($K$5:K996,1),\"\")","v":992},{"$f":"IF(ISNUMBER(SEARCH('Bilgi Girişi'!$E$4,KalemAdı,1))=TRUE,1,0)","v":1},"Tarım makineleri parçaları","Mal",16810000,null,null,"Mesleki giyecekler"]
[null,null,null,null,null,null,null,993,16820000,{"$f":"IF(K997=1,COUNTIF($K$5:K997,1),\"\")","v":993},{"$f":"IF(ISNUMBER(SEARCH('Bilgi Girişi'!$E$4,KalemAdı,1))=TRUE,1,0)","v":1},"Orman makineleri parçaları","Mal",16820000,null,null,"Endüstriyel giysiler"]
[null,null,null,null,null,null,null,994,18000000,{"$f":"IF(K998=1,COUNTIF($K$5:K998,1),\"\")","v":994},{"$f":"IF(ISNUMBER(SEARCH('Bilgi Girişi'!$E$4,KalemAdı,1))=TRUE,1,0)","v":1},"Giyim, ayakkabı, bavul eşyaları ve aksesuarlar","Mal",18000000,null,null,"Tulumlar"]
[null,null,null,null,null,null,null,995,18100000,{"$f":"IF(K999=1,COUNTIF($K$5:K999,1),\"\")","v":995},{"$f":"IF(ISNUMBER(SEARCH('Bilgi Girişi'!$E$4,KalemAdı,1))=TRUE,1,0)","v":1},"İş kıyafetleri, özel iş giysisi ve aksesuarları","Mal",18100000,null,null,"Özel iş giysileri"]
[null,null,null,null,null,null,null,996,18110000,{"$f":"IF(K1000=1,COUNTIF($K$5:K1000,1),\"\")","v":996},{"$f":"IF(ISNUMBER(SEARCH('Bilgi Girişi'!$E$4,KalemAdı,1))=TRUE,1,0)","v":1},"Mesleki giyecekler","Mal",18110000,null,null,"Uçuş giysileri"]
[null,null,null,null,null,null,null,997,18113000,{"$f":"IF(K1001=1,COUNTIF($K$5:K1001,1),\"\")","v":997},{"$f":"IF(ISNUMBER(SEARCH('Bilgi Girişi'!$E$4,KalemAdı,1))=TRUE,1,0)","v":1},"Endüstriyel giysiler","Mal",18113000,null,null,"Uçuş ceketleri"]
[null,null,null,null,null,null,null,998,18114000,{"$f":"IF(K1002=1,COUNTIF($K$5:K1002,1),\"\")","v":998},{"$f":"IF(ISNUMBER(SEARCH('Bilgi Girişi'!$E$4,KalemAdı,1))=TRUE,1,0)","v":1},"Tulumlar","Mal",18114000,null,null,"Uçuş kıyafetleri"]
[null,null,null,null,null,null,null,999,18130000,{"$f":"IF(K1003=1,COUNTIF($K$5:K1003,1),\"\")","v":999},{"$f":"IF(ISNUMBER(SEARCH('Bilgi Girişi'!$E$4,KalemAdı,1))=TRUE,1,0)","v":1},"Özel iş giysileri","Mal",18130000,null,null,"İş giyeceği aksesuarları"]
[null,null,null,null,null,null,null,1000,18132000,{"$f":"IF(K1004=1,COUNTIF($K$5:K1004,1),\"\")","v":1000},{"$f":"IF(ISNUMBER(SEARCH('Bilgi Girişi'!$E$4,KalemAdı,1))=TRUE,1,0)","v":1},"Uçuş giysileri","Mal",18132000,null,null,"İş eldivenleri"]
[null,null,null,null,null,null,null,1001,18132100,{"$f":"IF(K1005=1,COUNTIF($K$5:K1005,1),\"\")","v":1001},{"$f":"IF(ISNUMBER(SEARCH('Bilgi Girişi'!$E$4,KalemAdı,1))=TRUE,1,0)","v":1},"Uçuş ceketleri","Mal",18132100,null,null,"Koruyucu siperlikler"]
[null,null,null,null,null,null,null,1002,18132200,{"$f":"IF(K1006=1,COUNTIF($K$5:K1006,1),\"\")","v":1002},{"$f":"IF(ISNUMBER(SEARCH('Bilgi Girişi'!$E$4,KalemAdı,1))=TRUE,1,0)","v":1},"Uçuş kıyafetleri","Mal",18132200,null,null,"Koruyucu giysiler"]
[null,null,null,null,null,null,null,1003,18140000,{"$f":"IF(K1007=1,COUNTIF($K$5:K1007,1),\"\")","v":1003},{"$f":"IF(ISNUMBER(SEARCH('Bilgi Girişi'!$E$4,KalemAdı,1))=TRUE,1,0)","v":1},"İş giyeceği aksesuarları","Mal",18140000,null,null,"Dış giyim"]
[null,null,null,null,null,null,null,1004,18141000,{"$f":"IF(K1008=1,COUNTIF($K$5:K1008,1),\"\")","v":1004},{"$f":"IF(ISNUMBER(SEARCH('Bilgi Girişi'!$E$4,KalemAdı,1))=TRUE,1,0)","v":1},"İş eldivenleri","Mal",18141000,null,null,"Paltolar"]
[null,null,null,null,null,null,null,1005,18142000,{"$f":"IF(K1009=1,COUNTIF($K$5:K1009,1),\"\")","v":1005},{"$f":"IF(ISNUMBER(SEARCH('Bilgi Girişi'!$E$4,KalemAdı,1))=TRUE,1,0)","v":1},"Koruyucu siperlikler","Mal",18142000,null,null,"Pelerinler"]
[null,null,null,null,null,null,null,1006,18143000,{"$f":"IF(K1010=1,COUNTIF($K$5:K1010,1),\"\")","v":1006},{"$f":"IF(ISNUMBER(SEARCH('Bilgi Girişi'!$E$4,KalemAdı,1))=TRUE,1,0)","v":1},"Koruyucu giysiler","Mal",18143000,null,null,"Harmaniyeler"]
[null,null,null,null,null,null,null,1007,18200000,{"$f":"IF(K1011=1,COUNTIF($K$5:K1011,1),\"\")","v":1007},{"$f":"IF(ISNUMBER(SEARCH('Bilgi Girişi'!$E$4,KalemAdı,1))=TRUE,1,0)","v":1},"Dış giyim","Mal",18200000,null,null,"Rüzgar ceketleri"]
[null,null,null,null,null,null,null,1008,18210000,{"$f":"IF(K1012=1,COUNTIF($K$5:K1012,1),\"\")","v":1008},{"$f":"IF(ISNUMBER(SEARCH('Bilgi Girişi'!$E$4,KalemAdı,1))=TRUE,1,0)","v":1},"Paltolar","Mal",18210000,null,null,"Hava geçirmez giysiler"]
[null,null,null,null,null,null,null,1009,18211000,{"$f":"IF(K1013=1,COUNTIF($K$5:K1013,1),\"\")","v":1009},{"$f":"IF(ISNUMBER(SEARCH('Bilgi Girişi'!$E$4,KalemAdı,1))=TRUE,1,0)","v":1},"Pelerinler","Mal",18211000,null,null,"Su geçirmez giysiler"]
[null,null,null,null,null,null,null,1010,18212000,{"$f":"IF(K1014=1,COUNTIF($K$5:K1014,1),\"\")","v":1010},{"$f":"IF(ISNUMBER(SEARCH('Bilgi Girişi'!$E$4,KalemAdı,1))=TRUE,1,0)","v":1},"Harmaniyeler","Mal",18212000,null,null,"Su geçirmez pelerinler"]
[null,null,null,null,null,null,null,1011,18213000,{"$f":"IF(K1015=1,COUNTIF($K$5:K1015,1),\"\")","v":1011},{"$f":"IF(ISNUMBER(SEARCH('Bilgi Girişi'!$E$4,KalemAdı,1))=TRUE,1,0)","v":1},"Rüzgar ceketleri","Mal",18213000,null,null,"Anoraklar"]
[null,null,null,null,null,null,null,1012,18220000,{"$f":"IF(K1016=1,COUNTIF($K$5:K1016,1),\"\")","v":1012},{"$f":"IF(ISNUMBER(SEARCH('Bilgi Girişi'!$E$4,KalemAdı,1))=TRUE,1,0)","v":1},"Hava geçirmez giysiler","Mal",18220000,null,null,"Yağmurluklar"]
[null,null,null,null,null,null,null,1013,18221000,{"$f":"IF(K1017=1,COUNTIF($K$5:K1017,1),\"\")","v":1013},{"$f":"IF(ISNUMBER(SEARCH('Bilgi Girişi'!$E$4,KalemAdı,1))=TRUE,1,0)","v":1},"Su geçirmez giysiler","Mal",18221000,null,null,"Bütünleşik giysiler"]
[null,null,null,null,null,null,null,1014,18221100,{"$f":"IF(K1018=1,COUNTIF($K$5:K1018,1),\"\")","v":1014},{"$f":"IF(ISNUMBER(SEARCH('Bilgi Girişi'!$E$4,KalemAdı,1))=TRUE,1,0)","v":1},"Su geçirmez pelerinler","Mal",18221100,null,null,"Takım elbiseler"]
[null,null,null,null,null,null,null,1015,18221200,{"$f":"IF(K1019=1,COUNTIF($K$5:K1019,1),\"\")","v":1015},{"$f":"IF(ISNUMBER(SEARCH('Bilgi Girişi'!$E$4,KalemAdı,1))=TRUE,1,0)","v":1},"Anoraklar","Mal",18221200,null,null,"Takım elbiseler/döpiyes"]
[null,null,null,null,null,null,null,1016,18221300,{"$f":"IF(K1020=1,COUNTIF($K$5:K1020,1),\"\")","v":1016},{"$f":"IF(ISNUMBER(SEARCH('Bilgi Girişi'!$E$4,KalemAdı,1))=TRUE,1,0)","v":1},"Yağmurluklar","Mal",18221300,null,null,"Ceket ve yazlık ceketler"]
[null,null,null,null,null,null,null,1017,18222000,{"$f":"IF(K1021=1,COUNTIF($K$5:K1021,1),\"\")","v":1017},{"$f":"IF(ISNUMBER(SEARCH('Bilgi Girişi'!$E$4,KalemAdı,1))=TRUE,1,0)","v":1},"Bütünleşik giysiler","Mal",18222000,null,null,"Yazlık ceketler"]
[null,null,null,null,null,null,null,1018,18222100,{"$f":"IF(K1022=1,COUNTIF($K$5:K1022,1),\"\")","v":1018},{"$f":"IF(ISNUMBER(SEARCH('Bilgi Girişi'!$E$4,KalemAdı,1))=TRUE,1,0)","v":1},"Takım elbiseler","Mal",18222100,null,null,"Ceketler"]
[null,null,null,null,null,null,null,1019,18222200,{"$f":"IF(K1023=1,COUNTIF($K$5:K1023,1),\"\")","v":1019},{"$f":"IF(ISNUMBER(SEARCH('Bilgi Girişi'!$E$4,KalemAdı,1))=TRUE,1,0)","v":1},"Takım elbiseler/döpiyes","Mal",18222200,null,null,"Empeniye veya kaplanmış kumaşlardan mamul giyecekler"]
[null,null,null,null,null,null,null,1020,18223000,{"$f":"IF(K1024=1,COUNTIF($K$5:K1024,1),\"\")","v":1020},{"$f":"IF(ISNUMBER(SEARCH('Bilgi Girişi'!$E$4,KalemAdı,1))=TRUE,1,0)","v":1},"Ceket ve yazlık ceketler","Mal",18223000,null,null,"Diğer çeşitli dış giyim"]
[null,null,null,null,null,null,null,1021,18223100,{"$f":"IF(K1025=1,COUNTIF($K$5:K1025,1),\"\")","v":1021},{"$f":"IF(ISNUMBER(SEARCH('Bilgi Girişi'!$E$4,KalemAdı,1))=TRUE,1,0)","v":1},"Yazlık ceketler","Mal",18223100,null,null,"Kadın elbiseleri"]
[null,null,null,null,null,null,null,1022,18223200,{"$f":"IF(K1026=1,COUNTIF($K$5:K1026,1),\"\")","v":1022},{"$f":"IF(ISNUMBER(SEARCH('Bilgi Girişi'!$E$4,KalemAdı,1))=TRUE,1,0)","v":1},"Ceketler","Mal",18223200,null,null,"Eteklikler"]
[null,null,null,null,null,null,null,1023,18224000,{"$f":"IF(K1027=1,COUNTIF($K$5:K1027,1),\"\")","v":1023},{"$f":"IF(ISNUMBER(SEARCH('Bilgi Girişi'!$E$4,KalemAdı,1))=TRUE,1,0)","v":1},"Empeniye veya kaplanmış kumaşlardan mamul giyecekler","Mal",18224000,null,null,"Şortlar"]
[null,null,null,null,null,null,null,1024,18230000,{"$f":"IF(K1028=1,COUNTIF($K$5:K1028,1),\"\")","v":1024},{"$f":"IF(ISNUMBER(SEARCH('Bilgi Girişi'!$E$4,KalemAdı,1))=TRUE,1,0)","v":1},"Diğer çeşitli dış giyim","Mal",18230000,null,null,"Pantolonlar"]
[null,null,null,null,null,null,null,1025,18231000,{"$f":"IF(K1029=1,COUNTIF($K$5:K1029,1),\"\")","v":1025},{"$f":"IF(ISNUMBER(SEARCH('Bilgi Girişi'!$E$4,KalemAdı,1))=TRUE,1,0)","v":1},"Kadın elbiseleri","Mal",18231000,null,null,"Süveterler, hırkalar ve benzeri eşyalar"]
[null,null,null,null,null,null,null,1026,18232000,{"$f":"IF(K1030=1,COUNTIF($K$5:K1030,1),\"\")","v":1026},{"$f":"IF(ISNUMBER(SEARCH('Bilgi Girişi'!$E$4,KalemAdı,1))=TRUE,1,0)","v":1},"Eteklikler","Mal",18232000,null,null,{"$f":"IFERROR(VLOOKUP(ROW($P1030),$J$5:$L$9594,3,FALSE),\"\")","v":"Süveterler"}]
[null,null,null,null,null,null,null,1027,18233000,{"$f":"IF(K1031=1,COUNTIF($K$5:K1031,1),\"\")","v":1027},{"$f":"IF(ISNUMBER(SEARCH('Bilgi Girişi'!$E$4,KalemAdı,1))=TRUE,1,0)","v":1},"Şortlar","Mal",18233000,null,null,"Hırkalar"]
[null,null,null,null,null,null,null,1028,18234000,{"$f":"IF(K1032=1,COUNTIF($K$5:K1032,1),\"\")","v":1028},{"$f":"IF(ISNUMBER(SEARCH('Bilgi Girişi'!$E$4,KalemAdı,1))=TRUE,1,0)","v":1},"Pantolonlar","Mal",18234000,null,null,"Sweatshirt ve eşofmanlar"]
[null,null,null,null,null,null,null,1029,18235000,{"$f":"IF(K1033=1,COUNTIF($K$5:K1033,1),\"\")","v":1029},{"$f":"IF(ISNUMBER(SEARCH('Bilgi Girişi'!$E$4,KalemAdı,1))=TRUE,1,0)","v":1},"Süveterler, hırkalar ve benzeri eşyalar","Mal",18235000,null,null,"Yelekler"]
[null,null,null,null,null,null,null,1030,18235100,{"$f":"IF(K1034=1,COUNTIF($K$5:K1034,1),\"\")","v":1030},{"$f":"IF(ISNUMBER(SEARCH('Bilgi Girişi'!$E$4,KalemAdı,1))=TRUE,1,0)","v":1},"Süveterler","Mal",18235100,null,null,"Elbiseler"]
[null,null,null,null,null,null,null,1031,18235200,{"$f":"IF(K1035=1,COUNTIF($K$5:K1035,1),\"\")","v":1031},{"$f":"IF(ISNUMBER(SEARCH('Bilgi Girişi'!$E$4,KalemAdı,1))=TRUE,1,0)","v":1},"Hırkalar","Mal",18235200,null,null,"İç giyim eşyası"]
[null,null,null,null,null,null,null,1032,18235300,{"$f":"IF(K1036=1,COUNTIF($K$5:K1036,1),\"\")","v":1032},{"$f":"IF(ISNUMBER(SEARCH('Bilgi Girişi'!$E$4,KalemAdı,1))=TRUE,1,0)","v":1},"Sweatshirt ve eşofmanlar","Mal",18235300,null,null,"Slipler"]
[null,null,null,null,null,null,null,1033,18235400,{"$f":"IF(K1037=1,COUNTIF($K$5:K1037,1),\"\")","v":1033},{"$f":"IF(ISNUMBER(SEARCH('Bilgi Girişi'!$E$4,KalemAdı,1))=TRUE,1,0)","v":1},"Yelekler","Mal",18235400,null,null,"Külotlar"]
[null,null,null,null,null,null,null,1034,18300000,{"$f":"IF(K1038=1,COUNTIF($K$5:K1038,1),\"\")","v":1034},{"$f":"IF(ISNUMBER(SEARCH('Bilgi Girişi'!$E$4,KalemAdı,1))=TRUE,1,0)","v":1},"Elbiseler","Mal",18300000,null,null,"Kadın külotları"]
[null,null,null,null,null,null,null,1035,18310000,{"$f":"IF(K1039=1,COUNTIF($K$5:K1039,1),\"\")","v":1035},{"$f":"IF(ISNUMBER(SEARCH('Bilgi Girişi'!$E$4,KalemAdı,1))=TRUE,1,0)","v":1},"İç giyim eşyası","Mal",18310000,null,null,"Bornozlar"]
[null,null,null,null,null,null,null,1036,18311000,{"$f":"IF(K1040=1,COUNTIF($K$5:K1040,1),\"\")","v":1036},{"$f":"IF(ISNUMBER(SEARCH('Bilgi Girişi'!$E$4,KalemAdı,1))=TRUE,1,0)","v":1},"Slipler","Mal",18311000,null,null,"Uzun çoraplar"]
[null,null,null,null,null,null,null,1037,18312000,{"$f":"IF(K1041=1,COUNTIF($K$5:K1041,1),\"\")","v":1037},{"$f":"IF(ISNUMBER(SEARCH('Bilgi Girişi'!$E$4,KalemAdı,1))=TRUE,1,0)","v":1},"Külotlar","Mal",18312000,null,null,"Taytlar"]
[null,null,null,null,null,null,null,1038,18313000,{"$f":"IF(K1042=1,COUNTIF($K$5:K1042,1),\"\")","v":1038},{"$f":"IF(ISNUMBER(SEARCH('Bilgi Girişi'!$E$4,KalemAdı,1))=TRUE,1,0)","v":1},"Kadın külotları","Mal",18313000,null,null,"Kısa çoraplar, soketler"]
[null,null,null,null,null,null,null,1039,18314000,{"$f":"IF(K1043=1,COUNTIF($K$5:K1043,1),\"\")","v":1039},{"$f":"IF(ISNUMBER(SEARCH('Bilgi Girişi'!$E$4,KalemAdı,1))=TRUE,1,0)","v":1},"Bornozlar","Mal",18314000,null,null,"Gece kıyafetleri"]
[null,null,null,null,null,null,null,1040,18315000,{"$f":"IF(K1044=1,COUNTIF($K$5:K1044,1),\"\")","v":1040},{"$f":"IF(ISNUMBER(SEARCH('Bilgi Girişi'!$E$4,KalemAdı,1))=TRUE,1,0)","v":1},"Uzun çoraplar","Mal",18315000,null,null,"Gecelik entarileri"]
[null,null,null,null,null,null,null,1041,18316000,{"$f":"IF(K1045=1,COUNTIF($K$5:K1045,1),\"\")","v":1041},{"$f":"IF(ISNUMBER(SEARCH('Bilgi Girişi'!$E$4,KalemAdı,1))=TRUE,1,0)","v":1},"Taytlar","Mal",18316000,null,null,"Sabahlıklar"]
[null,null,null,null,null,null,null,1042,18317000,{"$f":"IF(K1046=1,COUNTIF($K$5:K1046,1),\"\")","v":1042},{"$f":"IF(ISNUMBER(SEARCH('Bilgi Girişi'!$E$4,KalemAdı,1))=TRUE,1,0)","v":1},"Kısa çoraplar, soketler","Mal",18317000,null,null,"Pijamalar"]
[null,null,null,null,null,null,null,1043,18318000,{"$f":"IF(K1047=1,COUNTIF($K$5:K1047,1),\"\")","v":1043},{"$f":"IF(ISNUMBER(SEARCH('Bilgi Girişi'!$E$4,KalemAdı,1))=TRUE,1,0)","v":1},"Gece kıyafetleri","Mal",18318000,null,null,"Yelekler"]
[null,null,null,null,null,null,null,1044,18318100,{"$f":"IF(K1048=1,COUNTIF($K$5:K1048,1),\"\")","v":1044},{"$f":"IF(ISNUMBER(SEARCH('Bilgi Girişi'!$E$4,KalemAdı,1))=TRUE,1,0)","v":1},"Gecelik entarileri","Mal",18318100,null,null,"Kadın gecelikleri"]
[null,null,null,null,null,null,null,1045,18318200,{"$f":"IF(K1049=1,COUNTIF($K$5:K1049,1),\"\")","v":1045},{"$f":"IF(ISNUMBER(SEARCH('Bilgi Girişi'!$E$4,KalemAdı,1))=TRUE,1,0)","v":1},"Sabahlıklar","Mal",18318200,null,null,"Sutyenler, korseler, jartiyerler ve benzeri eşyalar"]
[null,null,null,null,null,null,null,1046,18318300,{"$f":"IF(K1050=1,COUNTIF($K$5:K1050,1),\"\")","v":1046},{"$f":"IF(ISNUMBER(SEARCH('Bilgi Girişi'!$E$4,KalemAdı,1))=TRUE,1,0)","v":1},"Pijamalar","Mal",18318300,null,null,"Sutyenler"]
[null,null,null,null,null,null,null,1047,18318400,{"$f":"IF(K1051=1,COUNTIF($K$5:K1051,1),\"\")","v":1047},{"$f":"IF(ISNUMBER(SEARCH('Bilgi Girişi'!$E$4,KalemAdı,1))=TRUE,1,0)","v":1},"Yelekler","Mal",18318400,null,null,"Korseler"]
[null,null,null,null,null,null,null,1048,18318500,{"$f":"IF(K1052=1,COUNTIF($K$5:K1052,1),\"\")","v":1048},{"$f":"IF(ISNUMBER(SEARCH('Bilgi Girişi'!$E$4,KalemAdı,1))=TRUE,1,0)","v":1},"Kadın gecelikleri","Mal",18318500,null,null,"Jartiyerler"]
[null,null,null,null,null,null,null,1049,18320000,{"$f":"IF(K1053=1,COUNTIF($K$5:K1053,1),\"\")","v":1049},{"$f":"IF(ISNUMBER(SEARCH('Bilgi Girişi'!$E$4,KalemAdı,1))=TRUE,1,0)","v":1},"Sutyenler, korseler, jartiyerler ve benzeri eşyalar","Mal",18320000,null,null,"T-shirtler ve gömlekler"]
[null,null,null,null,null,null,null,1050,18321000,{"$f":"IF(K1054=1,COUNTIF($K$5:K1054,1),\"\")","v":1050},{"$f":"IF(ISNUMBER(SEARCH('Bilgi Girişi'!$E$4,KalemAdı,1))=TRUE,1,0)","v":1},"Sutyenler","Mal",18321000,null,null,"Tişörtler"]
[null,null,null,null,null,null,null,1051,18322000,{"$f":"IF(K1055=1,COUNTIF($K$5:K1055,1),\"\")","v":1051},{"$f":"IF(ISNUMBER(SEARCH('Bilgi Girişi'!$E$4,KalemAdı,1))=TRUE,1,0)","v":1},"Korseler","Mal",18322000,null,null,"Gömlekler"]
[null,null,null,null,null,null,null,1052,18323000,{"$f":"IF(K1056=1,COUNTIF($K$5:K1056,1),\"\")","v":1052},{"$f":"IF(ISNUMBER(SEARCH('Bilgi Girişi'!$E$4,KalemAdı,1))=TRUE,1,0)","v":1},"Jartiyerler","Mal",18323000,null,null,"Polo gömlekleri"]
[null,null,null,null,null,null,null,1053,18330000,{"$f":"IF(K1057=1,COUNTIF($K$5:K1057,1),\"\")","v":1053},{"$f":"IF(ISNUMBER(SEARCH('Bilgi Girişi'!$E$4,KalemAdı,1))=TRUE,1,0)","v":1},"T-shirtler ve gömlekler","Mal",18330000,null,null,"Özel giyecek ve eşyalar"]
[null,null,null,null,null,null,null,1054,18331000,{"$f":"IF(K1058=1,COUNTIF($K$5:K1058,1),\"\")","v":1054},{"$f":"IF(ISNUMBER(SEARCH('Bilgi Girişi'!$E$4,KalemAdı,1))=TRUE,1,0)","v":1},"Tişörtler","Mal",18331000,null,null,"Özel giyecekler"]
[null,null,null,null,null,null,null,1055,18332000,{"$f":"IF(K1059=1,COUNTIF($K$5:K1059,1),\"\")","v":1055},{"$f":"IF(ISNUMBER(SEARCH('Bilgi Girişi'!$E$4,KalemAdı,1))=TRUE,1,0)","v":1},"Gömlekler","Mal",18332000,null,null,"Bebek giyecekleri"]
[null,null,null,null,null,null,null,1056,18333000,{"$f":"IF(K1060=1,COUNTIF($K$5:K1060,1),\"\")","v":1056},{"$f":"IF(ISNUMBER(SEARCH('Bilgi Girişi'!$E$4,KalemAdı,1))=TRUE,1,0)","v":1},"Polo gömlekleri","Mal",18333000,null,null,"Spor giyecekler"]
[null,null,null,null,null,null,null,1057,18400000,{"$f":"IF(K1061=1,COUNTIF($K$5:K1061,1),\"\")","v":1057},{"$f":"IF(ISNUMBER(SEARCH('Bilgi Girişi'!$E$4,KalemAdı,1))=TRUE,1,0)","v":1},"Özel giyecek ve eşyalar","Mal",18400000,null,null,"Eşofmanlar"]
[null,null,null,null,null,null,null,1058,18410000,{"$f":"IF(K1062=1,COUNTIF($K$5:K1062,1),\"\")","v":1058},{"$f":"IF(ISNUMBER(SEARCH('Bilgi Girişi'!$E$4,KalemAdı,1))=TRUE,1,0)","v":1},"Özel giyecekler","Mal",18410000,null,null,"Spor fanilaları"]
[null,null,null,null,null,null,null,1059,18411000,{"$f":"IF(K1063=1,COUNTIF($K$5:K1063,1),\"\")","v":1059},{"$f":"IF(ISNUMBER(SEARCH('Bilgi Girişi'!$E$4,KalemAdı,1))=TRUE,1,0)","v":1},"Bebek giyecekleri","Mal",18411000,null,null,"Kayak elbiseleri"]
[null,null,null,null,null,null,null,1060,18412000,{"$f":"IF(K1064=1,COUNTIF($K$5:K1064,1),\"\")","v":1060},{"$f":"IF(ISNUMBER(SEARCH('Bilgi Girişi'!$E$4,KalemAdı,1))=TRUE,1,0)","v":1},"Spor giyecekler","Mal",18412000,null,null,"Mayolar"]
[null,null,null,null,null,null,null,1061,18412100,{"$f":"IF(K1065=1,COUNTIF($K$5:K1065,1),\"\")","v":1061},{"$f":"IF(ISNUMBER(SEARCH('Bilgi Girişi'!$E$4,KalemAdı,1))=TRUE,1,0)","v":1},"Eşofmanlar","Mal",18412100,null,null,"Giyim aksesuarları"]
[null,null,null,null,null,null,null,1062,18412200,{"$f":"IF(K1066=1,COUNTIF($K$5:K1066,1),\"\")","v":1062},{"$f":"IF(ISNUMBER(SEARCH('Bilgi Girişi'!$E$4,KalemAdı,1))=TRUE,1,0)","v":1},"Spor fanilaları","Mal",18412200,null,null,"Mendiller"]
[null,null,null,null,null,null,null,1063,18412300,{"$f":"IF(K1067=1,COUNTIF($K$5:K1067,1),\"\")","v":1063},{"$f":"IF(ISNUMBER(SEARCH('Bilgi Girişi'!$E$4,KalemAdı,1))=TRUE,1,0)","v":1},"Kayak elbiseleri","Mal",18412300,null,null,"Eşarplar"]
[null,null,null,null,null,null,null,1064,18412800,{"$f":"IF(K1068=1,COUNTIF($K$5:K1068,1),\"\")","v":1064},{"$f":"IF(ISNUMBER(SEARCH('Bilgi Girişi'!$E$4,KalemAdı,1))=TRUE,1,0)","v":1},"Mayolar","Mal",18412800,null,null,"Kravatlar"]
[null,null,null,null,null,null,null,1065,18420000,{"$f":"IF(K1069=1,COUNTIF($K$5:K1069,1),\"\")","v":1065},{"$f":"IF(ISNUMBER(SEARCH('Bilgi Girişi'!$E$4,KalemAdı,1))=TRUE,1,0)","v":1},"Giyim aksesuarları","Mal",18420000,null,null,"Eldivenler"]
[null,null,null,null,null,null,null,1066,18421000,{"$f":"IF(K1070=1,COUNTIF($K$5:K1070,1),\"\")","v":1066},{"$f":"IF(ISNUMBER(SEARCH('Bilgi Girişi'!$E$4,KalemAdı,1))=TRUE,1,0)","v":1},"Mendiller","Mal",18421000,null,null,"Atılabilir eldivenler, tek kullanımlık eldivenler"]
[null,null,null,null,null,null,null,1067,18422000,{"$f":"IF(K1071=1,COUNTIF($K$5:K1071,1),\"\")","v":1067},{"$f":"IF(ISNUMBER(SEARCH('Bilgi Girişi'!$E$4,KalemAdı,1))=TRUE,1,0)","v":1},"Eşarplar","Mal",18422000,null,null,"Eldivenler"]
[null,null,null,null,null,null,null,1068,18423000,{"$f":"IF(K1072=1,COUNTIF($K$5:K1072,1),\"\")","v":1068},{"$f":"IF(ISNUMBER(SEARCH('Bilgi Girişi'!$E$4,KalemAdı,1))=TRUE,1,0)","v":1},"Kravatlar","Mal",18423000,null,null,"İş eldivenleri"]
[null,null,null,null,null,null,null,1069,18424000,{"$f":"IF(K1073=1,COUNTIF($K$5:K1073,1),\"\")","v":1069},{"$f":"IF(ISNUMBER(SEARCH('Bilgi Girişi'!$E$4,KalemAdı,1))=TRUE,1,0)","v":1},"Eldivenler","Mal",18424000,null,null,"Kemerler"]
[null,null,null,null,null,null,null,1070,18424300,{"$f":"IF(K1074=1,COUNTIF($K$5:K1074,1),\"\")","v":1070},{"$f":"IF(ISNUMBER(SEARCH('Bilgi Girişi'!$E$4,KalemAdı,1))=TRUE,1,0)","v":1},"Atılabilir eldivenler, tek kullanımlık eldivenler","Mal",18424300,null,null,"Omuzdan çapraz kayışlar"]
[null,null,null,null,null,null,null,1071,18424400,{"$f":"IF(K1075=1,COUNTIF($K$5:K1075,1),\"\")","v":1071},{"$f":"IF(ISNUMBER(SEARCH('Bilgi Girişi'!$E$4,KalemAdı,1))=TRUE,1,0)","v":1},"Eldivenler","Mal",18424400,null,null,"Şapka ve başlıklar"]
[null,null,null,null,null,null,null,1072,18424500,{"$f":"IF(K1076=1,COUNTIF($K$5:K1076,1),\"\")","v":1072},{"$f":"IF(ISNUMBER(SEARCH('Bilgi Girişi'!$E$4,KalemAdı,1))=TRUE,1,0)","v":1},"İş eldivenleri","Mal",18424500,null,null,"Şapkalar"]
[null,null,null,null,null,null,null,1073,18425000,{"$f":"IF(K1077=1,COUNTIF($K$5:K1077,1),\"\")","v":1073},{"$f":"IF(ISNUMBER(SEARCH('Bilgi Girişi'!$E$4,KalemAdı,1))=TRUE,1,0)","v":1},"Kemerler","Mal",18425000,null,null,"Başlıklar ve başlık aksesuarları"]
[null,null,null,null,null,null,null,1074,18425100,{"$f":"IF(K1078=1,COUNTIF($K$5:K1078,1),\"\")","v":1074},{"$f":"IF(ISNUMBER(SEARCH('Bilgi Girişi'!$E$4,KalemAdı,1))=TRUE,1,0)","v":1},"Omuzdan çapraz kayışlar","Mal",18425100,null,null,"Saç bantları"]
[null,null,null,null,null,null,null,1075,18440000,{"$f":"IF(K1079=1,COUNTIF($K$5:K1079,1),\"\")","v":1075},{"$f":"IF(ISNUMBER(SEARCH('Bilgi Girişi'!$E$4,KalemAdı,1))=TRUE,1,0)","v":1},"Şapka ve başlıklar","Mal",18440000,null,null,"Şapkalar/başlıklar"]
[null,null,null,null,null,null,null,1076,18441000,{"$f":"IF(K1080=1,COUNTIF($K$5:K1080,1),\"\")","v":1076},{"$f":"IF(ISNUMBER(SEARCH('Bilgi Girişi'!$E$4,KalemAdı,1))=TRUE,1,0)","v":1},"Şapkalar","Mal",18441000,null,null,"Bereler"]
[null,null,null,null,null,null,null,1077,18443000,{"$f":"IF(K1081=1,COUNTIF($K$5:K1081,1),\"\")","v":1077},{"$f":"IF(ISNUMBER(SEARCH('Bilgi Girişi'!$E$4,KalemAdı,1))=TRUE,1,0)","v":1},"Başlıklar ve başlık aksesuarları","Mal",18443000,null,null,"Arazi başlıkları"]
[null,null,null,null,null,null,null,1078,18443100,{"$f":"IF(K1082=1,COUNTIF($K$5:K1082,1),\"\")","v":1078},{"$f":"IF(ISNUMBER(SEARCH('Bilgi Girişi'!$E$4,KalemAdı,1))=TRUE,1,0)","v":1},"Saç bantları","Mal",18443100,null,null,"Kukuletalar"]
[null,null,null,null,null,null,null,1079,18443300,{"$f":"IF(K1083=1,COUNTIF($K$5:K1083,1),\"\")","v":1079},{"$f":"IF(ISNUMBER(SEARCH('Bilgi Girişi'!$E$4,KalemAdı,1))=TRUE,1,0)","v":1},"Şapkalar/başlıklar","Mal",18443300,null,null,"Kasketler"]
[null,null,null,null,null,null,null,1080,18443310,{"$f":"IF(K1084=1,COUNTIF($K$5:K1084,1),\"\")","v":1080},{"$f":"IF(ISNUMBER(SEARCH('Bilgi Girişi'!$E$4,KalemAdı,1))=TRUE,1,0)","v":1},"Bereler","Mal",18443310,null,null,"Şapkalar için çene kayışları"]
[null,null,null,null,null,null,null,1081,18443320,{"$f":"IF(K1085=1,COUNTIF($K$5:K1085,1),\"\")","v":1081},{"$f":"IF(ISNUMBER(SEARCH('Bilgi Girişi'!$E$4,KalemAdı,1))=TRUE,1,0)","v":1},"Arazi başlıkları","Mal",18443320,null,null,"Vizörler"]
[null,null,null,null,null,null,null,1082,18443330,{"$f":"IF(K1086=1,COUNTIF($K$5:K1086,1),\"\")","v":1082},{"$f":"IF(ISNUMBER(SEARCH('Bilgi Girişi'!$E$4,KalemAdı,1))=TRUE,1,0)","v":1},"Kukuletalar","Mal",18443330,null,null,"Koruyucu başlıklar"]
[null,null,null,null,null,null,null,1083,18443340,{"$f":"IF(K1087=1,COUNTIF($K$5:K1087,1),\"\")","v":1083},{"$f":"IF(ISNUMBER(SEARCH('Bilgi Girişi'!$E$4,KalemAdı,1))=TRUE,1,0)","v":1},"Kasketler","Mal",18443340,null,null,"Emniyet başlıkları"]
[null,null,null,null,null,null,null,1084,18443400,{"$f":"IF(K1088=1,COUNTIF($K$5:K1088,1),\"\")","v":1084},{"$f":"IF(ISNUMBER(SEARCH('Bilgi Girişi'!$E$4,KalemAdı,1))=TRUE,1,0)","v":1},"Şapkalar için çene kayışları","Mal",18443400,null,null,"Kasklar"]
[null,null,null,null,null,null,null,1085,18443500,{"$f":"IF(K1089=1,COUNTIF($K$5:K1089,1),\"\")","v":1085},{"$f":"IF(ISNUMBER(SEARCH('Bilgi Girişi'!$E$4,KalemAdı,1))=TRUE,1,0)","v":1},"Vizörler","Mal",18443500,null,null,"Plastik veya kauçuktan koruyucu kasklar"]
[null,null,null,null,null,null,null,1086,18444000,{"$f":"IF(K1090=1,COUNTIF($K$5:K1090,1),\"\")","v":1086},{"$f":"IF(ISNUMBER(SEARCH('Bilgi Girişi'!$E$4,KalemAdı,1))=TRUE,1,0)","v":1},"Koruyucu başlıklar","Mal",18444000,null,null,"Bisiklet kaskları"]
[null,null,null,null,null,null,null,1087,18444100,{"$f":"IF(K1091=1,COUNTIF($K$5:K1091,1),\"\")","v":1087},{"$f":"IF(ISNUMBER(SEARCH('Bilgi Girişi'!$E$4,KalemAdı,1))=TRUE,1,0)","v":1},"Emniyet başlıkları","Mal",18444100,null,null,"Miğferler"]
[null,null,null,null,null,null,null,1088,18444110,{"$f":"IF(K1092=1,COUNTIF($K$5:K1092,1),\"\")","v":1088},{"$f":"IF(ISNUMBER(SEARCH('Bilgi Girişi'!$E$4,KalemAdı,1))=TRUE,1,0)","v":1},"Kasklar","Mal",18444110,null,null,"Kopçalar (giyim)"]
[null,null,null,null,null,null,null,1089,18444111,{"$f":"IF(K1093=1,COUNTIF($K$5:K1093,1),\"\")","v":1089},{"$f":"IF(ISNUMBER(SEARCH('Bilgi Girişi'!$E$4,KalemAdı,1))=TRUE,1,0)","v":1},"Plastik veya kauçuktan koruyucu kasklar","Mal",18444111,null,null,"Düğmeler"]
[null,null,null,null,null,null,null,1090,18444112,{"$f":"IF(K1094=1,COUNTIF($K$5:K1094,1),\"\")","v":1090},{"$f":"IF(ISNUMBER(SEARCH('Bilgi Girişi'!$E$4,KalemAdı,1))=TRUE,1,0)","v":1},"Bisiklet kaskları","Mal",18444112,null,null,{"$f":"IFERROR(VLOOKUP(ROW($P1094),$J$5:$L$9594,3,FALSE),\"\")","v":"Düğme parçaları"}]
[null,null,null,null,null,null,null,1091,18444200,{"$f":"IF(K1095=1,COUNTIF($K$5:K1095,1),\"\")","v":1091},{"$f":"IF(ISNUMBER(SEARCH('Bilgi Girişi'!$E$4,KalemAdı,1))=TRUE,1,0)","v":1},"Miğferler","Mal",18444200,null,null,"Çengelli iğneler"]
[null,null,null,null,null,null,null,1092,18450000,{"$f":"IF(K1096=1,COUNTIF($K$5:K1096,1),\"\")","v":1092},{"$f":"IF(ISNUMBER(SEARCH('Bilgi Girişi'!$E$4,KalemAdı,1))=TRUE,1,0)","v":1},"Kopçalar (giyim)","Mal",18450000,null,null,"Fermuar kopçaları"]
[null,null,null,null,null,null,null,1093,18451000,{"$f":"IF(K1097=1,COUNTIF($K$5:K1097,1),\"\")","v":1093},{"$f":"IF(ISNUMBER(SEARCH('Bilgi Girişi'!$E$4,KalemAdı,1))=TRUE,1,0)","v":1},"Düğmeler","Mal",18451000,null,null,"Mücevherler, saatler ve benzeri eşyalar"]
[null,null,null,null,null,null,null,1094,18451100,{"$f":"IF(K1098=1,COUNTIF($K$5:K1098,1),\"\")","v":1094},{"$f":"IF(ISNUMBER(SEARCH('Bilgi Girişi'!$E$4,KalemAdı,1))=TRUE,1,0)","v":1},"Düğme parçaları","Mal",18451100,null,null,"Kuyumculuk ve ilgili maddeler"]
[null,null,null,null,null,null,null,1095,18452000,{"$f":"IF(K1099=1,COUNTIF($K$5:K1099,1),\"\")","v":1095},{"$f":"IF(ISNUMBER(SEARCH('Bilgi Girişi'!$E$4,KalemAdı,1))=TRUE,1,0)","v":1},"Çengelli iğneler","Mal",18452000,null,null,"Mücevher için değerli taş"]
[null,null,null,null,null,null,null,1096,18453000,{"$f":"IF(K1100=1,COUNTIF($K$5:K1100,1),\"\")","v":1096},{"$f":"IF(ISNUMBER(SEARCH('Bilgi Girişi'!$E$4,KalemAdı,1))=TRUE,1,0)","v":1},"Fermuar kopçaları","Mal",18453000,null,null,"Elmaslar"]
[null,null,null,null,null,null,null,1097,18500000,{"$f":"IF(K1101=1,COUNTIF($K$5:K1101,1),\"\")","v":1097},{"$f":"IF(ISNUMBER(SEARCH('Bilgi Girişi'!$E$4,KalemAdı,1))=TRUE,1,0)","v":1},"Mücevherler, saatler ve benzeri eşyalar","Mal",18500000,null,null,"Yakutlar"]
[null,null,null,null,null,null,null,1098,18510000,{"$f":"IF(K1102=1,COUNTIF($K$5:K1102,1),\"\")","v":1098},{"$f":"IF(ISNUMBER(SEARCH('Bilgi Girişi'!$E$4,KalemAdı,1))=TRUE,1,0)","v":1},"Kuyumculuk ve ilgili maddeler","Mal",18510000,null,null,"Zümrütler"]
[null,null,null,null,null,null,null,1099,18511000,{"$f":"IF(K1103=1,COUNTIF($K$5:K1103,1),\"\")","v":1099},{"$f":"IF(ISNUMBER(SEARCH('Bilgi Girişi'!$E$4,KalemAdı,1))=TRUE,1,0)","v":1},"Mücevher için değerli taş","Mal",18511000,null,null,"Opal taş"]
[null,null,null,null,null,null,null,1100,18511100,{"$f":"IF(K1104=1,COUNTIF($K$5:K1104,1),\"\")","v":1100},{"$f":"IF(ISNUMBER(SEARCH('Bilgi Girişi'!$E$4,KalemAdı,1))=TRUE,1,0)","v":1},"Elmaslar","Mal",18511100,null,null,"Kuvars taş"]
[null,null,null,null,null,null,null,1101,18511200,{"$f":"IF(K1105=1,COUNTIF($K$5:K1105,1),\"\")","v":1101},{"$f":"IF(ISNUMBER(SEARCH('Bilgi Girişi'!$E$4,KalemAdı,1))=TRUE,1,0)","v":1},"Yakutlar","Mal",18511200,null,null,"Turmalin taş"]
[null,null,null,null,null,null,null,1102,18511300,{"$f":"IF(K1106=1,COUNTIF($K$5:K1106,1),\"\")","v":1102},{"$f":"IF(ISNUMBER(SEARCH('Bilgi Girişi'!$E$4,KalemAdı,1))=TRUE,1,0)","v":1},"Zümrütler","Mal",18511300,null,null,"Sikke ve madalyonlar"]
[null,null,null,null,null,null,null,1103,18511400,{"$f":"IF(K1107=1,COUNTIF($K$5:K1107,1),\"\")","v":1103},{"$f":"IF(ISNUMBER(SEARCH('Bilgi Girişi'!$E$4,KalemAdı,1))=TRUE,1,0)","v":1},"Opal taş","Mal",18511400,null,null,"Sikke ve madeni paralar"]
[null,null,null,null,null,null,null,1104,18511500,{"$f":"IF(K1108=1,COUNTIF($K$5:K1108,1),\"\")","v":1104},{"$f":"IF(ISNUMBER(SEARCH('Bilgi Girişi'!$E$4,KalemAdı,1))=TRUE,1,0)","v":1},"Kuvars taş","Mal",18511500,null,null,"Madalyonlar"]
[null,null,null,null,null,null,null,1105,18511600,{"$f":"IF(K1109=1,COUNTIF($K$5:K1109,1),\"\")","v":1105},{"$f":"IF(ISNUMBER(SEARCH('Bilgi Girişi'!$E$4,KalemAdı,1))=TRUE,1,0)","v":1},"Turmalin taş","Mal",18511600,null,null,"Kuyumculuk malzemeleri"]
[null,null,null,null,null,null,null,1106,18512000,{"$f":"IF(K1110=1,COUNTIF($K$5:K1110,1),\"\")","v":1106},{"$f":"IF(ISNUMBER(SEARCH('Bilgi Girişi'!$E$4,KalemAdı,1))=TRUE,1,0)","v":1},"Sikke ve madalyonlar","Mal",18512000,null,null,"İnciler"]
[null,null,null,null,null,null,null,1107,18512100,{"$f":"IF(K1111=1,COUNTIF($K$5:K1111,1),\"\")","v":1107},{"$f":"IF(ISNUMBER(SEARCH('Bilgi Girişi'!$E$4,KalemAdı,1))=TRUE,1,0)","v":1},"Sikke ve madeni paralar","Mal",18512100,null,null,"Altın işçiliği eşyaları"]
[null,null,null,null,null,null,null,1108,18512200,{"$f":"IF(K1112=1,COUNTIF($K$5:K1112,1),\"\")","v":1108},{"$f":"IF(ISNUMBER(SEARCH('Bilgi Girişi'!$E$4,KalemAdı,1))=TRUE,1,0)","v":1},"Madalyonlar","Mal",18512200,null,null,"Değerli metal parçaları"]
[null,null,null,null,null,null,null,1109,18513000,{"$f":"IF(K1113=1,COUNTIF($K$5:K1113,1),\"\")","v":1109},{"$f":"IF(ISNUMBER(SEARCH('Bilgi Girişi'!$E$4,KalemAdı,1))=TRUE,1,0)","v":1},"Kuyumculuk malzemeleri","Mal",18513000,null,null,"Kıymetli ya da yarı kıymetli taşlardan malzemeler"]
[null,null,null,null,null,null,null,1110,18513100,{"$f":"IF(K1114=1,COUNTIF($K$5:K1114,1),\"\")","v":1110},{"$f":"IF(ISNUMBER(SEARCH('Bilgi Girişi'!$E$4,KalemAdı,1))=TRUE,1,0)","v":1},"İnciler","Mal",18513100,null,null,"Gümüş işçiliği eşyaları"]
[null,null,null,null,null,null,null,1111,18513200,{"$f":"IF(K1115=1,COUNTIF($K$5:K1115,1),\"\")","v":1111},{"$f":"IF(ISNUMBER(SEARCH('Bilgi Girişi'!$E$4,KalemAdı,1))=TRUE,1,0)","v":1},"Altın işçiliği eşyaları","Mal",18513200,null,null,"Kişisel zaman ölçme bilimi"]
[null,null,null,null,null,null,null,1112,18513300,{"$f":"IF(K1116=1,COUNTIF($K$5:K1116,1),\"\")","v":1112},{"$f":"IF(ISNUMBER(SEARCH('Bilgi Girişi'!$E$4,KalemAdı,1))=TRUE,1,0)","v":1},"Değerli metal parçaları","Mal",18513300,null,null,"Cep ve kol saatleri"]
[null,null,null,null,null,null,null,1113,18513400,{"$f":"IF(K1117=1,COUNTIF($K$5:K1117,1),\"\")","v":1113},{"$f":"IF(ISNUMBER(SEARCH('Bilgi Girişi'!$E$4,KalemAdı,1))=TRUE,1,0)","v":1},"Kıymetli ya da yarı kıymetli taşlardan malzemeler","Mal",18513400,null,null,"Kol saati camları"]
[null,null,null,null,null,null,null,1114,18513500,{"$f":"IF(K1118=1,COUNTIF($K$5:K1118,1),\"\")","v":1114},{"$f":"IF(ISNUMBER(SEARCH('Bilgi Girişi'!$E$4,KalemAdı,1))=TRUE,1,0)","v":1},"Gümüş işçiliği eşyaları","Mal",18513500,null,null,"Kol saatleri"]
[null,null,null,null,null,null,null,1115,18520000,{"$f":"IF(K1119=1,COUNTIF($K$5:K1119,1),\"\")","v":1115},{"$f":"IF(ISNUMBER(SEARCH('Bilgi Girişi'!$E$4,KalemAdı,1))=TRUE,1,0)","v":1},"Kişisel zaman ölçme bilimi","Mal",18520000,null,null,"Kronometreli saatler"]
[null,null,null,null,null,null,null,1116,18521000,{"$f":"IF(K1120=1,COUNTIF($K$5:K1120,1),\"\")","v":1116},{"$f":"IF(ISNUMBER(SEARCH('Bilgi Girişi'!$E$4,KalemAdı,1))=TRUE,1,0)","v":1},"Cep ve kol saatleri","Mal",18521000,null,null,"Hediyeler ve ödüller"]
[null,null,null,null,null,null,null,1117,18521100,{"$f":"IF(K1121=1,COUNTIF($K$5:K1121,1),\"\")","v":1117},{"$f":"IF(ISNUMBER(SEARCH('Bilgi Girişi'!$E$4,KalemAdı,1))=TRUE,1,0)","v":1},"Kol saati camları","Mal",18521100,null,null,"Kürkler ve kürkten mamul eşyalar"]
[null,null,null,null,null,null,null,1118,18522000,{"$f":"IF(K1122=1,COUNTIF($K$5:K1122,1),\"\")","v":1118},{"$f":"IF(ISNUMBER(SEARCH('Bilgi Girişi'!$E$4,KalemAdı,1))=TRUE,1,0)","v":1},"Kol saatleri","Mal",18522000,null,null,"Kürk eşyalar"]
[null,null,null,null,null,null,null,1119,18523000,{"$f":"IF(K1123=1,COUNTIF($K$5:K1123,1),\"\")","v":1119},{"$f":"IF(ISNUMBER(SEARCH('Bilgi Girişi'!$E$4,KalemAdı,1))=TRUE,1,0)","v":1},"Kronometreli saatler","Mal",18523000,null,null,"Kürk deriler"]
[null,null,null,null,null,null,null,1120,18530000,{"$f":"IF(K1124=1,COUNTIF($K$5:K1124,1),\"\")","v":1120},{"$f":"IF(ISNUMBER(SEARCH('Bilgi Girişi'!$E$4,KalemAdı,1))=TRUE,1,0)","v":1},"Hediyeler ve ödüller","Mal",18530000,null,null,"Kürk giysiler"]
[null,null,null,null,null,null,null,1121,18600000,{"$f":"IF(K1125=1,COUNTIF($K$5:K1125,1),\"\")","v":1121},{"$f":"IF(ISNUMBER(SEARCH('Bilgi Girişi'!$E$4,KalemAdı,1))=TRUE,1,0)","v":1},"Kürkler ve kürkten mamul eşyalar","Mal",18600000,null,null,"Yapay kürkten mamul eşyalar"]
[null,null,null,null,null,null,null,1122,18610000,{"$f":"IF(K1126=1,COUNTIF($K$5:K1126,1),\"\")","v":1122},{"$f":"IF(ISNUMBER(SEARCH('Bilgi Girişi'!$E$4,KalemAdı,1))=TRUE,1,0)","v":1},"Kürk eşyalar","Mal",18610000,null,null,"Kürkler ve kürkten yapılan eşyalar"]
[null,null,null,null,null,null,null,1123,18611000,{"$f":"IF(K1127=1,COUNTIF($K$5:K1127,1),\"\")","v":1123},{"$f":"IF(ISNUMBER(SEARCH('Bilgi Girişi'!$E$4,KalemAdı,1))=TRUE,1,0)","v":1},"Kürk deriler","Mal",18611000,null,null,"Ayakkabılar"]
[null,null,null,null,null,null,null,1124,18612000,{"$f":"IF(K1128=1,COUNTIF($K$5:K1128,1),\"\")","v":1124},{"$f":"IF(ISNUMBER(SEARCH('Bilgi Girişi'!$E$4,KalemAdı,1))=TRUE,1,0)","v":1},"Kürk giysiler","Mal",18612000,null,null,"Spor ve koruyucu ayakkabılar dışında kalan ayakkabılar"]
[null,null,null,null,null,null,null,1125,18613000,{"$f":"IF(K1129=1,COUNTIF($K$5:K1129,1),\"\")","v":1125},{"$f":"IF(ISNUMBER(SEARCH('Bilgi Girişi'!$E$4,KalemAdı,1))=TRUE,1,0)","v":1},"Yapay kürkten mamul eşyalar","Mal",18613000,null,null,"Su geçirmez ayakkabılar"]
[null,null,null,null,null,null,null,1126,18620000,{"$f":"IF(K1130=1,COUNTIF($K$5:K1130,1),\"\")","v":1126},{"$f":"IF(ISNUMBER(SEARCH('Bilgi Girişi'!$E$4,KalemAdı,1))=TRUE,1,0)","v":1},"Kürkler ve kürkten yapılan eşyalar","Mal",18620000,null,null,"Plastik veya kauçuk tabanlı veya yüzlü ayakkabılar"]
[null,null,null,null,null,null,null,1127,18800000,{"$f":"IF(K1131=1,COUNTIF($K$5:K1131,1),\"\")","v":1127},{"$f":"IF(ISNUMBER(SEARCH('Bilgi Girişi'!$E$4,KalemAdı,1))=TRUE,1,0)","v":1},"Ayakkabılar","Mal",18800000,null,null,"Plastik veya kauçuk üstlü sandaletler"]
[null,null,null,null,null,null,null,1128,18810000,{"$f":"IF(K1132=1,COUNTIF($K$5:K1132,1),\"\")","v":1128},{"$f":"IF(ISNUMBER(SEARCH('Bilgi Girişi'!$E$4,KalemAdı,1))=TRUE,1,0)","v":1},"Spor ve koruyucu ayakkabılar dışında kalan ayakkabılar","Mal",18810000,null,null,"Kauçuk çizmeler, botlar"]
[null,null,null,null,null,null,null,1129,18811000,{"$f":"IF(K1133=1,COUNTIF($K$5:K1133,1),\"\")","v":1129},{"$f":"IF(ISNUMBER(SEARCH('Bilgi Girişi'!$E$4,KalemAdı,1))=TRUE,1,0)","v":1},"Su geçirmez ayakkabılar","Mal",18811000,null,null,"Plastik veya kauçuk üstü iskarpinler"]
[null,null,null,null,null,null,null,1130,18812000,{"$f":"IF(K1134=1,COUNTIF($K$5:K1134,1),\"\")","v":1130},{"$f":"IF(ISNUMBER(SEARCH('Bilgi Girişi'!$E$4,KalemAdı,1))=TRUE,1,0)","v":1},"Plastik veya kauçuk tabanlı veya yüzlü ayakkabılar","Mal",18812000,null,null,"Parmak arası terlikler"]
[null,null,null,null,null,null,null,1131,18812100,{"$f":"IF(K1135=1,COUNTIF($K$5:K1135,1),\"\")","v":1131},{"$f":"IF(ISNUMBER(SEARCH('Bilgi Girişi'!$E$4,KalemAdı,1))=TRUE,1,0)","v":1},"Plastik veya kauçuk üstlü sandaletler","Mal",18812100,null,null,"Deri yüzlü ayakkabılar"]
[null,null,null,null,null,null,null,1132,18812200,{"$f":"IF(K1136=1,COUNTIF($K$5:K1136,1),\"\")","v":1132},{"$f":"IF(ISNUMBER(SEARCH('Bilgi Girişi'!$E$4,KalemAdı,1))=TRUE,1,0)","v":1},"Kauçuk çizmeler, botlar","Mal",18812200,null,null,"Sandaletler"]
[null,null,null,null,null,null,null,1133,18812300,{"$f":"IF(K1137=1,COUNTIF($K$5:K1137,1),\"\")","v":1133},{"$f":"IF(ISNUMBER(SEARCH('Bilgi Girişi'!$E$4,KalemAdı,1))=TRUE,1,0)","v":1},"Plastik veya kauçuk üstü iskarpinler","Mal",18812300,null,null,"Terlikler"]
[null,null,null,null,null,null,null,1134,18812400,{"$f":"IF(K1138=1,COUNTIF($K$5:K1138,1),\"\")","v":1134},{"$f":"IF(ISNUMBER(SEARCH('Bilgi Girişi'!$E$4,KalemAdı,1))=TRUE,1,0)","v":1},"Parmak arası terlikler","Mal",18812400,null,null,"İskarpin"]
[null,null,null,null,null,null,null,1135,18813000,{"$f":"IF(K1139=1,COUNTIF($K$5:K1139,1),\"\")","v":1135},{"$f":"IF(ISNUMBER(SEARCH('Bilgi Girişi'!$E$4,KalemAdı,1))=TRUE,1,0)","v":1},"Deri yüzlü ayakkabılar","Mal",18813000,null,null,"Yüzü tekstil malzemeden yapılmış ayakkabılar"]
[null,null,null,null,null,null,null,1136,18813100,{"$f":"IF(K1140=1,COUNTIF($K$5:K1140,1),\"\")","v":1136},{"$f":"IF(ISNUMBER(SEARCH('Bilgi Girişi'!$E$4,KalemAdı,1))=TRUE,1,0)","v":1},"Sandaletler","Mal",18813100,null,null,"Botlar, çizmeler"]
[null,null,null,null,null,null,null,1137,18813200,{"$f":"IF(K1141=1,COUNTIF($K$5:K1141,1),\"\")","v":1137},{"$f":"IF(ISNUMBER(SEARCH('Bilgi Girişi'!$E$4,KalemAdı,1))=TRUE,1,0)","v":1},"Terlikler","Mal",18813200,null,null,"Patinler, kısa botlar"]
[null,null,null,null,null,null,null,1138,18813300,{"$f":"IF(K1142=1,COUNTIF($K$5:K1142,1),\"\")","v":1138},{"$f":"IF(ISNUMBER(SEARCH('Bilgi Girişi'!$E$4,KalemAdı,1))=TRUE,1,0)","v":1},"İskarpin","Mal",18813300,null,null,"Dana derisi botlar"]
[null,null,null,null,null,null,null,1139,18814000,{"$f":"IF(K1143=1,COUNTIF($K$5:K1143,1),\"\")","v":1139},{"$f":"IF(ISNUMBER(SEARCH('Bilgi Girişi'!$E$4,KalemAdı,1))=TRUE,1,0)","v":1},"Yüzü tekstil malzemeden yapılmış ayakkabılar","Mal",18814000,null,null,"Çizmeler"]
[null,null,null,null,null,null,null,1140,18815000,{"$f":"IF(K1144=1,COUNTIF($K$5:K1144,1),\"\")","v":1140},{"$f":"IF(ISNUMBER(SEARCH('Bilgi Girişi'!$E$4,KalemAdı,1))=TRUE,1,0)","v":1},"Botlar, çizmeler","Mal",18815000,null,null,"Balıkçı kasık çizmeleri"]
[null,null,null,null,null,null,null,1141,18815100,{"$f":"IF(K1145=1,COUNTIF($K$5:K1145,1),\"\")","v":1141},{"$f":"IF(ISNUMBER(SEARCH('Bilgi Girişi'!$E$4,KalemAdı,1))=TRUE,1,0)","v":1},"Patinler, kısa botlar","Mal",18815100,null,null,"Galoşlar"]
[null,null,null,null,null,null,null,1142,18815200,{"$f":"IF(K1146=1,COUNTIF($K$5:K1146,1),\"\")","v":1142},{"$f":"IF(ISNUMBER(SEARCH('Bilgi Girişi'!$E$4,KalemAdı,1))=TRUE,1,0)","v":1},"Dana derisi botlar","Mal",18815200,null,null,"Spor ayakkabıları"]
[null,null,null,null,null,null,null,1143,18815300,{"$f":"IF(K1147=1,COUNTIF($K$5:K1147,1),\"\")","v":1143},{"$f":"IF(ISNUMBER(SEARCH('Bilgi Girişi'!$E$4,KalemAdı,1))=TRUE,1,0)","v":1},"Çizmeler","Mal",18815300,null,null,"Kayak ayakkabıları"]
[null,null,null,null,null,null,null,1144,18815400,{"$f":"IF(K1148=1,COUNTIF($K$5:K1148,1),\"\")","v":1144},{"$f":"IF(ISNUMBER(SEARCH('Bilgi Girişi'!$E$4,KalemAdı,1))=TRUE,1,0)","v":1},"Balıkçı kasık çizmeleri","Mal",18815400,null,null,"Uzun mesafe kayak ayakkabıları"]
[null,null,null,null,null,null,null,1145,18816000,{"$f":"IF(K1149=1,COUNTIF($K$5:K1149,1),\"\")","v":1145},{"$f":"IF(ISNUMBER(SEARCH('Bilgi Girişi'!$E$4,KalemAdı,1))=TRUE,1,0)","v":1},"Galoşlar","Mal",18816000,null,null,"Koşu için yumuşak spor ayakkabıları"]
[null,null,null,null,null,null,null,1146,18820000,{"$f":"IF(K1150=1,COUNTIF($K$5:K1150,1),\"\")","v":1146},{"$f":"IF(ISNUMBER(SEARCH('Bilgi Girişi'!$E$4,KalemAdı,1))=TRUE,1,0)","v":1},"Spor ayakkabıları","Mal",18820000,null,null,"Dağcı botları"]
[null,null,null,null,null,null,null,1147,18821000,{"$f":"IF(K1151=1,COUNTIF($K$5:K1151,1),\"\")","v":1147},{"$f":"IF(ISNUMBER(SEARCH('Bilgi Girişi'!$E$4,KalemAdı,1))=TRUE,1,0)","v":1},"Kayak ayakkabıları","Mal",18821000,null,null,"Futbol ayakkabıları"]
[null,null,null,null,null,null,null,1148,18821100,{"$f":"IF(K1152=1,COUNTIF($K$5:K1152,1),\"\")","v":1148},{"$f":"IF(ISNUMBER(SEARCH('Bilgi Girişi'!$E$4,KalemAdı,1))=TRUE,1,0)","v":1},"Uzun mesafe kayak ayakkabıları","Mal",18821100,null,null,"Koruyucu ayakkabılar"]
[null,null,null,null,null,null,null,1149,18822000,{"$f":"IF(K1153=1,COUNTIF($K$5:K1153,1),\"\")","v":1149},{"$f":"IF(ISNUMBER(SEARCH('Bilgi Girişi'!$E$4,KalemAdı,1))=TRUE,1,0)","v":1},"Koşu için yumuşak spor ayakkabıları","Mal",18822000,null,null,"Koruyucu bir metal ayakkabı ucu derisi olan ayakkabı"]
[null,null,null,null,null,null,null,1150,18823000,{"$f":"IF(K1154=1,COUNTIF($K$5:K1154,1),\"\")","v":1150},{"$f":"IF(ISNUMBER(SEARCH('Bilgi Girişi'!$E$4,KalemAdı,1))=TRUE,1,0)","v":1},"Dağcı botları","Mal",18823000,null,null,"Özel ayakkabılar"]
[null,null,null,null,null,null,null,1151,18824000,{"$f":"IF(K1155=1,COUNTIF($K$5:K1155,1),\"\")","v":1151},{"$f":"IF(ISNUMBER(SEARCH('Bilgi Girişi'!$E$4,KalemAdı,1))=TRUE,1,0)","v":1},"Futbol ayakkabıları","Mal",18824000,null,null,"Uçuş ayakkabıları"]
[null,null,null,null,null,null,null,1152,18830000,{"$f":"IF(K1156=1,COUNTIF($K$5:K1156,1),\"\")","v":1152},{"$f":"IF(ISNUMBER(SEARCH('Bilgi Girişi'!$E$4,KalemAdı,1))=TRUE,1,0)","v":1},"Koruyucu ayakkabılar","Mal",18830000,null,null,"Ayakkabı parçaları"]
[null,null,null,null,null,null,null,1153,18831000,{"$f":"IF(K1157=1,COUNTIF($K$5:K1157,1),\"\")","v":1153},{"$f":"IF(ISNUMBER(SEARCH('Bilgi Girişi'!$E$4,KalemAdı,1))=TRUE,1,0)","v":1},"Koruyucu bir metal ayakkabı ucu derisi olan ayakkabı","Mal",18831000,null,null,"Ayakkabı üstleri (sayaları)"]
[null,null,null,null,null,null,null,1154,18832000,{"$f":"IF(K1158=1,COUNTIF($K$5:K1158,1),\"\")","v":1154},{"$f":"IF(ISNUMBER(SEARCH('Bilgi Girişi'!$E$4,KalemAdı,1))=TRUE,1,0)","v":1},"Özel ayakkabılar","Mal",18832000,null,null,{"$f":"IFERROR(VLOOKUP(ROW($P1158),$J$5:$L$9594,3,FALSE),\"\")","v":"Ayakkabı pençeleri"}]
[null,null,null,null,null,null,null,1155,18832100,{"$f":"IF(K1159=1,COUNTIF($K$5:K1159,1),\"\")","v":1155},{"$f":"IF(ISNUMBER(SEARCH('Bilgi Girişi'!$E$4,KalemAdı,1))=TRUE,1,0)","v":1},"Uçuş ayakkabıları","Mal",18832100,null,null,"Topuklar"]
[null,null,null,null,null,null,null,1156,18840000,{"$f":"IF(K1160=1,COUNTIF($K$5:K1160,1),\"\")","v":1156},{"$f":"IF(ISNUMBER(SEARCH('Bilgi Girişi'!$E$4,KalemAdı,1))=TRUE,1,0)","v":1},"Ayakkabı parçaları","Mal",18840000,null,null,"Bavul, saraçlık, torbalar ve çantalar"]
[null,null,null,null,null,null,null,1157,18841000,{"$f":"IF(K1161=1,COUNTIF($K$5:K1161,1),\"\")","v":1157},{"$f":"IF(ISNUMBER(SEARCH('Bilgi Girişi'!$E$4,KalemAdı,1))=TRUE,1,0)","v":1},"Ayakkabı üstleri (sayaları)","Mal",18841000,null,null,"Saraciye"]
[null,null,null,null,null,null,null,1158,18842000,{"$f":"IF(K1162=1,COUNTIF($K$5:K1162,1),\"\")","v":1158},{"$f":"IF(ISNUMBER(SEARCH('Bilgi Girişi'!$E$4,KalemAdı,1))=TRUE,1,0)","v":1},"Ayakkabı pençeleri","Mal",18842000,null,null,"Eğerler"]
[null,null,null,null,null,null,null,1159,18843000,{"$f":"IF(K1163=1,COUNTIF($K$5:K1163,1),\"\")","v":1159},{"$f":"IF(ISNUMBER(SEARCH('Bilgi Girişi'!$E$4,KalemAdı,1))=TRUE,1,0)","v":1},"Topuklar","Mal",18843000,null,null,"Binicilik ürünleri"]
[null,null,null,null,null,null,null,1160,18900000,{"$f":"IF(K1164=1,COUNTIF($K$5:K1164,1),\"\")","v":1160},{"$f":"IF(ISNUMBER(SEARCH('Bilgi Girişi'!$E$4,KalemAdı,1))=TRUE,1,0)","v":1},"Bavul, saraçlık, torbalar ve çantalar","Mal",18900000,null,null,"Kamçılar"]
[null,null,null,null,null,null,null,1161,18910000,{"$f":"IF(K1165=1,COUNTIF($K$5:K1165,1),\"\")","v":1161},{"$f":"IF(ISNUMBER(SEARCH('Bilgi Girişi'!$E$4,KalemAdı,1))=TRUE,1,0)","v":1},"Saraciye","Mal",18910000,null,null,"Bavul, çanta, el çantası ve benzerleri"]
[null,null,null,null,null,null,null,1162,18911000,{"$f":"IF(K1166=1,COUNTIF($K$5:K1166,1),\"\")","v":1162},{"$f":"IF(ISNUMBER(SEARCH('Bilgi Girişi'!$E$4,KalemAdı,1))=TRUE,1,0)","v":1},"Eğerler","Mal",18911000,null,null,"Bavullar"]
[null,null,null,null,null,null,null,1163,18912000,{"$f":"IF(K1167=1,COUNTIF($K$5:K1167,1),\"\")","v":1163},{"$f":"IF(ISNUMBER(SEARCH('Bilgi Girişi'!$E$4,KalemAdı,1))=TRUE,1,0)","v":1},"Binicilik ürünleri","Mal",18912000,null,null,"Cüzdanlar ve keseler"]
[null,null,null,null,null,null,null,1164,18913000,{"$f":"IF(K1168=1,COUNTIF($K$5:K1168,1),\"\")","v":1164},{"$f":"IF(ISNUMBER(SEARCH('Bilgi Girişi'!$E$4,KalemAdı,1))=TRUE,1,0)","v":1},"Kamçılar","Mal",18913000,null,null,"Keseler"]
[null,null,null,null,null,null,null,1165,18920000,{"$f":"IF(K1169=1,COUNTIF($K$5:K1169,1),\"\")","v":1165},{"$f":"IF(ISNUMBER(SEARCH('Bilgi Girişi'!$E$4,KalemAdı,1))=TRUE,1,0)","v":1},"Bavul, çanta, el çantası ve benzerleri","Mal",18920000,null,null,"Cüzdanlar"]
[null,null,null,null,null,null,null,1166,18921000,{"$f":"IF(K1170=1,COUNTIF($K$5:K1170,1),\"\")","v":1166},{"$f":"IF(ISNUMBER(SEARCH('Bilgi Girişi'!$E$4,KalemAdı,1))=TRUE,1,0)","v":1},"Bavullar","Mal",18921000,null,null,"Sandık, büyük eşya kutusu"]
[null,null,null,null,null,null,null,1167,18923000,{"$f":"IF(K1171=1,COUNTIF($K$5:K1171,1),\"\")","v":1167},{"$f":"IF(ISNUMBER(SEARCH('Bilgi Girişi'!$E$4,KalemAdı,1))=TRUE,1,0)","v":1},"Cüzdanlar ve keseler","Mal",18923000,null,null,"Matara ve tabanca kılıfları"]
[null,null,null,null,null,null,null,1168,18923100,{"$f":"IF(K1172=1,COUNTIF($K$5:K1172,1),\"\")","v":1168},{"$f":"IF(ISNUMBER(SEARCH('Bilgi Girişi'!$E$4,KalemAdı,1))=TRUE,1,0)","v":1},"Keseler","Mal",18923100,null,null,"Matara kılıfları"]
[null,null,null,null,null,null,null,1169,18923200,{"$f":"IF(K1173=1,COUNTIF($K$5:K1173,1),\"\")","v":1169},{"$f":"IF(ISNUMBER(SEARCH('Bilgi Girişi'!$E$4,KalemAdı,1))=TRUE,1,0)","v":1},"Cüzdanlar","Mal",18923200,null,null,"Tabanca kılıfları"]
[null,null,null,null,null,null,null,1170,18924000,{"$f":"IF(K1174=1,COUNTIF($K$5:K1174,1),\"\")","v":1170},{"$f":"IF(ISNUMBER(SEARCH('Bilgi Girişi'!$E$4,KalemAdı,1))=TRUE,1,0)","v":1},"Sandık, büyük eşya kutusu","Mal",18924000,null,null,"Makyaj çantaları"]
[null,null,null,null,null,null,null,1171,18925000,{"$f":"IF(K1175=1,COUNTIF($K$5:K1175,1),\"\")","v":1171},{"$f":"IF(ISNUMBER(SEARCH('Bilgi Girişi'!$E$4,KalemAdı,1))=TRUE,1,0)","v":1},"Matara ve tabanca kılıfları","Mal",18925000,null,null,"Çanta, torba ve çuvallar"]
[null,null,null,null,null,null,null,1172,18925100,{"$f":"IF(K1176=1,COUNTIF($K$5:K1176,1),\"\")","v":1172},{"$f":"IF(ISNUMBER(SEARCH('Bilgi Girişi'!$E$4,KalemAdı,1))=TRUE,1,0)","v":1},"Matara kılıfları","Mal",18925100,null,null,"Seyahat çantaları"]
[null,null,null,null,null,null,null,1173,18925200,{"$f":"IF(K1177=1,COUNTIF($K$5:K1177,1),\"\")","v":1173},{"$f":"IF(ISNUMBER(SEARCH('Bilgi Girişi'!$E$4,KalemAdı,1))=TRUE,1,0)","v":1},"Tabanca kılıfları","Mal",18925200,null,null,"Sırt çantaları"]
[null,null,null,null,null,null,null,1174,18929000,{"$f":"IF(K1178=1,COUNTIF($K$5:K1178,1),\"\")","v":1174},{"$f":"IF(ISNUMBER(SEARCH('Bilgi Girişi'!$E$4,KalemAdı,1))=TRUE,1,0)","v":1},"Makyaj çantaları","Mal",18929000,null,null,"Spor çantaları"]
[null,null,null,null,null,null,null,1175,18930000,{"$f":"IF(K1179=1,COUNTIF($K$5:K1179,1),\"\")","v":1175},{"$f":"IF(ISNUMBER(SEARCH('Bilgi Girişi'!$E$4,KalemAdı,1))=TRUE,1,0)","v":1},"Çanta, torba ve çuvallar","Mal",18930000,null,null,"Posta ve koli torbaları"]
[null,null,null,null,null,null,null,1176,18931000,{"$f":"IF(K1180=1,COUNTIF($K$5:K1180,1),\"\")","v":1176},{"$f":"IF(ISNUMBER(SEARCH('Bilgi Girişi'!$E$4,KalemAdı,1))=TRUE,1,0)","v":1},"Seyahat çantaları","Mal",18931000,null,null,"Posta çuvalları"]
[null,null,null,null,null,null,null,1177,18931100,{"$f":"IF(K1181=1,COUNTIF($K$5:K1181,1),\"\")","v":1177},{"$f":"IF(ISNUMBER(SEARCH('Bilgi Girişi'!$E$4,KalemAdı,1))=TRUE,1,0)","v":1},"Sırt çantaları","Mal",18931100,null,null,"Hurçlar"]
[null,null,null,null,null,null,null,1178,18932000,{"$f":"IF(K1182=1,COUNTIF($K$5:K1182,1),\"\")","v":1178},{"$f":"IF(ISNUMBER(SEARCH('Bilgi Girişi'!$E$4,KalemAdı,1))=TRUE,1,0)","v":1},"Spor çantaları","Mal",18932000,null,null,"Çamaşır torbaları"]
[null,null,null,null,null,null,null,1179,18933000,{"$f":"IF(K1183=1,COUNTIF($K$5:K1183,1),\"\")","v":1179},{"$f":"IF(ISNUMBER(SEARCH('Bilgi Girişi'!$E$4,KalemAdı,1))=TRUE,1,0)","v":1},"Posta ve koli torbaları","Mal",18933000,null,null,"Dokuma torbaları"]
[null,null,null,null,null,null,null,1180,18933100,{"$f":"IF(K1184=1,COUNTIF($K$5:K1184,1),\"\")","v":1180},{"$f":"IF(ISNUMBER(SEARCH('Bilgi Girişi'!$E$4,KalemAdı,1))=TRUE,1,0)","v":1},"Posta çuvalları","Mal",18933100,null,null,"Eşya ambalajlama çuvalları"]
[null,null,null,null,null,null,null,1181,18934000,{"$f":"IF(K1185=1,COUNTIF($K$5:K1185,1),\"\")","v":1181},{"$f":"IF(ISNUMBER(SEARCH('Bilgi Girişi'!$E$4,KalemAdı,1))=TRUE,1,0)","v":1},"Hurçlar","Mal",18934000,null,null,"Ürün ambalaj torbaları"]
[null,null,null,null,null,null,null,1182,18935000,{"$f":"IF(K1186=1,COUNTIF($K$5:K1186,1),\"\")","v":1182},{"$f":"IF(ISNUMBER(SEARCH('Bilgi Girişi'!$E$4,KalemAdı,1))=TRUE,1,0)","v":1},"Çamaşır torbaları","Mal",18935000,null,null,"Yastıklı torba"]
[null,null,null,null,null,null,null,1183,18936000,{"$f":"IF(K1187=1,COUNTIF($K$5:K1187,1),\"\")","v":1183},{"$f":"IF(ISNUMBER(SEARCH('Bilgi Girişi'!$E$4,KalemAdı,1))=TRUE,1,0)","v":1},"Dokuma torbaları","Mal",18936000,null,null,"El çantaları"]
[null,null,null,null,null,null,null,1184,18937000,{"$f":"IF(K1188=1,COUNTIF($K$5:K1188,1),\"\")","v":1184},{"$f":"IF(ISNUMBER(SEARCH('Bilgi Girişi'!$E$4,KalemAdı,1))=TRUE,1,0)","v":1},"Eşya ambalajlama çuvalları","Mal",18937000,null,null,"Deri ve tekstil kumaşlar, plastik ve kauçuk malzemeler"]
[null,null,null,null,null,null,null,1185,18937100,{"$f":"IF(K1189=1,COUNTIF($K$5:K1189,1),\"\")","v":1185},{"$f":"IF(ISNUMBER(SEARCH('Bilgi Girişi'!$E$4,KalemAdı,1))=TRUE,1,0)","v":1},"Ürün ambalaj torbaları","Mal",18937100,null,null,"Deriler (Tabaklanmış ve işlenmiş)"]
[null,null,null,null,null,null,null,1186,18938000,{"$f":"IF(K1190=1,COUNTIF($K$5:K1190,1),\"\")","v":1186},{"$f":"IF(ISNUMBER(SEARCH('Bilgi Girişi'!$E$4,KalemAdı,1))=TRUE,1,0)","v":1},"Yastıklı torba","Mal",18938000,null,null,"Güderiler"]
[null,null,null,null,null,null,null,1187,18939000,{"$f":"IF(K1191=1,COUNTIF($K$5:K1191,1),\"\")","v":1187},{"$f":"IF(ISNUMBER(SEARCH('Bilgi Girişi'!$E$4,KalemAdı,1))=TRUE,1,0)","v":1},"El çantaları","Mal",18939000,null,null,"Yetişkin sığır derisi"]
[null,null,null,null,null,null,null,1188,19000000,{"$f":"IF(K1192=1,COUNTIF($K$5:K1192,1),\"\")","v":1188},{"$f":"IF(ISNUMBER(SEARCH('Bilgi Girişi'!$E$4,KalemAdı,1))=TRUE,1,0)","v":1},"Deri ve tekstil kumaşlar, plastik ve kauçuk malzemeler","Mal",19000000,null,null,"Koyun, keçi ve domuz derileri"]
[null,null,null,null,null,null,null,1189,19100000,{"$f":"IF(K1193=1,COUNTIF($K$5:K1193,1),\"\")","v":1189},{"$f":"IF(ISNUMBER(SEARCH('Bilgi Girişi'!$E$4,KalemAdı,1))=TRUE,1,0)","v":1},"Deriler (Tabaklanmış ve işlenmiş)","Mal",19100000,null,null,"Koyun veya kuzu derileri"]
[null,null,null,null,null,null,null,1190,19110000,{"$f":"IF(K1194=1,COUNTIF($K$5:K1194,1),\"\")","v":1190},{"$f":"IF(ISNUMBER(SEARCH('Bilgi Girişi'!$E$4,KalemAdı,1))=TRUE,1,0)","v":1},"Güderiler","Mal",19110000,null,null,"Keçi veya oğlak derileri"]
[null,null,null,null,null,null,null,1191,19120000,{"$f":"IF(K1195=1,COUNTIF($K$5:K1195,1),\"\")","v":1191},{"$f":"IF(ISNUMBER(SEARCH('Bilgi Girişi'!$E$4,KalemAdı,1))=TRUE,1,0)","v":1},"Yetişkin sığır derisi","Mal",19120000,null,null,"Domuz derisi"]
[null,null,null,null,null,null,null,1192,19130000,{"$f":"IF(K1196=1,COUNTIF($K$5:K1196,1),\"\")","v":1192},{"$f":"IF(ISNUMBER(SEARCH('Bilgi Girişi'!$E$4,KalemAdı,1))=TRUE,1,0)","v":1},"Koyun, keçi ve domuz derileri","Mal",19130000,null,null,"Diğer hayvanların derileri, kompozit deri ve iğer deriler"]
[null,null,null,null,null,null,null,1193,19131000,{"$f":"IF(K1197=1,COUNTIF($K$5:K1197,1),\"\")","v":1193},{"$f":"IF(ISNUMBER(SEARCH('Bilgi Girişi'!$E$4,KalemAdı,1))=TRUE,1,0)","v":1},"Koyun veya kuzu derileri","Mal",19131000,null,null,"Diğer hayvan derileri"]
[null,null,null,null,null,null,null,1194,19132000,{"$f":"IF(K1198=1,COUNTIF($K$5:K1198,1),\"\")","v":1194},{"$f":"IF(ISNUMBER(SEARCH('Bilgi Girişi'!$E$4,KalemAdı,1))=TRUE,1,0)","v":1},"Keçi veya oğlak derileri","Mal",19132000,null,null,"Kompozit deri"]
[null,null,null,null,null,null,null,1195,19133000,{"$f":"IF(K1199=1,COUNTIF($K$5:K1199,1),\"\")","v":1195},{"$f":"IF(ISNUMBER(SEARCH('Bilgi Girişi'!$E$4,KalemAdı,1))=TRUE,1,0)","v":1},"Domuz derisi","Mal",19133000,null,null,"Suni deri"]
[null,null,null,null,null,null,null,1196,19140000,{"$f":"IF(K1200=1,COUNTIF($K$5:K1200,1),\"\")","v":1196},{"$f":"IF(ISNUMBER(SEARCH('Bilgi Girişi'!$E$4,KalemAdı,1))=TRUE,1,0)","v":1},"Diğer hayvanların derileri, kompozit deri ve iğer deriler","Mal",19140000,null,null,"Rugan"]
[null,null,null,null,null,null,null,1197,19141000,{"$f":"IF(K1201=1,COUNTIF($K$5:K1201,1),\"\")","v":1197},{"$f":"IF(ISNUMBER(SEARCH('Bilgi Girişi'!$E$4,KalemAdı,1))=TRUE,1,0)","v":1},"Diğer hayvan derileri","Mal",19141000,null,null,"Saat kayışları, bantları ve bilezikleri"]
[null,null,null,null,null,null,null,1198,19142000,{"$f":"IF(K1202=1,COUNTIF($K$5:K1202,1),\"\")","v":1198},{"$f":"IF(ISNUMBER(SEARCH('Bilgi Girişi'!$E$4,KalemAdı,1))=TRUE,1,0)","v":1},"Kompozit deri","Mal",19142000,null,null,"Makine ve mekanik düzeneklerde kullanılan deri eşyalar"]
[null,null,null,null,null,null,null,1199,19143000,{"$f":"IF(K1203=1,COUNTIF($K$5:K1203,1),\"\")","v":1199},{"$f":"IF(ISNUMBER(SEARCH('Bilgi Girişi'!$E$4,KalemAdı,1))=TRUE,1,0)","v":1},"Suni deri","Mal",19143000,null,null,"Tekstil amaçlı kumaşlar ve ilgili malzemeler"]
[null,null,null,null,null,null,null,1200,19144000,{"$f":"IF(K1204=1,COUNTIF($K$5:K1204,1),\"\")","v":1200},{"$f":"IF(ISNUMBER(SEARCH('Bilgi Girişi'!$E$4,KalemAdı,1))=TRUE,1,0)","v":1},"Rugan","Mal",19144000,null,null,"Dokuma kumaşlar"]
[null,null,null,null,null,null,null,1201,19160000,{"$f":"IF(K1205=1,COUNTIF($K$5:K1205,1),\"\")","v":1201},{"$f":"IF(ISNUMBER(SEARCH('Bilgi Girişi'!$E$4,KalemAdı,1))=TRUE,1,0)","v":1},"Saat kayışları, bantları ve bilezikleri","Mal",19160000,null,null,"Sentetik dokuma kumaşlar"]
[null,null,null,null,null,null,null,1202,19170000,{"$f":"IF(K1206=1,COUNTIF($K$5:K1206,1),\"\")","v":1202},{"$f":"IF(ISNUMBER(SEARCH('Bilgi Girişi'!$E$4,KalemAdı,1))=TRUE,1,0)","v":1},"Makine ve mekanik düzeneklerde kullanılan deri eşyalar","Mal",19170000,null,null,"Karışık dokuma kumaşlar"]
[null,null,null,null,null,null,null,1203,19200000,{"$f":"IF(K1207=1,COUNTIF($K$5:K1207,1),\"\")","v":1203},{"$f":"IF(ISNUMBER(SEARCH('Bilgi Girişi'!$E$4,KalemAdı,1))=TRUE,1,0)","v":1},"Tekstil amaçlı kumaşlar ve ilgili malzemeler","Mal",19200000,null,null,"Pamuk dokuma kumaşlar"]
[null,null,null,null,null,null,null,1204,19210000,{"$f":"IF(K1208=1,COUNTIF($K$5:K1208,1),\"\")","v":1204},{"$f":"IF(ISNUMBER(SEARCH('Bilgi Girişi'!$E$4,KalemAdı,1))=TRUE,1,0)","v":1},"Dokuma kumaşlar","Mal",19210000,null,null,"Çadır, minder veya kılıf için sıkı dokunmuş kumaşlar"]
[null,null,null,null,null,null,null,1205,19211000,{"$f":"IF(K1209=1,COUNTIF($K$5:K1209,1),\"\")","v":1205},{"$f":"IF(ISNUMBER(SEARCH('Bilgi Girişi'!$E$4,KalemAdı,1))=TRUE,1,0)","v":1},"Sentetik dokuma kumaşlar","Mal",19211000,null,null,"Blucin kumaşı"]
[null,null,null,null,null,null,null,1206,19211100,{"$f":"IF(K1210=1,COUNTIF($K$5:K1210,1),\"\")","v":1206},{"$f":"IF(ISNUMBER(SEARCH('Bilgi Girişi'!$E$4,KalemAdı,1))=TRUE,1,0)","v":1},"Karışık dokuma kumaşlar","Mal",19211100,null,null,"Yelken bezi"]
[null,null,null,null,null,null,null,1207,19212000,{"$f":"IF(K1211=1,COUNTIF($K$5:K1211,1),\"\")","v":1207},{"$f":"IF(ISNUMBER(SEARCH('Bilgi Girişi'!$E$4,KalemAdı,1))=TRUE,1,0)","v":1},"Pamuk dokuma kumaşlar","Mal",19212000,null,null,"Yelken bezinden mamul ürünler"]
[null,null,null,null,null,null,null,1208,19212100,{"$f":"IF(K1212=1,COUNTIF($K$5:K1212,1),\"\")","v":1208},{"$f":"IF(ISNUMBER(SEARCH('Bilgi Girişi'!$E$4,KalemAdı,1))=TRUE,1,0)","v":1},"Çadır, minder veya kılıf için sıkı dokunmuş kumaşlar","Mal",19212100,null,null,"Poplin"]
[null,null,null,null,null,null,null,1209,19212200,{"$f":"IF(K1213=1,COUNTIF($K$5:K1213,1),\"\")","v":1209},{"$f":"IF(ISNUMBER(SEARCH('Bilgi Girişi'!$E$4,KalemAdı,1))=TRUE,1,0)","v":1},"Blucin kumaşı","Mal",19212200,null,null,"Tül"]
[null,null,null,null,null,null,null,1210,19212300,{"$f":"IF(K1214=1,COUNTIF($K$5:K1214,1),\"\")","v":1210},{"$f":"IF(ISNUMBER(SEARCH('Bilgi Girişi'!$E$4,KalemAdı,1))=TRUE,1,0)","v":1},"Yelken bezi","Mal",19212300,null,null,"Kordon ve şeritler"]
[null,null,null,null,null,null,null,1211,19212310,{"$f":"IF(K1215=1,COUNTIF($K$5:K1215,1),\"\")","v":1211},{"$f":"IF(ISNUMBER(SEARCH('Bilgi Girişi'!$E$4,KalemAdı,1))=TRUE,1,0)","v":1},"Yelken bezinden mamul ürünler","Mal",19212310,null,null,"Yünlü kumaşlar"]
[null,null,null,null,null,null,null,1212,19212400,{"$f":"IF(K1216=1,COUNTIF($K$5:K1216,1),\"\")","v":1212},{"$f":"IF(ISNUMBER(SEARCH('Bilgi Girişi'!$E$4,KalemAdı,1))=TRUE,1,0)","v":1},"Poplin","Mal",19212400,null,null,"Keten kumaşlar"]
[null,null,null,null,null,null,null,1213,19212500,{"$f":"IF(K1217=1,COUNTIF($K$5:K1217,1),\"\")","v":1213},{"$f":"IF(ISNUMBER(SEARCH('Bilgi Girişi'!$E$4,KalemAdı,1))=TRUE,1,0)","v":1},"Tül","Mal",19212500,null,null,"Keten"]
[null,null,null,null,null,null,null,1214,19212510,{"$f":"IF(K1218=1,COUNTIF($K$5:K1218,1),\"\")","v":1214},{"$f":"IF(ISNUMBER(SEARCH('Bilgi Girişi'!$E$4,KalemAdı,1))=TRUE,1,0)","v":1},"Kordon ve şeritler","Mal",19212510,null,null,"Özel kumaşlar"]
[null,null,null,null,null,null,null,1215,19220000,{"$f":"IF(K1219=1,COUNTIF($K$5:K1219,1),\"\")","v":1215},{"$f":"IF(ISNUMBER(SEARCH('Bilgi Girişi'!$E$4,KalemAdı,1))=TRUE,1,0)","v":1},"Yünlü kumaşlar","Mal",19220000,null,null,"Kadife kumaşlar"]
[null,null,null,null,null,null,null,1216,19230000,{"$f":"IF(K1220=1,COUNTIF($K$5:K1220,1),\"\")","v":1216},{"$f":"IF(ISNUMBER(SEARCH('Bilgi Girişi'!$E$4,KalemAdı,1))=TRUE,1,0)","v":1},"Keten kumaşlar","Mal",19230000,null,null,"Bornozluk kumaşlar"]
[null,null,null,null,null,null,null,1217,19231000,{"$f":"IF(K1221=1,COUNTIF($K$5:K1221,1),\"\")","v":1217},{"$f":"IF(ISNUMBER(SEARCH('Bilgi Girişi'!$E$4,KalemAdı,1))=TRUE,1,0)","v":1},"Keten","Mal",19231000,null,null,"Döşemelik kumaşlar"]
[null,null,null,null,null,null,null,1218,19240000,{"$f":"IF(K1222=1,COUNTIF($K$5:K1222,1),\"\")","v":1218},{"$f":"IF(ISNUMBER(SEARCH('Bilgi Girişi'!$E$4,KalemAdı,1))=TRUE,1,0)","v":1},"Özel kumaşlar","Mal",19240000,null,null,{"$f":"IFERROR(VLOOKUP(ROW($P1222),$J$5:$L$9594,3,FALSE),\"\")","v":"Perdelik kumaşlar"}]
[null,null,null,null,null,null,null,1219,19241000,{"$f":"IF(K1223=1,COUNTIF($K$5:K1223,1),\"\")","v":1219},{"$f":"IF(ISNUMBER(SEARCH('Bilgi Girişi'!$E$4,KalemAdı,1))=TRUE,1,0)","v":1},"Kadife kumaşlar","Mal",19241000,null,null,"Astarlık kumaşlar"]
[null,null,null,null,null,null,null,1220,19242000,{"$f":"IF(K1224=1,COUNTIF($K$5:K1224,1),\"\")","v":1220},{"$f":"IF(ISNUMBER(SEARCH('Bilgi Girişi'!$E$4,KalemAdı,1))=TRUE,1,0)","v":1},"Bornozluk kumaşlar","Mal",19242000,null,null,"Örgü veya kroşe örgü kumaşlar"]
[null,null,null,null,null,null,null,1221,19243000,{"$f":"IF(K1225=1,COUNTIF($K$5:K1225,1),\"\")","v":1221},{"$f":"IF(ISNUMBER(SEARCH('Bilgi Girişi'!$E$4,KalemAdı,1))=TRUE,1,0)","v":1},"Döşemelik kumaşlar","Mal",19243000,null,null,"Örgü kumaşlar"]
[null,null,null,null,null,null,null,1222,19244000,{"$f":"IF(K1226=1,COUNTIF($K$5:K1226,1),\"\")","v":1222},{"$f":"IF(ISNUMBER(SEARCH('Bilgi Girişi'!$E$4,KalemAdı,1))=TRUE,1,0)","v":1},"Perdelik kumaşlar","Mal",19244000,null,null,"Kadife kumaşlar"]
[null,null,null,null,null,null,null,1223,19245000,{"$f":"IF(K1227=1,COUNTIF($K$5:K1227,1),\"\")","v":1223},{"$f":"IF(ISNUMBER(SEARCH('Bilgi Girişi'!$E$4,KalemAdı,1))=TRUE,1,0)","v":1},"Astarlık kumaşlar","Mal",19245000,null,null,"Krose örgü kumaşlar"]
[null,null,null,null,null,null,null,1224,19250000,{"$f":"IF(K1228=1,COUNTIF($K$5:K1228,1),\"\")","v":1224},{"$f":"IF(ISNUMBER(SEARCH('Bilgi Girişi'!$E$4,KalemAdı,1))=TRUE,1,0)","v":1},"Örgü veya kroşe örgü kumaşlar","Mal",19250000,null,null,"Örtülük bezler"]
[null,null,null,null,null,null,null,1225,19251000,{"$f":"IF(K1229=1,COUNTIF($K$5:K1229,1),\"\")","v":1225},{"$f":"IF(ISNUMBER(SEARCH('Bilgi Girişi'!$E$4,KalemAdı,1))=TRUE,1,0)","v":1},"Örgü kumaşlar","Mal",19251000,null,null,"Dokunmamış kumaşlar"]
[null,null,null,null,null,null,null,1226,19251100,{"$f":"IF(K1230=1,COUNTIF($K$5:K1230,1),\"\")","v":1226},{"$f":"IF(ISNUMBER(SEARCH('Bilgi Girişi'!$E$4,KalemAdı,1))=TRUE,1,0)","v":1},"Kadife kumaşlar","Mal",19251100,null,null,"Hayvan yünü, post ve derileri"]
[null,null,null,null,null,null,null,1227,19252000,{"$f":"IF(K1231=1,COUNTIF($K$5:K1231,1),\"\")","v":1227},{"$f":"IF(ISNUMBER(SEARCH('Bilgi Girişi'!$E$4,KalemAdı,1))=TRUE,1,0)","v":1},"Krose örgü kumaşlar","Mal",19252000,null,null,"Yün"]
[null,null,null,null,null,null,null,1228,19260000,{"$f":"IF(K1232=1,COUNTIF($K$5:K1232,1),\"\")","v":1228},{"$f":"IF(ISNUMBER(SEARCH('Bilgi Girişi'!$E$4,KalemAdı,1))=TRUE,1,0)","v":1},"Örtülük bezler","Mal",19260000,null,null,"Hayvan derileri"]
[null,null,null,null,null,null,null,1229,19270000,{"$f":"IF(K1233=1,COUNTIF($K$5:K1233,1),\"\")","v":1229},{"$f":"IF(ISNUMBER(SEARCH('Bilgi Girişi'!$E$4,KalemAdı,1))=TRUE,1,0)","v":1},"Dokunmamış kumaşlar","Mal",19270000,null,null,"Kuş deri ve tüyleri"]
[null,null,null,null,null,null,null,1230,19280000,{"$f":"IF(K1234=1,COUNTIF($K$5:K1234,1),\"\")","v":1230},{"$f":"IF(ISNUMBER(SEARCH('Bilgi Girişi'!$E$4,KalemAdı,1))=TRUE,1,0)","v":1},"Hayvan yünü, post ve derileri","Mal",19280000,null,null,"Dokuma elyafları ve iplikleri"]
[null,null,null,null,null,null,null,1231,19281000,{"$f":"IF(K1235=1,COUNTIF($K$5:K1235,1),\"\")","v":1231},{"$f":"IF(ISNUMBER(SEARCH('Bilgi Girişi'!$E$4,KalemAdı,1))=TRUE,1,0)","v":1},"Yün","Mal",19281000,null,null,"Tabii dokuma elyafları"]
[null,null,null,null,null,null,null,1232,19282000,{"$f":"IF(K1236=1,COUNTIF($K$5:K1236,1),\"\")","v":1232},{"$f":"IF(ISNUMBER(SEARCH('Bilgi Girişi'!$E$4,KalemAdı,1))=TRUE,1,0)","v":1},"Hayvan derileri","Mal",19282000,null,null,"Sentetik dokuma elyafları"]
[null,null,null,null,null,null,null,1233,19283000,{"$f":"IF(K1237=1,COUNTIF($K$5:K1237,1),\"\")","v":1233},{"$f":"IF(ISNUMBER(SEARCH('Bilgi Girişi'!$E$4,KalemAdı,1))=TRUE,1,0)","v":1},"Kuş deri ve tüyleri","Mal",19283000,null,null,"Tabii elyaflardan mamul dokuma, örgü ve dikiş iplikleri"]
[null,null,null,null,null,null,null,1234,19400000,{"$f":"IF(K1238=1,COUNTIF($K$5:K1238,1),\"\")","v":1234},{"$f":"IF(ISNUMBER(SEARCH('Bilgi Girişi'!$E$4,KalemAdı,1))=TRUE,1,0)","v":1},"Dokuma elyafları ve iplikleri","Mal",19400000,null,null,"İpek ipliği"]
[null,null,null,null,null,null,null,1235,19410000,{"$f":"IF(K1239=1,COUNTIF($K$5:K1239,1),\"\")","v":1235},{"$f":"IF(ISNUMBER(SEARCH('Bilgi Girişi'!$E$4,KalemAdı,1))=TRUE,1,0)","v":1},"Tabii dokuma elyafları","Mal",19410000,null,null,"Yün ipliği"]
[null,null,null,null,null,null,null,1236,19420000,{"$f":"IF(K1240=1,COUNTIF($K$5:K1240,1),\"\")","v":1236},{"$f":"IF(ISNUMBER(SEARCH('Bilgi Girişi'!$E$4,KalemAdı,1))=TRUE,1,0)","v":1},"Sentetik dokuma elyafları","Mal",19420000,null,null,"Pamuk ipliği"]
[null,null,null,null,null,null,null,1237,19430000,{"$f":"IF(K1241=1,COUNTIF($K$5:K1241,1),\"\")","v":1237},{"$f":"IF(ISNUMBER(SEARCH('Bilgi Girişi'!$E$4,KalemAdı,1))=TRUE,1,0)","v":1},"Tabii elyaflardan mamul dokuma, örgü ve dikiş iplikleri","Mal",19430000,null,null,"Keten ipliği"]
[null,null,null,null,null,null,null,1238,19431000,{"$f":"IF(K1242=1,COUNTIF($K$5:K1242,1),\"\")","v":1238},{"$f":"IF(ISNUMBER(SEARCH('Bilgi Girişi'!$E$4,KalemAdı,1))=TRUE,1,0)","v":1},"İpek ipliği","Mal",19431000,null,null,"Tabii elyaflardan mamul örgü ve dikiş iplikleri"]
[null,null,null,null,null,null,null,1239,19432000,{"$f":"IF(K1243=1,COUNTIF($K$5:K1243,1),\"\")","v":1239},{"$f":"IF(ISNUMBER(SEARCH('Bilgi Girişi'!$E$4,KalemAdı,1))=TRUE,1,0)","v":1},"Yün ipliği","Mal",19432000,null,null,"Dikiş ipliği"]
[null,null,null,null,null,null,null,1240,19433000,{"$f":"IF(K1244=1,COUNTIF($K$5:K1244,1),\"\")","v":1240},{"$f":"IF(ISNUMBER(SEARCH('Bilgi Girişi'!$E$4,KalemAdı,1))=TRUE,1,0)","v":1},"Pamuk ipliği","Mal",19433000,null,null,"Örgü ipliği"]
[null,null,null,null,null,null,null,1241,19434000,{"$f":"IF(K1245=1,COUNTIF($K$5:K1245,1),\"\")","v":1241},{"$f":"IF(ISNUMBER(SEARCH('Bilgi Girişi'!$E$4,KalemAdı,1))=TRUE,1,0)","v":1},"Keten ipliği","Mal",19434000,null,null,"Bitkisel dokuma iplikleri"]
[null,null,null,null,null,null,null,1242,19435000,{"$f":"IF(K1246=1,COUNTIF($K$5:K1246,1),\"\")","v":1242},{"$f":"IF(ISNUMBER(SEARCH('Bilgi Girişi'!$E$4,KalemAdı,1))=TRUE,1,0)","v":1},"Tabii elyaflardan mamul örgü ve dikiş iplikleri","Mal",19435000,null,null,"Sentetik dokuma, örgü ve dikiş iplikleri"]
[null,null,null,null,null,null,null,1243,19435100,{"$f":"IF(K1247=1,COUNTIF($K$5:K1247,1),\"\")","v":1243},{"$f":"IF(ISNUMBER(SEARCH('Bilgi Girişi'!$E$4,KalemAdı,1))=TRUE,1,0)","v":1},"Dikiş ipliği","Mal",19435100,null,null,"Sentetik dokuma iplikleri"]
[null,null,null,null,null,null,null,1244,19435200,{"$f":"IF(K1248=1,COUNTIF($K$5:K1248,1),\"\")","v":1244},{"$f":"IF(ISNUMBER(SEARCH('Bilgi Girişi'!$E$4,KalemAdı,1))=TRUE,1,0)","v":1},"Örgü ipliği","Mal",19435200,null,null,"Sentetik örgü ve dikiş iplikleri"]
[null,null,null,null,null,null,null,1245,19436000,{"$f":"IF(K1249=1,COUNTIF($K$5:K1249,1),\"\")","v":1245},{"$f":"IF(ISNUMBER(SEARCH('Bilgi Girişi'!$E$4,KalemAdı,1))=TRUE,1,0)","v":1},"Bitkisel dokuma iplikleri","Mal",19436000,null,null,"Sentetik dikiş ipliği"]
[null,null,null,null,null,null,null,1246,19440000,{"$f":"IF(K1250=1,COUNTIF($K$5:K1250,1),\"\")","v":1246},{"$f":"IF(ISNUMBER(SEARCH('Bilgi Girişi'!$E$4,KalemAdı,1))=TRUE,1,0)","v":1},"Sentetik dokuma, örgü ve dikiş iplikleri","Mal",19440000,null,null,"Sentetik örgü ipliği"]
[null,null,null,null,null,null,null,1247,19441000,{"$f":"IF(K1251=1,COUNTIF($K$5:K1251,1),\"\")","v":1247},{"$f":"IF(ISNUMBER(SEARCH('Bilgi Girişi'!$E$4,KalemAdı,1))=TRUE,1,0)","v":1},"Sentetik dokuma iplikleri","Mal",19441000,null,null,"Kauçuk ve plastik malzemeler"]
[null,null,null,null,null,null,null,1248,19442000,{"$f":"IF(K1252=1,COUNTIF($K$5:K1252,1),\"\")","v":1248},{"$f":"IF(ISNUMBER(SEARCH('Bilgi Girişi'!$E$4,KalemAdı,1))=TRUE,1,0)","v":1},"Sentetik örgü ve dikiş iplikleri","Mal",19442000,null,null,"Kauçuk ürünler"]
[null,null,null,null,null,null,null,1249,19442100,{"$f":"IF(K1253=1,COUNTIF($K$5:K1253,1),\"\")","v":1249},{"$f":"IF(ISNUMBER(SEARCH('Bilgi Girişi'!$E$4,KalemAdı,1))=TRUE,1,0)","v":1},"Sentetik dikiş ipliği","Mal",19442100,null,null,"Kauçuk iç lastikler"]
[null,null,null,null,null,null,null,1250,19442200,{"$f":"IF(K1254=1,COUNTIF($K$5:K1254,1),\"\")","v":1250},{"$f":"IF(ISNUMBER(SEARCH('Bilgi Girişi'!$E$4,KalemAdı,1))=TRUE,1,0)","v":1},"Sentetik örgü ipliği","Mal",19442200,null,null,"İç lastik ile dış lastik arasına koyulan get"]
[null,null,null,null,null,null,null,1251,19500000,{"$f":"IF(K1255=1,COUNTIF($K$5:K1255,1),\"\")","v":1251},{"$f":"IF(ISNUMBER(SEARCH('Bilgi Girişi'!$E$4,KalemAdı,1))=TRUE,1,0)","v":1},"Kauçuk ve plastik malzemeler","Mal",19500000,null,null,"İç lastikler"]
[null,null,null,null,null,null,null,1252,19510000,{"$f":"IF(K1256=1,COUNTIF($K$5:K1256,1),\"\")","v":1252},{"$f":"IF(ISNUMBER(SEARCH('Bilgi Girişi'!$E$4,KalemAdı,1))=TRUE,1,0)","v":1},"Kauçuk ürünler","Mal",19510000,null,null,"Lastik kaplamak için dış dişler"]
[null,null,null,null,null,null,null,1253,19511000,{"$f":"IF(K1257=1,COUNTIF($K$5:K1257,1),\"\")","v":1253},{"$f":"IF(ISNUMBER(SEARCH('Bilgi Girişi'!$E$4,KalemAdı,1))=TRUE,1,0)","v":1},"Kauçuk iç lastikler","Mal",19511000,null,null,"Vulkanize edilmemiş kauçuk eşya"]
[null,null,null,null,null,null,null,1254,19511100,{"$f":"IF(K1258=1,COUNTIF($K$5:K1258,1),\"\")","v":1254},{"$f":"IF(ISNUMBER(SEARCH('Bilgi Girişi'!$E$4,KalemAdı,1))=TRUE,1,0)","v":1},"İç lastik ile dış lastik arasına koyulan get","Mal",19511100,null,null,"Lastik dokuma kumaşlar"]
[null,null,null,null,null,null,null,1255,19511200,{"$f":"IF(K1259=1,COUNTIF($K$5:K1259,1),\"\")","v":1255},{"$f":"IF(ISNUMBER(SEARCH('Bilgi Girişi'!$E$4,KalemAdı,1))=TRUE,1,0)","v":1},"İç lastikler","Mal",19511200,null,null,"Lastik kord bezi"]
[null,null,null,null,null,null,null,1256,19511300,{"$f":"IF(K1260=1,COUNTIF($K$5:K1260,1),\"\")","v":1256},{"$f":"IF(ISNUMBER(SEARCH('Bilgi Girişi'!$E$4,KalemAdı,1))=TRUE,1,0)","v":1},"Lastik kaplamak için dış dişler","Mal",19511300,null,null,"Kauçuklu tekstillerden yapılmış yapışkan bantlar"]
[null,null,null,null,null,null,null,1257,19512000,{"$f":"IF(K1261=1,COUNTIF($K$5:K1261,1),\"\")","v":1257},{"$f":"IF(ISNUMBER(SEARCH('Bilgi Girişi'!$E$4,KalemAdı,1))=TRUE,1,0)","v":1},"Vulkanize edilmemiş kauçuk eşya","Mal",19512000,null,null,"Geri kazanılmış kauçuk, rejenere kauçuk"]
[null,null,null,null,null,null,null,1258,19513000,{"$f":"IF(K1262=1,COUNTIF($K$5:K1262,1),\"\")","v":1258},{"$f":"IF(ISNUMBER(SEARCH('Bilgi Girişi'!$E$4,KalemAdı,1))=TRUE,1,0)","v":1},"Lastik dokuma kumaşlar","Mal",19513000,null,null,"Plastik ürünler"]
[null,null,null,null,null,null,null,1259,19513100,{"$f":"IF(K1263=1,COUNTIF($K$5:K1263,1),\"\")","v":1259},{"$f":"IF(ISNUMBER(SEARCH('Bilgi Girişi'!$E$4,KalemAdı,1))=TRUE,1,0)","v":1},"Lastik kord bezi","Mal",19513100,null,null,"Polistren ürünler"]
[null,null,null,null,null,null,null,1260,19513200,{"$f":"IF(K1264=1,COUNTIF($K$5:K1264,1),\"\")","v":1260},{"$f":"IF(ISNUMBER(SEARCH('Bilgi Girişi'!$E$4,KalemAdı,1))=TRUE,1,0)","v":1},"Kauçuklu tekstillerden yapılmış yapışkan bantlar","Mal",19513200,null,null,"Polistren levhalar"]
[null,null,null,null,null,null,null,1261,19514000,{"$f":"IF(K1265=1,COUNTIF($K$5:K1265,1),\"\")","v":1261},{"$f":"IF(ISNUMBER(SEARCH('Bilgi Girişi'!$E$4,KalemAdı,1))=TRUE,1,0)","v":1},"Geri kazanılmış kauçuk, rejenere kauçuk","Mal",19514000,null,null,"Polistren doğrama ve dilimleri"]
[null,null,null,null,null,null,null,1262,19520000,{"$f":"IF(K1266=1,COUNTIF($K$5:K1266,1),\"\")","v":1262},{"$f":"IF(ISNUMBER(SEARCH('Bilgi Girişi'!$E$4,KalemAdı,1))=TRUE,1,0)","v":1},"Plastik ürünler","Mal",19520000,null,null,"Reçineler"]
[null,null,null,null,null,null,null,1263,19521000,{"$f":"IF(K1267=1,COUNTIF($K$5:K1267,1),\"\")","v":1263},{"$f":"IF(ISNUMBER(SEARCH('Bilgi Girişi'!$E$4,KalemAdı,1))=TRUE,1,0)","v":1},"Polistren ürünler","Mal",19521000,null,null,"Plastik boya tutkalı"]
[null,null,null,null,null,null,null,1264,19521100,{"$f":"IF(K1268=1,COUNTIF($K$5:K1268,1),\"\")","v":1264},{"$f":"IF(ISNUMBER(SEARCH('Bilgi Girişi'!$E$4,KalemAdı,1))=TRUE,1,0)","v":1},"Polistren levhalar","Mal",19521100,null,null,"Sertleştirilmiş plastik borular, tüpler"]
[null,null,null,null,null,null,null,1265,19521200,{"$f":"IF(K1269=1,COUNTIF($K$5:K1269,1),\"\")","v":1265},{"$f":"IF(ISNUMBER(SEARCH('Bilgi Girişi'!$E$4,KalemAdı,1))=TRUE,1,0)","v":1},"Polistren doğrama ve dilimleri","Mal",19521200,null,null,"Deri, tekstil, kauçuk ve plastik atık"]
[null,null,null,null,null,null,null,1266,19522000,{"$f":"IF(K1270=1,COUNTIF($K$5:K1270,1),\"\")","v":1266},{"$f":"IF(ISNUMBER(SEARCH('Bilgi Girişi'!$E$4,KalemAdı,1))=TRUE,1,0)","v":1},"Reçineler","Mal",19522000,null,null,"Deri atıkları"]
[null,null,null,null,null,null,null,1267,19522100,{"$f":"IF(K1271=1,COUNTIF($K$5:K1271,1),\"\")","v":1267},{"$f":"IF(ISNUMBER(SEARCH('Bilgi Girişi'!$E$4,KalemAdı,1))=TRUE,1,0)","v":1},"Plastik boya tutkalı","Mal",19522100,null,null,"Tekstil atıkları"]
[null,null,null,null,null,null,null,1268,19522110,{"$f":"IF(K1272=1,COUNTIF($K$5:K1272,1),\"\")","v":1268},{"$f":"IF(ISNUMBER(SEARCH('Bilgi Girişi'!$E$4,KalemAdı,1))=TRUE,1,0)","v":1},"Sertleştirilmiş plastik borular, tüpler","Mal",19522110,null,null,"Kauçuk atık"]
[null,null,null,null,null,null,null,1269,19600000,{"$f":"IF(K1273=1,COUNTIF($K$5:K1273,1),\"\")","v":1269},{"$f":"IF(ISNUMBER(SEARCH('Bilgi Girişi'!$E$4,KalemAdı,1))=TRUE,1,0)","v":1},"Deri, tekstil, kauçuk ve plastik atık","Mal",19600000,null,null,"Polietilen çöp ve atık çuval ve torbaları"]
[null,null,null,null,null,null,null,1270,19610000,{"$f":"IF(K1274=1,COUNTIF($K$5:K1274,1),\"\")","v":1270},{"$f":"IF(ISNUMBER(SEARCH('Bilgi Girişi'!$E$4,KalemAdı,1))=TRUE,1,0)","v":1},"Deri atıkları","Mal",19610000,null,null,"Sentetik kauçuk ve elyaflar"]
[null,null,null,null,null,null,null,1271,19620000,{"$f":"IF(K1275=1,COUNTIF($K$5:K1275,1),\"\")","v":1271},{"$f":"IF(ISNUMBER(SEARCH('Bilgi Girişi'!$E$4,KalemAdı,1))=TRUE,1,0)","v":1},"Tekstil atıkları","Mal",19620000,null,null,"Sentetik kauçuk"]
[null,null,null,null,null,null,null,1272,19630000,{"$f":"IF(K1276=1,COUNTIF($K$5:K1276,1),\"\")","v":1272},{"$f":"IF(ISNUMBER(SEARCH('Bilgi Girişi'!$E$4,KalemAdı,1))=TRUE,1,0)","v":1},"Kauçuk atık","Mal",19630000,null,null,"Sentetik elyaf ve lifler"]
[null,null,null,null,null,null,null,1273,19640000,{"$f":"IF(K1277=1,COUNTIF($K$5:K1277,1),\"\")","v":1273},{"$f":"IF(ISNUMBER(SEARCH('Bilgi Girişi'!$E$4,KalemAdı,1))=TRUE,1,0)","v":1},"Polietilen çöp ve atık çuval ve torbaları","Mal",19640000,null,null,"Sentetik çekme elyaf, sentetik kıtık elyaf"]
[null,null,null,null,null,null,null,1274,19700000,{"$f":"IF(K1278=1,COUNTIF($K$5:K1278,1),\"\")","v":1274},{"$f":"IF(ISNUMBER(SEARCH('Bilgi Girişi'!$E$4,KalemAdı,1))=TRUE,1,0)","v":1},"Sentetik kauçuk ve elyaflar","Mal",19700000,null,null,"Yüksek dayanıklılıklı elyaf"]
[null,null,null,null,null,null,null,1275,19710000,{"$f":"IF(K1279=1,COUNTIF($K$5:K1279,1),\"\")","v":1275},{"$f":"IF(ISNUMBER(SEARCH('Bilgi Girişi'!$E$4,KalemAdı,1))=TRUE,1,0)","v":1},"Sentetik kauçuk","Mal",19710000,null,null,"Tekli dokuma ipliği"]
[null,null,null,null,null,null,null,1276,19720000,{"$f":"IF(K1280=1,COUNTIF($K$5:K1280,1),\"\")","v":1276},{"$f":"IF(ISNUMBER(SEARCH('Bilgi Girişi'!$E$4,KalemAdı,1))=TRUE,1,0)","v":1},"Sentetik elyaf ve lifler","Mal",19720000,null,null,"Tekli sentetik elyaf, sentetik monofilament"]
[null,null,null,null,null,null,null,1277,19721000,{"$f":"IF(K1281=1,COUNTIF($K$5:K1281,1),\"\")","v":1277},{"$f":"IF(ISNUMBER(SEARCH('Bilgi Girişi'!$E$4,KalemAdı,1))=TRUE,1,0)","v":1},"Sentetik çekme elyaf, sentetik kıtık elyaf","Mal",19721000,null,null,"Suni elyaflar"]
[null,null,null,null,null,null,null,1278,19722000,{"$f":"IF(K1282=1,COUNTIF($K$5:K1282,1),\"\")","v":1278},{"$f":"IF(ISNUMBER(SEARCH('Bilgi Girişi'!$E$4,KalemAdı,1))=TRUE,1,0)","v":1},"Yüksek dayanıklılıklı elyaf","Mal",19722000,null,null,"Suni devamlı elyaflar"]
[null,null,null,null,null,null,null,1279,19723000,{"$f":"IF(K1283=1,COUNTIF($K$5:K1283,1),\"\")","v":1279},{"$f":"IF(ISNUMBER(SEARCH('Bilgi Girişi'!$E$4,KalemAdı,1))=TRUE,1,0)","v":1},"Tekli dokuma ipliği","Mal",19723000,null,null,"Polipropilen"]
[null,null,null,null,null,null,null,1280,19724000,{"$f":"IF(K1284=1,COUNTIF($K$5:K1284,1),\"\")","v":1280},{"$f":"IF(ISNUMBER(SEARCH('Bilgi Girişi'!$E$4,KalemAdı,1))=TRUE,1,0)","v":1},"Tekli sentetik elyaf, sentetik monofilament","Mal",19724000,null,null,"Suni dokuma ipliği"]
[null,null,null,null,null,null,null,1281,19730000,{"$f":"IF(K1285=1,COUNTIF($K$5:K1285,1),\"\")","v":1281},{"$f":"IF(ISNUMBER(SEARCH('Bilgi Girişi'!$E$4,KalemAdı,1))=TRUE,1,0)","v":1},"Suni elyaflar","Mal",19730000,null,null,"Basılı malzeme ve ilgili ürünler"]
[null,null,null,null,null,null,null,1282,19731000,{"$f":"IF(K1286=1,COUNTIF($K$5:K1286,1),\"\")","v":1282},{"$f":"IF(ISNUMBER(SEARCH('Bilgi Girişi'!$E$4,KalemAdı,1))=TRUE,1,0)","v":1},"Suni devamlı elyaflar","Mal",19731000,null,null,{"$f":"IFERROR(VLOOKUP(ROW($P1286),$J$5:$L$9594,3,FALSE),\"\")","v":"Kitap, broşür ve bildiriler"}]
[null,null,null,null,null,null,null,1283,19732000,{"$f":"IF(K1287=1,COUNTIF($K$5:K1287,1),\"\")","v":1283},{"$f":"IF(ISNUMBER(SEARCH('Bilgi Girişi'!$E$4,KalemAdı,1))=TRUE,1,0)","v":1},"Polipropilen","Mal",19732000,null,null,"Kitaplar"]
[null,null,null,null,null,null,null,1284,19733000,{"$f":"IF(K1288=1,COUNTIF($K$5:K1288,1),\"\")","v":1284},{"$f":"IF(ISNUMBER(SEARCH('Bilgi Girişi'!$E$4,KalemAdı,1))=TRUE,1,0)","v":1},"Suni dokuma ipliği","Mal",19733000,null,null,"Okul kitapları"]
[null,null,null,null,null,null,null,1285,22000000,{"$f":"IF(K1289=1,COUNTIF($K$5:K1289,1),\"\")","v":1285},{"$f":"IF(ISNUMBER(SEARCH('Bilgi Girişi'!$E$4,KalemAdı,1))=TRUE,1,0)","v":1},"Basılı malzeme ve ilgili ürünler","Mal",22000000,null,null,"Ders kitapları"]
[null,null,null,null,null,null,null,1286,22100000,{"$f":"IF(K1290=1,COUNTIF($K$5:K1290,1),\"\")","v":1286},{"$f":"IF(ISNUMBER(SEARCH('Bilgi Girişi'!$E$4,KalemAdı,1))=TRUE,1,0)","v":1},"Kitap, broşür ve bildiriler","Mal",22100000,null,null,"Kütüphane kitapları"]
[null,null,null,null,null,null,null,1287,22110000,{"$f":"IF(K1291=1,COUNTIF($K$5:K1291,1),\"\")","v":1287},{"$f":"IF(ISNUMBER(SEARCH('Bilgi Girişi'!$E$4,KalemAdı,1))=TRUE,1,0)","v":1},"Kitaplar","Mal",22110000,null,null,"Sözlükler, haritalar, müzik kitapları ve diğer kitaplar"]
[null,null,null,null,null,null,null,1288,22111000,{"$f":"IF(K1292=1,COUNTIF($K$5:K1292,1),\"\")","v":1288},{"$f":"IF(ISNUMBER(SEARCH('Bilgi Girişi'!$E$4,KalemAdı,1))=TRUE,1,0)","v":1},"Okul kitapları","Mal",22111000,null,null,"Sözlükler"]
[null,null,null,null,null,null,null,1289,22112000,{"$f":"IF(K1293=1,COUNTIF($K$5:K1293,1),\"\")","v":1289},{"$f":"IF(ISNUMBER(SEARCH('Bilgi Girişi'!$E$4,KalemAdı,1))=TRUE,1,0)","v":1},"Ders kitapları","Mal",22112000,null,null,"Atlaslar"]
[null,null,null,null,null,null,null,1290,22113000,{"$f":"IF(K1294=1,COUNTIF($K$5:K1294,1),\"\")","v":1290},{"$f":"IF(ISNUMBER(SEARCH('Bilgi Girişi'!$E$4,KalemAdı,1))=TRUE,1,0)","v":1},"Kütüphane kitapları","Mal",22113000,null,null,"Haritalar"]
[null,null,null,null,null,null,null,1291,22114000,{"$f":"IF(K1295=1,COUNTIF($K$5:K1295,1),\"\")","v":1291},{"$f":"IF(ISNUMBER(SEARCH('Bilgi Girişi'!$E$4,KalemAdı,1))=TRUE,1,0)","v":1},"Sözlükler, haritalar, müzik kitapları ve diğer kitaplar","Mal",22114000,null,null,"Kadastro haritaları"]
[null,null,null,null,null,null,null,1292,22114100,{"$f":"IF(K1296=1,COUNTIF($K$5:K1296,1),\"\")","v":1292},{"$f":"IF(ISNUMBER(SEARCH('Bilgi Girişi'!$E$4,KalemAdı,1))=TRUE,1,0)","v":1},"Sözlükler","Mal",22114100,null,null,"Proje ozalitleri"]
[null,null,null,null,null,null,null,1293,22114200,{"$f":"IF(K1297=1,COUNTIF($K$5:K1297,1),\"\")","v":1293},{"$f":"IF(ISNUMBER(SEARCH('Bilgi Girişi'!$E$4,KalemAdı,1))=TRUE,1,0)","v":1},"Atlaslar","Mal",22114200,null,null,"Nota kitap ve kitapçıkları"]
[null,null,null,null,null,null,null,1294,22114300,{"$f":"IF(K1298=1,COUNTIF($K$5:K1298,1),\"\")","v":1294},{"$f":"IF(ISNUMBER(SEARCH('Bilgi Girişi'!$E$4,KalemAdı,1))=TRUE,1,0)","v":1},"Haritalar","Mal",22114300,null,null,"Ansiklopediler"]
[null,null,null,null,null,null,null,1295,22114310,{"$f":"IF(K1299=1,COUNTIF($K$5:K1299,1),\"\")","v":1295},{"$f":"IF(ISNUMBER(SEARCH('Bilgi Girişi'!$E$4,KalemAdı,1))=TRUE,1,0)","v":1},"Kadastro haritaları","Mal",22114310,null,null,"Yayınlar"]
[null,null,null,null,null,null,null,1296,22114311,{"$f":"IF(K1300=1,COUNTIF($K$5:K1300,1),\"\")","v":1296},{"$f":"IF(ISNUMBER(SEARCH('Bilgi Girişi'!$E$4,KalemAdı,1))=TRUE,1,0)","v":1},"Proje ozalitleri","Mal",22114311,null,null,"Teknik yayınlar"]
[null,null,null,null,null,null,null,1297,22114400,{"$f":"IF(K1301=1,COUNTIF($K$5:K1301,1),\"\")","v":1297},{"$f":"IF(ISNUMBER(SEARCH('Bilgi Girişi'!$E$4,KalemAdı,1))=TRUE,1,0)","v":1},"Nota kitap ve kitapçıkları","Mal",22114400,null,null,"Rehberler"]
[null,null,null,null,null,null,null,1298,22114500,{"$f":"IF(K1302=1,COUNTIF($K$5:K1302,1),\"\")","v":1298},{"$f":"IF(ISNUMBER(SEARCH('Bilgi Girişi'!$E$4,KalemAdı,1))=TRUE,1,0)","v":1},"Ansiklopediler","Mal",22114500,null,null,"Bildiriler"]
[null,null,null,null,null,null,null,1299,22120000,{"$f":"IF(K1303=1,COUNTIF($K$5:K1303,1),\"\")","v":1299},{"$f":"IF(ISNUMBER(SEARCH('Bilgi Girişi'!$E$4,KalemAdı,1))=TRUE,1,0)","v":1},"Yayınlar","Mal",22120000,null,null,"Broşürler"]
[null,null,null,null,null,null,null,1300,22121000,{"$f":"IF(K1304=1,COUNTIF($K$5:K1304,1),\"\")","v":1300},{"$f":"IF(ISNUMBER(SEARCH('Bilgi Girişi'!$E$4,KalemAdı,1))=TRUE,1,0)","v":1},"Teknik yayınlar","Mal",22121000,null,null,"Kitapçıklar"]
[null,null,null,null,null,null,null,1301,22130000,{"$f":"IF(K1305=1,COUNTIF($K$5:K1305,1),\"\")","v":1301},{"$f":"IF(ISNUMBER(SEARCH('Bilgi Girişi'!$E$4,KalemAdı,1))=TRUE,1,0)","v":1},"Rehberler","Mal",22130000,null,null,"Gazeteler, dergiler, süreli yayın ve magazinler"]
[null,null,null,null,null,null,null,1302,22140000,{"$f":"IF(K1306=1,COUNTIF($K$5:K1306,1),\"\")","v":1302},{"$f":"IF(ISNUMBER(SEARCH('Bilgi Girişi'!$E$4,KalemAdı,1))=TRUE,1,0)","v":1},"Bildiriler","Mal",22140000,null,null,"Gazeteler"]
[null,null,null,null,null,null,null,1303,22150000,{"$f":"IF(K1307=1,COUNTIF($K$5:K1307,1),\"\")","v":1303},{"$f":"IF(ISNUMBER(SEARCH('Bilgi Girişi'!$E$4,KalemAdı,1))=TRUE,1,0)","v":1},"Broşürler","Mal",22150000,null,null,"Dergiler"]
[null,null,null,null,null,null,null,1304,22160000,{"$f":"IF(K1308=1,COUNTIF($K$5:K1308,1),\"\")","v":1304},{"$f":"IF(ISNUMBER(SEARCH('Bilgi Girişi'!$E$4,KalemAdı,1))=TRUE,1,0)","v":1},"Kitapçıklar","Mal",22160000,null,null,"Resmi dergiler"]
[null,null,null,null,null,null,null,1305,22200000,{"$f":"IF(K1309=1,COUNTIF($K$5:K1309,1),\"\")","v":1305},{"$f":"IF(ISNUMBER(SEARCH('Bilgi Girişi'!$E$4,KalemAdı,1))=TRUE,1,0)","v":1},"Gazeteler, dergiler, süreli yayın ve magazinler","Mal",22200000,null,null,"Süreli yayınlar"]
[null,null,null,null,null,null,null,1306,22210000,{"$f":"IF(K1310=1,COUNTIF($K$5:K1310,1),\"\")","v":1306},{"$f":"IF(ISNUMBER(SEARCH('Bilgi Girişi'!$E$4,KalemAdı,1))=TRUE,1,0)","v":1},"Gazeteler","Mal",22210000,null,null,"Sürekli yayınlar, tefrikalar"]
[null,null,null,null,null,null,null,1307,22211000,{"$f":"IF(K1311=1,COUNTIF($K$5:K1311,1),\"\")","v":1307},{"$f":"IF(ISNUMBER(SEARCH('Bilgi Girişi'!$E$4,KalemAdı,1))=TRUE,1,0)","v":1},"Dergiler","Mal",22211000,null,null,"Mecmualar, magazinler"]
[null,null,null,null,null,null,null,1308,22211100,{"$f":"IF(K1312=1,COUNTIF($K$5:K1312,1),\"\")","v":1308},{"$f":"IF(ISNUMBER(SEARCH('Bilgi Girişi'!$E$4,KalemAdı,1))=TRUE,1,0)","v":1},"Resmi dergiler","Mal",22211100,null,null,"Posta kartları, kutlama kartları ve diğer basılı maddeler"]
[null,null,null,null,null,null,null,1309,22212000,{"$f":"IF(K1313=1,COUNTIF($K$5:K1313,1),\"\")","v":1309},{"$f":"IF(ISNUMBER(SEARCH('Bilgi Girişi'!$E$4,KalemAdı,1))=TRUE,1,0)","v":1},"Süreli yayınlar","Mal",22212000,null,null,"Posta kartları"]
[null,null,null,null,null,null,null,1310,22212100,{"$f":"IF(K1314=1,COUNTIF($K$5:K1314,1),\"\")","v":1310},{"$f":"IF(ISNUMBER(SEARCH('Bilgi Girişi'!$E$4,KalemAdı,1))=TRUE,1,0)","v":1},"Sürekli yayınlar, tefrikalar","Mal",22212100,null,null,"Resimler"]
[null,null,null,null,null,null,null,1311,22213000,{"$f":"IF(K1315=1,COUNTIF($K$5:K1315,1),\"\")","v":1311},{"$f":"IF(ISNUMBER(SEARCH('Bilgi Girişi'!$E$4,KalemAdı,1))=TRUE,1,0)","v":1},"Mecmualar, magazinler","Mal",22213000,null,null,"Çıkartmalar"]
[null,null,null,null,null,null,null,1312,22300000,{"$f":"IF(K1316=1,COUNTIF($K$5:K1316,1),\"\")","v":1312},{"$f":"IF(ISNUMBER(SEARCH('Bilgi Girişi'!$E$4,KalemAdı,1))=TRUE,1,0)","v":1},"Posta kartları, kutlama kartları ve diğer basılı maddeler","Mal",22300000,null,null,"Desenler, tasarımlar"]
[null,null,null,null,null,null,null,1313,22310000,{"$f":"IF(K1317=1,COUNTIF($K$5:K1317,1),\"\")","v":1313},{"$f":"IF(ISNUMBER(SEARCH('Bilgi Girişi'!$E$4,KalemAdı,1))=TRUE,1,0)","v":1},"Posta kartları","Mal",22310000,null,null,"Fotoğraflar"]
[null,null,null,null,null,null,null,1314,22312000,{"$f":"IF(K1318=1,COUNTIF($K$5:K1318,1),\"\")","v":1314},{"$f":"IF(ISNUMBER(SEARCH('Bilgi Girişi'!$E$4,KalemAdı,1))=TRUE,1,0)","v":1},"Resimler","Mal",22312000,null,null,"Kutlama kartları"]
[null,null,null,null,null,null,null,1315,22313000,{"$f":"IF(K1319=1,COUNTIF($K$5:K1319,1),\"\")","v":1315},{"$f":"IF(ISNUMBER(SEARCH('Bilgi Girişi'!$E$4,KalemAdı,1))=TRUE,1,0)","v":1},"Çıkartmalar","Mal",22313000,null,null,"Yılbaşı kartları"]
[null,null,null,null,null,null,null,1316,22314000,{"$f":"IF(K1320=1,COUNTIF($K$5:K1320,1),\"\")","v":1316},{"$f":"IF(ISNUMBER(SEARCH('Bilgi Girişi'!$E$4,KalemAdı,1))=TRUE,1,0)","v":1},"Desenler, tasarımlar","Mal",22314000,null,null,"Pullar, çek defterleri, banknotlar, hisse senetleri, ticari reklam malzemeleri"]
[null,null,null,null,null,null,null,1317,22315000,{"$f":"IF(K1321=1,COUNTIF($K$5:K1321,1),\"\")","v":1317},{"$f":"IF(ISNUMBER(SEARCH('Bilgi Girişi'!$E$4,KalemAdı,1))=TRUE,1,0)","v":1},"Fotoğraflar","Mal",22315000,null,null,"Pullar"]
[null,null,null,null,null,null,null,1318,22320000,{"$f":"IF(K1322=1,COUNTIF($K$5:K1322,1),\"\")","v":1318},{"$f":"IF(ISNUMBER(SEARCH('Bilgi Girişi'!$E$4,KalemAdı,1))=TRUE,1,0)","v":1},"Kutlama kartları","Mal",22320000,null,null,"Yılbaşı pulları"]
[null,null,null,null,null,null,null,1319,22321000,{"$f":"IF(K1323=1,COUNTIF($K$5:K1323,1),\"\")","v":1319},{"$f":"IF(ISNUMBER(SEARCH('Bilgi Girişi'!$E$4,KalemAdı,1))=TRUE,1,0)","v":1},"Yılbaşı kartları","Mal",22321000,null,null,"Yeni pullar"]
[null,null,null,null,null,null,null,1320,22400000,{"$f":"IF(K1324=1,COUNTIF($K$5:K1324,1),\"\")","v":1320},{"$f":"IF(ISNUMBER(SEARCH('Bilgi Girişi'!$E$4,KalemAdı,1))=TRUE,1,0)","v":1},"Pullar, çek defterleri, banknotlar, hisse senetleri, ticari reklam malzemeleri","Mal",22400000,null,null,"İndirim pulları"]
[null,null,null,null,null,null,null,1321,22410000,{"$f":"IF(K1325=1,COUNTIF($K$5:K1325,1),\"\")","v":1321},{"$f":"IF(ISNUMBER(SEARCH('Bilgi Girişi'!$E$4,KalemAdı,1))=TRUE,1,0)","v":1},"Pullar","Mal",22410000,null,null,"Posta pulu askıları/tutucuları"]
[null,null,null,null,null,null,null,1322,22411000,{"$f":"IF(K1326=1,COUNTIF($K$5:K1326,1),\"\")","v":1322},{"$f":"IF(ISNUMBER(SEARCH('Bilgi Girişi'!$E$4,KalemAdı,1))=TRUE,1,0)","v":1},"Yılbaşı pulları","Mal",22411000,null,null,"Pul baskılı kağıtlar - kıymetli kağıtlar"]
[null,null,null,null,null,null,null,1323,22412000,{"$f":"IF(K1327=1,COUNTIF($K$5:K1327,1),\"\")","v":1323},{"$f":"IF(ISNUMBER(SEARCH('Bilgi Girişi'!$E$4,KalemAdı,1))=TRUE,1,0)","v":1},"Yeni pullar","Mal",22412000,null,null,"Banknotlar"]
[null,null,null,null,null,null,null,1324,22413000,{"$f":"IF(K1328=1,COUNTIF($K$5:K1328,1),\"\")","v":1324},{"$f":"IF(ISNUMBER(SEARCH('Bilgi Girişi'!$E$4,KalemAdı,1))=TRUE,1,0)","v":1},"İndirim pulları","Mal",22413000,null,null,"Çek defterleri"]
[null,null,null,null,null,null,null,1325,22414000,{"$f":"IF(K1329=1,COUNTIF($K$5:K1329,1),\"\")","v":1325},{"$f":"IF(ISNUMBER(SEARCH('Bilgi Girişi'!$E$4,KalemAdı,1))=TRUE,1,0)","v":1},"Posta pulu askıları/tutucuları","Mal",22414000,null,null,"Güvenlik amaçlı basılı materyaller"]
[null,null,null,null,null,null,null,1326,22420000,{"$f":"IF(K1330=1,COUNTIF($K$5:K1330,1),\"\")","v":1326},{"$f":"IF(ISNUMBER(SEARCH('Bilgi Girişi'!$E$4,KalemAdı,1))=TRUE,1,0)","v":1},"Pul baskılı kağıtlar - kıymetli kağıtlar","Mal",22420000,null,null,"Pasaportlar"]
[null,null,null,null,null,null,null,1327,22430000,{"$f":"IF(K1331=1,COUNTIF($K$5:K1331,1),\"\")","v":1327},{"$f":"IF(ISNUMBER(SEARCH('Bilgi Girişi'!$E$4,KalemAdı,1))=TRUE,1,0)","v":1},"Banknotlar","Mal",22430000,null,null,"Posta havaleleri"]
[null,null,null,null,null,null,null,1328,22440000,{"$f":"IF(K1332=1,COUNTIF($K$5:K1332,1),\"\")","v":1328},{"$f":"IF(ISNUMBER(SEARCH('Bilgi Girişi'!$E$4,KalemAdı,1))=TRUE,1,0)","v":1},"Çek defterleri","Mal",22440000,null,null,"Otomobil vergi etiket diskleri"]
[null,null,null,null,null,null,null,1329,22450000,{"$f":"IF(K1333=1,COUNTIF($K$5:K1333,1),\"\")","v":1329},{"$f":"IF(ISNUMBER(SEARCH('Bilgi Girişi'!$E$4,KalemAdı,1))=TRUE,1,0)","v":1},"Güvenlik amaçlı basılı materyaller","Mal",22450000,null,null,"Ehliyetler"]
[null,null,null,null,null,null,null,1330,22451000,{"$f":"IF(K1334=1,COUNTIF($K$5:K1334,1),\"\")","v":1330},{"$f":"IF(ISNUMBER(SEARCH('Bilgi Girişi'!$E$4,KalemAdı,1))=TRUE,1,0)","v":1},"Pasaportlar","Mal",22451000,null,null,"Kimlik kartları"]
[null,null,null,null,null,null,null,1331,22452000,{"$f":"IF(K1335=1,COUNTIF($K$5:K1335,1),\"\")","v":1331},{"$f":"IF(ISNUMBER(SEARCH('Bilgi Girişi'!$E$4,KalemAdı,1))=TRUE,1,0)","v":1},"Posta havaleleri","Mal",22452000,null,null,"Kimlik bileziği"]
[null,null,null,null,null,null,null,1332,22453000,{"$f":"IF(K1336=1,COUNTIF($K$5:K1336,1),\"\")","v":1332},{"$f":"IF(ISNUMBER(SEARCH('Bilgi Girişi'!$E$4,KalemAdı,1))=TRUE,1,0)","v":1},"Otomobil vergi etiket diskleri","Mal",22453000,null,null,"Permi ve ruhsat kartları"]
[null,null,null,null,null,null,null,1333,22454000,{"$f":"IF(K1337=1,COUNTIF($K$5:K1337,1),\"\")","v":1333},{"$f":"IF(ISNUMBER(SEARCH('Bilgi Girişi'!$E$4,KalemAdı,1))=TRUE,1,0)","v":1},"Ehliyetler","Mal",22454000,null,null,"Giriş kartları"]
[null,null,null,null,null,null,null,1334,22455000,{"$f":"IF(K1338=1,COUNTIF($K$5:K1338,1),\"\")","v":1334},{"$f":"IF(ISNUMBER(SEARCH('Bilgi Girişi'!$E$4,KalemAdı,1))=TRUE,1,0)","v":1},"Kimlik kartları","Mal",22455000,null,null,"Ismarlama basılı malzemeler"]
[null,null,null,null,null,null,null,1335,22455100,{"$f":"IF(K1339=1,COUNTIF($K$5:K1339,1),\"\")","v":1335},{"$f":"IF(ISNUMBER(SEARCH('Bilgi Girişi'!$E$4,KalemAdı,1))=TRUE,1,0)","v":1},"Kimlik bileziği","Mal",22455100,null,null,"Biletler"]
[null,null,null,null,null,null,null,1336,22456000,{"$f":"IF(K1340=1,COUNTIF($K$5:K1340,1),\"\")","v":1336},{"$f":"IF(ISNUMBER(SEARCH('Bilgi Girişi'!$E$4,KalemAdı,1))=TRUE,1,0)","v":1},"Permi ve ruhsat kartları","Mal",22456000,null,null,"Reklamlarda kullanılan çıkartmalar ve şeritler"]
[null,null,null,null,null,null,null,1337,22457000,{"$f":"IF(K1341=1,COUNTIF($K$5:K1341,1),\"\")","v":1337},{"$f":"IF(ISNUMBER(SEARCH('Bilgi Girişi'!$E$4,KalemAdı,1))=TRUE,1,0)","v":1},"Giriş kartları","Mal",22457000,null,null,"Ticari reklam malzemeleri, kataloglar ve el kitapları"]
[null,null,null,null,null,null,null,1338,22458000,{"$f":"IF(K1342=1,COUNTIF($K$5:K1342,1),\"\")","v":1338},{"$f":"IF(ISNUMBER(SEARCH('Bilgi Girişi'!$E$4,KalemAdı,1))=TRUE,1,0)","v":1},"Ismarlama basılı malzemeler","Mal",22458000,null,null,"Kataloglar"]
[null,null,null,null,null,null,null,1339,22459000,{"$f":"IF(K1343=1,COUNTIF($K$5:K1343,1),\"\")","v":1339},{"$f":"IF(ISNUMBER(SEARCH('Bilgi Girişi'!$E$4,KalemAdı,1))=TRUE,1,0)","v":1},"Biletler","Mal",22459000,null,null,"Listelik"]
[null,null,null,null,null,null,null,1340,22459100,{"$f":"IF(K1344=1,COUNTIF($K$5:K1344,1),\"\")","v":1340},{"$f":"IF(ISNUMBER(SEARCH('Bilgi Girişi'!$E$4,KalemAdı,1))=TRUE,1,0)","v":1},"Reklamlarda kullanılan çıkartmalar ve şeritler","Mal",22459100,null,null,"Reklam malzemeleri"]
[null,null,null,null,null,null,null,1341,22460000,{"$f":"IF(K1345=1,COUNTIF($K$5:K1345,1),\"\")","v":1341},{"$f":"IF(ISNUMBER(SEARCH('Bilgi Girişi'!$E$4,KalemAdı,1))=TRUE,1,0)","v":1},"Ticari reklam malzemeleri, kataloglar ve el kitapları","Mal",22460000,null,null,"El kitapları"]
[null,null,null,null,null,null,null,1342,22461000,{"$f":"IF(K1346=1,COUNTIF($K$5:K1346,1),\"\")","v":1342},{"$f":"IF(ISNUMBER(SEARCH('Bilgi Girişi'!$E$4,KalemAdı,1))=TRUE,1,0)","v":1},"Kataloglar","Mal",22461000,null,null,"Bilgisayar el kitapları"]
[null,null,null,null,null,null,null,1343,22461100,{"$f":"IF(K1347=1,COUNTIF($K$5:K1347,1),\"\")","v":1343},{"$f":"IF(ISNUMBER(SEARCH('Bilgi Girişi'!$E$4,KalemAdı,1))=TRUE,1,0)","v":1},"Listelik","Mal",22461100,null,null,"Öğretim el kitapları"]
[null,null,null,null,null,null,null,1344,22462000,{"$f":"IF(K1348=1,COUNTIF($K$5:K1348,1),\"\")","v":1344},{"$f":"IF(ISNUMBER(SEARCH('Bilgi Girişi'!$E$4,KalemAdı,1))=TRUE,1,0)","v":1},"Reklam malzemeleri","Mal",22462000,null,null,"Teknik el kitapları"]
[null,null,null,null,null,null,null,1345,22470000,{"$f":"IF(K1349=1,COUNTIF($K$5:K1349,1),\"\")","v":1345},{"$f":"IF(ISNUMBER(SEARCH('Bilgi Girişi'!$E$4,KalemAdı,1))=TRUE,1,0)","v":1},"El kitapları","Mal",22470000,null,null,"Basımda kullanılan levha, silindir ve diğer basılı malzemeler"]
[null,null,null,null,null,null,null,1346,22471000,{"$f":"IF(K1350=1,COUNTIF($K$5:K1350,1),\"\")","v":1346},{"$f":"IF(ISNUMBER(SEARCH('Bilgi Girişi'!$E$4,KalemAdı,1))=TRUE,1,0)","v":1},"Bilgisayar el kitapları","Mal",22471000,null,null,{"$f":"IFERROR(VLOOKUP(ROW($P1350),$J$5:$L$9594,3,FALSE),\"\")","v":"Ofset levhaları"}]
[null,null,null,null,null,null,null,1347,22472000,{"$f":"IF(K1351=1,COUNTIF($K$5:K1351,1),\"\")","v":1347},{"$f":"IF(ISNUMBER(SEARCH('Bilgi Girişi'!$E$4,KalemAdı,1))=TRUE,1,0)","v":1},"Öğretim el kitapları","Mal",22472000,null,null,"Kuru klişecilik teçhizatı"]
[null,null,null,null,null,null,null,1348,22473000,{"$f":"IF(K1352=1,COUNTIF($K$5:K1352,1),\"\")","v":1348},{"$f":"IF(ISNUMBER(SEARCH('Bilgi Girişi'!$E$4,KalemAdı,1))=TRUE,1,0)","v":1},"Teknik el kitapları","Mal",22473000,null,null,"Süsleme ve şekil verme donanımı"]
[null,null,null,null,null,null,null,1349,22500000,{"$f":"IF(K1353=1,COUNTIF($K$5:K1353,1),\"\")","v":1349},{"$f":"IF(ISNUMBER(SEARCH('Bilgi Girişi'!$E$4,KalemAdı,1))=TRUE,1,0)","v":1},"Basımda kullanılan levha, silindir ve diğer basılı malzemeler","Mal",22500000,null,null,"Mürekkep"]
[null,null,null,null,null,null,null,1350,22510000,{"$f":"IF(K1354=1,COUNTIF($K$5:K1354,1),\"\")","v":1350},{"$f":"IF(ISNUMBER(SEARCH('Bilgi Girişi'!$E$4,KalemAdı,1))=TRUE,1,0)","v":1},"Ofset levhaları","Mal",22510000,null,null,"Matbaa mürekkebi"]
[null,null,null,null,null,null,null,1351,22520000,{"$f":"IF(K1355=1,COUNTIF($K$5:K1355,1),\"\")","v":1351},{"$f":"IF(ISNUMBER(SEARCH('Bilgi Girişi'!$E$4,KalemAdı,1))=TRUE,1,0)","v":1},"Kuru klişecilik teçhizatı","Mal",22520000,null,null,"Kıymetli taşlar üzerine oyma desen mürekkebi"]
[null,null,null,null,null,null,null,1352,22521000,{"$f":"IF(K1356=1,COUNTIF($K$5:K1356,1),\"\")","v":1352},{"$f":"IF(ISNUMBER(SEARCH('Bilgi Girişi'!$E$4,KalemAdı,1))=TRUE,1,0)","v":1},"Süsleme ve şekil verme donanımı","Mal",22521000,null,null,"Çini mürekkebi"]
[null,null,null,null,null,null,null,1353,22600000,{"$f":"IF(K1357=1,COUNTIF($K$5:K1357,1),\"\")","v":1353},{"$f":"IF(ISNUMBER(SEARCH('Bilgi Girişi'!$E$4,KalemAdı,1))=TRUE,1,0)","v":1},"Mürekkep","Mal",22600000,null,null,"Ticari kayıt defterleri, klasörler, dosyalar ve diğer kağıt veya karton kırtasiye"]
[null,null,null,null,null,null,null,1354,22610000,{"$f":"IF(K1358=1,COUNTIF($K$5:K1358,1),\"\")","v":1354},{"$f":"IF(ISNUMBER(SEARCH('Bilgi Girişi'!$E$4,KalemAdı,1))=TRUE,1,0)","v":1},"Matbaa mürekkebi","Mal",22610000,null,null,"Kağıt veya karton kayıt - sicil defterleri"]
[null,null,null,null,null,null,null,1355,22611000,{"$f":"IF(K1359=1,COUNTIF($K$5:K1359,1),\"\")","v":1355},{"$f":"IF(ISNUMBER(SEARCH('Bilgi Girişi'!$E$4,KalemAdı,1))=TRUE,1,0)","v":1},"Kıymetli taşlar üzerine oyma desen mürekkebi","Mal",22611000,null,null,"Muhasebe defterleri"]
[null,null,null,null,null,null,null,1356,22612000,{"$f":"IF(K1360=1,COUNTIF($K$5:K1360,1),\"\")","v":1356},{"$f":"IF(ISNUMBER(SEARCH('Bilgi Girişi'!$E$4,KalemAdı,1))=TRUE,1,0)","v":1},"Çini mürekkebi","Mal",22612000,null,null,"Makbuz defterleri"]
[null,null,null,null,null,null,null,1357,22800000,{"$f":"IF(K1361=1,COUNTIF($K$5:K1361,1),\"\")","v":1357},{"$f":"IF(ISNUMBER(SEARCH('Bilgi Girişi'!$E$4,KalemAdı,1))=TRUE,1,0)","v":1},"Ticari kayıt defterleri, klasörler, dosyalar ve diğer kağıt veya karton kırtasiye","Mal",22800000,null,null,"Yazı defterleri"]
[null,null,null,null,null,null,null,1358,22810000,{"$f":"IF(K1362=1,COUNTIF($K$5:K1362,1),\"\")","v":1358},{"$f":"IF(ISNUMBER(SEARCH('Bilgi Girişi'!$E$4,KalemAdı,1))=TRUE,1,0)","v":1},"Kağıt veya karton kayıt - sicil defterleri","Mal",22810000,null,null,"Bloknotlar"]
[null,null,null,null,null,null,null,1359,22813000,{"$f":"IF(K1363=1,COUNTIF($K$5:K1363,1),\"\")","v":1359},{"$f":"IF(ISNUMBER(SEARCH('Bilgi Girişi'!$E$4,KalemAdı,1))=TRUE,1,0)","v":1},"Muhasebe defterleri","Mal",22813000,null,null,"Not defterleri"]
[null,null,null,null,null,null,null,1360,22814000,{"$f":"IF(K1364=1,COUNTIF($K$5:K1364,1),\"\")","v":1360},{"$f":"IF(ISNUMBER(SEARCH('Bilgi Girişi'!$E$4,KalemAdı,1))=TRUE,1,0)","v":1},"Makbuz defterleri","Mal",22814000,null,null,"Steno notebook"]
[null,null,null,null,null,null,null,1361,22815000,{"$f":"IF(K1365=1,COUNTIF($K$5:K1365,1),\"\")","v":1361},{"$f":"IF(ISNUMBER(SEARCH('Bilgi Girişi'!$E$4,KalemAdı,1))=TRUE,1,0)","v":1},"Yazı defterleri","Mal",22815000,null,null,"Post-itler"]
[null,null,null,null,null,null,null,1362,22816000,{"$f":"IF(K1366=1,COUNTIF($K$5:K1366,1),\"\")","v":1362},{"$f":"IF(ISNUMBER(SEARCH('Bilgi Girişi'!$E$4,KalemAdı,1))=TRUE,1,0)","v":1},"Bloknotlar","Mal",22816000,null,null,"Günlükler veya kişisel organizatörler"]
[null,null,null,null,null,null,null,1363,22816100,{"$f":"IF(K1367=1,COUNTIF($K$5:K1367,1),\"\")","v":1363},{"$f":"IF(ISNUMBER(SEARCH('Bilgi Girişi'!$E$4,KalemAdı,1))=TRUE,1,0)","v":1},"Not defterleri","Mal",22816100,null,null,"Adres defterleri"]
[null,null,null,null,null,null,null,1364,22816200,{"$f":"IF(K1368=1,COUNTIF($K$5:K1368,1),\"\")","v":1364},{"$f":"IF(ISNUMBER(SEARCH('Bilgi Girişi'!$E$4,KalemAdı,1))=TRUE,1,0)","v":1},"Steno notebook","Mal",22816200,null,null,"Form ve belgeler"]
[null,null,null,null,null,null,null,1365,22816300,{"$f":"IF(K1369=1,COUNTIF($K$5:K1369,1),\"\")","v":1365},{"$f":"IF(ISNUMBER(SEARCH('Bilgi Girişi'!$E$4,KalemAdı,1))=TRUE,1,0)","v":1},"Post-itler","Mal",22816300,null,null,"Seçim formları"]
[null,null,null,null,null,null,null,1366,22817000,{"$f":"IF(K1370=1,COUNTIF($K$5:K1370,1),\"\")","v":1366},{"$f":"IF(ISNUMBER(SEARCH('Bilgi Girişi'!$E$4,KalemAdı,1))=TRUE,1,0)","v":1},"Günlükler veya kişisel organizatörler","Mal",22817000,null,null,"İş formları"]
[null,null,null,null,null,null,null,1367,22819000,{"$f":"IF(K1371=1,COUNTIF($K$5:K1371,1),\"\")","v":1367},{"$f":"IF(ISNUMBER(SEARCH('Bilgi Girişi'!$E$4,KalemAdı,1))=TRUE,1,0)","v":1},"Adres defterleri","Mal",22819000,null,null,"Sürekli iş formları"]
[null,null,null,null,null,null,null,1368,22820000,{"$f":"IF(K1372=1,COUNTIF($K$5:K1372,1),\"\")","v":1368},{"$f":"IF(ISNUMBER(SEARCH('Bilgi Girişi'!$E$4,KalemAdı,1))=TRUE,1,0)","v":1},"Form ve belgeler","Mal",22820000,null,null,"Ticari belgeler, iş belgeleri"]
[null,null,null,null,null,null,null,1369,22821000,{"$f":"IF(K1373=1,COUNTIF($K$5:K1373,1),\"\")","v":1369},{"$f":"IF(ISNUMBER(SEARCH('Bilgi Girişi'!$E$4,KalemAdı,1))=TRUE,1,0)","v":1},"Seçim formları","Mal",22821000,null,null,"Alıştırma kitapları"]
[null,null,null,null,null,null,null,1370,22822000,{"$f":"IF(K1374=1,COUNTIF($K$5:K1374,1),\"\")","v":1370},{"$f":"IF(ISNUMBER(SEARCH('Bilgi Girişi'!$E$4,KalemAdı,1))=TRUE,1,0)","v":1},"İş formları","Mal",22822000,null,null,"Okul defterleri için yedekler"]
[null,null,null,null,null,null,null,1371,22822100,{"$f":"IF(K1375=1,COUNTIF($K$5:K1375,1),\"\")","v":1371},{"$f":"IF(ISNUMBER(SEARCH('Bilgi Girişi'!$E$4,KalemAdı,1))=TRUE,1,0)","v":1},"Sürekli iş formları","Mal",22822100,null,null,"Alıştırma kağıtları"]
[null,null,null,null,null,null,null,1372,22822200,{"$f":"IF(K1376=1,COUNTIF($K$5:K1376,1),\"\")","v":1372},{"$f":"IF(ISNUMBER(SEARCH('Bilgi Girişi'!$E$4,KalemAdı,1))=TRUE,1,0)","v":1},"Ticari belgeler, iş belgeleri","Mal",22822200,null,null,"Örnek albümleri"]
[null,null,null,null,null,null,null,1373,22830000,{"$f":"IF(K1377=1,COUNTIF($K$5:K1377,1),\"\")","v":1373},{"$f":"IF(ISNUMBER(SEARCH('Bilgi Girişi'!$E$4,KalemAdı,1))=TRUE,1,0)","v":1},"Alıştırma kitapları","Mal",22830000,null,null,"Kolleksiyon albümleri"]
[null,null,null,null,null,null,null,1374,22831000,{"$f":"IF(K1378=1,COUNTIF($K$5:K1378,1),\"\")","v":1374},{"$f":"IF(ISNUMBER(SEARCH('Bilgi Girişi'!$E$4,KalemAdı,1))=TRUE,1,0)","v":1},"Okul defterleri için yedekler","Mal",22831000,null,null,"Pul defterleri"]
[null,null,null,null,null,null,null,1375,22832000,{"$f":"IF(K1379=1,COUNTIF($K$5:K1379,1),\"\")","v":1375},{"$f":"IF(ISNUMBER(SEARCH('Bilgi Girişi'!$E$4,KalemAdı,1))=TRUE,1,0)","v":1},"Alıştırma kağıtları","Mal",22832000,null,null,"Filateli cilt kapakları"]
[null,null,null,null,null,null,null,1376,22840000,{"$f":"IF(K1380=1,COUNTIF($K$5:K1380,1),\"\")","v":1376},{"$f":"IF(ISNUMBER(SEARCH('Bilgi Girişi'!$E$4,KalemAdı,1))=TRUE,1,0)","v":1},"Örnek albümleri","Mal",22840000,null,null,"Cilt kapakları ve ilgili aksesuarlar"]
[null,null,null,null,null,null,null,1377,22841000,{"$f":"IF(K1381=1,COUNTIF($K$5:K1381,1),\"\")","v":1377},{"$f":"IF(ISNUMBER(SEARCH('Bilgi Girişi'!$E$4,KalemAdı,1))=TRUE,1,0)","v":1},"Kolleksiyon albümleri","Mal",22841000,null,null,"Ciltler"]
[null,null,null,null,null,null,null,1378,22841100,{"$f":"IF(K1382=1,COUNTIF($K$5:K1382,1),\"\")","v":1378},{"$f":"IF(ISNUMBER(SEARCH('Bilgi Girişi'!$E$4,KalemAdı,1))=TRUE,1,0)","v":1},"Pul defterleri","Mal",22841100,null,null,"Evrak muhafaza dosyaları"]
[null,null,null,null,null,null,null,1379,22841200,{"$f":"IF(K1383=1,COUNTIF($K$5:K1383,1),\"\")","v":1379},{"$f":"IF(ISNUMBER(SEARCH('Bilgi Girişi'!$E$4,KalemAdı,1))=TRUE,1,0)","v":1},"Filateli cilt kapakları","Mal",22841200,null,null,"Dosya kapakları"]
[null,null,null,null,null,null,null,1380,22850000,{"$f":"IF(K1384=1,COUNTIF($K$5:K1384,1),\"\")","v":1380},{"$f":"IF(ISNUMBER(SEARCH('Bilgi Girişi'!$E$4,KalemAdı,1))=TRUE,1,0)","v":1},"Cilt kapakları ve ilgili aksesuarlar","Mal",22850000,null,null,"Dosya tutucuları"]
[null,null,null,null,null,null,null,1381,22851000,{"$f":"IF(K1385=1,COUNTIF($K$5:K1385,1),\"\")","v":1381},{"$f":"IF(ISNUMBER(SEARCH('Bilgi Girişi'!$E$4,KalemAdı,1))=TRUE,1,0)","v":1},"Ciltler","Mal",22851000,null,null,"Diğer çeşitli basılı malzemeler"]
[null,null,null,null,null,null,null,1382,22852000,{"$f":"IF(K1386=1,COUNTIF($K$5:K1386,1),\"\")","v":1382},{"$f":"IF(ISNUMBER(SEARCH('Bilgi Girişi'!$E$4,KalemAdı,1))=TRUE,1,0)","v":1},"Evrak muhafaza dosyaları","Mal",22852000,null,null,"Grafik amaçlar için gazete kağıdı, el yapımı kağıt ve diğer kaplanmamış kağıt"]
[null,null,null,null,null,null,null,1383,22852100,{"$f":"IF(K1387=1,COUNTIF($K$5:K1387,1),\"\")","v":1383},{"$f":"IF(ISNUMBER(SEARCH('Bilgi Girişi'!$E$4,KalemAdı,1))=TRUE,1,0)","v":1},"Dosya kapakları","Mal",22852100,null,null,"Gazete kağıdı"]
[null,null,null,null,null,null,null,1384,22853000,{"$f":"IF(K1388=1,COUNTIF($K$5:K1388,1),\"\")","v":1384},{"$f":"IF(ISNUMBER(SEARCH('Bilgi Girişi'!$E$4,KalemAdı,1))=TRUE,1,0)","v":1},"Dosya tutucuları","Mal",22853000,null,null,"Elyapımı kağıt ve karton"]
[null,null,null,null,null,null,null,1385,22900000,{"$f":"IF(K1389=1,COUNTIF($K$5:K1389,1),\"\")","v":1385},{"$f":"IF(ISNUMBER(SEARCH('Bilgi Girişi'!$E$4,KalemAdı,1))=TRUE,1,0)","v":1},"Diğer çeşitli basılı malzemeler","Mal",22900000,null,null,"Işığa ve ısıya duyarlı veya termografik kağıt ve karton"]
[null,null,null,null,null,null,null,1386,22990000,{"$f":"IF(K1390=1,COUNTIF($K$5:K1390,1),\"\")","v":1386},{"$f":"IF(ISNUMBER(SEARCH('Bilgi Girişi'!$E$4,KalemAdı,1))=TRUE,1,0)","v":1},"Grafik amaçlar için gazete kağıdı, el yapımı kağıt ve diğer kaplanmamış kağıt","Mal",22990000,null,null,"Işığa duyarlı kağıt veya karton"]
[null,null,null,null,null,null,null,1387,22991000,{"$f":"IF(K1391=1,COUNTIF($K$5:K1391,1),\"\")","v":1387},{"$f":"IF(ISNUMBER(SEARCH('Bilgi Girişi'!$E$4,KalemAdı,1))=TRUE,1,0)","v":1},"Gazete kağıdı","Mal",22991000,null,null,"Isıya duyarlı kağıt veya kartonlar"]
[null,null,null,null,null,null,null,1388,22992000,{"$f":"IF(K1392=1,COUNTIF($K$5:K1392,1),\"\")","v":1388},{"$f":"IF(ISNUMBER(SEARCH('Bilgi Girişi'!$E$4,KalemAdı,1))=TRUE,1,0)","v":1},"Elyapımı kağıt ve karton","Mal",22992000,null,null,"Termografik kağıt veya kartonlar"]
[null,null,null,null,null,null,null,1389,22993000,{"$f":"IF(K1393=1,COUNTIF($K$5:K1393,1),\"\")","v":1389},{"$f":"IF(ISNUMBER(SEARCH('Bilgi Girişi'!$E$4,KalemAdı,1))=TRUE,1,0)","v":1},"Işığa ve ısıya duyarlı veya termografik kağıt ve karton","Mal",22993000,null,null,"Oluklu kağıt veya kartonlar"]
[null,null,null,null,null,null,null,1390,22993100,{"$f":"IF(K1394=1,COUNTIF($K$5:K1394,1),\"\")","v":1390},{"$f":"IF(ISNUMBER(SEARCH('Bilgi Girişi'!$E$4,KalemAdı,1))=TRUE,1,0)","v":1},"Işığa duyarlı kağıt veya karton","Mal",22993100,null,null,"Kimyasal ürünler"]
[null,null,null,null,null,null,null,1391,22993200,{"$f":"IF(K1395=1,COUNTIF($K$5:K1395,1),\"\")","v":1391},{"$f":"IF(ISNUMBER(SEARCH('Bilgi Girişi'!$E$4,KalemAdı,1))=TRUE,1,0)","v":1},"Isıya duyarlı kağıt veya kartonlar","Mal",22993200,null,null,"Gazlar"]
[null,null,null,null,null,null,null,1392,22993300,{"$f":"IF(K1396=1,COUNTIF($K$5:K1396,1),\"\")","v":1392},{"$f":"IF(ISNUMBER(SEARCH('Bilgi Girişi'!$E$4,KalemAdı,1))=TRUE,1,0)","v":1},"Termografik kağıt veya kartonlar","Mal",22993300,null,null,"Endüstriyel gazlar"]
[null,null,null,null,null,null,null,1393,22993400,{"$f":"IF(K1397=1,COUNTIF($K$5:K1397,1),\"\")","v":1393},{"$f":"IF(ISNUMBER(SEARCH('Bilgi Girişi'!$E$4,KalemAdı,1))=TRUE,1,0)","v":1},"Oluklu kağıt veya kartonlar","Mal",22993400,null,null,"Hidrojen, argon, asalgazlar, azot ve oksijen"]
[null,null,null,null,null,null,null,1394,24000000,{"$f":"IF(K1398=1,COUNTIF($K$5:K1398,1),\"\")","v":1394},{"$f":"IF(ISNUMBER(SEARCH('Bilgi Girişi'!$E$4,KalemAdı,1))=TRUE,1,0)","v":1},"Kimyasal ürünler","Mal",24000000,null,null,"Argon"]
[null,null,null,null,null,null,null,1395,24100000,{"$f":"IF(K1399=1,COUNTIF($K$5:K1399,1),\"\")","v":1395},{"$f":"IF(ISNUMBER(SEARCH('Bilgi Girişi'!$E$4,KalemAdı,1))=TRUE,1,0)","v":1},"Gazlar","Mal",24100000,null,null,"Asal gazlar"]
[null,null,null,null,null,null,null,1396,24110000,{"$f":"IF(K1400=1,COUNTIF($K$5:K1400,1),\"\")","v":1396},{"$f":"IF(ISNUMBER(SEARCH('Bilgi Girişi'!$E$4,KalemAdı,1))=TRUE,1,0)","v":1},"Endüstriyel gazlar","Mal",24110000,null,null,"Helyum"]
[null,null,null,null,null,null,null,1397,24111000,{"$f":"IF(K1401=1,COUNTIF($K$5:K1401,1),\"\")","v":1397},{"$f":"IF(ISNUMBER(SEARCH('Bilgi Girişi'!$E$4,KalemAdı,1))=TRUE,1,0)","v":1},"Hidrojen, argon, asalgazlar, azot ve oksijen","Mal",24111000,null,null,"Neon"]
[null,null,null,null,null,null,null,1398,24111100,{"$f":"IF(K1402=1,COUNTIF($K$5:K1402,1),\"\")","v":1398},{"$f":"IF(ISNUMBER(SEARCH('Bilgi Girişi'!$E$4,KalemAdı,1))=TRUE,1,0)","v":1},"Argon","Mal",24111100,null,null,"Tıbbi gazlar"]
[null,null,null,null,null,null,null,1399,24111200,{"$f":"IF(K1403=1,COUNTIF($K$5:K1403,1),\"\")","v":1399},{"$f":"IF(ISNUMBER(SEARCH('Bilgi Girişi'!$E$4,KalemAdı,1))=TRUE,1,0)","v":1},"Asal gazlar","Mal",24111200,null,null,"Hidrojen"]
[null,null,null,null,null,null,null,1400,24111300,{"$f":"IF(K1404=1,COUNTIF($K$5:K1404,1),\"\")","v":1400},{"$f":"IF(ISNUMBER(SEARCH('Bilgi Girişi'!$E$4,KalemAdı,1))=TRUE,1,0)","v":1},"Helyum","Mal",24111300,null,null,"Azot"]
[null,null,null,null,null,null,null,1401,24111400,{"$f":"IF(K1405=1,COUNTIF($K$5:K1405,1),\"\")","v":1401},{"$f":"IF(ISNUMBER(SEARCH('Bilgi Girişi'!$E$4,KalemAdı,1))=TRUE,1,0)","v":1},"Neon","Mal",24111400,null,null,"Sıvı azot"]
[null,null,null,null,null,null,null,1402,24111500,{"$f":"IF(K1406=1,COUNTIF($K$5:K1406,1),\"\")","v":1402},{"$f":"IF(ISNUMBER(SEARCH('Bilgi Girişi'!$E$4,KalemAdı,1))=TRUE,1,0)","v":1},"Tıbbi gazlar","Mal",24111500,null,null,"Oksijen"]
[null,null,null,null,null,null,null,1403,24111600,{"$f":"IF(K1407=1,COUNTIF($K$5:K1407,1),\"\")","v":1403},{"$f":"IF(ISNUMBER(SEARCH('Bilgi Girişi'!$E$4,KalemAdı,1))=TRUE,1,0)","v":1},"Hidrojen","Mal",24111600,null,null,"İnorganik oksijen bileşikleri"]
[null,null,null,null,null,null,null,1404,24111700,{"$f":"IF(K1408=1,COUNTIF($K$5:K1408,1),\"\")","v":1404},{"$f":"IF(ISNUMBER(SEARCH('Bilgi Girişi'!$E$4,KalemAdı,1))=TRUE,1,0)","v":1},"Azot","Mal",24111700,null,null,"Karbondioksit"]
[null,null,null,null,null,null,null,1405,24111800,{"$f":"IF(K1409=1,COUNTIF($K$5:K1409,1),\"\")","v":1405},{"$f":"IF(ISNUMBER(SEARCH('Bilgi Girişi'!$E$4,KalemAdı,1))=TRUE,1,0)","v":1},"Sıvı azot","Mal",24111800,null,null,"Azot oksitleri"]
[null,null,null,null,null,null,null,1406,24111900,{"$f":"IF(K1410=1,COUNTIF($K$5:K1410,1),\"\")","v":1406},{"$f":"IF(ISNUMBER(SEARCH('Bilgi Girişi'!$E$4,KalemAdı,1))=TRUE,1,0)","v":1},"Oksijen","Mal",24111900,null,null,"İnorganik oksijen gaz bileşikleri"]
[null,null,null,null,null,null,null,1407,24112000,{"$f":"IF(K1411=1,COUNTIF($K$5:K1411,1),\"\")","v":1407},{"$f":"IF(ISNUMBER(SEARCH('Bilgi Girişi'!$E$4,KalemAdı,1))=TRUE,1,0)","v":1},"İnorganik oksijen bileşikleri","Mal",24112000,null,null,"Sıvılaştırılmış ve sıkıştırılmış hava"]
[null,null,null,null,null,null,null,1408,24112100,{"$f":"IF(K1412=1,COUNTIF($K$5:K1412,1),\"\")","v":1408},{"$f":"IF(ISNUMBER(SEARCH('Bilgi Girişi'!$E$4,KalemAdı,1))=TRUE,1,0)","v":1},"Karbondioksit","Mal",24112100,null,null,"Sıvılaştırılmış hava"]
[null,null,null,null,null,null,null,1409,24112200,{"$f":"IF(K1413=1,COUNTIF($K$5:K1413,1),\"\")","v":1409},{"$f":"IF(ISNUMBER(SEARCH('Bilgi Girişi'!$E$4,KalemAdı,1))=TRUE,1,0)","v":1},"Azot oksitleri","Mal",24112200,null,null,"Sıkıştırılmış hava"]
[null,null,null,null,null,null,null,1410,24112300,{"$f":"IF(K1414=1,COUNTIF($K$5:K1414,1),\"\")","v":1410},{"$f":"IF(ISNUMBER(SEARCH('Bilgi Girişi'!$E$4,KalemAdı,1))=TRUE,1,0)","v":1},"İnorganik oksijen gaz bileşikleri","Mal",24112300,null,null,{"$f":"IFERROR(VLOOKUP(ROW($P1414),$J$5:$L$9594,3,FALSE),\"\")","v":"Boyalar ve pigmentler"}]
[null,null,null,null,null,null,null,1411,24113000,{"$f":"IF(K1415=1,COUNTIF($K$5:K1415,1),\"\")","v":1411},{"$f":"IF(ISNUMBER(SEARCH('Bilgi Girişi'!$E$4,KalemAdı,1))=TRUE,1,0)","v":1},"Sıvılaştırılmış ve sıkıştırılmış hava","Mal",24113000,null,null,"Oksit, peroksit ve hidroksitler"]
[null,null,null,null,null,null,null,1412,24113100,{"$f":"IF(K1416=1,COUNTIF($K$5:K1416,1),\"\")","v":1412},{"$f":"IF(ISNUMBER(SEARCH('Bilgi Girişi'!$E$4,KalemAdı,1))=TRUE,1,0)","v":1},"Sıvılaştırılmış hava","Mal",24113100,null,null,"Çinko oksit ve peroksit, titanyum oksit boya ve pigmentler"]
[null,null,null,null,null,null,null,1413,24113200,{"$f":"IF(K1417=1,COUNTIF($K$5:K1417,1),\"\")","v":1413},{"$f":"IF(ISNUMBER(SEARCH('Bilgi Girişi'!$E$4,KalemAdı,1))=TRUE,1,0)","v":1},"Sıkıştırılmış hava","Mal",24113200,null,null,"Çinko oksit"]
[null,null,null,null,null,null,null,1414,24200000,{"$f":"IF(K1418=1,COUNTIF($K$5:K1418,1),\"\")","v":1414},{"$f":"IF(ISNUMBER(SEARCH('Bilgi Girişi'!$E$4,KalemAdı,1))=TRUE,1,0)","v":1},"Boyalar ve pigmentler","Mal",24200000,null,null,"Çinko peroksit"]
[null,null,null,null,null,null,null,1415,24210000,{"$f":"IF(K1419=1,COUNTIF($K$5:K1419,1),\"\")","v":1415},{"$f":"IF(ISNUMBER(SEARCH('Bilgi Girişi'!$E$4,KalemAdı,1))=TRUE,1,0)","v":1},"Oksit, peroksit ve hidroksitler","Mal",24210000,null,null,"Titanyum oksit"]
[null,null,null,null,null,null,null,1416,24211000,{"$f":"IF(K1420=1,COUNTIF($K$5:K1420,1),\"\")","v":1416},{"$f":"IF(ISNUMBER(SEARCH('Bilgi Girişi'!$E$4,KalemAdı,1))=TRUE,1,0)","v":1},"Çinko oksit ve peroksit, titanyum oksit boya ve pigmentler","Mal",24211000,null,null,"Krom, manganez, magnezyum, kurşun ve bakır oksit ve hidroksitleri"]
[null,null,null,null,null,null,null,1417,24211100,{"$f":"IF(K1421=1,COUNTIF($K$5:K1421,1),\"\")","v":1417},{"$f":"IF(ISNUMBER(SEARCH('Bilgi Girişi'!$E$4,KalemAdı,1))=TRUE,1,0)","v":1},"Çinko oksit","Mal",24211100,null,null,"Krom oksit"]
[null,null,null,null,null,null,null,1418,24211200,{"$f":"IF(K1422=1,COUNTIF($K$5:K1422,1),\"\")","v":1418},{"$f":"IF(ISNUMBER(SEARCH('Bilgi Girişi'!$E$4,KalemAdı,1))=TRUE,1,0)","v":1},"Çinko peroksit","Mal",24211200,null,null,"Manganez oksit"]
[null,null,null,null,null,null,null,1419,24211300,{"$f":"IF(K1423=1,COUNTIF($K$5:K1423,1),\"\")","v":1419},{"$f":"IF(ISNUMBER(SEARCH('Bilgi Girişi'!$E$4,KalemAdı,1))=TRUE,1,0)","v":1},"Titanyum oksit","Mal",24211300,null,null,"Kurşun oksit"]
[null,null,null,null,null,null,null,1420,24212000,{"$f":"IF(K1424=1,COUNTIF($K$5:K1424,1),\"\")","v":1420},{"$f":"IF(ISNUMBER(SEARCH('Bilgi Girişi'!$E$4,KalemAdı,1))=TRUE,1,0)","v":1},"Krom, manganez, magnezyum, kurşun ve bakır oksit ve hidroksitleri","Mal",24212000,null,null,"Bakır oksit"]
[null,null,null,null,null,null,null,1421,24212100,{"$f":"IF(K1425=1,COUNTIF($K$5:K1425,1),\"\")","v":1421},{"$f":"IF(ISNUMBER(SEARCH('Bilgi Girişi'!$E$4,KalemAdı,1))=TRUE,1,0)","v":1},"Krom oksit","Mal",24212100,null,null,"Mağnezyum oksit"]
[null,null,null,null,null,null,null,1422,24212200,{"$f":"IF(K1426=1,COUNTIF($K$5:K1426,1),\"\")","v":1422},{"$f":"IF(ISNUMBER(SEARCH('Bilgi Girişi'!$E$4,KalemAdı,1))=TRUE,1,0)","v":1},"Manganez oksit","Mal",24212200,null,null,"Boya ve pigmentler için hidroksitler"]
[null,null,null,null,null,null,null,1423,24212300,{"$f":"IF(K1427=1,COUNTIF($K$5:K1427,1),\"\")","v":1423},{"$f":"IF(ISNUMBER(SEARCH('Bilgi Girişi'!$E$4,KalemAdı,1))=TRUE,1,0)","v":1},"Kurşun oksit","Mal",24212300,null,null,"Krom hidroksit"]
[null,null,null,null,null,null,null,1424,24212400,{"$f":"IF(K1428=1,COUNTIF($K$5:K1428,1),\"\")","v":1424},{"$f":"IF(ISNUMBER(SEARCH('Bilgi Girişi'!$E$4,KalemAdı,1))=TRUE,1,0)","v":1},"Bakır oksit","Mal",24212400,null,null,"Manganez hidroksit"]
[null,null,null,null,null,null,null,1425,24212500,{"$f":"IF(K1429=1,COUNTIF($K$5:K1429,1),\"\")","v":1425},{"$f":"IF(ISNUMBER(SEARCH('Bilgi Girişi'!$E$4,KalemAdı,1))=TRUE,1,0)","v":1},"Mağnezyum oksit","Mal",24212500,null,null,"Kurşun hidroksit"]
[null,null,null,null,null,null,null,1426,24212600,{"$f":"IF(K1430=1,COUNTIF($K$5:K1430,1),\"\")","v":1426},{"$f":"IF(ISNUMBER(SEARCH('Bilgi Girişi'!$E$4,KalemAdı,1))=TRUE,1,0)","v":1},"Boya ve pigmentler için hidroksitler","Mal",24212600,null,null,"Bakır hidroksit"]
[null,null,null,null,null,null,null,1427,24212610,{"$f":"IF(K1431=1,COUNTIF($K$5:K1431,1),\"\")","v":1427},{"$f":"IF(ISNUMBER(SEARCH('Bilgi Girişi'!$E$4,KalemAdı,1))=TRUE,1,0)","v":1},"Krom hidroksit","Mal",24212610,null,null,"Magnezyum hidroksit"]
[null,null,null,null,null,null,null,1428,24212620,{"$f":"IF(K1432=1,COUNTIF($K$5:K1432,1),\"\")","v":1428},{"$f":"IF(ISNUMBER(SEARCH('Bilgi Girişi'!$E$4,KalemAdı,1))=TRUE,1,0)","v":1},"Manganez hidroksit","Mal",24212620,null,null,"Sönmüş kireç"]
[null,null,null,null,null,null,null,1429,24212630,{"$f":"IF(K1433=1,COUNTIF($K$5:K1433,1),\"\")","v":1429},{"$f":"IF(ISNUMBER(SEARCH('Bilgi Girişi'!$E$4,KalemAdı,1))=TRUE,1,0)","v":1},"Kurşun hidroksit","Mal",24212630,null,null,"Tabaklama ve boyama ektraktları, tabaklayıcı ve boyayıcı maddeler"]
[null,null,null,null,null,null,null,1430,24212640,{"$f":"IF(K1434=1,COUNTIF($K$5:K1434,1),\"\")","v":1430},{"$f":"IF(ISNUMBER(SEARCH('Bilgi Girişi'!$E$4,KalemAdı,1))=TRUE,1,0)","v":1},"Bakır hidroksit","Mal",24212640,null,null,"Boyama ektraktları"]
[null,null,null,null,null,null,null,1431,24212650,{"$f":"IF(K1435=1,COUNTIF($K$5:K1435,1),\"\")","v":1431},{"$f":"IF(ISNUMBER(SEARCH('Bilgi Girişi'!$E$4,KalemAdı,1))=TRUE,1,0)","v":1},"Magnezyum hidroksit","Mal",24212650,null,null,"Tabaklama ektraktları"]
[null,null,null,null,null,null,null,1432,24213000,{"$f":"IF(K1436=1,COUNTIF($K$5:K1436,1),\"\")","v":1432},{"$f":"IF(ISNUMBER(SEARCH('Bilgi Girişi'!$E$4,KalemAdı,1))=TRUE,1,0)","v":1},"Sönmüş kireç","Mal",24213000,null,null,"Tanenler"]
[null,null,null,null,null,null,null,1433,24220000,{"$f":"IF(K1437=1,COUNTIF($K$5:K1437,1),\"\")","v":1433},{"$f":"IF(ISNUMBER(SEARCH('Bilgi Girişi'!$E$4,KalemAdı,1))=TRUE,1,0)","v":1},"Tabaklama ve boyama ektraktları, tabaklayıcı ve boyayıcı maddeler","Mal",24220000,null,null,"Boyayıcı maddeler"]
[null,null,null,null,null,null,null,1434,24221000,{"$f":"IF(K1438=1,COUNTIF($K$5:K1438,1),\"\")","v":1434},{"$f":"IF(ISNUMBER(SEARCH('Bilgi Girişi'!$E$4,KalemAdı,1))=TRUE,1,0)","v":1},"Boyama ektraktları","Mal",24221000,null,null,"Tabaklama müstahzarları"]
[null,null,null,null,null,null,null,1435,24222000,{"$f":"IF(K1439=1,COUNTIF($K$5:K1439,1),\"\")","v":1435},{"$f":"IF(ISNUMBER(SEARCH('Bilgi Girişi'!$E$4,KalemAdı,1))=TRUE,1,0)","v":1},"Tabaklama ektraktları","Mal",24222000,null,null,"Temel inorganik ve organik kimyasal maddeler"]
[null,null,null,null,null,null,null,1436,24223000,{"$f":"IF(K1440=1,COUNTIF($K$5:K1440,1),\"\")","v":1436},{"$f":"IF(ISNUMBER(SEARCH('Bilgi Girişi'!$E$4,KalemAdı,1))=TRUE,1,0)","v":1},"Tanenler","Mal",24223000,null,null,"Temel inorganik kimyasal maddeler"]
[null,null,null,null,null,null,null,1437,24224000,{"$f":"IF(K1441=1,COUNTIF($K$5:K1441,1),\"\")","v":1437},{"$f":"IF(ISNUMBER(SEARCH('Bilgi Girişi'!$E$4,KalemAdı,1))=TRUE,1,0)","v":1},"Boyayıcı maddeler","Mal",24224000,null,null,"Kimyasal elementler, inorganik asit ve karışımlar"]
[null,null,null,null,null,null,null,1438,24225000,{"$f":"IF(K1442=1,COUNTIF($K$5:K1442,1),\"\")","v":1438},{"$f":"IF(ISNUMBER(SEARCH('Bilgi Girişi'!$E$4,KalemAdı,1))=TRUE,1,0)","v":1},"Tabaklama müstahzarları","Mal",24225000,null,null,"Ametalsiler, metaloitler"]
[null,null,null,null,null,null,null,1439,24300000,{"$f":"IF(K1443=1,COUNTIF($K$5:K1443,1),\"\")","v":1439},{"$f":"IF(ISNUMBER(SEARCH('Bilgi Girişi'!$E$4,KalemAdı,1))=TRUE,1,0)","v":1},"Temel inorganik ve organik kimyasal maddeler","Mal",24300000,null,null,"Fosfitler"]
[null,null,null,null,null,null,null,1440,24310000,{"$f":"IF(K1444=1,COUNTIF($K$5:K1444,1),\"\")","v":1440},{"$f":"IF(ISNUMBER(SEARCH('Bilgi Girişi'!$E$4,KalemAdı,1))=TRUE,1,0)","v":1},"Temel inorganik kimyasal maddeler","Mal",24310000,null,null,"Karbitler"]
[null,null,null,null,null,null,null,1441,24311000,{"$f":"IF(K1445=1,COUNTIF($K$5:K1445,1),\"\")","v":1441},{"$f":"IF(ISNUMBER(SEARCH('Bilgi Girişi'!$E$4,KalemAdı,1))=TRUE,1,0)","v":1},"Kimyasal elementler, inorganik asit ve karışımlar","Mal",24311000,null,null,"Hidritler"]
[null,null,null,null,null,null,null,1442,24311100,{"$f":"IF(K1446=1,COUNTIF($K$5:K1446,1),\"\")","v":1442},{"$f":"IF(ISNUMBER(SEARCH('Bilgi Girişi'!$E$4,KalemAdı,1))=TRUE,1,0)","v":1},"Ametalsiler, metaloitler","Mal",24311100,null,null,"Nitritler"]
[null,null,null,null,null,null,null,1443,24311110,{"$f":"IF(K1447=1,COUNTIF($K$5:K1447,1),\"\")","v":1443},{"$f":"IF(ISNUMBER(SEARCH('Bilgi Girişi'!$E$4,KalemAdı,1))=TRUE,1,0)","v":1},"Fosfitler","Mal",24311110,null,null,"Azitler"]
[null,null,null,null,null,null,null,1444,24311120,{"$f":"IF(K1448=1,COUNTIF($K$5:K1448,1),\"\")","v":1444},{"$f":"IF(ISNUMBER(SEARCH('Bilgi Girişi'!$E$4,KalemAdı,1))=TRUE,1,0)","v":1},"Karbitler","Mal",24311120,null,null,"Silisitler"]
[null,null,null,null,null,null,null,1445,24311130,{"$f":"IF(K1449=1,COUNTIF($K$5:K1449,1),\"\")","v":1445},{"$f":"IF(ISNUMBER(SEARCH('Bilgi Girişi'!$E$4,KalemAdı,1))=TRUE,1,0)","v":1},"Hidritler","Mal",24311130,null,null,"Tooritler"]
[null,null,null,null,null,null,null,1446,24311140,{"$f":"IF(K1450=1,COUNTIF($K$5:K1450,1),\"\")","v":1446},{"$f":"IF(ISNUMBER(SEARCH('Bilgi Girişi'!$E$4,KalemAdı,1))=TRUE,1,0)","v":1},"Nitritler","Mal",24311140,null,null,"Rafine sülfür"]
[null,null,null,null,null,null,null,1447,24311150,{"$f":"IF(K1451=1,COUNTIF($K$5:K1451,1),\"\")","v":1447},{"$f":"IF(ISNUMBER(SEARCH('Bilgi Girişi'!$E$4,KalemAdı,1))=TRUE,1,0)","v":1},"Azitler","Mal",24311150,null,null,"Halojen"]
[null,null,null,null,null,null,null,1448,24311160,{"$f":"IF(K1452=1,COUNTIF($K$5:K1452,1),\"\")","v":1448},{"$f":"IF(ISNUMBER(SEARCH('Bilgi Girişi'!$E$4,KalemAdı,1))=TRUE,1,0)","v":1},"Silisitler","Mal",24311160,null,null,"Alkali metaller"]
[null,null,null,null,null,null,null,1449,24311170,{"$f":"IF(K1453=1,COUNTIF($K$5:K1453,1),\"\")","v":1449},{"$f":"IF(ISNUMBER(SEARCH('Bilgi Girişi'!$E$4,KalemAdı,1))=TRUE,1,0)","v":1},"Tooritler","Mal",24311170,null,null,"Civa"]
[null,null,null,null,null,null,null,1450,24311180,{"$f":"IF(K1454=1,COUNTIF($K$5:K1454,1),\"\")","v":1450},{"$f":"IF(ISNUMBER(SEARCH('Bilgi Girişi'!$E$4,KalemAdı,1))=TRUE,1,0)","v":1},"Rafine sülfür","Mal",24311180,null,null,"Hidrojen klorit, inorganik asitler, silikon dioksit ve sülfür dioksit"]
[null,null,null,null,null,null,null,1451,24311200,{"$f":"IF(K1455=1,COUNTIF($K$5:K1455,1),\"\")","v":1451},{"$f":"IF(ISNUMBER(SEARCH('Bilgi Girişi'!$E$4,KalemAdı,1))=TRUE,1,0)","v":1},"Halojen","Mal",24311200,null,null,"İnorganik asitler"]
[null,null,null,null,null,null,null,1452,24311300,{"$f":"IF(K1456=1,COUNTIF($K$5:K1456,1),\"\")","v":1452},{"$f":"IF(ISNUMBER(SEARCH('Bilgi Girişi'!$E$4,KalemAdı,1))=TRUE,1,0)","v":1},"Alkali metaller","Mal",24311300,null,null,"Sülfürik asit"]
[null,null,null,null,null,null,null,1453,24311310,{"$f":"IF(K1457=1,COUNTIF($K$5:K1457,1),\"\")","v":1453},{"$f":"IF(ISNUMBER(SEARCH('Bilgi Girişi'!$E$4,KalemAdı,1))=TRUE,1,0)","v":1},"Civa","Mal",24311310,null,null,"Fosforik asit"]
[null,null,null,null,null,null,null,1454,24311400,{"$f":"IF(K1458=1,COUNTIF($K$5:K1458,1),\"\")","v":1454},{"$f":"IF(ISNUMBER(SEARCH('Bilgi Girişi'!$E$4,KalemAdı,1))=TRUE,1,0)","v":1},"Hidrojen klorit, inorganik asitler, silikon dioksit ve sülfür dioksit","Mal",24311400,null,null,"Polifosforik asit"]
[null,null,null,null,null,null,null,1455,24311410,{"$f":"IF(K1459=1,COUNTIF($K$5:K1459,1),\"\")","v":1455},{"$f":"IF(ISNUMBER(SEARCH('Bilgi Girişi'!$E$4,KalemAdı,1))=TRUE,1,0)","v":1},"İnorganik asitler","Mal",24311410,null,null,"Hekzaflorosilisik asit"]
[null,null,null,null,null,null,null,1456,24311411,{"$f":"IF(K1460=1,COUNTIF($K$5:K1460,1),\"\")","v":1456},{"$f":"IF(ISNUMBER(SEARCH('Bilgi Girişi'!$E$4,KalemAdı,1))=TRUE,1,0)","v":1},"Sülfürik asit","Mal",24311411,null,null,"Sülfür dioksit"]
[null,null,null,null,null,null,null,1457,24311420,{"$f":"IF(K1461=1,COUNTIF($K$5:K1461,1),\"\")","v":1457},{"$f":"IF(ISNUMBER(SEARCH('Bilgi Girişi'!$E$4,KalemAdı,1))=TRUE,1,0)","v":1},"Fosforik asit","Mal",24311420,null,null,"Silikon dioksit"]
[null,null,null,null,null,null,null,1458,24311430,{"$f":"IF(K1462=1,COUNTIF($K$5:K1462,1),\"\")","v":1458},{"$f":"IF(ISNUMBER(SEARCH('Bilgi Girişi'!$E$4,KalemAdı,1))=TRUE,1,0)","v":1},"Polifosforik asit","Mal",24311430,null,null,"Hidrojen klorit"]
[null,null,null,null,null,null,null,1459,24311440,{"$f":"IF(K1463=1,COUNTIF($K$5:K1463,1),\"\")","v":1459},{"$f":"IF(ISNUMBER(SEARCH('Bilgi Girişi'!$E$4,KalemAdı,1))=TRUE,1,0)","v":1},"Hekzaflorosilisik asit","Mal",24311440,null,null,"Temel inorganik kimyasal madde olarak hidroksitler"]
[null,null,null,null,null,null,null,1460,24311450,{"$f":"IF(K1464=1,COUNTIF($K$5:K1464,1),\"\")","v":1460},{"$f":"IF(ISNUMBER(SEARCH('Bilgi Girişi'!$E$4,KalemAdı,1))=TRUE,1,0)","v":1},"Sülfür dioksit","Mal",24311450,null,null,"Metal oksitler"]
[null,null,null,null,null,null,null,1461,24311460,{"$f":"IF(K1465=1,COUNTIF($K$5:K1465,1),\"\")","v":1461},{"$f":"IF(ISNUMBER(SEARCH('Bilgi Girişi'!$E$4,KalemAdı,1))=TRUE,1,0)","v":1},"Silikon dioksit","Mal",24311460,null,null,"Demir piritleri ve demir oksitleri"]
[null,null,null,null,null,null,null,1462,24311470,{"$f":"IF(K1466=1,COUNTIF($K$5:K1466,1),\"\")","v":1462},{"$f":"IF(ISNUMBER(SEARCH('Bilgi Girişi'!$E$4,KalemAdı,1))=TRUE,1,0)","v":1},"Hidrojen klorit","Mal",24311470,null,null,"Sodyum hidroksit"]
[null,null,null,null,null,null,null,1463,24311500,{"$f":"IF(K1467=1,COUNTIF($K$5:K1467,1),\"\")","v":1463},{"$f":"IF(ISNUMBER(SEARCH('Bilgi Girişi'!$E$4,KalemAdı,1))=TRUE,1,0)","v":1},"Temel inorganik kimyasal madde olarak hidroksitler","Mal",24311500,null,null,"Kostik soda"]
[null,null,null,null,null,null,null,1464,24311510,{"$f":"IF(K1468=1,COUNTIF($K$5:K1468,1),\"\")","v":1464},{"$f":"IF(ISNUMBER(SEARCH('Bilgi Girişi'!$E$4,KalemAdı,1))=TRUE,1,0)","v":1},"Metal oksitler","Mal",24311510,null,null,"Likit-sıvı soda"]
[null,null,null,null,null,null,null,1465,24311511,{"$f":"IF(K1469=1,COUNTIF($K$5:K1469,1),\"\")","v":1465},{"$f":"IF(ISNUMBER(SEARCH('Bilgi Girişi'!$E$4,KalemAdı,1))=TRUE,1,0)","v":1},"Demir piritleri ve demir oksitleri","Mal",24311511,null,null,"Sülfür bileşikleri"]
[null,null,null,null,null,null,null,1466,24311520,{"$f":"IF(K1470=1,COUNTIF($K$5:K1470,1),\"\")","v":1466},{"$f":"IF(ISNUMBER(SEARCH('Bilgi Girişi'!$E$4,KalemAdı,1))=TRUE,1,0)","v":1},"Sodyum hidroksit","Mal",24311520,null,null,"Sülfür"]
[null,null,null,null,null,null,null,1467,24311521,{"$f":"IF(K1471=1,COUNTIF($K$5:K1471,1),\"\")","v":1467},{"$f":"IF(ISNUMBER(SEARCH('Bilgi Girişi'!$E$4,KalemAdı,1))=TRUE,1,0)","v":1},"Kostik soda","Mal",24311521,null,null,"Karbon"]
[null,null,null,null,null,null,null,1468,24311522,{"$f":"IF(K1472=1,COUNTIF($K$5:K1472,1),\"\")","v":1468},{"$f":"IF(ISNUMBER(SEARCH('Bilgi Girişi'!$E$4,KalemAdı,1))=TRUE,1,0)","v":1},"Likit-sıvı soda","Mal",24311522,null,null,"Klorin"]
[null,null,null,null,null,null,null,1469,24311600,{"$f":"IF(K1473=1,COUNTIF($K$5:K1473,1),\"\")","v":1469},{"$f":"IF(ISNUMBER(SEARCH('Bilgi Girişi'!$E$4,KalemAdı,1))=TRUE,1,0)","v":1},"Sülfür bileşikleri","Mal",24311600,null,null,"Metalik halojenler, hipokloritler, kloratlar ve perkloratlar"]
[null,null,null,null,null,null,null,1470,24311700,{"$f":"IF(K1474=1,COUNTIF($K$5:K1474,1),\"\")","v":1470},{"$f":"IF(ISNUMBER(SEARCH('Bilgi Girişi'!$E$4,KalemAdı,1))=TRUE,1,0)","v":1},"Sülfür","Mal",24311700,null,null,"Metalik halojenler"]
[null,null,null,null,null,null,null,1471,24311800,{"$f":"IF(K1475=1,COUNTIF($K$5:K1475,1),\"\")","v":1471},{"$f":"IF(ISNUMBER(SEARCH('Bilgi Girişi'!$E$4,KalemAdı,1))=TRUE,1,0)","v":1},"Karbon","Mal",24311800,null,null,"Sodyum hekzaflorosilikat"]
[null,null,null,null,null,null,null,1472,24311900,{"$f":"IF(K1476=1,COUNTIF($K$5:K1476,1),\"\")","v":1472},{"$f":"IF(ISNUMBER(SEARCH('Bilgi Girişi'!$E$4,KalemAdı,1))=TRUE,1,0)","v":1},"Klorin","Mal",24311900,null,null,"Kloritler"]
[null,null,null,null,null,null,null,1473,24312000,{"$f":"IF(K1477=1,COUNTIF($K$5:K1477,1),\"\")","v":1473},{"$f":"IF(ISNUMBER(SEARCH('Bilgi Girişi'!$E$4,KalemAdı,1))=TRUE,1,0)","v":1},"Metalik halojenler, hipokloritler, kloratlar ve perkloratlar","Mal",24312000,null,null,"Alüminyum klorit"]
[null,null,null,null,null,null,null,1474,24312100,{"$f":"IF(K1478=1,COUNTIF($K$5:K1478,1),\"\")","v":1474},{"$f":"IF(ISNUMBER(SEARCH('Bilgi Girişi'!$E$4,KalemAdı,1))=TRUE,1,0)","v":1},"Metalik halojenler","Mal",24312100,null,null,{"$f":"IFERROR(VLOOKUP(ROW($P1478),$J$5:$L$9594,3,FALSE),\"\")","v":"Demir klorit"}]
[null,null,null,null,null,null,null,1475,24312110,{"$f":"IF(K1479=1,COUNTIF($K$5:K1479,1),\"\")","v":1475},{"$f":"IF(ISNUMBER(SEARCH('Bilgi Girişi'!$E$4,KalemAdı,1))=TRUE,1,0)","v":1},"Sodyum hekzaflorosilikat","Mal",24312110,null,null,"Polialüminyum klorit"]
[null,null,null,null,null,null,null,1476,24312120,{"$f":"IF(K1480=1,COUNTIF($K$5:K1480,1),\"\")","v":1476},{"$f":"IF(ISNUMBER(SEARCH('Bilgi Girişi'!$E$4,KalemAdı,1))=TRUE,1,0)","v":1},"Kloritler","Mal",24312120,null,null,"Alüminyum klorohidrat"]
[null,null,null,null,null,null,null,1477,24312121,{"$f":"IF(K1481=1,COUNTIF($K$5:K1481,1),\"\")","v":1477},{"$f":"IF(ISNUMBER(SEARCH('Bilgi Girişi'!$E$4,KalemAdı,1))=TRUE,1,0)","v":1},"Alüminyum klorit","Mal",24312121,null,null,"Hipokloritler ve klorotlar"]
[null,null,null,null,null,null,null,1478,24312122,{"$f":"IF(K1482=1,COUNTIF($K$5:K1482,1),\"\")","v":1478},{"$f":"IF(ISNUMBER(SEARCH('Bilgi Girişi'!$E$4,KalemAdı,1))=TRUE,1,0)","v":1},"Demir klorit","Mal",24312122,null,null,"Sodyum klorit"]
[null,null,null,null,null,null,null,1479,24312123,{"$f":"IF(K1483=1,COUNTIF($K$5:K1483,1),\"\")","v":1479},{"$f":"IF(ISNUMBER(SEARCH('Bilgi Girişi'!$E$4,KalemAdı,1))=TRUE,1,0)","v":1},"Polialüminyum klorit","Mal",24312123,null,null,"Sodyum hipoklorit"]
[null,null,null,null,null,null,null,1480,24312130,{"$f":"IF(K1484=1,COUNTIF($K$5:K1484,1),\"\")","v":1480},{"$f":"IF(ISNUMBER(SEARCH('Bilgi Girişi'!$E$4,KalemAdı,1))=TRUE,1,0)","v":1},"Alüminyum klorohidrat","Mal",24312130,null,null,"Sülfitler, sülfatlar, nitratlar, fosfatlar ve karbonatlar"]
[null,null,null,null,null,null,null,1481,24312200,{"$f":"IF(K1485=1,COUNTIF($K$5:K1485,1),\"\")","v":1481},{"$f":"IF(ISNUMBER(SEARCH('Bilgi Girişi'!$E$4,KalemAdı,1))=TRUE,1,0)","v":1},"Hipokloritler ve klorotlar","Mal",24312200,null,null,"Sülfidler, sülfitler ve sülfatlar"]
[null,null,null,null,null,null,null,1482,24312210,{"$f":"IF(K1486=1,COUNTIF($K$5:K1486,1),\"\")","v":1482},{"$f":"IF(ISNUMBER(SEARCH('Bilgi Girişi'!$E$4,KalemAdı,1))=TRUE,1,0)","v":1},"Sodyum klorit","Mal",24312210,null,null,"Diğer çeşitli sülfitler"]
[null,null,null,null,null,null,null,1483,24312220,{"$f":"IF(K1487=1,COUNTIF($K$5:K1487,1),\"\")","v":1483},{"$f":"IF(ISNUMBER(SEARCH('Bilgi Girişi'!$E$4,KalemAdı,1))=TRUE,1,0)","v":1},"Sodyum hipoklorit","Mal",24312220,null,null,"Hidrojen sülfit"]
[null,null,null,null,null,null,null,1484,24313000,{"$f":"IF(K1488=1,COUNTIF($K$5:K1488,1),\"\")","v":1484},{"$f":"IF(ISNUMBER(SEARCH('Bilgi Girişi'!$E$4,KalemAdı,1))=TRUE,1,0)","v":1},"Sülfitler, sülfatlar, nitratlar, fosfatlar ve karbonatlar","Mal",24313000,null,null,"Polisülfitler"]
[null,null,null,null,null,null,null,1485,24313100,{"$f":"IF(K1489=1,COUNTIF($K$5:K1489,1),\"\")","v":1485},{"$f":"IF(ISNUMBER(SEARCH('Bilgi Girişi'!$E$4,KalemAdı,1))=TRUE,1,0)","v":1},"Sülfidler, sülfitler ve sülfatlar","Mal",24313100,null,null,"Sülfatlar"]
[null,null,null,null,null,null,null,1486,24313110,{"$f":"IF(K1490=1,COUNTIF($K$5:K1490,1),\"\")","v":1486},{"$f":"IF(ISNUMBER(SEARCH('Bilgi Girişi'!$E$4,KalemAdı,1))=TRUE,1,0)","v":1},"Diğer çeşitli sülfitler","Mal",24313110,null,null,"Sodyum tiyosülfat"]
[null,null,null,null,null,null,null,1487,24313111,{"$f":"IF(K1491=1,COUNTIF($K$5:K1491,1),\"\")","v":1487},{"$f":"IF(ISNUMBER(SEARCH('Bilgi Girişi'!$E$4,KalemAdı,1))=TRUE,1,0)","v":1},"Hidrojen sülfit","Mal",24313111,null,null,"Demir sülfat"]
[null,null,null,null,null,null,null,1488,24313112,{"$f":"IF(K1492=1,COUNTIF($K$5:K1492,1),\"\")","v":1488},{"$f":"IF(ISNUMBER(SEARCH('Bilgi Girişi'!$E$4,KalemAdı,1))=TRUE,1,0)","v":1},"Polisülfitler","Mal",24313112,null,null,"Alüminyum sülfatları"]
[null,null,null,null,null,null,null,1489,24313120,{"$f":"IF(K1493=1,COUNTIF($K$5:K1493,1),\"\")","v":1489},{"$f":"IF(ISNUMBER(SEARCH('Bilgi Girişi'!$E$4,KalemAdı,1))=TRUE,1,0)","v":1},"Sülfatlar","Mal",24313120,null,null,"Sodyum sülfat"]
[null,null,null,null,null,null,null,1490,24313121,{"$f":"IF(K1494=1,COUNTIF($K$5:K1494,1),\"\")","v":1490},{"$f":"IF(ISNUMBER(SEARCH('Bilgi Girişi'!$E$4,KalemAdı,1))=TRUE,1,0)","v":1},"Sodyum tiyosülfat","Mal",24313121,null,null,"Demir sülfat"]
[null,null,null,null,null,null,null,1491,24313122,{"$f":"IF(K1495=1,COUNTIF($K$5:K1495,1),\"\")","v":1491},{"$f":"IF(ISNUMBER(SEARCH('Bilgi Girişi'!$E$4,KalemAdı,1))=TRUE,1,0)","v":1},"Demir sülfat","Mal",24313122,null,null,"Bakır sülfat"]
[null,null,null,null,null,null,null,1492,24313123,{"$f":"IF(K1496=1,COUNTIF($K$5:K1496,1),\"\")","v":1492},{"$f":"IF(ISNUMBER(SEARCH('Bilgi Girişi'!$E$4,KalemAdı,1))=TRUE,1,0)","v":1},"Alüminyum sülfatları","Mal",24313123,null,null,"Fosfinatlar, fosfonatlar, fosfatlar ve polifosfatlar"]
[null,null,null,null,null,null,null,1493,24313124,{"$f":"IF(K1497=1,COUNTIF($K$5:K1497,1),\"\")","v":1493},{"$f":"IF(ISNUMBER(SEARCH('Bilgi Girişi'!$E$4,KalemAdı,1))=TRUE,1,0)","v":1},"Sodyum sülfat","Mal",24313124,null,null,"Sodyum hekzametafosfat"]
[null,null,null,null,null,null,null,1494,24313125,{"$f":"IF(K1498=1,COUNTIF($K$5:K1498,1),\"\")","v":1494},{"$f":"IF(ISNUMBER(SEARCH('Bilgi Girişi'!$E$4,KalemAdı,1))=TRUE,1,0)","v":1},"Demir sülfat","Mal",24313125,null,null,"Fosfatlar"]
[null,null,null,null,null,null,null,1495,24313126,{"$f":"IF(K1499=1,COUNTIF($K$5:K1499,1),\"\")","v":1495},{"$f":"IF(ISNUMBER(SEARCH('Bilgi Girişi'!$E$4,KalemAdı,1))=TRUE,1,0)","v":1},"Bakır sülfat","Mal",24313126,null,null,"Karbonatlar"]
[null,null,null,null,null,null,null,1496,24313200,{"$f":"IF(K1500=1,COUNTIF($K$5:K1500,1),\"\")","v":1496},{"$f":"IF(ISNUMBER(SEARCH('Bilgi Girişi'!$E$4,KalemAdı,1))=TRUE,1,0)","v":1},"Fosfinatlar, fosfonatlar, fosfatlar ve polifosfatlar","Mal",24313200,null,null,"Sodyum karbonat"]
[null,null,null,null,null,null,null,1497,24313210,{"$f":"IF(K1501=1,COUNTIF($K$5:K1501,1),\"\")","v":1497},{"$f":"IF(ISNUMBER(SEARCH('Bilgi Girişi'!$E$4,KalemAdı,1))=TRUE,1,0)","v":1},"Sodyum hekzametafosfat","Mal",24313210,null,null,"Sodyum bikarbonat"]
[null,null,null,null,null,null,null,1498,24313220,{"$f":"IF(K1502=1,COUNTIF($K$5:K1502,1),\"\")","v":1498},{"$f":"IF(ISNUMBER(SEARCH('Bilgi Girişi'!$E$4,KalemAdı,1))=TRUE,1,0)","v":1},"Fosfatlar","Mal",24313220,null,null,"Nitratlar"]
[null,null,null,null,null,null,null,1499,24313300,{"$f":"IF(K1503=1,COUNTIF($K$5:K1503,1),\"\")","v":1499},{"$f":"IF(ISNUMBER(SEARCH('Bilgi Girişi'!$E$4,KalemAdı,1))=TRUE,1,0)","v":1},"Karbonatlar","Mal",24313300,null,null,"Diğer çeşitli metal asit tuzları"]
[null,null,null,null,null,null,null,1500,24313310,{"$f":"IF(K1504=1,COUNTIF($K$5:K1504,1),\"\")","v":1500},{"$f":"IF(ISNUMBER(SEARCH('Bilgi Girişi'!$E$4,KalemAdı,1))=TRUE,1,0)","v":1},"Sodyum karbonat","Mal",24313310,null,null,"Potasyum permanganat"]
[null,null,null,null,null,null,null,1501,24313320,{"$f":"IF(K1505=1,COUNTIF($K$5:K1505,1),\"\")","v":1501},{"$f":"IF(ISNUMBER(SEARCH('Bilgi Girişi'!$E$4,KalemAdı,1))=TRUE,1,0)","v":1},"Sodyum bikarbonat","Mal",24313320,null,null,"Oksometalik asit tuzları"]
[null,null,null,null,null,null,null,1502,24313400,{"$f":"IF(K1506=1,COUNTIF($K$5:K1506,1),\"\")","v":1502},{"$f":"IF(ISNUMBER(SEARCH('Bilgi Girişi'!$E$4,KalemAdı,1))=TRUE,1,0)","v":1},"Nitratlar","Mal",24313400,null,null,"Diğer çeşitli inorganik kimyasal maddeler"]
[null,null,null,null,null,null,null,1503,24314000,{"$f":"IF(K1507=1,COUNTIF($K$5:K1507,1),\"\")","v":1503},{"$f":"IF(ISNUMBER(SEARCH('Bilgi Girişi'!$E$4,KalemAdı,1))=TRUE,1,0)","v":1},"Diğer çeşitli metal asit tuzları","Mal",24314000,null,null,"Ağır su, diğer izotoplar ve bunların bileşikleri"]
[null,null,null,null,null,null,null,1504,24314100,{"$f":"IF(K1508=1,COUNTIF($K$5:K1508,1),\"\")","v":1504},{"$f":"IF(ISNUMBER(SEARCH('Bilgi Girişi'!$E$4,KalemAdı,1))=TRUE,1,0)","v":1},"Potasyum permanganat","Mal",24314100,null,null,"Siyanürler, siyanür oksitler, fulminatlar, silikatlar, boratlar, perboratlar,"]
[null,null,null,null,null,null,null,1505,24314200,{"$f":"IF(K1509=1,COUNTIF($K$5:K1509,1),\"\")","v":1505},{"$f":"IF(ISNUMBER(SEARCH('Bilgi Girişi'!$E$4,KalemAdı,1))=TRUE,1,0)","v":1},"Oksometalik asit tuzları","Mal",24314200,null,null,"Siyanürler"]
[null,null,null,null,null,null,null,1506,24315000,{"$f":"IF(K1510=1,COUNTIF($K$5:K1510,1),\"\")","v":1506},{"$f":"IF(ISNUMBER(SEARCH('Bilgi Girişi'!$E$4,KalemAdı,1))=TRUE,1,0)","v":1},"Diğer çeşitli inorganik kimyasal maddeler","Mal",24315000,null,null,"Siyanür oksit"]
[null,null,null,null,null,null,null,1507,24315100,{"$f":"IF(K1511=1,COUNTIF($K$5:K1511,1),\"\")","v":1507},{"$f":"IF(ISNUMBER(SEARCH('Bilgi Girişi'!$E$4,KalemAdı,1))=TRUE,1,0)","v":1},"Ağır su, diğer izotoplar ve bunların bileşikleri","Mal",24315100,null,null,"Fulminatlar"]
[null,null,null,null,null,null,null,1508,24315200,{"$f":"IF(K1512=1,COUNTIF($K$5:K1512,1),\"\")","v":1508},{"$f":"IF(ISNUMBER(SEARCH('Bilgi Girişi'!$E$4,KalemAdı,1))=TRUE,1,0)","v":1},"Siyanürler, siyanür oksitler, fulminatlar, silikatlar, boratlar, perboratlar,","Mal",24315200,null,null,"Siyanatlar"]
[null,null,null,null,null,null,null,1509,24315210,{"$f":"IF(K1513=1,COUNTIF($K$5:K1513,1),\"\")","v":1509},{"$f":"IF(ISNUMBER(SEARCH('Bilgi Girişi'!$E$4,KalemAdı,1))=TRUE,1,0)","v":1},"Siyanürler","Mal",24315210,null,null,"Hidrojen peroksit"]
[null,null,null,null,null,null,null,1510,24315220,{"$f":"IF(K1514=1,COUNTIF($K$5:K1514,1),\"\")","v":1510},{"$f":"IF(ISNUMBER(SEARCH('Bilgi Girişi'!$E$4,KalemAdı,1))=TRUE,1,0)","v":1},"Siyanür oksit","Mal",24315220,null,null,"Piezo elektrik kuvars"]
[null,null,null,null,null,null,null,1511,24315230,{"$f":"IF(K1515=1,COUNTIF($K$5:K1515,1),\"\")","v":1511},{"$f":"IF(ISNUMBER(SEARCH('Bilgi Girişi'!$E$4,KalemAdı,1))=TRUE,1,0)","v":1},"Fulminatlar","Mal",24315230,null,null,"Nadir toprak metallerin bileşikleri"]
[null,null,null,null,null,null,null,1512,24315240,{"$f":"IF(K1516=1,COUNTIF($K$5:K1516,1),\"\")","v":1512},{"$f":"IF(ISNUMBER(SEARCH('Bilgi Girişi'!$E$4,KalemAdı,1))=TRUE,1,0)","v":1},"Siyanatlar","Mal",24315240,null,null,"Silikatlar"]
[null,null,null,null,null,null,null,1513,24315300,{"$f":"IF(K1517=1,COUNTIF($K$5:K1517,1),\"\")","v":1513},{"$f":"IF(ISNUMBER(SEARCH('Bilgi Girişi'!$E$4,KalemAdı,1))=TRUE,1,0)","v":1},"Hidrojen peroksit","Mal",24315300,null,null,"Sodyum silikat"]
[null,null,null,null,null,null,null,1514,24315400,{"$f":"IF(K1518=1,COUNTIF($K$5:K1518,1),\"\")","v":1514},{"$f":"IF(ISNUMBER(SEARCH('Bilgi Girişi'!$E$4,KalemAdı,1))=TRUE,1,0)","v":1},"Piezo elektrik kuvars","Mal",24315400,null,null,"Borat ve perboratlar"]
[null,null,null,null,null,null,null,1515,24315500,{"$f":"IF(K1519=1,COUNTIF($K$5:K1519,1),\"\")","v":1515},{"$f":"IF(ISNUMBER(SEARCH('Bilgi Girişi'!$E$4,KalemAdı,1))=TRUE,1,0)","v":1},"Nadir toprak metallerin bileşikleri","Mal",24315500,null,null,"Damıtık su"]
[null,null,null,null,null,null,null,1516,24315600,{"$f":"IF(K1520=1,COUNTIF($K$5:K1520,1),\"\")","v":1516},{"$f":"IF(ISNUMBER(SEARCH('Bilgi Girişi'!$E$4,KalemAdı,1))=TRUE,1,0)","v":1},"Silikatlar","Mal",24315600,null,null,"Sentetik taşlar"]
[null,null,null,null,null,null,null,1517,24315610,{"$f":"IF(K1521=1,COUNTIF($K$5:K1521,1),\"\")","v":1517},{"$f":"IF(ISNUMBER(SEARCH('Bilgi Girişi'!$E$4,KalemAdı,1))=TRUE,1,0)","v":1},"Sodyum silikat","Mal",24315610,null,null,"Sentetik değerli taşlar"]
[null,null,null,null,null,null,null,1518,24315700,{"$f":"IF(K1522=1,COUNTIF($K$5:K1522,1),\"\")","v":1518},{"$f":"IF(ISNUMBER(SEARCH('Bilgi Girişi'!$E$4,KalemAdı,1))=TRUE,1,0)","v":1},"Borat ve perboratlar","Mal",24315700,null,null,"Sentetik yarı değerli taşlar"]
[null,null,null,null,null,null,null,1519,24316000,{"$f":"IF(K1523=1,COUNTIF($K$5:K1523,1),\"\")","v":1519},{"$f":"IF(ISNUMBER(SEARCH('Bilgi Girişi'!$E$4,KalemAdı,1))=TRUE,1,0)","v":1},"Damıtık su","Mal",24316000,null,null,"Temel organik kimyasal maddeler"]
[null,null,null,null,null,null,null,1520,24317000,{"$f":"IF(K1524=1,COUNTIF($K$5:K1524,1),\"\")","v":1520},{"$f":"IF(ISNUMBER(SEARCH('Bilgi Girişi'!$E$4,KalemAdı,1))=TRUE,1,0)","v":1},"Sentetik taşlar","Mal",24317000,null,null,"Hidro karbonlar"]
[null,null,null,null,null,null,null,1521,24317100,{"$f":"IF(K1525=1,COUNTIF($K$5:K1525,1),\"\")","v":1521},{"$f":"IF(ISNUMBER(SEARCH('Bilgi Girişi'!$E$4,KalemAdı,1))=TRUE,1,0)","v":1},"Sentetik değerli taşlar","Mal",24317100,null,null,"Doymuş hidro karbonlar"]
[null,null,null,null,null,null,null,1522,24317200,{"$f":"IF(K1526=1,COUNTIF($K$5:K1526,1),\"\")","v":1522},{"$f":"IF(ISNUMBER(SEARCH('Bilgi Girişi'!$E$4,KalemAdı,1))=TRUE,1,0)","v":1},"Sentetik yarı değerli taşlar","Mal",24317200,null,null,"Doymuş asiklik hidrokarbonlar"]
[null,null,null,null,null,null,null,1523,24320000,{"$f":"IF(K1527=1,COUNTIF($K$5:K1527,1),\"\")","v":1523},{"$f":"IF(ISNUMBER(SEARCH('Bilgi Girişi'!$E$4,KalemAdı,1))=TRUE,1,0)","v":1},"Temel organik kimyasal maddeler","Mal",24320000,null,null,"Metan"]
[null,null,null,null,null,null,null,1524,24321000,{"$f":"IF(K1528=1,COUNTIF($K$5:K1528,1),\"\")","v":1524},{"$f":"IF(ISNUMBER(SEARCH('Bilgi Girişi'!$E$4,KalemAdı,1))=TRUE,1,0)","v":1},"Hidro karbonlar","Mal",24321000,null,null,"Etilen"]
[null,null,null,null,null,null,null,1525,24321100,{"$f":"IF(K1529=1,COUNTIF($K$5:K1529,1),\"\")","v":1525},{"$f":"IF(ISNUMBER(SEARCH('Bilgi Girişi'!$E$4,KalemAdı,1))=TRUE,1,0)","v":1},"Doymuş hidro karbonlar","Mal",24321100,null,null,"Propen"]
[null,null,null,null,null,null,null,1526,24321110,{"$f":"IF(K1530=1,COUNTIF($K$5:K1530,1),\"\")","v":1526},{"$f":"IF(ISNUMBER(SEARCH('Bilgi Girişi'!$E$4,KalemAdı,1))=TRUE,1,0)","v":1},"Doymuş asiklik hidrokarbonlar","Mal",24321110,null,null,"Büten"]
[null,null,null,null,null,null,null,1527,24321111,{"$f":"IF(K1531=1,COUNTIF($K$5:K1531,1),\"\")","v":1527},{"$f":"IF(ISNUMBER(SEARCH('Bilgi Girişi'!$E$4,KalemAdı,1))=TRUE,1,0)","v":1},"Metan","Mal",24321111,null,null,"Asetilen"]
[null,null,null,null,null,null,null,1528,24321112,{"$f":"IF(K1532=1,COUNTIF($K$5:K1532,1),\"\")","v":1528},{"$f":"IF(ISNUMBER(SEARCH('Bilgi Girişi'!$E$4,KalemAdı,1))=TRUE,1,0)","v":1},"Etilen","Mal",24321112,null,null,"Doymuş asiklik hidrokarbonlar"]
[null,null,null,null,null,null,null,1529,24321113,{"$f":"IF(K1533=1,COUNTIF($K$5:K1533,1),\"\")","v":1529},{"$f":"IF(ISNUMBER(SEARCH('Bilgi Girişi'!$E$4,KalemAdı,1))=TRUE,1,0)","v":1},"Propen","Mal",24321113,null,null,"Doymamış hidrokarbonlar"]
[null,null,null,null,null,null,null,1530,24321114,{"$f":"IF(K1534=1,COUNTIF($K$5:K1534,1),\"\")","v":1530},{"$f":"IF(ISNUMBER(SEARCH('Bilgi Girişi'!$E$4,KalemAdı,1))=TRUE,1,0)","v":1},"Büten","Mal",24321114,null,null,"Doymamış asiklik hidrokarbonlar"]
[null,null,null,null,null,null,null,1531,24321115,{"$f":"IF(K1535=1,COUNTIF($K$5:K1535,1),\"\")","v":1531},{"$f":"IF(ISNUMBER(SEARCH('Bilgi Girişi'!$E$4,KalemAdı,1))=TRUE,1,0)","v":1},"Asetilen","Mal",24321115,null,null,"Doymamış siklik hidrokarbonlar"]
[null,null,null,null,null,null,null,1532,24321120,{"$f":"IF(K1536=1,COUNTIF($K$5:K1536,1),\"\")","v":1532},{"$f":"IF(ISNUMBER(SEARCH('Bilgi Girişi'!$E$4,KalemAdı,1))=TRUE,1,0)","v":1},"Doymuş asiklik hidrokarbonlar","Mal",24321120,null,null,"Benzen"]
[null,null,null,null,null,null,null,1533,24321200,{"$f":"IF(K1537=1,COUNTIF($K$5:K1537,1),\"\")","v":1533},{"$f":"IF(ISNUMBER(SEARCH('Bilgi Girişi'!$E$4,KalemAdı,1))=TRUE,1,0)","v":1},"Doymamış hidrokarbonlar","Mal",24321200,null,null,"Toluen"]
[null,null,null,null,null,null,null,1534,24321210,{"$f":"IF(K1538=1,COUNTIF($K$5:K1538,1),\"\")","v":1534},{"$f":"IF(ISNUMBER(SEARCH('Bilgi Girişi'!$E$4,KalemAdı,1))=TRUE,1,0)","v":1},"Doymamış asiklik hidrokarbonlar","Mal",24321210,null,null,"O-ksilenler"]
[null,null,null,null,null,null,null,1535,24321220,{"$f":"IF(K1539=1,COUNTIF($K$5:K1539,1),\"\")","v":1535},{"$f":"IF(ISNUMBER(SEARCH('Bilgi Girişi'!$E$4,KalemAdı,1))=TRUE,1,0)","v":1},"Doymamış siklik hidrokarbonlar","Mal",24321220,null,null,"M-ksilenler"]
[null,null,null,null,null,null,null,1536,24321221,{"$f":"IF(K1540=1,COUNTIF($K$5:K1540,1),\"\")","v":1536},{"$f":"IF(ISNUMBER(SEARCH('Bilgi Girişi'!$E$4,KalemAdı,1))=TRUE,1,0)","v":1},"Benzen","Mal",24321221,null,null,"Stiren"]
[null,null,null,null,null,null,null,1537,24321222,{"$f":"IF(K1541=1,COUNTIF($K$5:K1541,1),\"\")","v":1537},{"$f":"IF(ISNUMBER(SEARCH('Bilgi Girişi'!$E$4,KalemAdı,1))=TRUE,1,0)","v":1},"Toluen","Mal",24321222,null,null,"Etilbenzen"]
[null,null,null,null,null,null,null,1538,24321223,{"$f":"IF(K1542=1,COUNTIF($K$5:K1542,1),\"\")","v":1538},{"$f":"IF(ISNUMBER(SEARCH('Bilgi Girişi'!$E$4,KalemAdı,1))=TRUE,1,0)","v":1},"O-ksilenler","Mal",24321223,null,null,{"$f":"IFERROR(VLOOKUP(ROW($P1542),$J$5:$L$9594,3,FALSE),\"\")","v":"Diğer halojenli hidrokarbon türevleri"}]
[null,null,null,null,null,null,null,1539,24321224,{"$f":"IF(K1543=1,COUNTIF($K$5:K1543,1),\"\")","v":1539},{"$f":"IF(ISNUMBER(SEARCH('Bilgi Girişi'!$E$4,KalemAdı,1))=TRUE,1,0)","v":1},"M-ksilenler","Mal",24321224,null,null,"Tetrakloroetilen"]
[null,null,null,null,null,null,null,1540,24321225,{"$f":"IF(K1544=1,COUNTIF($K$5:K1544,1),\"\")","v":1540},{"$f":"IF(ISNUMBER(SEARCH('Bilgi Girişi'!$E$4,KalemAdı,1))=TRUE,1,0)","v":1},"Stiren","Mal",24321225,null,null,"Karbon tetraklorür"]
[null,null,null,null,null,null,null,1541,24321226,{"$f":"IF(K1545=1,COUNTIF($K$5:K1545,1),\"\")","v":1541},{"$f":"IF(ISNUMBER(SEARCH('Bilgi Girişi'!$E$4,KalemAdı,1))=TRUE,1,0)","v":1},"Etilbenzen","Mal",24321226,null,null,"Alkoller, fenoller, fenol-alkoller ve halojenleri, kükürt, azot veya azot\ntürevleri, endüstriyel yağ alkolleri"]
[null,null,null,null,null,null,null,1542,24321300,{"$f":"IF(K1546=1,COUNTIF($K$5:K1546,1),\"\")","v":1542},{"$f":"IF(ISNUMBER(SEARCH('Bilgi Girişi'!$E$4,KalemAdı,1))=TRUE,1,0)","v":1},"Diğer halojenli hidrokarbon türevleri","Mal",24321300,null,null,"Endüstriyel yağ alkolleri"]
[null,null,null,null,null,null,null,1543,24321310,{"$f":"IF(K1547=1,COUNTIF($K$5:K1547,1),\"\")","v":1543},{"$f":"IF(ISNUMBER(SEARCH('Bilgi Girişi'!$E$4,KalemAdı,1))=TRUE,1,0)","v":1},"Tetrakloroetilen","Mal",24321310,null,null,"Monohidrik alkoller"]
[null,null,null,null,null,null,null,1544,24321320,{"$f":"IF(K1548=1,COUNTIF($K$5:K1548,1),\"\")","v":1544},{"$f":"IF(ISNUMBER(SEARCH('Bilgi Girişi'!$E$4,KalemAdı,1))=TRUE,1,0)","v":1},"Karbon tetraklorür","Mal",24321320,null,null,"Metanol"]
[null,null,null,null,null,null,null,1545,24322000,{"$f":"IF(K1549=1,COUNTIF($K$5:K1549,1),\"\")","v":1545},{"$f":"IF(ISNUMBER(SEARCH('Bilgi Girişi'!$E$4,KalemAdı,1))=TRUE,1,0)","v":1},"Alkoller, fenoller, fenol-alkoller ve halojenleri, kükürt, azot veya azot\ntürevleri, endüstriyel yağ alkolleri","Mal",24322000,null,null,"Etanol"]
[null,null,null,null,null,null,null,1546,24322100,{"$f":"IF(K1550=1,COUNTIF($K$5:K1550,1),\"\")","v":1546},{"$f":"IF(ISNUMBER(SEARCH('Bilgi Girişi'!$E$4,KalemAdı,1))=TRUE,1,0)","v":1},"Endüstriyel yağ alkolleri","Mal",24322100,null,null,"Dioller, polialkoller ve türevleri"]
[null,null,null,null,null,null,null,1547,24322200,{"$f":"IF(K1551=1,COUNTIF($K$5:K1551,1),\"\")","v":1547},{"$f":"IF(ISNUMBER(SEARCH('Bilgi Girişi'!$E$4,KalemAdı,1))=TRUE,1,0)","v":1},"Monohidrik alkoller","Mal",24322200,null,null,"Etilen glikol"]
[null,null,null,null,null,null,null,1548,24322210,{"$f":"IF(K1552=1,COUNTIF($K$5:K1552,1),\"\")","v":1548},{"$f":"IF(ISNUMBER(SEARCH('Bilgi Girişi'!$E$4,KalemAdı,1))=TRUE,1,0)","v":1},"Metanol","Mal",24322210,null,null,"Alkol türevleri"]
[null,null,null,null,null,null,null,1549,24322220,{"$f":"IF(K1553=1,COUNTIF($K$5:K1553,1),\"\")","v":1549},{"$f":"IF(ISNUMBER(SEARCH('Bilgi Girişi'!$E$4,KalemAdı,1))=TRUE,1,0)","v":1},"Etanol","Mal",24322220,null,null,"Fenoller ve türevleri"]
[null,null,null,null,null,null,null,1550,24322300,{"$f":"IF(K1554=1,COUNTIF($K$5:K1554,1),\"\")","v":1550},{"$f":"IF(ISNUMBER(SEARCH('Bilgi Girişi'!$E$4,KalemAdı,1))=TRUE,1,0)","v":1},"Dioller, polialkoller ve türevleri","Mal",24322300,null,null,"Alkoller"]
[null,null,null,null,null,null,null,1551,24322310,{"$f":"IF(K1555=1,COUNTIF($K$5:K1555,1),\"\")","v":1551},{"$f":"IF(ISNUMBER(SEARCH('Bilgi Girişi'!$E$4,KalemAdı,1))=TRUE,1,0)","v":1},"Etilen glikol","Mal",24322310,null,null,"Etil alkol"]
[null,null,null,null,null,null,null,1552,24322320,{"$f":"IF(K1556=1,COUNTIF($K$5:K1556,1),\"\")","v":1552},{"$f":"IF(ISNUMBER(SEARCH('Bilgi Girişi'!$E$4,KalemAdı,1))=TRUE,1,0)","v":1},"Alkol türevleri","Mal",24322320,null,null,"Endüstriyel monokarboksilik yağ asitleri"]
[null,null,null,null,null,null,null,1553,24322400,{"$f":"IF(K1557=1,COUNTIF($K$5:K1557,1),\"\")","v":1553},{"$f":"IF(ISNUMBER(SEARCH('Bilgi Girişi'!$E$4,KalemAdı,1))=TRUE,1,0)","v":1},"Fenoller ve türevleri","Mal",24322400,null,null,"Rafine işlemleri sırasında ortaya çıkan asit yağları"]
[null,null,null,null,null,null,null,1554,24322500,{"$f":"IF(K1558=1,COUNTIF($K$5:K1558,1),\"\")","v":1554},{"$f":"IF(ISNUMBER(SEARCH('Bilgi Girişi'!$E$4,KalemAdı,1))=TRUE,1,0)","v":1},"Alkoller","Mal",24322500,null,null,"Karboksilik asitler"]
[null,null,null,null,null,null,null,1555,24322510,{"$f":"IF(K1559=1,COUNTIF($K$5:K1559,1),\"\")","v":1555},{"$f":"IF(ISNUMBER(SEARCH('Bilgi Girişi'!$E$4,KalemAdı,1))=TRUE,1,0)","v":1},"Etil alkol","Mal",24322510,null,null,"Asetik asit"]
[null,null,null,null,null,null,null,1556,24323000,{"$f":"IF(K1560=1,COUNTIF($K$5:K1560,1),\"\")","v":1556},{"$f":"IF(ISNUMBER(SEARCH('Bilgi Girişi'!$E$4,KalemAdı,1))=TRUE,1,0)","v":1},"Endüstriyel monokarboksilik yağ asitleri","Mal",24323000,null,null,"Perasetik aset"]
[null,null,null,null,null,null,null,1557,24323100,{"$f":"IF(K1561=1,COUNTIF($K$5:K1561,1),\"\")","v":1557},{"$f":"IF(ISNUMBER(SEARCH('Bilgi Girişi'!$E$4,KalemAdı,1))=TRUE,1,0)","v":1},"Rafine işlemleri sırasında ortaya çıkan asit yağları","Mal",24323100,null,null,"Doymamış monokarboksilik asit ve bileşenleri"]
[null,null,null,null,null,null,null,1558,24323200,{"$f":"IF(K1562=1,COUNTIF($K$5:K1562,1),\"\")","v":1558},{"$f":"IF(ISNUMBER(SEARCH('Bilgi Girişi'!$E$4,KalemAdı,1))=TRUE,1,0)","v":1},"Karboksilik asitler","Mal",24323200,null,null,"Metakrilik asit esterleri"]
[null,null,null,null,null,null,null,1559,24323210,{"$f":"IF(K1563=1,COUNTIF($K$5:K1563,1),\"\")","v":1559},{"$f":"IF(ISNUMBER(SEARCH('Bilgi Girişi'!$E$4,KalemAdı,1))=TRUE,1,0)","v":1},"Asetik asit","Mal",24323210,null,null,"Akrilik asit esterleri"]
[null,null,null,null,null,null,null,1560,24323220,{"$f":"IF(K1564=1,COUNTIF($K$5:K1564,1),\"\")","v":1560},{"$f":"IF(ISNUMBER(SEARCH('Bilgi Girişi'!$E$4,KalemAdı,1))=TRUE,1,0)","v":1},"Perasetik aset","Mal",24323220,null,null,"Aromatik polikarboksilik ve karboksilik asitler"]
[null,null,null,null,null,null,null,1561,24323300,{"$f":"IF(K1565=1,COUNTIF($K$5:K1565,1),\"\")","v":1561},{"$f":"IF(ISNUMBER(SEARCH('Bilgi Girişi'!$E$4,KalemAdı,1))=TRUE,1,0)","v":1},"Doymamış monokarboksilik asit ve bileşenleri","Mal",24323300,null,null,"Azot fonksiyonlu organik bileşikler"]
[null,null,null,null,null,null,null,1562,24323310,{"$f":"IF(K1566=1,COUNTIF($K$5:K1566,1),\"\")","v":1562},{"$f":"IF(ISNUMBER(SEARCH('Bilgi Girişi'!$E$4,KalemAdı,1))=TRUE,1,0)","v":1},"Metakrilik asit esterleri","Mal",24323310,null,null,"Amin fonksiyonlu bileşikler"]
[null,null,null,null,null,null,null,1563,24323320,{"$f":"IF(K1567=1,COUNTIF($K$5:K1567,1),\"\")","v":1563},{"$f":"IF(ISNUMBER(SEARCH('Bilgi Girişi'!$E$4,KalemAdı,1))=TRUE,1,0)","v":1},"Akrilik asit esterleri","Mal",24323320,null,null,"Oksijen fonksiyonlu amino bileşikleri"]
[null,null,null,null,null,null,null,1564,24323400,{"$f":"IF(K1568=1,COUNTIF($K$5:K1568,1),\"\")","v":1564},{"$f":"IF(ISNUMBER(SEARCH('Bilgi Girişi'!$E$4,KalemAdı,1))=TRUE,1,0)","v":1},"Aromatik polikarboksilik ve karboksilik asitler","Mal",24323400,null,null,"Üreinler"]
[null,null,null,null,null,null,null,1565,24324000,{"$f":"IF(K1569=1,COUNTIF($K$5:K1569,1),\"\")","v":1565},{"$f":"IF(ISNUMBER(SEARCH('Bilgi Girişi'!$E$4,KalemAdı,1))=TRUE,1,0)","v":1},"Azot fonksiyonlu organik bileşikler","Mal",24324000,null,null,"Azot fonksiyonlu bileşikler"]
[null,null,null,null,null,null,null,1566,24324100,{"$f":"IF(K1570=1,COUNTIF($K$5:K1570,1),\"\")","v":1566},{"$f":"IF(ISNUMBER(SEARCH('Bilgi Girişi'!$E$4,KalemAdı,1))=TRUE,1,0)","v":1},"Amin fonksiyonlu bileşikler","Mal",24324100,null,null,"Kükürtlü organik bileşikler"]
[null,null,null,null,null,null,null,1567,24324200,{"$f":"IF(K1571=1,COUNTIF($K$5:K1571,1),\"\")","v":1567},{"$f":"IF(ISNUMBER(SEARCH('Bilgi Girişi'!$E$4,KalemAdı,1))=TRUE,1,0)","v":1},"Oksijen fonksiyonlu amino bileşikleri","Mal",24324200,null,null,"Aldehit, keton, organik peroksitlar ve eterler"]
[null,null,null,null,null,null,null,1568,24324300,{"$f":"IF(K1572=1,COUNTIF($K$5:K1572,1),\"\")","v":1568},{"$f":"IF(ISNUMBER(SEARCH('Bilgi Girişi'!$E$4,KalemAdı,1))=TRUE,1,0)","v":1},"Üreinler","Mal",24324300,null,null,"Aldehit fonksiyonlu bileşikler"]
[null,null,null,null,null,null,null,1569,24324400,{"$f":"IF(K1573=1,COUNTIF($K$5:K1573,1),\"\")","v":1569},{"$f":"IF(ISNUMBER(SEARCH('Bilgi Girişi'!$E$4,KalemAdı,1))=TRUE,1,0)","v":1},"Azot fonksiyonlu bileşikler","Mal",24324400,null,null,"Keton ve kinon fonksiyonlu bileşikler"]
[null,null,null,null,null,null,null,1570,24325000,{"$f":"IF(K1574=1,COUNTIF($K$5:K1574,1),\"\")","v":1570},{"$f":"IF(ISNUMBER(SEARCH('Bilgi Girişi'!$E$4,KalemAdı,1))=TRUE,1,0)","v":1},"Kükürtlü organik bileşikler","Mal",24325000,null,null,"Organik peroksitler"]
[null,null,null,null,null,null,null,1571,24326000,{"$f":"IF(K1575=1,COUNTIF($K$5:K1575,1),\"\")","v":1571},{"$f":"IF(ISNUMBER(SEARCH('Bilgi Girişi'!$E$4,KalemAdı,1))=TRUE,1,0)","v":1},"Aldehit, keton, organik peroksitlar ve eterler","Mal",24326000,null,null,"Etilen oksit"]
[null,null,null,null,null,null,null,1572,24326100,{"$f":"IF(K1576=1,COUNTIF($K$5:K1576,1),\"\")","v":1572},{"$f":"IF(ISNUMBER(SEARCH('Bilgi Girişi'!$E$4,KalemAdı,1))=TRUE,1,0)","v":1},"Aldehit fonksiyonlu bileşikler","Mal",24326100,null,null,"Eterler"]
[null,null,null,null,null,null,null,1573,24326200,{"$f":"IF(K1577=1,COUNTIF($K$5:K1577,1),\"\")","v":1573},{"$f":"IF(ISNUMBER(SEARCH('Bilgi Girişi'!$E$4,KalemAdı,1))=TRUE,1,0)","v":1},"Keton ve kinon fonksiyonlu bileşikler","Mal",24326200,null,null,"Diğer çeşitli organik kimyasal maddeler"]
[null,null,null,null,null,null,null,1574,24326300,{"$f":"IF(K1578=1,COUNTIF($K$5:K1578,1),\"\")","v":1574},{"$f":"IF(ISNUMBER(SEARCH('Bilgi Girişi'!$E$4,KalemAdı,1))=TRUE,1,0)","v":1},"Organik peroksitler","Mal",24326300,null,null,"Boyama işlemleri için bitkisel türevler"]
[null,null,null,null,null,null,null,1575,24326310,{"$f":"IF(K1579=1,COUNTIF($K$5:K1579,1),\"\")","v":1575},{"$f":"IF(ISNUMBER(SEARCH('Bilgi Girişi'!$E$4,KalemAdı,1))=TRUE,1,0)","v":1},"Etilen oksit","Mal",24326310,null,null,"Odun kömürü"]
[null,null,null,null,null,null,null,1576,24326320,{"$f":"IF(K1580=1,COUNTIF($K$5:K1580,1),\"\")","v":1576},{"$f":"IF(ISNUMBER(SEARCH('Bilgi Girişi'!$E$4,KalemAdı,1))=TRUE,1,0)","v":1},"Eterler","Mal",24326320,null,null,"Kömür katranının yüksek ısıda damıtılmasından elde edilen ürünler ve yağlar,"]
[null,null,null,null,null,null,null,1577,24327000,{"$f":"IF(K1581=1,COUNTIF($K$5:K1581,1),\"\")","v":1577},{"$f":"IF(ISNUMBER(SEARCH('Bilgi Girişi'!$E$4,KalemAdı,1))=TRUE,1,0)","v":1},"Diğer çeşitli organik kimyasal maddeler","Mal",24327000,null,null,"Kömür katranı"]
[null,null,null,null,null,null,null,1578,24327100,{"$f":"IF(K1582=1,COUNTIF($K$5:K1582,1),\"\")","v":1578},{"$f":"IF(ISNUMBER(SEARCH('Bilgi Girişi'!$E$4,KalemAdı,1))=TRUE,1,0)","v":1},"Boyama işlemleri için bitkisel türevler","Mal",24327100,null,null,"Kreozot"]
[null,null,null,null,null,null,null,1579,24327200,{"$f":"IF(K1583=1,COUNTIF($K$5:K1583,1),\"\")","v":1579},{"$f":"IF(ISNUMBER(SEARCH('Bilgi Girişi'!$E$4,KalemAdı,1))=TRUE,1,0)","v":1},"Odun kömürü","Mal",24327200,null,null,"Zift"]
[null,null,null,null,null,null,null,1580,24327300,{"$f":"IF(K1584=1,COUNTIF($K$5:K1584,1),\"\")","v":1580},{"$f":"IF(ISNUMBER(SEARCH('Bilgi Girişi'!$E$4,KalemAdı,1))=TRUE,1,0)","v":1},"Kömür katranının yüksek ısıda damıtılmasından elde edilen ürünler ve yağlar,","Mal",24327300,null,null,"Zift katranı"]
[null,null,null,null,null,null,null,1581,24327310,{"$f":"IF(K1585=1,COUNTIF($K$5:K1585,1),\"\")","v":1581},{"$f":"IF(ISNUMBER(SEARCH('Bilgi Girişi'!$E$4,KalemAdı,1))=TRUE,1,0)","v":1},"Kömür katranı","Mal",24327310,null,null,"Reçine ürünleri"]
[null,null,null,null,null,null,null,1582,24327311,{"$f":"IF(K1586=1,COUNTIF($K$5:K1586,1),\"\")","v":1582},{"$f":"IF(ISNUMBER(SEARCH('Bilgi Girişi'!$E$4,KalemAdı,1))=TRUE,1,0)","v":1},"Kreozot","Mal",24327311,null,null,"Kağıt hamuru imalatından ortaya çıkan sıvı atıklar"]
[null,null,null,null,null,null,null,1583,24327320,{"$f":"IF(K1587=1,COUNTIF($K$5:K1587,1),\"\")","v":1583},{"$f":"IF(ISNUMBER(SEARCH('Bilgi Girişi'!$E$4,KalemAdı,1))=TRUE,1,0)","v":1},"Zift","Mal",24327320,null,null,"Gübreler ve azot bileşikleri"]
[null,null,null,null,null,null,null,1584,24327330,{"$f":"IF(K1588=1,COUNTIF($K$5:K1588,1),\"\")","v":1584},{"$f":"IF(ISNUMBER(SEARCH('Bilgi Girişi'!$E$4,KalemAdı,1))=TRUE,1,0)","v":1},"Zift katranı","Mal",24327330,null,null,"Azotlu gübre"]
[null,null,null,null,null,null,null,1585,24327400,{"$f":"IF(K1589=1,COUNTIF($K$5:K1589,1),\"\")","v":1585},{"$f":"IF(ISNUMBER(SEARCH('Bilgi Girişi'!$E$4,KalemAdı,1))=TRUE,1,0)","v":1},"Reçine ürünleri","Mal",24327400,null,null,"Nitrik asit ve tuzlar"]
[null,null,null,null,null,null,null,1586,24327500,{"$f":"IF(K1590=1,COUNTIF($K$5:K1590,1),\"\")","v":1586},{"$f":"IF(ISNUMBER(SEARCH('Bilgi Girişi'!$E$4,KalemAdı,1))=TRUE,1,0)","v":1},"Kağıt hamuru imalatından ortaya çıkan sıvı atıklar","Mal",24327500,null,null,"Sodyum nitrat"]
[null,null,null,null,null,null,null,1587,24400000,{"$f":"IF(K1591=1,COUNTIF($K$5:K1591,1),\"\")","v":1587},{"$f":"IF(ISNUMBER(SEARCH('Bilgi Girişi'!$E$4,KalemAdı,1))=TRUE,1,0)","v":1},"Gübreler ve azot bileşikleri","Mal",24400000,null,null,"Sülfanitrik asitler"]
[null,null,null,null,null,null,null,1588,24410000,{"$f":"IF(K1592=1,COUNTIF($K$5:K1592,1),\"\")","v":1588},{"$f":"IF(ISNUMBER(SEARCH('Bilgi Girişi'!$E$4,KalemAdı,1))=TRUE,1,0)","v":1},"Azotlu gübre","Mal",24410000,null,null,"Amonyak"]
[null,null,null,null,null,null,null,1589,24411000,{"$f":"IF(K1593=1,COUNTIF($K$5:K1593,1),\"\")","v":1589},{"$f":"IF(ISNUMBER(SEARCH('Bilgi Girişi'!$E$4,KalemAdı,1))=TRUE,1,0)","v":1},"Nitrik asit ve tuzlar","Mal",24411000,null,null,"Likit-sıvı amonyak"]
[null,null,null,null,null,null,null,1590,24411100,{"$f":"IF(K1594=1,COUNTIF($K$5:K1594,1),\"\")","v":1590},{"$f":"IF(ISNUMBER(SEARCH('Bilgi Girişi'!$E$4,KalemAdı,1))=TRUE,1,0)","v":1},"Sodyum nitrat","Mal",24411100,null,null,"Amonyum klorit"]
[null,null,null,null,null,null,null,1591,24412000,{"$f":"IF(K1595=1,COUNTIF($K$5:K1595,1),\"\")","v":1591},{"$f":"IF(ISNUMBER(SEARCH('Bilgi Girişi'!$E$4,KalemAdı,1))=TRUE,1,0)","v":1},"Sülfanitrik asitler","Mal",24412000,null,null,"Amonyum sülfat"]
[null,null,null,null,null,null,null,1592,24413000,{"$f":"IF(K1596=1,COUNTIF($K$5:K1596,1),\"\")","v":1592},{"$f":"IF(ISNUMBER(SEARCH('Bilgi Girişi'!$E$4,KalemAdı,1))=TRUE,1,0)","v":1},"Amonyak","Mal",24413000,null,null,"Fosfatlı gübreler"]
[null,null,null,null,null,null,null,1593,24413100,{"$f":"IF(K1597=1,COUNTIF($K$5:K1597,1),\"\")","v":1593},{"$f":"IF(ISNUMBER(SEARCH('Bilgi Girişi'!$E$4,KalemAdı,1))=TRUE,1,0)","v":1},"Likit-sıvı amonyak","Mal",24413100,null,null,"Mineral fosfatik gübreler"]
[null,null,null,null,null,null,null,1594,24413200,{"$f":"IF(K1598=1,COUNTIF($K$5:K1598,1),\"\")","v":1594},{"$f":"IF(ISNUMBER(SEARCH('Bilgi Girişi'!$E$4,KalemAdı,1))=TRUE,1,0)","v":1},"Amonyum klorit","Mal",24413200,null,null,"Kimyasal fosfatik gübreler"]
[null,null,null,null,null,null,null,1595,24413300,{"$f":"IF(K1599=1,COUNTIF($K$5:K1599,1),\"\")","v":1595},{"$f":"IF(ISNUMBER(SEARCH('Bilgi Girişi'!$E$4,KalemAdı,1))=TRUE,1,0)","v":1},"Amonyum sülfat","Mal",24413300,null,null,"Hayvansal veya bitkisel gübreler"]
[null,null,null,null,null,null,null,1596,24420000,{"$f":"IF(K1600=1,COUNTIF($K$5:K1600,1),\"\")","v":1596},{"$f":"IF(ISNUMBER(SEARCH('Bilgi Girişi'!$E$4,KalemAdı,1))=TRUE,1,0)","v":1},"Fosfatlı gübreler","Mal",24420000,null,null,"Çeşitli gübreler"]
[null,null,null,null,null,null,null,1597,24421000,{"$f":"IF(K1601=1,COUNTIF($K$5:K1601,1),\"\")","v":1597},{"$f":"IF(ISNUMBER(SEARCH('Bilgi Girişi'!$E$4,KalemAdı,1))=TRUE,1,0)","v":1},"Mineral fosfatik gübreler","Mal",24421000,null,null,"Tarımsal kimya ürünleri"]
[null,null,null,null,null,null,null,1598,24422000,{"$f":"IF(K1602=1,COUNTIF($K$5:K1602,1),\"\")","v":1598},{"$f":"IF(ISNUMBER(SEARCH('Bilgi Girişi'!$E$4,KalemAdı,1))=TRUE,1,0)","v":1},"Kimyasal fosfatik gübreler","Mal",24422000,null,null,"Haşarat öldürücüler"]
[null,null,null,null,null,null,null,1599,24430000,{"$f":"IF(K1603=1,COUNTIF($K$5:K1603,1),\"\")","v":1599},{"$f":"IF(ISNUMBER(SEARCH('Bilgi Girişi'!$E$4,KalemAdı,1))=TRUE,1,0)","v":1},"Hayvansal veya bitkisel gübreler","Mal",24430000,null,null,"Böcek ilaçları"]
[null,null,null,null,null,null,null,1600,24440000,{"$f":"IF(K1604=1,COUNTIF($K$5:K1604,1),\"\")","v":1600},{"$f":"IF(ISNUMBER(SEARCH('Bilgi Girişi'!$E$4,KalemAdı,1))=TRUE,1,0)","v":1},"Çeşitli gübreler","Mal",24440000,null,null,"Zararlı bitkileri yok edici ilaçlar"]
[null,null,null,null,null,null,null,1601,24450000,{"$f":"IF(K1605=1,COUNTIF($K$5:K1605,1),\"\")","v":1601},{"$f":"IF(ISNUMBER(SEARCH('Bilgi Girişi'!$E$4,KalemAdı,1))=TRUE,1,0)","v":1},"Tarımsal kimya ürünleri","Mal",24450000,null,null,"Bitkilerin büyümesini düzenleyici ilaçlar"]
[null,null,null,null,null,null,null,1602,24451000,{"$f":"IF(K1606=1,COUNTIF($K$5:K1606,1),\"\")","v":1602},{"$f":"IF(ISNUMBER(SEARCH('Bilgi Girişi'!$E$4,KalemAdı,1))=TRUE,1,0)","v":1},"Haşarat öldürücüler","Mal",24451000,null,null,{"$f":"IFERROR(VLOOKUP(ROW($P1606),$J$5:$L$9594,3,FALSE),\"\")","v":"Dezenfekte ediciler"}]
[null,null,null,null,null,null,null,1603,24452000,{"$f":"IF(K1607=1,COUNTIF($K$5:K1607,1),\"\")","v":1603},{"$f":"IF(ISNUMBER(SEARCH('Bilgi Girişi'!$E$4,KalemAdı,1))=TRUE,1,0)","v":1},"Böcek ilaçları","Mal",24452000,null,null,"Fare zehirleri"]
[null,null,null,null,null,null,null,1604,24453000,{"$f":"IF(K1608=1,COUNTIF($K$5:K1608,1),\"\")","v":1604},{"$f":"IF(ISNUMBER(SEARCH('Bilgi Girişi'!$E$4,KalemAdı,1))=TRUE,1,0)","v":1},"Zararlı bitkileri yok edici ilaçlar","Mal",24453000,null,null,"Mantar öldürücü ilaçlar"]
[null,null,null,null,null,null,null,1605,24454000,{"$f":"IF(K1609=1,COUNTIF($K$5:K1609,1),\"\")","v":1605},{"$f":"IF(ISNUMBER(SEARCH('Bilgi Girişi'!$E$4,KalemAdı,1))=TRUE,1,0)","v":1},"Bitkilerin büyümesini düzenleyici ilaçlar","Mal",24454000,null,null,"Primer formdaki plastikler"]
[null,null,null,null,null,null,null,1606,24455000,{"$f":"IF(K1610=1,COUNTIF($K$5:K1610,1),\"\")","v":1606},{"$f":"IF(ISNUMBER(SEARCH('Bilgi Girişi'!$E$4,KalemAdı,1))=TRUE,1,0)","v":1},"Dezenfekte ediciler","Mal",24455000,null,null,"Primer formdaki etilen polimerleri"]
[null,null,null,null,null,null,null,1607,24456000,{"$f":"IF(K1611=1,COUNTIF($K$5:K1611,1),\"\")","v":1607},{"$f":"IF(ISNUMBER(SEARCH('Bilgi Girişi'!$E$4,KalemAdı,1))=TRUE,1,0)","v":1},"Fare zehirleri","Mal",24456000,null,null,"Primer formdaki propilen polimerleri"]
[null,null,null,null,null,null,null,1608,24457000,{"$f":"IF(K1612=1,COUNTIF($K$5:K1612,1),\"\")","v":1608},{"$f":"IF(ISNUMBER(SEARCH('Bilgi Girişi'!$E$4,KalemAdı,1))=TRUE,1,0)","v":1},"Mantar öldürücü ilaçlar","Mal",24457000,null,null,"Primer formdaki stiren polimerleri"]
[null,null,null,null,null,null,null,1609,24500000,{"$f":"IF(K1613=1,COUNTIF($K$5:K1613,1),\"\")","v":1609},{"$f":"IF(ISNUMBER(SEARCH('Bilgi Girişi'!$E$4,KalemAdı,1))=TRUE,1,0)","v":1},"Primer formdaki plastikler","Mal",24500000,null,null,"Primer formdaki vinil polimerleri"]
[null,null,null,null,null,null,null,1610,24510000,{"$f":"IF(K1614=1,COUNTIF($K$5:K1614,1),\"\")","v":1610},{"$f":"IF(ISNUMBER(SEARCH('Bilgi Girişi'!$E$4,KalemAdı,1))=TRUE,1,0)","v":1},"Primer formdaki etilen polimerleri","Mal",24510000,null,null,"Primer formdaki vinil asetat polimerleri"]
[null,null,null,null,null,null,null,1611,24520000,{"$f":"IF(K1615=1,COUNTIF($K$5:K1615,1),\"\")","v":1611},{"$f":"IF(ISNUMBER(SEARCH('Bilgi Girişi'!$E$4,KalemAdı,1))=TRUE,1,0)","v":1},"Primer formdaki propilen polimerleri","Mal",24520000,null,null,"Primer formdaki akrilik polimerleri"]
[null,null,null,null,null,null,null,1612,24530000,{"$f":"IF(K1616=1,COUNTIF($K$5:K1616,1),\"\")","v":1612},{"$f":"IF(ISNUMBER(SEARCH('Bilgi Girişi'!$E$4,KalemAdı,1))=TRUE,1,0)","v":1},"Primer formdaki stiren polimerleri","Mal",24530000,null,null,"Primer formdaki polyesterler"]
[null,null,null,null,null,null,null,1613,24540000,{"$f":"IF(K1617=1,COUNTIF($K$5:K1617,1),\"\")","v":1613},{"$f":"IF(ISNUMBER(SEARCH('Bilgi Girişi'!$E$4,KalemAdı,1))=TRUE,1,0)","v":1},"Primer formdaki vinil polimerleri","Mal",24540000,null,null,"Primer formdaki poliamitler"]
[null,null,null,null,null,null,null,1614,24541000,{"$f":"IF(K1618=1,COUNTIF($K$5:K1618,1),\"\")","v":1614},{"$f":"IF(ISNUMBER(SEARCH('Bilgi Girişi'!$E$4,KalemAdı,1))=TRUE,1,0)","v":1},"Primer formdaki vinil asetat polimerleri","Mal",24541000,null,null,"Primer formdaki üre reçineleri"]
[null,null,null,null,null,null,null,1615,24542000,{"$f":"IF(K1619=1,COUNTIF($K$5:K1619,1),\"\")","v":1615},{"$f":"IF(ISNUMBER(SEARCH('Bilgi Girişi'!$E$4,KalemAdı,1))=TRUE,1,0)","v":1},"Primer formdaki akrilik polimerleri","Mal",24542000,null,null,"Primer formdaki amino reçineler"]
[null,null,null,null,null,null,null,1616,24550000,{"$f":"IF(K1620=1,COUNTIF($K$5:K1620,1),\"\")","v":1616},{"$f":"IF(ISNUMBER(SEARCH('Bilgi Girişi'!$E$4,KalemAdı,1))=TRUE,1,0)","v":1},"Primer formdaki polyesterler","Mal",24550000,null,null,"Primer formdaki silikonlar"]
[null,null,null,null,null,null,null,1617,24560000,{"$f":"IF(K1621=1,COUNTIF($K$5:K1621,1),\"\")","v":1617},{"$f":"IF(ISNUMBER(SEARCH('Bilgi Girişi'!$E$4,KalemAdı,1))=TRUE,1,0)","v":1},"Primer formdaki poliamitler","Mal",24560000,null,null,"Patlayıcılar"]
[null,null,null,null,null,null,null,1618,24570000,{"$f":"IF(K1622=1,COUNTIF($K$5:K1622,1),\"\")","v":1618},{"$f":"IF(ISNUMBER(SEARCH('Bilgi Girişi'!$E$4,KalemAdı,1))=TRUE,1,0)","v":1},"Primer formdaki üre reçineleri","Mal",24570000,null,null,"Hazır patlayıcılar"]
[null,null,null,null,null,null,null,1619,24580000,{"$f":"IF(K1623=1,COUNTIF($K$5:K1623,1),\"\")","v":1619},{"$f":"IF(ISNUMBER(SEARCH('Bilgi Girişi'!$E$4,KalemAdı,1))=TRUE,1,0)","v":1},"Primer formdaki amino reçineler","Mal",24580000,null,null,"Sevk barutları"]
[null,null,null,null,null,null,null,1620,24590000,{"$f":"IF(K1624=1,COUNTIF($K$5:K1624,1),\"\")","v":1620},{"$f":"IF(ISNUMBER(SEARCH('Bilgi Girişi'!$E$4,KalemAdı,1))=TRUE,1,0)","v":1},"Primer formdaki silikonlar","Mal",24590000,null,null,"Prepergol yakıtlar"]
[null,null,null,null,null,null,null,1621,24600000,{"$f":"IF(K1625=1,COUNTIF($K$5:K1625,1),\"\")","v":1621},{"$f":"IF(ISNUMBER(SEARCH('Bilgi Girişi'!$E$4,KalemAdı,1))=TRUE,1,0)","v":1},"Patlayıcılar","Mal",24600000,null,null,"Diğer çeşitli patlayıcılar"]
[null,null,null,null,null,null,null,1622,24610000,{"$f":"IF(K1626=1,COUNTIF($K$5:K1626,1),\"\")","v":1622},{"$f":"IF(ISNUMBER(SEARCH('Bilgi Girişi'!$E$4,KalemAdı,1))=TRUE,1,0)","v":1},"Hazır patlayıcılar","Mal",24610000,null,null,"Dinamit"]
[null,null,null,null,null,null,null,1623,24611000,{"$f":"IF(K1627=1,COUNTIF($K$5:K1627,1),\"\")","v":1623},{"$f":"IF(ISNUMBER(SEARCH('Bilgi Girişi'!$E$4,KalemAdı,1))=TRUE,1,0)","v":1},"Sevk barutları","Mal",24611000,null,null,"TNT"]
[null,null,null,null,null,null,null,1624,24611100,{"$f":"IF(K1628=1,COUNTIF($K$5:K1628,1),\"\")","v":1624},{"$f":"IF(ISNUMBER(SEARCH('Bilgi Girişi'!$E$4,KalemAdı,1))=TRUE,1,0)","v":1},"Prepergol yakıtlar","Mal",24611100,null,null,"Nitrogliserin"]
[null,null,null,null,null,null,null,1625,24612000,{"$f":"IF(K1629=1,COUNTIF($K$5:K1629,1),\"\")","v":1625},{"$f":"IF(ISNUMBER(SEARCH('Bilgi Girişi'!$E$4,KalemAdı,1))=TRUE,1,0)","v":1},"Diğer çeşitli patlayıcılar","Mal",24612000,null,null,"İşaret fişekleri, yağmur bombaları, sis bombaları ve havai fişek malzemeleri"]
[null,null,null,null,null,null,null,1626,24612100,{"$f":"IF(K1630=1,COUNTIF($K$5:K1630,1),\"\")","v":1626},{"$f":"IF(ISNUMBER(SEARCH('Bilgi Girişi'!$E$4,KalemAdı,1))=TRUE,1,0)","v":1},"Dinamit","Mal",24612100,null,null,"Kuş korkutma fişekleri"]
[null,null,null,null,null,null,null,1627,24612200,{"$f":"IF(K1631=1,COUNTIF($K$5:K1631,1),\"\")","v":1627},{"$f":"IF(ISNUMBER(SEARCH('Bilgi Girişi'!$E$4,KalemAdı,1))=TRUE,1,0)","v":1},"TNT","Mal",24612200,null,null,"Havai fişekler"]
[null,null,null,null,null,null,null,1628,24612300,{"$f":"IF(K1632=1,COUNTIF($K$5:K1632,1),\"\")","v":1628},{"$f":"IF(ISNUMBER(SEARCH('Bilgi Girişi'!$E$4,KalemAdı,1))=TRUE,1,0)","v":1},"Nitrogliserin","Mal",24612300,null,null,"Kapsül, tapa, ateşleyici ve elektrikli detanatörler (patlatıcılar)"]
[null,null,null,null,null,null,null,1629,24613000,{"$f":"IF(K1633=1,COUNTIF($K$5:K1633,1),\"\")","v":1629},{"$f":"IF(ISNUMBER(SEARCH('Bilgi Girişi'!$E$4,KalemAdı,1))=TRUE,1,0)","v":1},"İşaret fişekleri, yağmur bombaları, sis bombaları ve havai fişek malzemeleri","Mal",24613000,null,null,"İnce ve çeşitli kimyasal ürünler"]
[null,null,null,null,null,null,null,1630,24613100,{"$f":"IF(K1634=1,COUNTIF($K$5:K1634,1),\"\")","v":1630},{"$f":"IF(ISNUMBER(SEARCH('Bilgi Girişi'!$E$4,KalemAdı,1))=TRUE,1,0)","v":1},"Kuş korkutma fişekleri","Mal",24613100,null,null,"Tutkallar"]
[null,null,null,null,null,null,null,1631,24613200,{"$f":"IF(K1635=1,COUNTIF($K$5:K1635,1),\"\")","v":1631},{"$f":"IF(ISNUMBER(SEARCH('Bilgi Girişi'!$E$4,KalemAdı,1))=TRUE,1,0)","v":1},"Havai fişekler","Mal",24613200,null,null,"Jelatinler"]
[null,null,null,null,null,null,null,1632,24615000,{"$f":"IF(K1636=1,COUNTIF($K$5:K1636,1),\"\")","v":1632},{"$f":"IF(ISNUMBER(SEARCH('Bilgi Girişi'!$E$4,KalemAdı,1))=TRUE,1,0)","v":1},"Kapsül, tapa, ateşleyici ve elektrikli detanatörler (patlatıcılar)","Mal",24615000,null,null,"Yapıştırıcılar"]
[null,null,null,null,null,null,null,1633,24900000,{"$f":"IF(K1637=1,COUNTIF($K$5:K1637,1),\"\")","v":1633},{"$f":"IF(ISNUMBER(SEARCH('Bilgi Girişi'!$E$4,KalemAdı,1))=TRUE,1,0)","v":1},"İnce ve çeşitli kimyasal ürünler","Mal",24900000,null,null,"Esanslar"]
[null,null,null,null,null,null,null,1634,24910000,{"$f":"IF(K1638=1,COUNTIF($K$5:K1638,1),\"\")","v":1634},{"$f":"IF(ISNUMBER(SEARCH('Bilgi Girişi'!$E$4,KalemAdı,1))=TRUE,1,0)","v":1},"Tutkallar","Mal",24910000,null,null,"Fotoğrafçılıkta kullanılan kimyasal maddeler"]
[null,null,null,null,null,null,null,1635,24911000,{"$f":"IF(K1639=1,COUNTIF($K$5:K1639,1),\"\")","v":1635},{"$f":"IF(ISNUMBER(SEARCH('Bilgi Girişi'!$E$4,KalemAdı,1))=TRUE,1,0)","v":1},"Jelatinler","Mal",24911000,null,null,"Fotoğraf kart ve filmleri"]
[null,null,null,null,null,null,null,1636,24911200,{"$f":"IF(K1640=1,COUNTIF($K$5:K1640,1),\"\")","v":1636},{"$f":"IF(ISNUMBER(SEARCH('Bilgi Girişi'!$E$4,KalemAdı,1))=TRUE,1,0)","v":1},"Yapıştırıcılar","Mal",24911200,null,null,"Fotoğrafçılıkta kullanılan emülsiyonlar"]
[null,null,null,null,null,null,null,1637,24920000,{"$f":"IF(K1641=1,COUNTIF($K$5:K1641,1),\"\")","v":1637},{"$f":"IF(ISNUMBER(SEARCH('Bilgi Girişi'!$E$4,KalemAdı,1))=TRUE,1,0)","v":1},"Esanslar","Mal",24920000,null,null,"Fotoğraf banyosunda kullanılan malzemeler"]
[null,null,null,null,null,null,null,1638,24930000,{"$f":"IF(K1642=1,COUNTIF($K$5:K1642,1),\"\")","v":1638},{"$f":"IF(ISNUMBER(SEARCH('Bilgi Girişi'!$E$4,KalemAdı,1))=TRUE,1,0)","v":1},"Fotoğrafçılıkta kullanılan kimyasal maddeler","Mal",24930000,null,null,"Fotoğraf resim sabitleştirme banyoları"]
[null,null,null,null,null,null,null,1639,24931000,{"$f":"IF(K1643=1,COUNTIF($K$5:K1643,1),\"\")","v":1639},{"$f":"IF(ISNUMBER(SEARCH('Bilgi Girişi'!$E$4,KalemAdı,1))=TRUE,1,0)","v":1},"Fotoğraf kart ve filmleri","Mal",24931000,null,null,"Röntgen filmi banyo etme malzemeleri"]
[null,null,null,null,null,null,null,1640,24931200,{"$f":"IF(K1644=1,COUNTIF($K$5:K1644,1),\"\")","v":1640},{"$f":"IF(ISNUMBER(SEARCH('Bilgi Girişi'!$E$4,KalemAdı,1))=TRUE,1,0)","v":1},"Fotoğrafçılıkta kullanılan emülsiyonlar","Mal",24931200,null,null,"Röntgen görüntü sabitleştirme banyoları"]
[null,null,null,null,null,null,null,1641,24931210,{"$f":"IF(K1645=1,COUNTIF($K$5:K1645,1),\"\")","v":1641},{"$f":"IF(ISNUMBER(SEARCH('Bilgi Girişi'!$E$4,KalemAdı,1))=TRUE,1,0)","v":1},"Fotoğraf banyosunda kullanılan malzemeler","Mal",24931210,null,null,"Kültür hazırlama araçları"]
[null,null,null,null,null,null,null,1642,24931220,{"$f":"IF(K1646=1,COUNTIF($K$5:K1646,1),\"\")","v":1642},{"$f":"IF(ISNUMBER(SEARCH('Bilgi Girişi'!$E$4,KalemAdı,1))=TRUE,1,0)","v":1},"Fotoğraf resim sabitleştirme banyoları","Mal",24931220,null,null,"Görüntü yoğunlaştırıcılar"]
[null,null,null,null,null,null,null,1643,24931230,{"$f":"IF(K1647=1,COUNTIF($K$5:K1647,1),\"\")","v":1643},{"$f":"IF(ISNUMBER(SEARCH('Bilgi Girişi'!$E$4,KalemAdı,1))=TRUE,1,0)","v":1},"Röntgen filmi banyo etme malzemeleri","Mal",24931230,null,null,"Özel kimyasal ürünler"]
[null,null,null,null,null,null,null,1644,24931240,{"$f":"IF(K1648=1,COUNTIF($K$5:K1648,1),\"\")","v":1644},{"$f":"IF(ISNUMBER(SEARCH('Bilgi Girişi'!$E$4,KalemAdı,1))=TRUE,1,0)","v":1},"Röntgen görüntü sabitleştirme banyoları","Mal",24931240,null,null,"Gresler ve yağlama müstahzarları"]
[null,null,null,null,null,null,null,1645,24931250,{"$f":"IF(K1649=1,COUNTIF($K$5:K1649,1),\"\")","v":1645},{"$f":"IF(ISNUMBER(SEARCH('Bilgi Girişi'!$E$4,KalemAdı,1))=TRUE,1,0)","v":1},"Kültür hazırlama araçları","Mal",24931250,null,null,"Yağlama müstahzarları"]
[null,null,null,null,null,null,null,1646,24931260,{"$f":"IF(K1650=1,COUNTIF($K$5:K1650,1),\"\")","v":1646},{"$f":"IF(ISNUMBER(SEARCH('Bilgi Girişi'!$E$4,KalemAdı,1))=TRUE,1,0)","v":1},"Görüntü yoğunlaştırıcılar","Mal",24931260,null,null,"Sondaj çamuru"]
[null,null,null,null,null,null,null,1647,24950000,{"$f":"IF(K1651=1,COUNTIF($K$5:K1651,1),\"\")","v":1647},{"$f":"IF(ISNUMBER(SEARCH('Bilgi Girişi'!$E$4,KalemAdı,1))=TRUE,1,0)","v":1},"Özel kimyasal ürünler","Mal",24950000,null,null,"Silikon gresi"]
[null,null,null,null,null,null,null,1648,24951000,{"$f":"IF(K1652=1,COUNTIF($K$5:K1652,1),\"\")","v":1648},{"$f":"IF(ISNUMBER(SEARCH('Bilgi Girişi'!$E$4,KalemAdı,1))=TRUE,1,0)","v":1},"Gresler ve yağlama müstahzarları","Mal",24951000,null,null,"Sondaj sıvıları"]
[null,null,null,null,null,null,null,1649,24951100,{"$f":"IF(K1653=1,COUNTIF($K$5:K1653,1),\"\")","v":1649},{"$f":"IF(ISNUMBER(SEARCH('Bilgi Girişi'!$E$4,KalemAdı,1))=TRUE,1,0)","v":1},"Yağlama müstahzarları","Mal",24951100,null,null,"Mineral yağlar için katkılar"]
[null,null,null,null,null,null,null,1650,24951110,{"$f":"IF(K1654=1,COUNTIF($K$5:K1654,1),\"\")","v":1650},{"$f":"IF(ISNUMBER(SEARCH('Bilgi Girişi'!$E$4,KalemAdı,1))=TRUE,1,0)","v":1},"Sondaj çamuru","Mal",24951110,null,null,"Yangın söndürme tozu"]
[null,null,null,null,null,null,null,1651,24951120,{"$f":"IF(K1655=1,COUNTIF($K$5:K1655,1),\"\")","v":1651},{"$f":"IF(ISNUMBER(SEARCH('Bilgi Girişi'!$E$4,KalemAdı,1))=TRUE,1,0)","v":1},"Silikon gresi","Mal",24951120,null,null,"Yangın söndürme malzemesi"]
[null,null,null,null,null,null,null,1652,24951130,{"$f":"IF(K1656=1,COUNTIF($K$5:K1656,1),\"\")","v":1652},{"$f":"IF(ISNUMBER(SEARCH('Bilgi Girişi'!$E$4,KalemAdı,1))=TRUE,1,0)","v":1},"Sondaj sıvıları","Mal",24951130,null,null,"Yangın söndürme bombası"]
[null,null,null,null,null,null,null,1653,24951200,{"$f":"IF(K1657=1,COUNTIF($K$5:K1657,1),\"\")","v":1653},{"$f":"IF(ISNUMBER(SEARCH('Bilgi Girişi'!$E$4,KalemAdı,1))=TRUE,1,0)","v":1},"Mineral yağlar için katkılar","Mal",24951200,null,null,"Hidrolik fren sıvılar"]
[null,null,null,null,null,null,null,1654,24951210,{"$f":"IF(K1658=1,COUNTIF($K$5:K1658,1),\"\")","v":1654},{"$f":"IF(ISNUMBER(SEARCH('Bilgi Girişi'!$E$4,KalemAdı,1))=TRUE,1,0)","v":1},"Yangın söndürme tozu","Mal",24951210,null,null,"Buz giderme malzemeleri"]
[null,null,null,null,null,null,null,1655,24951220,{"$f":"IF(K1659=1,COUNTIF($K$5:K1659,1),\"\")","v":1655},{"$f":"IF(ISNUMBER(SEARCH('Bilgi Girişi'!$E$4,KalemAdı,1))=TRUE,1,0)","v":1},"Yangın söndürme malzemesi","Mal",24951220,null,null,"Antifriz müstahzarları"]
[null,null,null,null,null,null,null,1656,24951230,{"$f":"IF(K1660=1,COUNTIF($K$5:K1660,1),\"\")","v":1656},{"$f":"IF(ISNUMBER(SEARCH('Bilgi Girişi'!$E$4,KalemAdı,1))=TRUE,1,0)","v":1},"Yangın söndürme bombası","Mal",24951230,null,null,"Kimyasal yapısı değiştirilmiş yağlar"]
[null,null,null,null,null,null,null,1657,24951300,{"$f":"IF(K1661=1,COUNTIF($K$5:K1661,1),\"\")","v":1657},{"$f":"IF(ISNUMBER(SEARCH('Bilgi Girişi'!$E$4,KalemAdı,1))=TRUE,1,0)","v":1},"Hidrolik fren sıvılar","Mal",24951300,null,null,"Kalıp macunları"]
[null,null,null,null,null,null,null,1658,24951310,{"$f":"IF(K1662=1,COUNTIF($K$5:K1662,1),\"\")","v":1658},{"$f":"IF(ISNUMBER(SEARCH('Bilgi Girişi'!$E$4,KalemAdı,1))=TRUE,1,0)","v":1},"Buz giderme malzemeleri","Mal",24951310,null,null,"Diş mumu"]
[null,null,null,null,null,null,null,1659,24951311,{"$f":"IF(K1663=1,COUNTIF($K$5:K1663,1),\"\")","v":1659},{"$f":"IF(ISNUMBER(SEARCH('Bilgi Girişi'!$E$4,KalemAdı,1))=TRUE,1,0)","v":1},"Antifriz müstahzarları","Mal",24951311,null,null,"Cilalama malzemeleri"]
[null,null,null,null,null,null,null,1660,24951400,{"$f":"IF(K1664=1,COUNTIF($K$5:K1664,1),\"\")","v":1660},{"$f":"IF(ISNUMBER(SEARCH('Bilgi Girişi'!$E$4,KalemAdı,1))=TRUE,1,0)","v":1},"Kimyasal yapısı değiştirilmiş yağlar","Mal",24951400,null,null,"Aktif karbon"]
[null,null,null,null,null,null,null,1661,24952000,{"$f":"IF(K1665=1,COUNTIF($K$5:K1665,1),\"\")","v":1661},{"$f":"IF(ISNUMBER(SEARCH('Bilgi Girişi'!$E$4,KalemAdı,1))=TRUE,1,0)","v":1},"Kalıp macunları","Mal",24952000,null,null,"Yeni aktif karbon"]
[null,null,null,null,null,null,null,1662,24952100,{"$f":"IF(K1666=1,COUNTIF($K$5:K1666,1),\"\")","v":1662},{"$f":"IF(ISNUMBER(SEARCH('Bilgi Girişi'!$E$4,KalemAdı,1))=TRUE,1,0)","v":1},"Diş mumu","Mal",24952100,null,null,"Tekrar oluşturulmuş aktif karbon"]
[null,null,null,null,null,null,null,1663,24953000,{"$f":"IF(K1667=1,COUNTIF($K$5:K1667,1),\"\")","v":1663},{"$f":"IF(ISNUMBER(SEARCH('Bilgi Girişi'!$E$4,KalemAdı,1))=TRUE,1,0)","v":1},"Cilalama malzemeleri","Mal",24953000,null,null,"Sabun, kolonya gibi kimyasal tuvalet malzemeleri"]
[null,null,null,null,null,null,null,1664,24954000,{"$f":"IF(K1668=1,COUNTIF($K$5:K1668,1),\"\")","v":1664},{"$f":"IF(ISNUMBER(SEARCH('Bilgi Girişi'!$E$4,KalemAdı,1))=TRUE,1,0)","v":1},"Aktif karbon","Mal",24954000,null,null,"Peptonlar ve protein özleri"]
[null,null,null,null,null,null,null,1665,24954100,{"$f":"IF(K1669=1,COUNTIF($K$5:K1669,1),\"\")","v":1665},{"$f":"IF(ISNUMBER(SEARCH('Bilgi Girişi'!$E$4,KalemAdı,1))=TRUE,1,0)","v":1},"Yeni aktif karbon","Mal",24954100,null,null,"Kimyasal katkı maddeleri"]
[null,null,null,null,null,null,null,1666,24954200,{"$f":"IF(K1670=1,COUNTIF($K$5:K1670,1),\"\")","v":1666},{"$f":"IF(ISNUMBER(SEARCH('Bilgi Girişi'!$E$4,KalemAdı,1))=TRUE,1,0)","v":1},"Tekrar oluşturulmuş aktif karbon","Mal",24954200,null,null,{"$f":"IFERROR(VLOOKUP(ROW($P1670),$J$5:$L$9594,3,FALSE),\"\")","v":"Dökümhane kalıp ve maçaları için hazır yapıştırıcılar"}]
[null,null,null,null,null,null,null,1667,24955000,{"$f":"IF(K1671=1,COUNTIF($K$5:K1671,1),\"\")","v":1667},{"$f":"IF(ISNUMBER(SEARCH('Bilgi Girişi'!$E$4,KalemAdı,1))=TRUE,1,0)","v":1},"Sabun, kolonya gibi kimyasal tuvalet malzemeleri","Mal",24955000,null,null,"Çimento, harç veya beton katkı maddeleri"]
[null,null,null,null,null,null,null,1668,24956000,{"$f":"IF(K1672=1,COUNTIF($K$5:K1672,1),\"\")","v":1668},{"$f":"IF(ISNUMBER(SEARCH('Bilgi Girişi'!$E$4,KalemAdı,1))=TRUE,1,0)","v":1},"Peptonlar ve protein özleri","Mal",24956000,null,null,"Petrol ve gaz endüstrisinde kullanılan kimyasal ürünler"]
[null,null,null,null,null,null,null,1669,24957000,{"$f":"IF(K1673=1,COUNTIF($K$5:K1673,1),\"\")","v":1669},{"$f":"IF(ISNUMBER(SEARCH('Bilgi Girişi'!$E$4,KalemAdı,1))=TRUE,1,0)","v":1},"Kimyasal katkı maddeleri","Mal",24957000,null,null,"Sondaj deliği kimyasalları"]
[null,null,null,null,null,null,null,1670,24957100,{"$f":"IF(K1674=1,COUNTIF($K$5:K1674,1),\"\")","v":1670},{"$f":"IF(ISNUMBER(SEARCH('Bilgi Girişi'!$E$4,KalemAdı,1))=TRUE,1,0)","v":1},"Dökümhane kalıp ve maçaları için hazır yapıştırıcılar","Mal",24957100,null,null,"Pıhtılaştırma maddesi"]
[null,null,null,null,null,null,null,1671,24957200,{"$f":"IF(K1675=1,COUNTIF($K$5:K1675,1),\"\")","v":1671},{"$f":"IF(ISNUMBER(SEARCH('Bilgi Girişi'!$E$4,KalemAdı,1))=TRUE,1,0)","v":1},"Çimento, harç veya beton katkı maddeleri","Mal",24957200,null,null,"Çamur kimyasalları"]
[null,null,null,null,null,null,null,1672,24958000,{"$f":"IF(K1676=1,COUNTIF($K$5:K1676,1),\"\")","v":1672},{"$f":"IF(ISNUMBER(SEARCH('Bilgi Girişi'!$E$4,KalemAdı,1))=TRUE,1,0)","v":1},"Petrol ve gaz endüstrisinde kullanılan kimyasal ürünler","Mal",24958000,null,null,"Patlayıcı sıkılama için jel ampulleri"]
[null,null,null,null,null,null,null,1673,24958100,{"$f":"IF(K1677=1,COUNTIF($K$5:K1677,1),\"\")","v":1673},{"$f":"IF(ISNUMBER(SEARCH('Bilgi Girişi'!$E$4,KalemAdı,1))=TRUE,1,0)","v":1},"Sondaj deliği kimyasalları","Mal",24958100,null,null,"Disk şeklinde aerosoller ve kimyasallar"]
[null,null,null,null,null,null,null,1674,24958200,{"$f":"IF(K1678=1,COUNTIF($K$5:K1678,1),\"\")","v":1674},{"$f":"IF(ISNUMBER(SEARCH('Bilgi Girişi'!$E$4,KalemAdı,1))=TRUE,1,0)","v":1},"Pıhtılaştırma maddesi","Mal",24958200,null,null,"Aerosoller"]
[null,null,null,null,null,null,null,1675,24958300,{"$f":"IF(K1679=1,COUNTIF($K$5:K1679,1),\"\")","v":1675},{"$f":"IF(ISNUMBER(SEARCH('Bilgi Girişi'!$E$4,KalemAdı,1))=TRUE,1,0)","v":1},"Çamur kimyasalları","Mal",24958300,null,null,"Disk şeklinde kimyasal elementler"]
[null,null,null,null,null,null,null,1676,24958400,{"$f":"IF(K1680=1,COUNTIF($K$5:K1680,1),\"\")","v":1676},{"$f":"IF(ISNUMBER(SEARCH('Bilgi Girişi'!$E$4,KalemAdı,1))=TRUE,1,0)","v":1},"Patlayıcı sıkılama için jel ampulleri","Mal",24958400,null,null,"Çeşitli kimyasal ürünler"]
[null,null,null,null,null,null,null,1677,24959000,{"$f":"IF(K1681=1,COUNTIF($K$5:K1681,1),\"\")","v":1677},{"$f":"IF(ISNUMBER(SEARCH('Bilgi Girişi'!$E$4,KalemAdı,1))=TRUE,1,0)","v":1},"Disk şeklinde aerosoller ve kimyasallar","Mal",24959000,null,null,"Radyatör sıvıları"]
[null,null,null,null,null,null,null,1678,24959100,{"$f":"IF(K1682=1,COUNTIF($K$5:K1682,1),\"\")","v":1678},{"$f":"IF(ISNUMBER(SEARCH('Bilgi Girişi'!$E$4,KalemAdı,1))=TRUE,1,0)","v":1},"Aerosoller","Mal",24959100,null,null,"Su ile işlenmiş yumuşatmada kullanılan kimyasal maddeler"]
[null,null,null,null,null,null,null,1679,24959200,{"$f":"IF(K1683=1,COUNTIF($K$5:K1683,1),\"\")","v":1679},{"$f":"IF(ISNUMBER(SEARCH('Bilgi Girişi'!$E$4,KalemAdı,1))=TRUE,1,0)","v":1},"Disk şeklinde kimyasal elementler","Mal",24959200,null,null,"Pas önleyici ürünler"]
[null,null,null,null,null,null,null,1680,24960000,{"$f":"IF(K1684=1,COUNTIF($K$5:K1684,1),\"\")","v":1680},{"$f":"IF(ISNUMBER(SEARCH('Bilgi Girişi'!$E$4,KalemAdı,1))=TRUE,1,0)","v":1},"Çeşitli kimyasal ürünler","Mal",24960000,null,null,"Gliserin"]
[null,null,null,null,null,null,null,1681,24961000,{"$f":"IF(K1685=1,COUNTIF($K$5:K1685,1),\"\")","v":1681},{"$f":"IF(ISNUMBER(SEARCH('Bilgi Girişi'!$E$4,KalemAdı,1))=TRUE,1,0)","v":1},"Radyatör sıvıları","Mal",24961000,null,null,"Enzimler"]
[null,null,null,null,null,null,null,1682,24962000,{"$f":"IF(K1686=1,COUNTIF($K$5:K1686,1),\"\")","v":1682},{"$f":"IF(ISNUMBER(SEARCH('Bilgi Girişi'!$E$4,KalemAdı,1))=TRUE,1,0)","v":1},"Su ile işlenmiş yumuşatmada kullanılan kimyasal maddeler","Mal",24962000,null,null,"Mobilya ve yazılım paketleri hariç, ofis ve bilgi işlem makineleri, ekipman ve"]
[null,null,null,null,null,null,null,1683,24963000,{"$f":"IF(K1687=1,COUNTIF($K$5:K1687,1),\"\")","v":1683},{"$f":"IF(ISNUMBER(SEARCH('Bilgi Girişi'!$E$4,KalemAdı,1))=TRUE,1,0)","v":1},"Pas önleyici ürünler","Mal",24963000,null,null,"Bilgisayar, yazıcılar ve mobilya hariç, ofis makine, ekipman ve malzemeleri"]
[null,null,null,null,null,null,null,1684,24964000,{"$f":"IF(K1688=1,COUNTIF($K$5:K1688,1),\"\")","v":1684},{"$f":"IF(ISNUMBER(SEARCH('Bilgi Girişi'!$E$4,KalemAdı,1))=TRUE,1,0)","v":1},"Gliserin","Mal",24964000,null,null,"Otomatik yazı makineleri, kelime işlem makineleri"]
[null,null,null,null,null,null,null,1685,24965000,{"$f":"IF(K1689=1,COUNTIF($K$5:K1689,1),\"\")","v":1685},{"$f":"IF(ISNUMBER(SEARCH('Bilgi Girişi'!$E$4,KalemAdı,1))=TRUE,1,0)","v":1},"Enzimler","Mal",24965000,null,null,"Kelime işlemciler"]
[null,null,null,null,null,null,null,1686,30000000,{"$f":"IF(K1690=1,COUNTIF($K$5:K1690,1),\"\")","v":1686},{"$f":"IF(ISNUMBER(SEARCH('Bilgi Girişi'!$E$4,KalemAdı,1))=TRUE,1,0)","v":1},"Mobilya ve yazılım paketleri hariç, ofis ve bilgi işlem makineleri, ekipman ve","Mal",30000000,null,null,"Fotokopi ve ofset baskı donanımları"]
[null,null,null,null,null,null,null,1687,30100000,{"$f":"IF(K1691=1,COUNTIF($K$5:K1691,1),\"\")","v":1687},{"$f":"IF(ISNUMBER(SEARCH('Bilgi Girişi'!$E$4,KalemAdı,1))=TRUE,1,0)","v":1},"Bilgisayar, yazıcılar ve mobilya hariç, ofis makine, ekipman ve malzemeleri","Mal",30100000,null,null,"Fotokopi ve ısı tatbiki suretiyle kopya alma ekipmanı"]
[null,null,null,null,null,null,null,1688,30110000,{"$f":"IF(K1692=1,COUNTIF($K$5:K1692,1),\"\")","v":1688},{"$f":"IF(ISNUMBER(SEARCH('Bilgi Girişi'!$E$4,KalemAdı,1))=TRUE,1,0)","v":1},"Otomatik yazı makineleri, kelime işlem makineleri","Mal",30110000,null,null,"Fotokopi makineleri"]
[null,null,null,null,null,null,null,1689,30111000,{"$f":"IF(K1693=1,COUNTIF($K$5:K1693,1),\"\")","v":1689},{"$f":"IF(ISNUMBER(SEARCH('Bilgi Girişi'!$E$4,KalemAdı,1))=TRUE,1,0)","v":1},"Kelime işlemciler","Mal",30111000,null,null,"Fotokopi ekipmanı"]
[null,null,null,null,null,null,null,1690,30120000,{"$f":"IF(K1694=1,COUNTIF($K$5:K1694,1),\"\")","v":1690},{"$f":"IF(ISNUMBER(SEARCH('Bilgi Girişi'!$E$4,KalemAdı,1))=TRUE,1,0)","v":1},"Fotokopi ve ofset baskı donanımları","Mal",30120000,null,null,"Çoğaltma ekipmanı"]
[null,null,null,null,null,null,null,1691,30121000,{"$f":"IF(K1695=1,COUNTIF($K$5:K1695,1),\"\")","v":1691},{"$f":"IF(ISNUMBER(SEARCH('Bilgi Girişi'!$E$4,KalemAdı,1))=TRUE,1,0)","v":1},"Fotokopi ve ısı tatbiki suretiyle kopya alma ekipmanı","Mal",30121000,null,null,"Teksir makineleri"]
[null,null,null,null,null,null,null,1692,30121100,{"$f":"IF(K1696=1,COUNTIF($K$5:K1696,1),\"\")","v":1692},{"$f":"IF(ISNUMBER(SEARCH('Bilgi Girişi'!$E$4,KalemAdı,1))=TRUE,1,0)","v":1},"Fotokopi makineleri","Mal",30121100,null,null,"Çoklu faks bağlantı makineleri"]
[null,null,null,null,null,null,null,1693,30121200,{"$f":"IF(K1697=1,COUNTIF($K$5:K1697,1),\"\")","v":1693},{"$f":"IF(ISNUMBER(SEARCH('Bilgi Girişi'!$E$4,KalemAdı,1))=TRUE,1,0)","v":1},"Fotokopi ekipmanı","Mal",30121200,null,null,"Dijital vericiler"]
[null,null,null,null,null,null,null,1694,30121300,{"$f":"IF(K1698=1,COUNTIF($K$5:K1698,1),\"\")","v":1694},{"$f":"IF(ISNUMBER(SEARCH('Bilgi Girişi'!$E$4,KalemAdı,1))=TRUE,1,0)","v":1},"Çoğaltma ekipmanı","Mal",30121300,null,null,"Dijital çoğaltıcılar"]
[null,null,null,null,null,null,null,1695,30121400,{"$f":"IF(K1699=1,COUNTIF($K$5:K1699,1),\"\")","v":1695},{"$f":"IF(ISNUMBER(SEARCH('Bilgi Girişi'!$E$4,KalemAdı,1))=TRUE,1,0)","v":1},"Teksir makineleri","Mal",30121400,null,null,"Ofis tipi ofset baskı makineleri"]
[null,null,null,null,null,null,null,1696,30121410,{"$f":"IF(K1700=1,COUNTIF($K$5:K1700,1),\"\")","v":1696},{"$f":"IF(ISNUMBER(SEARCH('Bilgi Girişi'!$E$4,KalemAdı,1))=TRUE,1,0)","v":1},"Çoklu faks bağlantı makineleri","Mal",30121410,null,null,"Dijital ofset sistemleri"]
[null,null,null,null,null,null,null,1697,30121420,{"$f":"IF(K1701=1,COUNTIF($K$5:K1701,1),\"\")","v":1697},{"$f":"IF(ISNUMBER(SEARCH('Bilgi Girişi'!$E$4,KalemAdı,1))=TRUE,1,0)","v":1},"Dijital vericiler","Mal",30121420,null,null,"Dijital ofset ekipmanları"]
[null,null,null,null,null,null,null,1698,30121430,{"$f":"IF(K1702=1,COUNTIF($K$5:K1702,1),\"\")","v":1698},{"$f":"IF(ISNUMBER(SEARCH('Bilgi Girişi'!$E$4,KalemAdı,1))=TRUE,1,0)","v":1},"Dijital çoğaltıcılar","Mal",30121430,null,null,"Ofis içi ve kurumsal kullanımlı iş makineleri"]
[null,null,null,null,null,null,null,1699,30122000,{"$f":"IF(K1703=1,COUNTIF($K$5:K1703,1),\"\")","v":1699},{"$f":"IF(ISNUMBER(SEARCH('Bilgi Girişi'!$E$4,KalemAdı,1))=TRUE,1,0)","v":1},"Ofis tipi ofset baskı makineleri","Mal",30122000,null,null,"Bilet kontrol makineleri"]
[null,null,null,null,null,null,null,1700,30122100,{"$f":"IF(K1704=1,COUNTIF($K$5:K1704,1),\"\")","v":1700},{"$f":"IF(ISNUMBER(SEARCH('Bilgi Girişi'!$E$4,KalemAdı,1))=TRUE,1,0)","v":1},"Dijital ofset sistemleri","Mal",30122100,null,null,"Otomatik para bozma makineleri"]
[null,null,null,null,null,null,null,1701,30122200,{"$f":"IF(K1705=1,COUNTIF($K$5:K1705,1),\"\")","v":1701},{"$f":"IF(ISNUMBER(SEARCH('Bilgi Girişi'!$E$4,KalemAdı,1))=TRUE,1,0)","v":1},"Dijital ofset ekipmanları","Mal",30122200,null,null,"Mumlu teksir makineleri"]
[null,null,null,null,null,null,null,1702,30123000,{"$f":"IF(K1706=1,COUNTIF($K$5:K1706,1),\"\")","v":1702},{"$f":"IF(ISNUMBER(SEARCH('Bilgi Girişi'!$E$4,KalemAdı,1))=TRUE,1,0)","v":1},"Ofis içi ve kurumsal kullanımlı iş makineleri","Mal",30123000,null,null,"Katlama makineleri"]
[null,null,null,null,null,null,null,1703,30123100,{"$f":"IF(K1707=1,COUNTIF($K$5:K1707,1),\"\")","v":1703},{"$f":"IF(ISNUMBER(SEARCH('Bilgi Girişi'!$E$4,KalemAdı,1))=TRUE,1,0)","v":1},"Bilet kontrol makineleri","Mal",30123100,null,null,"Perfore delik açma makineleri"]
[null,null,null,null,null,null,null,1704,30123200,{"$f":"IF(K1708=1,COUNTIF($K$5:K1708,1),\"\")","v":1704},{"$f":"IF(ISNUMBER(SEARCH('Bilgi Girişi'!$E$4,KalemAdı,1))=TRUE,1,0)","v":1},"Otomatik para bozma makineleri","Mal",30123200,null,null,"Metal para işleme makineleri"]
[null,null,null,null,null,null,null,1705,30123300,{"$f":"IF(K1709=1,COUNTIF($K$5:K1709,1),\"\")","v":1705},{"$f":"IF(ISNUMBER(SEARCH('Bilgi Girişi'!$E$4,KalemAdı,1))=TRUE,1,0)","v":1},"Mumlu teksir makineleri","Mal",30123300,null,null,"Metal para ayırma makineleri"]
[null,null,null,null,null,null,null,1706,30123400,{"$f":"IF(K1710=1,COUNTIF($K$5:K1710,1),\"\")","v":1706},{"$f":"IF(ISNUMBER(SEARCH('Bilgi Girişi'!$E$4,KalemAdı,1))=TRUE,1,0)","v":1},"Katlama makineleri","Mal",30123400,null,null,"Metal para sayma makineleri"]
[null,null,null,null,null,null,null,1707,30123500,{"$f":"IF(K1711=1,COUNTIF($K$5:K1711,1),\"\")","v":1707},{"$f":"IF(ISNUMBER(SEARCH('Bilgi Girişi'!$E$4,KalemAdı,1))=TRUE,1,0)","v":1},"Perfore delik açma makineleri","Mal",30123500,null,null,"Metal para sarma makineleri"]
[null,null,null,null,null,null,null,1708,30123600,{"$f":"IF(K1712=1,COUNTIF($K$5:K1712,1),\"\")","v":1708},{"$f":"IF(ISNUMBER(SEARCH('Bilgi Girişi'!$E$4,KalemAdı,1))=TRUE,1,0)","v":1},"Metal para işleme makineleri","Mal",30123600,null,null,"Büro makinelerinin aksam ve parçaları"]
[null,null,null,null,null,null,null,1709,30123610,{"$f":"IF(K1713=1,COUNTIF($K$5:K1713,1),\"\")","v":1709},{"$f":"IF(ISNUMBER(SEARCH('Bilgi Girişi'!$E$4,KalemAdı,1))=TRUE,1,0)","v":1},"Metal para ayırma makineleri","Mal",30123610,null,null,"Fuserlar"]
[null,null,null,null,null,null,null,1710,30123620,{"$f":"IF(K1714=1,COUNTIF($K$5:K1714,1),\"\")","v":1710},{"$f":"IF(ISNUMBER(SEARCH('Bilgi Girişi'!$E$4,KalemAdı,1))=TRUE,1,0)","v":1},"Metal para sayma makineleri","Mal",30123620,null,null,"Fuser yağı"]
[null,null,null,null,null,null,null,1711,30123630,{"$f":"IF(K1715=1,COUNTIF($K$5:K1715,1),\"\")","v":1711},{"$f":"IF(ISNUMBER(SEARCH('Bilgi Girişi'!$E$4,KalemAdı,1))=TRUE,1,0)","v":1},"Metal para sarma makineleri","Mal",30123630,null,null,"Fuser temizleme bezleri"]
[null,null,null,null,null,null,null,1712,30124000,{"$f":"IF(K1716=1,COUNTIF($K$5:K1716,1),\"\")","v":1712},{"$f":"IF(ISNUMBER(SEARCH('Bilgi Girişi'!$E$4,KalemAdı,1))=TRUE,1,0)","v":1},"Büro makinelerinin aksam ve parçaları","Mal",30124000,null,null,"Fuser lambaları"]
[null,null,null,null,null,null,null,1713,30124100,{"$f":"IF(K1717=1,COUNTIF($K$5:K1717,1),\"\")","v":1713},{"$f":"IF(ISNUMBER(SEARCH('Bilgi Girişi'!$E$4,KalemAdı,1))=TRUE,1,0)","v":1},"Fuserlar","Mal",30124100,null,null,"Fuser (ısıtıcı) temizleme pedi"]
[null,null,null,null,null,null,null,1714,30124110,{"$f":"IF(K1718=1,COUNTIF($K$5:K1718,1),\"\")","v":1714},{"$f":"IF(ISNUMBER(SEARCH('Bilgi Girişi'!$E$4,KalemAdı,1))=TRUE,1,0)","v":1},"Fuser yağı","Mal",30124110,null,null,"Fuser filtreleri"]
[null,null,null,null,null,null,null,1715,30124120,{"$f":"IF(K1719=1,COUNTIF($K$5:K1719,1),\"\")","v":1715},{"$f":"IF(ISNUMBER(SEARCH('Bilgi Girişi'!$E$4,KalemAdı,1))=TRUE,1,0)","v":1},"Fuser temizleme bezleri","Mal",30124120,null,null,"Fuser kitleri"]
[null,null,null,null,null,null,null,1716,30124130,{"$f":"IF(K1720=1,COUNTIF($K$5:K1720,1),\"\")","v":1716},{"$f":"IF(ISNUMBER(SEARCH('Bilgi Girişi'!$E$4,KalemAdı,1))=TRUE,1,0)","v":1},"Fuser lambaları","Mal",30124130,null,null,"Ofis makineleri için tamburlar"]
[null,null,null,null,null,null,null,1717,30124140,{"$f":"IF(K1721=1,COUNTIF($K$5:K1721,1),\"\")","v":1717},{"$f":"IF(ISNUMBER(SEARCH('Bilgi Girişi'!$E$4,KalemAdı,1))=TRUE,1,0)","v":1},"Fuser (ısıtıcı) temizleme pedi","Mal",30124140,null,null,"Zımba kartuşu"]
[null,null,null,null,null,null,null,1718,30124150,{"$f":"IF(K1722=1,COUNTIF($K$5:K1722,1),\"\")","v":1718},{"$f":"IF(ISNUMBER(SEARCH('Bilgi Girişi'!$E$4,KalemAdı,1))=TRUE,1,0)","v":1},"Fuser filtreleri","Mal",30124150,null,null,"Tarayıcı Aksesuarları"]
[null,null,null,null,null,null,null,1719,30124200,{"$f":"IF(K1723=1,COUNTIF($K$5:K1723,1),\"\")","v":1719},{"$f":"IF(ISNUMBER(SEARCH('Bilgi Girişi'!$E$4,KalemAdı,1))=TRUE,1,0)","v":1},"Fuser kitleri","Mal",30124200,null,null,"Cirantalar"]
[null,null,null,null,null,null,null,1720,30124300,{"$f":"IF(K1724=1,COUNTIF($K$5:K1724,1),\"\")","v":1720},{"$f":"IF(ISNUMBER(SEARCH('Bilgi Girişi'!$E$4,KalemAdı,1))=TRUE,1,0)","v":1},"Ofis makineleri için tamburlar","Mal",30124300,null,null,"Tarayıcı belge besleyiciler"]
[null,null,null,null,null,null,null,1721,30124400,{"$f":"IF(K1725=1,COUNTIF($K$5:K1725,1),\"\")","v":1721},{"$f":"IF(ISNUMBER(SEARCH('Bilgi Girişi'!$E$4,KalemAdı,1))=TRUE,1,0)","v":1},"Zımba kartuşu","Mal",30124400,null,null,"Tarayıcı şeffaflık adaptörleri"]
[null,null,null,null,null,null,null,1722,30124500,{"$f":"IF(K1726=1,COUNTIF($K$5:K1726,1),\"\")","v":1722},{"$f":"IF(ISNUMBER(SEARCH('Bilgi Girişi'!$E$4,KalemAdı,1))=TRUE,1,0)","v":1},"Tarayıcı Aksesuarları","Mal",30124500,null,null,"Fotokopi düzenek ve makinelerinin aksam ve parçaları"]
[null,null,null,null,null,null,null,1723,30124510,{"$f":"IF(K1727=1,COUNTIF($K$5:K1727,1),\"\")","v":1723},{"$f":"IF(ISNUMBER(SEARCH('Bilgi Girişi'!$E$4,KalemAdı,1))=TRUE,1,0)","v":1},"Cirantalar","Mal",30124510,null,null,"Toner kartuşları"]
[null,null,null,null,null,null,null,1724,30124520,{"$f":"IF(K1728=1,COUNTIF($K$5:K1728,1),\"\")","v":1724},{"$f":"IF(ISNUMBER(SEARCH('Bilgi Girişi'!$E$4,KalemAdı,1))=TRUE,1,0)","v":1},"Tarayıcı belge besleyiciler","Mal",30124520,null,null,"Lazer yazıcılar / faks makineleri için tonerler"]
[null,null,null,null,null,null,null,1725,30124530,{"$f":"IF(K1729=1,COUNTIF($K$5:K1729,1),\"\")","v":1725},{"$f":"IF(ISNUMBER(SEARCH('Bilgi Girişi'!$E$4,KalemAdı,1))=TRUE,1,0)","v":1},"Tarayıcı şeffaflık adaptörleri","Mal",30124530,null,null,"Fotokopi için tonerler"]
[null,null,null,null,null,null,null,1726,30125000,{"$f":"IF(K1730=1,COUNTIF($K$5:K1730,1),\"\")","v":1726},{"$f":"IF(ISNUMBER(SEARCH('Bilgi Girişi'!$E$4,KalemAdı,1))=TRUE,1,0)","v":1},"Fotokopi düzenek ve makinelerinin aksam ve parçaları","Mal",30125000,null,null,"Veri işleme ve araştırma ve dokümantasyon merkezleri için tonerler"]
[null,null,null,null,null,null,null,1727,30125100,{"$f":"IF(K1731=1,COUNTIF($K$5:K1731,1),\"\")","v":1727},{"$f":"IF(ISNUMBER(SEARCH('Bilgi Girişi'!$E$4,KalemAdı,1))=TRUE,1,0)","v":1},"Toner kartuşları","Mal",30125100,null,null,"Postane ekipmanı"]
[null,null,null,null,null,null,null,1728,30125110,{"$f":"IF(K1732=1,COUNTIF($K$5:K1732,1),\"\")","v":1728},{"$f":"IF(ISNUMBER(SEARCH('Bilgi Girişi'!$E$4,KalemAdı,1))=TRUE,1,0)","v":1},"Lazer yazıcılar / faks makineleri için tonerler","Mal",30125110,null,null,"Gönderi bedeli tespit ve basma makineleri"]
[null,null,null,null,null,null,null,1729,30125120,{"$f":"IF(K1733=1,COUNTIF($K$5:K1733,1),\"\")","v":1729},{"$f":"IF(ISNUMBER(SEARCH('Bilgi Girişi'!$E$4,KalemAdı,1))=TRUE,1,0)","v":1},"Fotokopi için tonerler","Mal",30125120,null,null,"Kağıt ya da zarf katlama makineleri"]
[null,null,null,null,null,null,null,1730,30125130,{"$f":"IF(K1734=1,COUNTIF($K$5:K1734,1),\"\")","v":1730},{"$f":"IF(ISNUMBER(SEARCH('Bilgi Girişi'!$E$4,KalemAdı,1))=TRUE,1,0)","v":1},"Veri işleme ve araştırma ve dokümantasyon merkezleri için tonerler","Mal",30125130,null,null,{"$f":"IFERROR(VLOOKUP(ROW($P1734),$J$5:$L$9594,3,FALSE),\"\")","v":"Zarf istifleme makineleri"}]
[null,null,null,null,null,null,null,1731,30130000,{"$f":"IF(K1735=1,COUNTIF($K$5:K1735,1),\"\")","v":1731},{"$f":"IF(ISNUMBER(SEARCH('Bilgi Girişi'!$E$4,KalemAdı,1))=TRUE,1,0)","v":1},"Postane ekipmanı","Mal",30130000,null,null,"Adres yazma makineleri"]
[null,null,null,null,null,null,null,1732,30131000,{"$f":"IF(K1736=1,COUNTIF($K$5:K1736,1),\"\")","v":1732},{"$f":"IF(ISNUMBER(SEARCH('Bilgi Girişi'!$E$4,KalemAdı,1))=TRUE,1,0)","v":1},"Gönderi bedeli tespit ve basma makineleri","Mal",30131000,null,null,"Postacılık makine ve donanımları"]
[null,null,null,null,null,null,null,1733,30131100,{"$f":"IF(K1737=1,COUNTIF($K$5:K1737,1),\"\")","v":1733},{"$f":"IF(ISNUMBER(SEARCH('Bilgi Girişi'!$E$4,KalemAdı,1))=TRUE,1,0)","v":1},"Kağıt ya da zarf katlama makineleri","Mal",30131100,null,null,"Posta açma makineleri"]
[null,null,null,null,null,null,null,1734,30131200,{"$f":"IF(K1738=1,COUNTIF($K$5:K1738,1),\"\")","v":1734},{"$f":"IF(ISNUMBER(SEARCH('Bilgi Girişi'!$E$4,KalemAdı,1))=TRUE,1,0)","v":1},"Zarf istifleme makineleri","Mal",30131200,null,null,"Posta mühürleme makineleri"]
[null,null,null,null,null,null,null,1735,30131300,{"$f":"IF(K1739=1,COUNTIF($K$5:K1739,1),\"\")","v":1735},{"$f":"IF(ISNUMBER(SEARCH('Bilgi Girişi'!$E$4,KalemAdı,1))=TRUE,1,0)","v":1},"Adres yazma makineleri","Mal",30131300,null,null,"Pul iptal makineleri"]
[null,null,null,null,null,null,null,1736,30131400,{"$f":"IF(K1740=1,COUNTIF($K$5:K1740,1),\"\")","v":1736},{"$f":"IF(ISNUMBER(SEARCH('Bilgi Girişi'!$E$4,KalemAdı,1))=TRUE,1,0)","v":1},"Postacılık makine ve donanımları","Mal",30131400,null,null,"Pul yapıştırma aletleri"]
[null,null,null,null,null,null,null,1737,30131500,{"$f":"IF(K1741=1,COUNTIF($K$5:K1741,1),\"\")","v":1737},{"$f":"IF(ISNUMBER(SEARCH('Bilgi Girişi'!$E$4,KalemAdı,1))=TRUE,1,0)","v":1},"Posta açma makineleri","Mal",30131500,null,null,"Evrak tasnif makineleri"]
[null,null,null,null,null,null,null,1738,30131600,{"$f":"IF(K1742=1,COUNTIF($K$5:K1742,1),\"\")","v":1738},{"$f":"IF(ISNUMBER(SEARCH('Bilgi Girişi'!$E$4,KalemAdı,1))=TRUE,1,0)","v":1},"Posta mühürleme makineleri","Mal",30131600,null,null,"Posta tasnif ekipmanı"]
[null,null,null,null,null,null,null,1739,30131700,{"$f":"IF(K1743=1,COUNTIF($K$5:K1743,1),\"\")","v":1739},{"$f":"IF(ISNUMBER(SEARCH('Bilgi Girişi'!$E$4,KalemAdı,1))=TRUE,1,0)","v":1},"Pul iptal makineleri","Mal",30131700,null,null,"Banknot sayma makineleri"]
[null,null,null,null,null,null,null,1740,30131800,{"$f":"IF(K1744=1,COUNTIF($K$5:K1744,1),\"\")","v":1740},{"$f":"IF(ISNUMBER(SEARCH('Bilgi Girişi'!$E$4,KalemAdı,1))=TRUE,1,0)","v":1},"Pul yapıştırma aletleri","Mal",30131800,null,null,"Ayırıcılar/tasnifçiler"]
[null,null,null,null,null,null,null,1741,30132000,{"$f":"IF(K1745=1,COUNTIF($K$5:K1745,1),\"\")","v":1741},{"$f":"IF(ISNUMBER(SEARCH('Bilgi Girişi'!$E$4,KalemAdı,1))=TRUE,1,0)","v":1},"Evrak tasnif makineleri","Mal",30132000,null,null,"Postalama ekipmanı"]
[null,null,null,null,null,null,null,1742,30132100,{"$f":"IF(K1746=1,COUNTIF($K$5:K1746,1),\"\")","v":1742},{"$f":"IF(ISNUMBER(SEARCH('Bilgi Girişi'!$E$4,KalemAdı,1))=TRUE,1,0)","v":1},"Posta tasnif ekipmanı","Mal",30132100,null,null,"Toplu postalama ekipmanı"]
[null,null,null,null,null,null,null,1743,30132200,{"$f":"IF(K1747=1,COUNTIF($K$5:K1747,1),\"\")","v":1743},{"$f":"IF(ISNUMBER(SEARCH('Bilgi Girişi'!$E$4,KalemAdı,1))=TRUE,1,0)","v":1},"Banknot sayma makineleri","Mal",30132200,null,null,"Hesap ve muhasebe makineleri"]
[null,null,null,null,null,null,null,1744,30132300,{"$f":"IF(K1748=1,COUNTIF($K$5:K1748,1),\"\")","v":1744},{"$f":"IF(ISNUMBER(SEARCH('Bilgi Girişi'!$E$4,KalemAdı,1))=TRUE,1,0)","v":1},"Ayırıcılar/tasnifçiler","Mal",30132300,null,null,"Hesap Makineleri"]
[null,null,null,null,null,null,null,1745,30133000,{"$f":"IF(K1749=1,COUNTIF($K$5:K1749,1),\"\")","v":1745},{"$f":"IF(ISNUMBER(SEARCH('Bilgi Girişi'!$E$4,KalemAdı,1))=TRUE,1,0)","v":1},"Postalama ekipmanı","Mal",30133000,null,null,"Cep tipi hesap makineleri"]
[null,null,null,null,null,null,null,1746,30133100,{"$f":"IF(K1750=1,COUNTIF($K$5:K1750,1),\"\")","v":1746},{"$f":"IF(ISNUMBER(SEARCH('Bilgi Girişi'!$E$4,KalemAdı,1))=TRUE,1,0)","v":1},"Toplu postalama ekipmanı","Mal",30133100,null,null,"Masaüstü hesap makineleri"]
[null,null,null,null,null,null,null,1747,30140000,{"$f":"IF(K1751=1,COUNTIF($K$5:K1751,1),\"\")","v":1747},{"$f":"IF(ISNUMBER(SEARCH('Bilgi Girişi'!$E$4,KalemAdı,1))=TRUE,1,0)","v":1},"Hesap ve muhasebe makineleri","Mal",30140000,null,null,"Baskılı hesap makineleri"]
[null,null,null,null,null,null,null,1748,30141000,{"$f":"IF(K1752=1,COUNTIF($K$5:K1752,1),\"\")","v":1748},{"$f":"IF(ISNUMBER(SEARCH('Bilgi Girişi'!$E$4,KalemAdı,1))=TRUE,1,0)","v":1},"Hesap Makineleri","Mal",30141000,null,null,"Hesap makineleri"]
[null,null,null,null,null,null,null,1749,30141100,{"$f":"IF(K1753=1,COUNTIF($K$5:K1753,1),\"\")","v":1749},{"$f":"IF(ISNUMBER(SEARCH('Bilgi Girişi'!$E$4,KalemAdı,1))=TRUE,1,0)","v":1},"Cep tipi hesap makineleri","Mal",30141100,null,null,"Muhasebe makineleri ve yazar kasalar"]
[null,null,null,null,null,null,null,1750,30141200,{"$f":"IF(K1754=1,COUNTIF($K$5:K1754,1),\"\")","v":1750},{"$f":"IF(ISNUMBER(SEARCH('Bilgi Girişi'!$E$4,KalemAdı,1))=TRUE,1,0)","v":1},"Masaüstü hesap makineleri","Mal",30141200,null,null,"Muhasebe makineleri"]
[null,null,null,null,null,null,null,1751,30141300,{"$f":"IF(K1755=1,COUNTIF($K$5:K1755,1),\"\")","v":1751},{"$f":"IF(ISNUMBER(SEARCH('Bilgi Girişi'!$E$4,KalemAdı,1))=TRUE,1,0)","v":1},"Baskılı hesap makineleri","Mal",30141300,null,null,"Yazar kasalar"]
[null,null,null,null,null,null,null,1752,30141400,{"$f":"IF(K1756=1,COUNTIF($K$5:K1756,1),\"\")","v":1752},{"$f":"IF(ISNUMBER(SEARCH('Bilgi Girişi'!$E$4,KalemAdı,1))=TRUE,1,0)","v":1},"Hesap makineleri","Mal",30141400,null,null,"Hesaplama yapabilen diğer makineler"]
[null,null,null,null,null,null,null,1753,30142000,{"$f":"IF(K1757=1,COUNTIF($K$5:K1757,1),\"\")","v":1753},{"$f":"IF(ISNUMBER(SEARCH('Bilgi Girişi'!$E$4,KalemAdı,1))=TRUE,1,0)","v":1},"Muhasebe makineleri ve yazar kasalar","Mal",30142000,null,null,"Zarflara gönderi bedel damgalarını işyerinde basmaya yarayan makineler"]
[null,null,null,null,null,null,null,1754,30142100,{"$f":"IF(K1758=1,COUNTIF($K$5:K1758,1),\"\")","v":1754},{"$f":"IF(ISNUMBER(SEARCH('Bilgi Girişi'!$E$4,KalemAdı,1))=TRUE,1,0)","v":1},"Muhasebe makineleri","Mal",30142100,null,null,"Bilet kesme makineleri"]
[null,null,null,null,null,null,null,1755,30142200,{"$f":"IF(K1759=1,COUNTIF($K$5:K1759,1),\"\")","v":1755},{"$f":"IF(ISNUMBER(SEARCH('Bilgi Girişi'!$E$4,KalemAdı,1))=TRUE,1,0)","v":1},"Yazar kasalar","Mal",30142200,null,null,"Araç sayma makineleri"]
[null,null,null,null,null,null,null,1756,30144000,{"$f":"IF(K1760=1,COUNTIF($K$5:K1760,1),\"\")","v":1756},{"$f":"IF(ISNUMBER(SEARCH('Bilgi Girişi'!$E$4,KalemAdı,1))=TRUE,1,0)","v":1},"Hesaplama yapabilen diğer makineler","Mal",30144000,null,null,"Otomatik ücret tahsilat makineleri"]
[null,null,null,null,null,null,null,1757,30144100,{"$f":"IF(K1761=1,COUNTIF($K$5:K1761,1),\"\")","v":1757},{"$f":"IF(ISNUMBER(SEARCH('Bilgi Girişi'!$E$4,KalemAdı,1))=TRUE,1,0)","v":1},"Zarflara gönderi bedel damgalarını işyerinde basmaya yarayan makineler","Mal",30144100,null,null,"Hesap makinelerinin aksam ve parçaları"]
[null,null,null,null,null,null,null,1758,30144200,{"$f":"IF(K1762=1,COUNTIF($K$5:K1762,1),\"\")","v":1758},{"$f":"IF(ISNUMBER(SEARCH('Bilgi Girişi'!$E$4,KalemAdı,1))=TRUE,1,0)","v":1},"Bilet kesme makineleri","Mal",30144200,null,null,"Hesap makinesi ruloları"]
[null,null,null,null,null,null,null,1759,30144300,{"$f":"IF(K1763=1,COUNTIF($K$5:K1763,1),\"\")","v":1759},{"$f":"IF(ISNUMBER(SEARCH('Bilgi Girişi'!$E$4,KalemAdı,1))=TRUE,1,0)","v":1},"Araç sayma makineleri","Mal",30144300,null,null,"Daktilolar"]
[null,null,null,null,null,null,null,1760,30144400,{"$f":"IF(K1764=1,COUNTIF($K$5:K1764,1),\"\")","v":1760},{"$f":"IF(ISNUMBER(SEARCH('Bilgi Girişi'!$E$4,KalemAdı,1))=TRUE,1,0)","v":1},"Otomatik ücret tahsilat makineleri","Mal",30144400,null,null,"Elektronik daktilolar"]
[null,null,null,null,null,null,null,1761,30145000,{"$f":"IF(K1765=1,COUNTIF($K$5:K1765,1),\"\")","v":1761},{"$f":"IF(ISNUMBER(SEARCH('Bilgi Girişi'!$E$4,KalemAdı,1))=TRUE,1,0)","v":1},"Hesap makinelerinin aksam ve parçaları","Mal",30145000,null,null,"Daktiloların aksam ve parçaları"]
[null,null,null,null,null,null,null,1762,30145100,{"$f":"IF(K1766=1,COUNTIF($K$5:K1766,1),\"\")","v":1762},{"$f":"IF(ISNUMBER(SEARCH('Bilgi Girişi'!$E$4,KalemAdı,1))=TRUE,1,0)","v":1},"Hesap makinesi ruloları","Mal",30145100,null,null,"Manyetik kartlar"]
[null,null,null,null,null,null,null,1763,30150000,{"$f":"IF(K1767=1,COUNTIF($K$5:K1767,1),\"\")","v":1763},{"$f":"IF(ISNUMBER(SEARCH('Bilgi Girişi'!$E$4,KalemAdı,1))=TRUE,1,0)","v":1},"Daktilolar","Mal",30150000,null,null,"Kredi kartları"]
[null,null,null,null,null,null,null,1764,30151000,{"$f":"IF(K1768=1,COUNTIF($K$5:K1768,1),\"\")","v":1764},{"$f":"IF(ISNUMBER(SEARCH('Bilgi Girişi'!$E$4,KalemAdı,1))=TRUE,1,0)","v":1},"Elektronik daktilolar","Mal",30151000,null,null,"Akıllı kartlar"]
[null,null,null,null,null,null,null,1765,30152000,{"$f":"IF(K1769=1,COUNTIF($K$5:K1769,1),\"\")","v":1765},{"$f":"IF(ISNUMBER(SEARCH('Bilgi Girişi'!$E$4,KalemAdı,1))=TRUE,1,0)","v":1},"Daktiloların aksam ve parçaları","Mal",30152000,null,null,"Şirket veya mağazaların kredi kartı şeklindeki müşteri kartları"]
[null,null,null,null,null,null,null,1766,30160000,{"$f":"IF(K1770=1,COUNTIF($K$5:K1770,1),\"\")","v":1766},{"$f":"IF(ISNUMBER(SEARCH('Bilgi Girişi'!$E$4,KalemAdı,1))=TRUE,1,0)","v":1},"Manyetik kartlar","Mal",30160000,null,null,"Kredi kartı şeklindeki yakıt kartları"]
[null,null,null,null,null,null,null,1767,30161000,{"$f":"IF(K1771=1,COUNTIF($K$5:K1771,1),\"\")","v":1767},{"$f":"IF(ISNUMBER(SEARCH('Bilgi Girişi'!$E$4,KalemAdı,1))=TRUE,1,0)","v":1},"Kredi kartları","Mal",30161000,null,null,"Etiketleme makineleri"]
[null,null,null,null,null,null,null,1768,30162000,{"$f":"IF(K1772=1,COUNTIF($K$5:K1772,1),\"\")","v":1768},{"$f":"IF(ISNUMBER(SEARCH('Bilgi Girişi'!$E$4,KalemAdı,1))=TRUE,1,0)","v":1},"Akıllı kartlar","Mal",30162000,null,null,"Tarih veya numaralandırma makineleri"]
[null,null,null,null,null,null,null,1769,30163000,{"$f":"IF(K1773=1,COUNTIF($K$5:K1773,1),\"\")","v":1769},{"$f":"IF(ISNUMBER(SEARCH('Bilgi Girişi'!$E$4,KalemAdı,1))=TRUE,1,0)","v":1},"Şirket veya mağazaların kredi kartı şeklindeki müşteri kartları","Mal",30163000,null,null,"Kimlik belgesi baskı makineleri"]
[null,null,null,null,null,null,null,1770,30163100,{"$f":"IF(K1774=1,COUNTIF($K$5:K1774,1),\"\")","v":1770},{"$f":"IF(ISNUMBER(SEARCH('Bilgi Girişi'!$E$4,KalemAdı,1))=TRUE,1,0)","v":1},"Kredi kartı şeklindeki yakıt kartları","Mal",30163100,null,null,"Etiket uygulama makineleri"]
[null,null,null,null,null,null,null,1771,30170000,{"$f":"IF(K1775=1,COUNTIF($K$5:K1775,1),\"\")","v":1771},{"$f":"IF(ISNUMBER(SEARCH('Bilgi Girişi'!$E$4,KalemAdı,1))=TRUE,1,0)","v":1},"Etiketleme makineleri","Mal",30170000,null,null,"Etiket yapma makineleri"]
[null,null,null,null,null,null,null,1772,30171000,{"$f":"IF(K1776=1,COUNTIF($K$5:K1776,1),\"\")","v":1772},{"$f":"IF(ISNUMBER(SEARCH('Bilgi Girişi'!$E$4,KalemAdı,1))=TRUE,1,0)","v":1},"Tarih veya numaralandırma makineleri","Mal",30171000,null,null,"Yazı yazma ekipmanları"]
[null,null,null,null,null,null,null,1773,30172000,{"$f":"IF(K1777=1,COUNTIF($K$5:K1777,1),\"\")","v":1773},{"$f":"IF(ISNUMBER(SEARCH('Bilgi Girişi'!$E$4,KalemAdı,1))=TRUE,1,0)","v":1},"Kimlik belgesi baskı makineleri","Mal",30172000,null,null,"Şerite kabartmalı basıcı"]
[null,null,null,null,null,null,null,1774,30173000,{"$f":"IF(K1778=1,COUNTIF($K$5:K1778,1),\"\")","v":1774},{"$f":"IF(ISNUMBER(SEARCH('Bilgi Girişi'!$E$4,KalemAdı,1))=TRUE,1,0)","v":1},"Etiket uygulama makineleri","Mal",30173000,null,null,"Otomatik etiketleme sistemleri"]
[null,null,null,null,null,null,null,1775,30174000,{"$f":"IF(K1779=1,COUNTIF($K$5:K1779,1),\"\")","v":1775},{"$f":"IF(ISNUMBER(SEARCH('Bilgi Girişi'!$E$4,KalemAdı,1))=TRUE,1,0)","v":1},"Etiket yapma makineleri","Mal",30174000,null,null,"Yarı otomatik etiketleme sistemleri"]
[null,null,null,null,null,null,null,1776,30175000,{"$f":"IF(K1780=1,COUNTIF($K$5:K1780,1),\"\")","v":1776},{"$f":"IF(ISNUMBER(SEARCH('Bilgi Girişi'!$E$4,KalemAdı,1))=TRUE,1,0)","v":1},"Yazı yazma ekipmanları","Mal",30175000,null,null,"Etiket makineleri"]
[null,null,null,null,null,null,null,1777,30176000,{"$f":"IF(K1781=1,COUNTIF($K$5:K1781,1),\"\")","v":1777},{"$f":"IF(ISNUMBER(SEARCH('Bilgi Girişi'!$E$4,KalemAdı,1))=TRUE,1,0)","v":1},"Şerite kabartmalı basıcı","Mal",30176000,null,null,"Çek ciro etme ve çek yazma makineleri"]
[null,null,null,null,null,null,null,1778,30177000,{"$f":"IF(K1782=1,COUNTIF($K$5:K1782,1),\"\")","v":1778},{"$f":"IF(ISNUMBER(SEARCH('Bilgi Girişi'!$E$4,KalemAdı,1))=TRUE,1,0)","v":1},"Otomatik etiketleme sistemleri","Mal",30177000,null,null,"Çek ciro etme için kullanılan makineler"]
[null,null,null,null,null,null,null,1779,30178000,{"$f":"IF(K1783=1,COUNTIF($K$5:K1783,1),\"\")","v":1779},{"$f":"IF(ISNUMBER(SEARCH('Bilgi Girişi'!$E$4,KalemAdı,1))=TRUE,1,0)","v":1},"Yarı otomatik etiketleme sistemleri","Mal",30178000,null,null,"Çek yazma makineleri"]
[null,null,null,null,null,null,null,1780,30179000,{"$f":"IF(K1784=1,COUNTIF($K$5:K1784,1),\"\")","v":1780},{"$f":"IF(ISNUMBER(SEARCH('Bilgi Girişi'!$E$4,KalemAdı,1))=TRUE,1,0)","v":1},"Etiket makineleri","Mal",30179000,null,null,"Muhtelif büro ekipmanı ve parçaları"]
[null,null,null,null,null,null,null,1781,30180000,{"$f":"IF(K1785=1,COUNTIF($K$5:K1785,1),\"\")","v":1781},{"$f":"IF(ISNUMBER(SEARCH('Bilgi Girişi'!$E$4,KalemAdı,1))=TRUE,1,0)","v":1},"Çek ciro etme ve çek yazma makineleri","Mal",30180000,null,null,"Mobilya hariç ofis ekipmanları"]
[null,null,null,null,null,null,null,1782,30181000,{"$f":"IF(K1786=1,COUNTIF($K$5:K1786,1),\"\")","v":1782},{"$f":"IF(ISNUMBER(SEARCH('Bilgi Girişi'!$E$4,KalemAdı,1))=TRUE,1,0)","v":1},"Çek ciro etme için kullanılan makineler","Mal",30181000,null,null,"Dosyalama ekipmanı"]
[null,null,null,null,null,null,null,1783,30182000,{"$f":"IF(K1787=1,COUNTIF($K$5:K1787,1),\"\")","v":1783},{"$f":"IF(ISNUMBER(SEARCH('Bilgi Girişi'!$E$4,KalemAdı,1))=TRUE,1,0)","v":1},"Çek yazma makineleri","Mal",30182000,null,null,"Döner gözleri olan kart muhafaza sistemleri"]
[null,null,null,null,null,null,null,1784,30190000,{"$f":"IF(K1788=1,COUNTIF($K$5:K1788,1),\"\")","v":1784},{"$f":"IF(ISNUMBER(SEARCH('Bilgi Girişi'!$E$4,KalemAdı,1))=TRUE,1,0)","v":1},"Muhtelif büro ekipmanı ve parçaları","Mal",30190000,null,null,"Dergi rafları"]
[null,null,null,null,null,null,null,1785,30191000,{"$f":"IF(K1789=1,COUNTIF($K$5:K1789,1),\"\")","v":1785},{"$f":"IF(ISNUMBER(SEARCH('Bilgi Girişi'!$E$4,KalemAdı,1))=TRUE,1,0)","v":1},"Mobilya hariç ofis ekipmanları","Mal",30191000,null,null,"Kişisel kimlik aksesuarları"]
[null,null,null,null,null,null,null,1786,30191100,{"$f":"IF(K1790=1,COUNTIF($K$5:K1790,1),\"\")","v":1786},{"$f":"IF(ISNUMBER(SEARCH('Bilgi Girişi'!$E$4,KalemAdı,1))=TRUE,1,0)","v":1},"Dosyalama ekipmanı","Mal",30191100,null,null,"Tepegöz"]
[null,null,null,null,null,null,null,1787,30191110,{"$f":"IF(K1791=1,COUNTIF($K$5:K1791,1),\"\")","v":1787},{"$f":"IF(ISNUMBER(SEARCH('Bilgi Girişi'!$E$4,KalemAdı,1))=TRUE,1,0)","v":1},"Döner gözleri olan kart muhafaza sistemleri","Mal",30191110,null,null,"Doküman kıyma makineleri"]
[null,null,null,null,null,null,null,1788,30191120,{"$f":"IF(K1792=1,COUNTIF($K$5:K1792,1),\"\")","v":1788},{"$f":"IF(ISNUMBER(SEARCH('Bilgi Girişi'!$E$4,KalemAdı,1))=TRUE,1,0)","v":1},"Dergi rafları","Mal",30191120,null,null,"Ofis kırtasiye malzemeleri"]
[null,null,null,null,null,null,null,1789,30191140,{"$f":"IF(K1793=1,COUNTIF($K$5:K1793,1),\"\")","v":1789},{"$f":"IF(ISNUMBER(SEARCH('Bilgi Girişi'!$E$4,KalemAdı,1))=TRUE,1,0)","v":1},"Kişisel kimlik aksesuarları","Mal",30191140,null,null,"Silgiler"]
[null,null,null,null,null,null,null,1790,30191200,{"$f":"IF(K1794=1,COUNTIF($K$5:K1794,1),\"\")","v":1790},{"$f":"IF(ISNUMBER(SEARCH('Bilgi Girişi'!$E$4,KalemAdı,1))=TRUE,1,0)","v":1},"Tepegöz","Mal",30191200,null,null,"Mürekkepli ürünler"]
[null,null,null,null,null,null,null,1791,30191400,{"$f":"IF(K1795=1,COUNTIF($K$5:K1795,1),\"\")","v":1791},{"$f":"IF(ISNUMBER(SEARCH('Bilgi Girişi'!$E$4,KalemAdı,1))=TRUE,1,0)","v":1},"Doküman kıyma makineleri","Mal",30191400,null,null,"ıstampalar"]
[null,null,null,null,null,null,null,1792,30192000,{"$f":"IF(K1796=1,COUNTIF($K$5:K1796,1),\"\")","v":1792},{"$f":"IF(ISNUMBER(SEARCH('Bilgi Girişi'!$E$4,KalemAdı,1))=TRUE,1,0)","v":1},"Ofis kırtasiye malzemeleri","Mal",30192000,null,null,"Baskı makineleri için mürekkep kaynakları"]
[null,null,null,null,null,null,null,1793,30192100,{"$f":"IF(K1797=1,COUNTIF($K$5:K1797,1),\"\")","v":1793},{"$f":"IF(ISNUMBER(SEARCH('Bilgi Girişi'!$E$4,KalemAdı,1))=TRUE,1,0)","v":1},"Silgiler","Mal",30192100,null,null,"Mürekkep kartuşları"]
[null,null,null,null,null,null,null,1794,30192110,{"$f":"IF(K1798=1,COUNTIF($K$5:K1798,1),\"\")","v":1794},{"$f":"IF(ISNUMBER(SEARCH('Bilgi Girişi'!$E$4,KalemAdı,1))=TRUE,1,0)","v":1},"Mürekkepli ürünler","Mal",30192110,null,null,{"$f":"IFERROR(VLOOKUP(ROW($P1798),$J$5:$L$9594,3,FALSE),\"\")","v":"Bilyalı kalemler"}]
[null,null,null,null,null,null,null,1795,30192111,{"$f":"IF(K1799=1,COUNTIF($K$5:K1799,1),\"\")","v":1795},{"$f":"IF(ISNUMBER(SEARCH('Bilgi Girişi'!$E$4,KalemAdı,1))=TRUE,1,0)","v":1},"ıstampalar","Mal",30192111,null,null,"Dolma kalemler"]
[null,null,null,null,null,null,null,1796,30192112,{"$f":"IF(K1800=1,COUNTIF($K$5:K1800,1),\"\")","v":1796},{"$f":"IF(ISNUMBER(SEARCH('Bilgi Girişi'!$E$4,KalemAdı,1))=TRUE,1,0)","v":1},"Baskı makineleri için mürekkep kaynakları","Mal",30192112,null,null,"Elyaftan mamul kalemler"]
[null,null,null,null,null,null,null,1797,30192113,{"$f":"IF(K1801=1,COUNTIF($K$5:K1801,1),\"\")","v":1797},{"$f":"IF(ISNUMBER(SEARCH('Bilgi Girişi'!$E$4,KalemAdı,1))=TRUE,1,0)","v":1},"Mürekkep kartuşları","Mal",30192113,null,null,"Keçe uçlu kalemler"]
[null,null,null,null,null,null,null,1798,30192121,{"$f":"IF(K1802=1,COUNTIF($K$5:K1802,1),\"\")","v":1798},{"$f":"IF(ISNUMBER(SEARCH('Bilgi Girişi'!$E$4,KalemAdı,1))=TRUE,1,0)","v":1},"Bilyalı kalemler","Mal",30192121,null,null,"Markerler, işaretleme amaçlı kalemler"]
[null,null,null,null,null,null,null,1799,30192122,{"$f":"IF(K1803=1,COUNTIF($K$5:K1803,1),\"\")","v":1799},{"$f":"IF(ISNUMBER(SEARCH('Bilgi Girişi'!$E$4,KalemAdı,1))=TRUE,1,0)","v":1},"Dolma kalemler","Mal",30192122,null,null,"Teknik kalemler"]
[null,null,null,null,null,null,null,1800,30192123,{"$f":"IF(K1804=1,COUNTIF($K$5:K1804,1),\"\")","v":1800},{"$f":"IF(ISNUMBER(SEARCH('Bilgi Girişi'!$E$4,KalemAdı,1))=TRUE,1,0)","v":1},"Elyaftan mamul kalemler","Mal",30192123,null,null,"Tükenmez kalemlikleri"]
[null,null,null,null,null,null,null,1801,30192124,{"$f":"IF(K1805=1,COUNTIF($K$5:K1805,1),\"\")","v":1801},{"$f":"IF(ISNUMBER(SEARCH('Bilgi Girişi'!$E$4,KalemAdı,1))=TRUE,1,0)","v":1},"Keçe uçlu kalemler","Mal",30192124,null,null,"Kurşun kalemler"]
[null,null,null,null,null,null,null,1802,30192125,{"$f":"IF(K1806=1,COUNTIF($K$5:K1806,1),\"\")","v":1802},{"$f":"IF(ISNUMBER(SEARCH('Bilgi Girişi'!$E$4,KalemAdı,1))=TRUE,1,0)","v":1},"Markerler, işaretleme amaçlı kalemler","Mal",30192125,null,null,"İtme mekanizmalı, uçlu kurşun kalemler"]
[null,null,null,null,null,null,null,1803,30192126,{"$f":"IF(K1807=1,COUNTIF($K$5:K1807,1),\"\")","v":1803},{"$f":"IF(ISNUMBER(SEARCH('Bilgi Girişi'!$E$4,KalemAdı,1))=TRUE,1,0)","v":1},"Teknik kalemler","Mal",30192126,null,null,"Kurşun kalem uçları"]
[null,null,null,null,null,null,null,1804,30192127,{"$f":"IF(K1808=1,COUNTIF($K$5:K1808,1),\"\")","v":1804},{"$f":"IF(ISNUMBER(SEARCH('Bilgi Girişi'!$E$4,KalemAdı,1))=TRUE,1,0)","v":1},"Tükenmez kalemlikleri","Mal",30192127,null,null,"Kalem traşlar"]
[null,null,null,null,null,null,null,1805,30192130,{"$f":"IF(K1809=1,COUNTIF($K$5:K1809,1),\"\")","v":1805},{"$f":"IF(ISNUMBER(SEARCH('Bilgi Girişi'!$E$4,KalemAdı,1))=TRUE,1,0)","v":1},"Kurşun kalemler","Mal",30192130,null,null,"Kurşun kalemlikleri"]
[null,null,null,null,null,null,null,1806,30192131,{"$f":"IF(K1810=1,COUNTIF($K$5:K1810,1),\"\")","v":1806},{"$f":"IF(ISNUMBER(SEARCH('Bilgi Girişi'!$E$4,KalemAdı,1))=TRUE,1,0)","v":1},"İtme mekanizmalı, uçlu kurşun kalemler","Mal",30192131,null,null,"Tarih kaşeleri"]
[null,null,null,null,null,null,null,1807,30192132,{"$f":"IF(K1811=1,COUNTIF($K$5:K1811,1),\"\")","v":1807},{"$f":"IF(ISNUMBER(SEARCH('Bilgi Girişi'!$E$4,KalemAdı,1))=TRUE,1,0)","v":1},"Kurşun kalem uçları","Mal",30192132,null,null,"Mühürleme damgaları"]
[null,null,null,null,null,null,null,1808,30192133,{"$f":"IF(K1812=1,COUNTIF($K$5:K1812,1),\"\")","v":1808},{"$f":"IF(ISNUMBER(SEARCH('Bilgi Girişi'!$E$4,KalemAdı,1))=TRUE,1,0)","v":1},"Kalem traşlar","Mal",30192133,null,null,"Numaralandırma damgaları"]
[null,null,null,null,null,null,null,1809,30192134,{"$f":"IF(K1813=1,COUNTIF($K$5:K1813,1),\"\")","v":1809},{"$f":"IF(ISNUMBER(SEARCH('Bilgi Girişi'!$E$4,KalemAdı,1))=TRUE,1,0)","v":1},"Kurşun kalemlikleri","Mal",30192134,null,null,"Kaşeler"]
[null,null,null,null,null,null,null,1810,30192150,{"$f":"IF(K1814=1,COUNTIF($K$5:K1814,1),\"\")","v":1810},{"$f":"IF(ISNUMBER(SEARCH('Bilgi Girişi'!$E$4,KalemAdı,1))=TRUE,1,0)","v":1},"Tarih kaşeleri","Mal",30192150,null,null,"Yedek ıstampalar"]
[null,null,null,null,null,null,null,1811,30192151,{"$f":"IF(K1815=1,COUNTIF($K$5:K1815,1),\"\")","v":1811},{"$f":"IF(ISNUMBER(SEARCH('Bilgi Girişi'!$E$4,KalemAdı,1))=TRUE,1,0)","v":1},"Mühürleme damgaları","Mal",30192151,null,null,"Ofis damga askıları"]
[null,null,null,null,null,null,null,1812,30192152,{"$f":"IF(K1816=1,COUNTIF($K$5:K1816,1),\"\")","v":1812},{"$f":"IF(ISNUMBER(SEARCH('Bilgi Girişi'!$E$4,KalemAdı,1))=TRUE,1,0)","v":1},"Numaralandırma damgaları","Mal",30192152,null,null,"Yazı düzelticiler"]
[null,null,null,null,null,null,null,1813,30192153,{"$f":"IF(K1817=1,COUNTIF($K$5:K1817,1),\"\")","v":1813},{"$f":"IF(ISNUMBER(SEARCH('Bilgi Girişi'!$E$4,KalemAdı,1))=TRUE,1,0)","v":1},"Kaşeler","Mal",30192153,null,null,"Duyuru panoları"]
[null,null,null,null,null,null,null,1814,30192154,{"$f":"IF(K1818=1,COUNTIF($K$5:K1818,1),\"\")","v":1814},{"$f":"IF(ISNUMBER(SEARCH('Bilgi Girişi'!$E$4,KalemAdı,1))=TRUE,1,0)","v":1},"Yedek ıstampalar","Mal",30192154,null,null,"Mezura ve ölçme bantları"]
[null,null,null,null,null,null,null,1815,30192155,{"$f":"IF(K1819=1,COUNTIF($K$5:K1819,1),\"\")","v":1815},{"$f":"IF(ISNUMBER(SEARCH('Bilgi Girişi'!$E$4,KalemAdı,1))=TRUE,1,0)","v":1},"Ofis damga askıları","Mal",30192155,null,null,"Mürekkep şeritleri"]
[null,null,null,null,null,null,null,1816,30192160,{"$f":"IF(K1820=1,COUNTIF($K$5:K1820,1),\"\")","v":1816},{"$f":"IF(ISNUMBER(SEARCH('Bilgi Girişi'!$E$4,KalemAdı,1))=TRUE,1,0)","v":1},"Yazı düzelticiler","Mal",30192160,null,null,"Daktilo şeritleri"]
[null,null,null,null,null,null,null,1817,30192170,{"$f":"IF(K1821=1,COUNTIF($K$5:K1821,1),\"\")","v":1817},{"$f":"IF(ISNUMBER(SEARCH('Bilgi Girişi'!$E$4,KalemAdı,1))=TRUE,1,0)","v":1},"Duyuru panoları","Mal",30192170,null,null,"Yazıcı şeritleri"]
[null,null,null,null,null,null,null,1818,30192200,{"$f":"IF(K1822=1,COUNTIF($K$5:K1822,1),\"\")","v":1818},{"$f":"IF(ISNUMBER(SEARCH('Bilgi Girişi'!$E$4,KalemAdı,1))=TRUE,1,0)","v":1},"Mezura ve ölçme bantları","Mal",30192200,null,null,"Hesap makinesi şerit ve tamburları"]
[null,null,null,null,null,null,null,1819,30192300,{"$f":"IF(K1823=1,COUNTIF($K$5:K1823,1),\"\")","v":1819},{"$f":"IF(ISNUMBER(SEARCH('Bilgi Girişi'!$E$4,KalemAdı,1))=TRUE,1,0)","v":1},"Mürekkep şeritleri","Mal",30192300,null,null,"Faks şeritleri"]
[null,null,null,null,null,null,null,1820,30192310,{"$f":"IF(K1824=1,COUNTIF($K$5:K1824,1),\"\")","v":1820},{"$f":"IF(ISNUMBER(SEARCH('Bilgi Girişi'!$E$4,KalemAdı,1))=TRUE,1,0)","v":1},"Daktilo şeritleri","Mal",30192310,null,null,"Yazarkasaların şeritleri"]
[null,null,null,null,null,null,null,1821,30192320,{"$f":"IF(K1825=1,COUNTIF($K$5:K1825,1),\"\")","v":1821},{"$f":"IF(ISNUMBER(SEARCH('Bilgi Girişi'!$E$4,KalemAdı,1))=TRUE,1,0)","v":1},"Yazıcı şeritleri","Mal",30192320,null,null,"Grafiklerin çoğaltılması için kullanılan malzemeler"]
[null,null,null,null,null,null,null,1822,30192330,{"$f":"IF(K1826=1,COUNTIF($K$5:K1826,1),\"\")","v":1822},{"$f":"IF(ISNUMBER(SEARCH('Bilgi Girişi'!$E$4,KalemAdı,1))=TRUE,1,0)","v":1},"Hesap makinesi şerit ve tamburları","Mal",30192330,null,null,"Tepegöz asetatları, saydamları"]
[null,null,null,null,null,null,null,1823,30192340,{"$f":"IF(K1827=1,COUNTIF($K$5:K1827,1),\"\")","v":1823},{"$f":"IF(ISNUMBER(SEARCH('Bilgi Girişi'!$E$4,KalemAdı,1))=TRUE,1,0)","v":1},"Faks şeritleri","Mal",30192340,null,null,"Çizim tahtaları"]
[null,null,null,null,null,null,null,1824,30192350,{"$f":"IF(K1828=1,COUNTIF($K$5:K1828,1),\"\")","v":1824},{"$f":"IF(ISNUMBER(SEARCH('Bilgi Girişi'!$E$4,KalemAdı,1))=TRUE,1,0)","v":1},"Yazarkasaların şeritleri","Mal",30192350,null,null,"Kırtasiye malzemesi"]
[null,null,null,null,null,null,null,1825,30192400,{"$f":"IF(K1829=1,COUNTIF($K$5:K1829,1),\"\")","v":1825},{"$f":"IF(ISNUMBER(SEARCH('Bilgi Girişi'!$E$4,KalemAdı,1))=TRUE,1,0)","v":1},"Grafiklerin çoğaltılması için kullanılan malzemeler","Mal",30192400,null,null,"Kendinden yapışkanlı etiketler"]
[null,null,null,null,null,null,null,1826,30192500,{"$f":"IF(K1830=1,COUNTIF($K$5:K1830,1),\"\")","v":1826},{"$f":"IF(ISNUMBER(SEARCH('Bilgi Girişi'!$E$4,KalemAdı,1))=TRUE,1,0)","v":1},"Tepegöz asetatları, saydamları","Mal",30192500,null,null,"Düzeltme araçları"]
[null,null,null,null,null,null,null,1827,30192600,{"$f":"IF(K1831=1,COUNTIF($K$5:K1831,1),\"\")","v":1827},{"$f":"IF(ISNUMBER(SEARCH('Bilgi Girişi'!$E$4,KalemAdı,1))=TRUE,1,0)","v":1},"Çizim tahtaları","Mal",30192600,null,null,"Yazı düzeltici şerit veya bantlar"]
[null,null,null,null,null,null,null,1828,30192700,{"$f":"IF(K1832=1,COUNTIF($K$5:K1832,1),\"\")","v":1828},{"$f":"IF(ISNUMBER(SEARCH('Bilgi Girişi'!$E$4,KalemAdı,1))=TRUE,1,0)","v":1},"Kırtasiye malzemesi","Mal",30192700,null,null,"Sıvı yazı düzelticiler"]
[null,null,null,null,null,null,null,1829,30192800,{"$f":"IF(K1833=1,COUNTIF($K$5:K1833,1),\"\")","v":1829},{"$f":"IF(ISNUMBER(SEARCH('Bilgi Girişi'!$E$4,KalemAdı,1))=TRUE,1,0)","v":1},"Kendinden yapışkanlı etiketler","Mal",30192800,null,null,"Yazı düzeltici kalemler"]
[null,null,null,null,null,null,null,1830,30192900,{"$f":"IF(K1834=1,COUNTIF($K$5:K1834,1),\"\")","v":1830},{"$f":"IF(ISNUMBER(SEARCH('Bilgi Girişi'!$E$4,KalemAdı,1))=TRUE,1,0)","v":1},"Düzeltme araçları","Mal",30192900,null,null,"Yazı düzeltici kalem yedekleri"]
[null,null,null,null,null,null,null,1831,30192910,{"$f":"IF(K1835=1,COUNTIF($K$5:K1835,1),\"\")","v":1831},{"$f":"IF(ISNUMBER(SEARCH('Bilgi Girişi'!$E$4,KalemAdı,1))=TRUE,1,0)","v":1},"Yazı düzeltici şerit veya bantlar","Mal",30192910,null,null,"Elektrikli silgiler"]
[null,null,null,null,null,null,null,1832,30192920,{"$f":"IF(K1836=1,COUNTIF($K$5:K1836,1),\"\")","v":1832},{"$f":"IF(ISNUMBER(SEARCH('Bilgi Girişi'!$E$4,KalemAdı,1))=TRUE,1,0)","v":1},"Sıvı yazı düzelticiler","Mal",30192920,null,null,"Organizatörler ve aksesuarları"]
[null,null,null,null,null,null,null,1833,30192930,{"$f":"IF(K1837=1,COUNTIF($K$5:K1837,1),\"\")","v":1833},{"$f":"IF(ISNUMBER(SEARCH('Bilgi Girişi'!$E$4,KalemAdı,1))=TRUE,1,0)","v":1},"Yazı düzeltici kalemler","Mal",30192930,null,null,"Çalışma masası çekmecesi düzenleyicileri"]
[null,null,null,null,null,null,null,1834,30192940,{"$f":"IF(K1838=1,COUNTIF($K$5:K1838,1),\"\")","v":1834},{"$f":"IF(ISNUMBER(SEARCH('Bilgi Girişi'!$E$4,KalemAdı,1))=TRUE,1,0)","v":1},"Yazı düzeltici kalem yedekleri","Mal",30192940,null,null,"Masaüstü tepsiler veya düzenleyicileri"]
[null,null,null,null,null,null,null,1835,30192950,{"$f":"IF(K1839=1,COUNTIF($K$5:K1839,1),\"\")","v":1835},{"$f":"IF(ISNUMBER(SEARCH('Bilgi Girişi'!$E$4,KalemAdı,1))=TRUE,1,0)","v":1},"Elektrikli silgiler","Mal",30192950,null,null,"Askılı düzenleyiciler"]
[null,null,null,null,null,null,null,1836,30193000,{"$f":"IF(K1840=1,COUNTIF($K$5:K1840,1),\"\")","v":1836},{"$f":"IF(ISNUMBER(SEARCH('Bilgi Girişi'!$E$4,KalemAdı,1))=TRUE,1,0)","v":1},"Organizatörler ve aksesuarları","Mal",30193000,null,null,"Kitap destekleri"]
[null,null,null,null,null,null,null,1837,30193100,{"$f":"IF(K1841=1,COUNTIF($K$5:K1841,1),\"\")","v":1837},{"$f":"IF(ISNUMBER(SEARCH('Bilgi Girişi'!$E$4,KalemAdı,1))=TRUE,1,0)","v":1},"Çalışma masası çekmecesi düzenleyicileri","Mal",30193100,null,null,"Literatür rafı"]
[null,null,null,null,null,null,null,1838,30193200,{"$f":"IF(K1842=1,COUNTIF($K$5:K1842,1),\"\")","v":1838},{"$f":"IF(ISNUMBER(SEARCH('Bilgi Girişi'!$E$4,KalemAdı,1))=TRUE,1,0)","v":1},"Masaüstü tepsiler veya düzenleyicileri","Mal",30193200,null,null,"Günlükler veya takvimler için destek"]
[null,null,null,null,null,null,null,1839,30193300,{"$f":"IF(K1843=1,COUNTIF($K$5:K1843,1),\"\")","v":1839},{"$f":"IF(ISNUMBER(SEARCH('Bilgi Girişi'!$E$4,KalemAdı,1))=TRUE,1,0)","v":1},"Askılı düzenleyiciler","Mal",30193300,null,null,"Dosya depolama kutusu"]
[null,null,null,null,null,null,null,1840,30193400,{"$f":"IF(K1844=1,COUNTIF($K$5:K1844,1),\"\")","v":1840},{"$f":"IF(ISNUMBER(SEARCH('Bilgi Girişi'!$E$4,KalemAdı,1))=TRUE,1,0)","v":1},"Kitap destekleri","Mal",30193400,null,null,"Mesaj tutucuları"]
[null,null,null,null,null,null,null,1841,30193500,{"$f":"IF(K1845=1,COUNTIF($K$5:K1845,1),\"\")","v":1841},{"$f":"IF(ISNUMBER(SEARCH('Bilgi Girişi'!$E$4,KalemAdı,1))=TRUE,1,0)","v":1},"Literatür rafı","Mal",30193500,null,null,"Evrak tutucuları"]
[null,null,null,null,null,null,null,1842,30193600,{"$f":"IF(K1846=1,COUNTIF($K$5:K1846,1),\"\")","v":1842},{"$f":"IF(ISNUMBER(SEARCH('Bilgi Girişi'!$E$4,KalemAdı,1))=TRUE,1,0)","v":1},"Günlükler veya takvimler için destek","Mal",30193600,null,null,"Çizim malzemeleri"]
[null,null,null,null,null,null,null,1843,30193700,{"$f":"IF(K1847=1,COUNTIF($K$5:K1847,1),\"\")","v":1843},{"$f":"IF(ISNUMBER(SEARCH('Bilgi Girişi'!$E$4,KalemAdı,1))=TRUE,1,0)","v":1},"Dosya depolama kutusu","Mal",30193700,null,null,"Eğriler"]
[null,null,null,null,null,null,null,1844,30193800,{"$f":"IF(K1848=1,COUNTIF($K$5:K1848,1),\"\")","v":1844},{"$f":"IF(ISNUMBER(SEARCH('Bilgi Girişi'!$E$4,KalemAdı,1))=TRUE,1,0)","v":1},"Mesaj tutucuları","Mal",30193800,null,null,"Çizim raptiyeleri, bantları ve filmleri"]
[null,null,null,null,null,null,null,1845,30193900,{"$f":"IF(K1849=1,COUNTIF($K$5:K1849,1),\"\")","v":1845},{"$f":"IF(ISNUMBER(SEARCH('Bilgi Girişi'!$E$4,KalemAdı,1))=TRUE,1,0)","v":1},"Evrak tutucuları","Mal",30193900,null,null,"Çizimlerde kullanılan raptiyeler veya bantların"]
[null,null,null,null,null,null,null,1846,30194000,{"$f":"IF(K1850=1,COUNTIF($K$5:K1850,1),\"\")","v":1846},{"$f":"IF(ISNUMBER(SEARCH('Bilgi Girişi'!$E$4,KalemAdı,1))=TRUE,1,0)","v":1},"Çizim malzemeleri","Mal",30194000,null,null,"Aydınger kağıdı"]
[null,null,null,null,null,null,null,1847,30194100,{"$f":"IF(K1851=1,COUNTIF($K$5:K1851,1),\"\")","v":1847},{"$f":"IF(ISNUMBER(SEARCH('Bilgi Girişi'!$E$4,KalemAdı,1))=TRUE,1,0)","v":1},"Eğriler","Mal",30194100,null,null,"Çizim kitleri, setleri ve kağıtları"]
[null,null,null,null,null,null,null,1848,30194200,{"$f":"IF(K1852=1,COUNTIF($K$5:K1852,1),\"\")","v":1848},{"$f":"IF(ISNUMBER(SEARCH('Bilgi Girişi'!$E$4,KalemAdı,1))=TRUE,1,0)","v":1},"Çizim raptiyeleri, bantları ve filmleri","Mal",30194200,null,null,"Çizim kitleri veya setleri"]
[null,null,null,null,null,null,null,1849,30194210,{"$f":"IF(K1853=1,COUNTIF($K$5:K1853,1),\"\")","v":1849},{"$f":"IF(ISNUMBER(SEARCH('Bilgi Girişi'!$E$4,KalemAdı,1))=TRUE,1,0)","v":1},"Çizimlerde kullanılan raptiyeler veya bantların","Mal",30194210,null,null,"Çizim kağıtları"]
[null,null,null,null,null,null,null,1850,30194220,{"$f":"IF(K1854=1,COUNTIF($K$5:K1854,1),\"\")","v":1850},{"$f":"IF(ISNUMBER(SEARCH('Bilgi Girişi'!$E$4,KalemAdı,1))=TRUE,1,0)","v":1},"Aydınger kağıdı","Mal",30194220,null,null,"Çizim masa örtüleri"]
[null,null,null,null,null,null,null,1851,30194300,{"$f":"IF(K1855=1,COUNTIF($K$5:K1855,1),\"\")","v":1851},{"$f":"IF(ISNUMBER(SEARCH('Bilgi Girişi'!$E$4,KalemAdı,1))=TRUE,1,0)","v":1},"Çizim kitleri, setleri ve kağıtları","Mal",30194300,null,null,"Yazı yazma materyelleri"]
[null,null,null,null,null,null,null,1852,30194310,{"$f":"IF(K1856=1,COUNTIF($K$5:K1856,1),\"\")","v":1852},{"$f":"IF(ISNUMBER(SEARCH('Bilgi Girişi'!$E$4,KalemAdı,1))=TRUE,1,0)","v":1},"Çizim kitleri veya setleri","Mal",30194310,null,null,"İletkiler"]
[null,null,null,null,null,null,null,1853,30194320,{"$f":"IF(K1857=1,COUNTIF($K$5:K1857,1),\"\")","v":1853},{"$f":"IF(ISNUMBER(SEARCH('Bilgi Girişi'!$E$4,KalemAdı,1))=TRUE,1,0)","v":1},"Çizim kağıtları","Mal",30194320,null,null,"Şablonlar"]
[null,null,null,null,null,null,null,1854,30194400,{"$f":"IF(K1858=1,COUNTIF($K$5:K1858,1),\"\")","v":1854},{"$f":"IF(ISNUMBER(SEARCH('Bilgi Girişi'!$E$4,KalemAdı,1))=TRUE,1,0)","v":1},"Çizim masa örtüleri","Mal",30194400,null,null,"Te cetvelleri ve gönyeler"]
[null,null,null,null,null,null,null,1855,30194500,{"$f":"IF(K1859=1,COUNTIF($K$5:K1859,1),\"\")","v":1855},{"$f":"IF(ISNUMBER(SEARCH('Bilgi Girişi'!$E$4,KalemAdı,1))=TRUE,1,0)","v":1},"Yazı yazma materyelleri","Mal",30194500,null,null,"Te cetvelleri"]
[null,null,null,null,null,null,null,1856,30194600,{"$f":"IF(K1860=1,COUNTIF($K$5:K1860,1),\"\")","v":1856},{"$f":"IF(ISNUMBER(SEARCH('Bilgi Girişi'!$E$4,KalemAdı,1))=TRUE,1,0)","v":1},"İletkiler","Mal",30194600,null,null,"Gönyeler"]
[null,null,null,null,null,null,null,1857,30194700,{"$f":"IF(K1861=1,COUNTIF($K$5:K1861,1),\"\")","v":1857},{"$f":"IF(ISNUMBER(SEARCH('Bilgi Girişi'!$E$4,KalemAdı,1))=TRUE,1,0)","v":1},"Şablonlar","Mal",30194700,null,null,"Çalışma yüzeyi koruma kapakları"]
[null,null,null,null,null,null,null,1858,30194800,{"$f":"IF(K1862=1,COUNTIF($K$5:K1862,1),\"\")","v":1858},{"$f":"IF(ISNUMBER(SEARCH('Bilgi Girişi'!$E$4,KalemAdı,1))=TRUE,1,0)","v":1},"Te cetvelleri ve gönyeler","Mal",30194800,null,null,{"$f":"IFERROR(VLOOKUP(ROW($P1862),$J$5:$L$9594,3,FALSE),\"\")","v":"Panolar"}]
[null,null,null,null,null,null,null,1859,30194810,{"$f":"IF(K1863=1,COUNTIF($K$5:K1863,1),\"\")","v":1859},{"$f":"IF(ISNUMBER(SEARCH('Bilgi Girişi'!$E$4,KalemAdı,1))=TRUE,1,0)","v":1},"Te cetvelleri","Mal",30194810,null,null,"Planlama tahtaları veya aksesuarları"]
[null,null,null,null,null,null,null,1860,30194820,{"$f":"IF(K1864=1,COUNTIF($K$5:K1864,1),\"\")","v":1860},{"$f":"IF(ISNUMBER(SEARCH('Bilgi Girişi'!$E$4,KalemAdı,1))=TRUE,1,0)","v":1},"Gönyeler","Mal",30194820,null,null,"Elektronik tahtalar veya aksesuarlar"]
[null,null,null,null,null,null,null,1861,30194900,{"$f":"IF(K1865=1,COUNTIF($K$5:K1865,1),\"\")","v":1861},{"$f":"IF(ISNUMBER(SEARCH('Bilgi Girişi'!$E$4,KalemAdı,1))=TRUE,1,0)","v":1},"Çalışma yüzeyi koruma kapakları","Mal",30194900,null,null,"Yazı panoları veya aksesuarları"]
[null,null,null,null,null,null,null,1862,30195000,{"$f":"IF(K1866=1,COUNTIF($K$5:K1866,1),\"\")","v":1862},{"$f":"IF(ISNUMBER(SEARCH('Bilgi Girişi'!$E$4,KalemAdı,1))=TRUE,1,0)","v":1},"Panolar","Mal",30195000,null,null,"Silinebilir kuru tahtalar veya aksesuarları"]
[null,null,null,null,null,null,null,1863,30195100,{"$f":"IF(K1867=1,COUNTIF($K$5:K1867,1),\"\")","v":1863},{"$f":"IF(ISNUMBER(SEARCH('Bilgi Girişi'!$E$4,KalemAdı,1))=TRUE,1,0)","v":1},"Planlama tahtaları veya aksesuarları","Mal",30195100,null,null,"Tebeşir tahtası ve aksesuarları"]
[null,null,null,null,null,null,null,1864,30195200,{"$f":"IF(K1868=1,COUNTIF($K$5:K1868,1),\"\")","v":1864},{"$f":"IF(ISNUMBER(SEARCH('Bilgi Girişi'!$E$4,KalemAdı,1))=TRUE,1,0)","v":1},"Elektronik tahtalar veya aksesuarlar","Mal",30195200,null,null,"Duyuru panoları veya aksesuarları"]
[null,null,null,null,null,null,null,1865,30195300,{"$f":"IF(K1869=1,COUNTIF($K$5:K1869,1),\"\")","v":1865},{"$f":"IF(ISNUMBER(SEARCH('Bilgi Girişi'!$E$4,KalemAdı,1))=TRUE,1,0)","v":1},"Yazı panoları veya aksesuarları","Mal",30195300,null,null,"Tahta temizleme kitleri veya aksesuarları"]
[null,null,null,null,null,null,null,1866,30195400,{"$f":"IF(K1870=1,COUNTIF($K$5:K1870,1),\"\")","v":1866},{"$f":"IF(ISNUMBER(SEARCH('Bilgi Girişi'!$E$4,KalemAdı,1))=TRUE,1,0)","v":1},"Silinebilir kuru tahtalar veya aksesuarları","Mal",30195400,null,null,"Askı rayları ya da tutacakları"]
[null,null,null,null,null,null,null,1867,30195500,{"$f":"IF(K1871=1,COUNTIF($K$5:K1871,1),\"\")","v":1867},{"$f":"IF(ISNUMBER(SEARCH('Bilgi Girişi'!$E$4,KalemAdı,1))=TRUE,1,0)","v":1},"Tebeşir tahtası ve aksesuarları","Mal",30195500,null,null,"Beyaz tahtalar ve manyetik panolar"]
[null,null,null,null,null,null,null,1868,30195600,{"$f":"IF(K1872=1,COUNTIF($K$5:K1872,1),\"\")","v":1868},{"$f":"IF(ISNUMBER(SEARCH('Bilgi Girişi'!$E$4,KalemAdı,1))=TRUE,1,0)","v":1},"Duyuru panoları veya aksesuarları","Mal",30195600,null,null,"Beyaz yazı tahtaları"]
[null,null,null,null,null,null,null,1869,30195700,{"$f":"IF(K1873=1,COUNTIF($K$5:K1873,1),\"\")","v":1869},{"$f":"IF(ISNUMBER(SEARCH('Bilgi Girişi'!$E$4,KalemAdı,1))=TRUE,1,0)","v":1},"Tahta temizleme kitleri veya aksesuarları","Mal",30195700,null,null,"Beyaz tahta aksesuarları"]
[null,null,null,null,null,null,null,1870,30195800,{"$f":"IF(K1874=1,COUNTIF($K$5:K1874,1),\"\")","v":1870},{"$f":"IF(ISNUMBER(SEARCH('Bilgi Girişi'!$E$4,KalemAdı,1))=TRUE,1,0)","v":1},"Askı rayları ya da tutacakları","Mal",30195800,null,null,"Beyaz tahta sehpaları"]
[null,null,null,null,null,null,null,1871,30195900,{"$f":"IF(K1875=1,COUNTIF($K$5:K1875,1),\"\")","v":1871},{"$f":"IF(ISNUMBER(SEARCH('Bilgi Girişi'!$E$4,KalemAdı,1))=TRUE,1,0)","v":1},"Beyaz tahtalar ve manyetik panolar","Mal",30195900,null,null,"Kağıt tahtası sehpaları"]
[null,null,null,null,null,null,null,1872,30195910,{"$f":"IF(K1876=1,COUNTIF($K$5:K1876,1),\"\")","v":1872},{"$f":"IF(ISNUMBER(SEARCH('Bilgi Girişi'!$E$4,KalemAdı,1))=TRUE,1,0)","v":1},"Beyaz yazı tahtaları","Mal",30195910,null,null,"Manyetik tahtalar"]
[null,null,null,null,null,null,null,1873,30195911,{"$f":"IF(K1877=1,COUNTIF($K$5:K1877,1),\"\")","v":1873},{"$f":"IF(ISNUMBER(SEARCH('Bilgi Girişi'!$E$4,KalemAdı,1))=TRUE,1,0)","v":1},"Beyaz tahta aksesuarları","Mal",30195911,null,null,"Manyetik kartlar için silgiler"]
[null,null,null,null,null,null,null,1874,30195912,{"$f":"IF(K1878=1,COUNTIF($K$5:K1878,1),\"\")","v":1874},{"$f":"IF(ISNUMBER(SEARCH('Bilgi Girişi'!$E$4,KalemAdı,1))=TRUE,1,0)","v":1},"Beyaz tahta sehpaları","Mal",30195912,null,null,"Planlama sistemleri"]
[null,null,null,null,null,null,null,1875,30195913,{"$f":"IF(K1879=1,COUNTIF($K$5:K1879,1),\"\")","v":1875},{"$f":"IF(ISNUMBER(SEARCH('Bilgi Girişi'!$E$4,KalemAdı,1))=TRUE,1,0)","v":1},"Kağıt tahtası sehpaları","Mal",30195913,null,null,"Toplantı planlamacıları"]
[null,null,null,null,null,null,null,1876,30195920,{"$f":"IF(K1880=1,COUNTIF($K$5:K1880,1),\"\")","v":1876},{"$f":"IF(ISNUMBER(SEARCH('Bilgi Girişi'!$E$4,KalemAdı,1))=TRUE,1,0)","v":1},"Manyetik tahtalar","Mal",30195920,null,null,"Randevu defterleri veya yedekleri"]
[null,null,null,null,null,null,null,1877,30195921,{"$f":"IF(K1881=1,COUNTIF($K$5:K1881,1),\"\")","v":1877},{"$f":"IF(ISNUMBER(SEARCH('Bilgi Girişi'!$E$4,KalemAdı,1))=TRUE,1,0)","v":1},"Manyetik kartlar için silgiler","Mal",30195921,null,null,"Öneri kutusu"]
[null,null,null,null,null,null,null,1878,30196000,{"$f":"IF(K1882=1,COUNTIF($K$5:K1882,1),\"\")","v":1878},{"$f":"IF(ISNUMBER(SEARCH('Bilgi Girişi'!$E$4,KalemAdı,1))=TRUE,1,0)","v":1},"Planlama sistemleri","Mal",30196000,null,null,"Küçük büro gereçleri"]
[null,null,null,null,null,null,null,1879,30196100,{"$f":"IF(K1883=1,COUNTIF($K$5:K1883,1),\"\")","v":1879},{"$f":"IF(ISNUMBER(SEARCH('Bilgi Girişi'!$E$4,KalemAdı,1))=TRUE,1,0)","v":1},"Toplantı planlamacıları","Mal",30196100,null,null,"Zımba, çiviler, raptiyeler"]
[null,null,null,null,null,null,null,1880,30196200,{"$f":"IF(K1884=1,COUNTIF($K$5:K1884,1),\"\")","v":1880},{"$f":"IF(ISNUMBER(SEARCH('Bilgi Girişi'!$E$4,KalemAdı,1))=TRUE,1,0)","v":1},"Randevu defterleri veya yedekleri","Mal",30196200,null,null,"Raptiyeler"]
[null,null,null,null,null,null,null,1881,30196300,{"$f":"IF(K1885=1,COUNTIF($K$5:K1885,1),\"\")","v":1881},{"$f":"IF(ISNUMBER(SEARCH('Bilgi Girişi'!$E$4,KalemAdı,1))=TRUE,1,0)","v":1},"Öneri kutusu","Mal",30196300,null,null,"Küçük çiviler"]
[null,null,null,null,null,null,null,1882,30197000,{"$f":"IF(K1886=1,COUNTIF($K$5:K1886,1),\"\")","v":1882},{"$f":"IF(ISNUMBER(SEARCH('Bilgi Girişi'!$E$4,KalemAdı,1))=TRUE,1,0)","v":1},"Küçük büro gereçleri","Mal",30197000,null,null,"Pünezler, resim çivileri"]
[null,null,null,null,null,null,null,1883,30197100,{"$f":"IF(K1887=1,COUNTIF($K$5:K1887,1),\"\")","v":1883},{"$f":"IF(ISNUMBER(SEARCH('Bilgi Girişi'!$E$4,KalemAdı,1))=TRUE,1,0)","v":1},"Zımba, çiviler, raptiyeler","Mal",30197100,null,null,"Klasörler ve ataçlar"]
[null,null,null,null,null,null,null,1884,30197110,{"$f":"IF(K1888=1,COUNTIF($K$5:K1888,1),\"\")","v":1884},{"$f":"IF(ISNUMBER(SEARCH('Bilgi Girişi'!$E$4,KalemAdı,1))=TRUE,1,0)","v":1},"Raptiyeler","Mal",30197110,null,null,"Plastikten yuvarlak klasörler"]
[null,null,null,null,null,null,null,1885,30197120,{"$f":"IF(K1889=1,COUNTIF($K$5:K1889,1),\"\")","v":1885},{"$f":"IF(ISNUMBER(SEARCH('Bilgi Girişi'!$E$4,KalemAdı,1))=TRUE,1,0)","v":1},"Küçük çiviler","Mal",30197120,null,null,"Plastikten kağıt klipsleri"]
[null,null,null,null,null,null,null,1886,30197130,{"$f":"IF(K1890=1,COUNTIF($K$5:K1890,1),\"\")","v":1886},{"$f":"IF(ISNUMBER(SEARCH('Bilgi Girişi'!$E$4,KalemAdı,1))=TRUE,1,0)","v":1},"Pünezler, resim çivileri","Mal",30197130,null,null,"Ataç kutusu"]
[null,null,null,null,null,null,null,1887,30197200,{"$f":"IF(K1891=1,COUNTIF($K$5:K1891,1),\"\")","v":1887},{"$f":"IF(ISNUMBER(SEARCH('Bilgi Girişi'!$E$4,KalemAdı,1))=TRUE,1,0)","v":1},"Klasörler ve ataçlar","Mal",30197200,null,null,"Mektup açacakları, zımbalar ve delgeç"]
[null,null,null,null,null,null,null,1888,30197210,{"$f":"IF(K1892=1,COUNTIF($K$5:K1892,1),\"\")","v":1888},{"$f":"IF(ISNUMBER(SEARCH('Bilgi Girişi'!$E$4,KalemAdı,1))=TRUE,1,0)","v":1},"Plastikten yuvarlak klasörler","Mal",30197210,null,null,"Mektup açacakları"]
[null,null,null,null,null,null,null,1889,30197220,{"$f":"IF(K1893=1,COUNTIF($K$5:K1893,1),\"\")","v":1889},{"$f":"IF(ISNUMBER(SEARCH('Bilgi Girişi'!$E$4,KalemAdı,1))=TRUE,1,0)","v":1},"Plastikten kağıt klipsleri","Mal",30197220,null,null,"Zımbalar"]
[null,null,null,null,null,null,null,1890,30197221,{"$f":"IF(K1894=1,COUNTIF($K$5:K1894,1),\"\")","v":1890},{"$f":"IF(ISNUMBER(SEARCH('Bilgi Girişi'!$E$4,KalemAdı,1))=TRUE,1,0)","v":1},"Ataç kutusu","Mal",30197221,null,null,"Zımba sökücüler"]
[null,null,null,null,null,null,null,1891,30197300,{"$f":"IF(K1895=1,COUNTIF($K$5:K1895,1),\"\")","v":1891},{"$f":"IF(ISNUMBER(SEARCH('Bilgi Girişi'!$E$4,KalemAdı,1))=TRUE,1,0)","v":1},"Mektup açacakları, zımbalar ve delgeç","Mal",30197300,null,null,"Delgeçler"]
[null,null,null,null,null,null,null,1892,30197310,{"$f":"IF(K1896=1,COUNTIF($K$5:K1896,1),\"\")","v":1892},{"$f":"IF(ISNUMBER(SEARCH('Bilgi Girişi'!$E$4,KalemAdı,1))=TRUE,1,0)","v":1},"Mektup açacakları","Mal",30197310,null,null,"Pul süngeri"]
[null,null,null,null,null,null,null,1893,30197320,{"$f":"IF(K1897=1,COUNTIF($K$5:K1897,1),\"\")","v":1893},{"$f":"IF(ISNUMBER(SEARCH('Bilgi Girişi'!$E$4,KalemAdı,1))=TRUE,1,0)","v":1},"Zımbalar","Mal",30197320,null,null,"Mühür mumu"]
[null,null,null,null,null,null,null,1894,30197321,{"$f":"IF(K1898=1,COUNTIF($K$5:K1898,1),\"\")","v":1894},{"$f":"IF(ISNUMBER(SEARCH('Bilgi Girişi'!$E$4,KalemAdı,1))=TRUE,1,0)","v":1},"Zımba sökücüler","Mal",30197321,null,null,"Mühür mumu aksesuarları"]
[null,null,null,null,null,null,null,1895,30197330,{"$f":"IF(K1899=1,COUNTIF($K$5:K1899,1),\"\")","v":1895},{"$f":"IF(ISNUMBER(SEARCH('Bilgi Girişi'!$E$4,KalemAdı,1))=TRUE,1,0)","v":1},"Delgeçler","Mal",30197330,null,null,"İşlenmiş kağıt ve kartonlar"]
[null,null,null,null,null,null,null,1896,30197400,{"$f":"IF(K1900=1,COUNTIF($K$5:K1900,1),\"\")","v":1896},{"$f":"IF(ISNUMBER(SEARCH('Bilgi Girişi'!$E$4,KalemAdı,1))=TRUE,1,0)","v":1},"Pul süngeri","Mal",30197400,null,null,"Kompozit kağıt ve kartonlar"]
[null,null,null,null,null,null,null,1897,30197500,{"$f":"IF(K1901=1,COUNTIF($K$5:K1901,1),\"\")","v":1897},{"$f":"IF(ISNUMBER(SEARCH('Bilgi Girişi'!$E$4,KalemAdı,1))=TRUE,1,0)","v":1},"Mühür mumu","Mal",30197500,null,null,"Yazı kağıtları"]
[null,null,null,null,null,null,null,1898,30197510,{"$f":"IF(K1902=1,COUNTIF($K$5:K1902,1),\"\")","v":1898},{"$f":"IF(ISNUMBER(SEARCH('Bilgi Girişi'!$E$4,KalemAdı,1))=TRUE,1,0)","v":1},"Mühür mumu aksesuarları","Mal",30197510,null,null,"Kağıt tahtası pedleri"]
[null,null,null,null,null,null,null,1899,30197600,{"$f":"IF(K1903=1,COUNTIF($K$5:K1903,1),\"\")","v":1899},{"$f":"IF(ISNUMBER(SEARCH('Bilgi Girişi'!$E$4,KalemAdı,1))=TRUE,1,0)","v":1},"İşlenmiş kağıt ve kartonlar","Mal",30197600,null,null,"Baskı kağıtları"]
[null,null,null,null,null,null,null,1900,30197610,{"$f":"IF(K1904=1,COUNTIF($K$5:K1904,1),\"\")","v":1900},{"$f":"IF(ISNUMBER(SEARCH('Bilgi Girişi'!$E$4,KalemAdı,1))=TRUE,1,0)","v":1},"Kompozit kağıt ve kartonlar","Mal",30197610,null,null,"Kendinden kopya veya diğer kopya kağıtları"]
[null,null,null,null,null,null,null,1901,30197620,{"$f":"IF(K1905=1,COUNTIF($K$5:K1905,1),\"\")","v":1901},{"$f":"IF(ISNUMBER(SEARCH('Bilgi Girişi'!$E$4,KalemAdı,1))=TRUE,1,0)","v":1},"Yazı kağıtları","Mal",30197620,null,null,"Termografik kağıtlar"]
[null,null,null,null,null,null,null,1902,30197621,{"$f":"IF(K1906=1,COUNTIF($K$5:K1906,1),\"\")","v":1902},{"$f":"IF(ISNUMBER(SEARCH('Bilgi Girişi'!$E$4,KalemAdı,1))=TRUE,1,0)","v":1},"Kağıt tahtası pedleri","Mal",30197621,null,null,"Fotokopi ve zeroks kağıtları"]
[null,null,null,null,null,null,null,1903,30197630,{"$f":"IF(K1907=1,COUNTIF($K$5:K1907,1),\"\")","v":1903},{"$f":"IF(ISNUMBER(SEARCH('Bilgi Girişi'!$E$4,KalemAdı,1))=TRUE,1,0)","v":1},"Baskı kağıtları","Mal",30197630,null,null,"Fotokopi kağıtları"]
[null,null,null,null,null,null,null,1904,30197640,{"$f":"IF(K1908=1,COUNTIF($K$5:K1908,1),\"\")","v":1904},{"$f":"IF(ISNUMBER(SEARCH('Bilgi Girişi'!$E$4,KalemAdı,1))=TRUE,1,0)","v":1},"Kendinden kopya veya diğer kopya kağıtları","Mal",30197640,null,null,"Zeroks kağıtları"]
[null,null,null,null,null,null,null,1905,30197641,{"$f":"IF(K1909=1,COUNTIF($K$5:K1909,1),\"\")","v":1905},{"$f":"IF(ISNUMBER(SEARCH('Bilgi Girişi'!$E$4,KalemAdı,1))=TRUE,1,0)","v":1},"Termografik kağıtlar","Mal",30197641,null,null,"Baskı kartları"]
[null,null,null,null,null,null,null,1906,30197642,{"$f":"IF(K1910=1,COUNTIF($K$5:K1910,1),\"\")","v":1906},{"$f":"IF(ISNUMBER(SEARCH('Bilgi Girişi'!$E$4,KalemAdı,1))=TRUE,1,0)","v":1},"Fotokopi ve zeroks kağıtları","Mal",30197642,null,null,"Piyango makineleri"]
[null,null,null,null,null,null,null,1907,30197643,{"$f":"IF(K1911=1,COUNTIF($K$5:K1911,1),\"\")","v":1907},{"$f":"IF(ISNUMBER(SEARCH('Bilgi Girişi'!$E$4,KalemAdı,1))=TRUE,1,0)","v":1},"Fotokopi kağıtları","Mal",30197643,null,null,"Çekme makineleri"]
[null,null,null,null,null,null,null,1908,30197644,{"$f":"IF(K1912=1,COUNTIF($K$5:K1912,1),\"\")","v":1908},{"$f":"IF(ISNUMBER(SEARCH('Bilgi Girişi'!$E$4,KalemAdı,1))=TRUE,1,0)","v":1},"Zeroks kağıtları","Mal",30197644,null,null,"Kağıt kırtasiye ürünleri ve diğer malzemeler"]
[null,null,null,null,null,null,null,1909,30197645,{"$f":"IF(K1913=1,COUNTIF($K$5:K1913,1),\"\")","v":1909},{"$f":"IF(ISNUMBER(SEARCH('Bilgi Girişi'!$E$4,KalemAdı,1))=TRUE,1,0)","v":1},"Baskı kartları","Mal",30197645,null,null,"Karbon kağıdı, kendinden kopyalı kağıtlar, mumlu kağıtlar ve karbonsuz"]
[null,null,null,null,null,null,null,1910,30198000,{"$f":"IF(K1914=1,COUNTIF($K$5:K1914,1),\"\")","v":1910},{"$f":"IF(ISNUMBER(SEARCH('Bilgi Girişi'!$E$4,KalemAdı,1))=TRUE,1,0)","v":1},"Piyango makineleri","Mal",30198000,null,null,"Karbon kağıdı"]
[null,null,null,null,null,null,null,1911,30198100,{"$f":"IF(K1915=1,COUNTIF($K$5:K1915,1),\"\")","v":1911},{"$f":"IF(ISNUMBER(SEARCH('Bilgi Girişi'!$E$4,KalemAdı,1))=TRUE,1,0)","v":1},"Çekme makineleri","Mal",30198100,null,null,"Kendiliğinden kopyalı kağıtlar"]
[null,null,null,null,null,null,null,1912,30199000,{"$f":"IF(K1916=1,COUNTIF($K$5:K1916,1),\"\")","v":1912},{"$f":"IF(ISNUMBER(SEARCH('Bilgi Girişi'!$E$4,KalemAdı,1))=TRUE,1,0)","v":1},"Kağıt kırtasiye ürünleri ve diğer malzemeler","Mal",30199000,null,null,"Karbonsuz kağıtlar"]
[null,null,null,null,null,null,null,1913,30199100,{"$f":"IF(K1917=1,COUNTIF($K$5:K1917,1),\"\")","v":1913},{"$f":"IF(ISNUMBER(SEARCH('Bilgi Girişi'!$E$4,KalemAdı,1))=TRUE,1,0)","v":1},"Karbon kağıdı, kendinden kopyalı kağıtlar, mumlu kağıtlar ve karbonsuz","Mal",30199100,null,null,"Mumlu kağıtlar"]
[null,null,null,null,null,null,null,1914,30199110,{"$f":"IF(K1918=1,COUNTIF($K$5:K1918,1),\"\")","v":1914},{"$f":"IF(ISNUMBER(SEARCH('Bilgi Girişi'!$E$4,KalemAdı,1))=TRUE,1,0)","v":1},"Karbon kağıdı","Mal",30199110,null,null,"Zarflar, mektup kartları ve düz posta kartları"]
[null,null,null,null,null,null,null,1915,30199120,{"$f":"IF(K1919=1,COUNTIF($K$5:K1919,1),\"\")","v":1915},{"$f":"IF(ISNUMBER(SEARCH('Bilgi Girişi'!$E$4,KalemAdı,1))=TRUE,1,0)","v":1},"Kendiliğinden kopyalı kağıtlar","Mal",30199120,null,null,"Mektup kartları"]
[null,null,null,null,null,null,null,1916,30199130,{"$f":"IF(K1920=1,COUNTIF($K$5:K1920,1),\"\")","v":1916},{"$f":"IF(ISNUMBER(SEARCH('Bilgi Girişi'!$E$4,KalemAdı,1))=TRUE,1,0)","v":1},"Karbonsuz kağıtlar","Mal",30199130,null,null,"Düz posta kartları"]
[null,null,null,null,null,null,null,1917,30199140,{"$f":"IF(K1921=1,COUNTIF($K$5:K1921,1),\"\")","v":1917},{"$f":"IF(ISNUMBER(SEARCH('Bilgi Girişi'!$E$4,KalemAdı,1))=TRUE,1,0)","v":1},"Mumlu kağıtlar","Mal",30199140,null,null,"Zarflar"]
[null,null,null,null,null,null,null,1918,30199200,{"$f":"IF(K1922=1,COUNTIF($K$5:K1922,1),\"\")","v":1918},{"$f":"IF(ISNUMBER(SEARCH('Bilgi Girişi'!$E$4,KalemAdı,1))=TRUE,1,0)","v":1},"Zarflar, mektup kartları ve düz posta kartları","Mal",30199200,null,null,"Postalama kiti"]
[null,null,null,null,null,null,null,1919,30199210,{"$f":"IF(K1923=1,COUNTIF($K$5:K1923,1),\"\")","v":1919},{"$f":"IF(ISNUMBER(SEARCH('Bilgi Girişi'!$E$4,KalemAdı,1))=TRUE,1,0)","v":1},"Mektup kartları","Mal",30199210,null,null,"Kabartma desenli ve perforeli kağıtlar"]
[null,null,null,null,null,null,null,1920,30199220,{"$f":"IF(K1924=1,COUNTIF($K$5:K1924,1),\"\")","v":1920},{"$f":"IF(ISNUMBER(SEARCH('Bilgi Girişi'!$E$4,KalemAdı,1))=TRUE,1,0)","v":1},"Düz posta kartları","Mal",30199220,null,null,"Kabartma desenli veya perforeli baskı kağıtları"]
[null,null,null,null,null,null,null,1921,30199230,{"$f":"IF(K1925=1,COUNTIF($K$5:K1925,1),\"\")","v":1921},{"$f":"IF(ISNUMBER(SEARCH('Bilgi Girişi'!$E$4,KalemAdı,1))=TRUE,1,0)","v":1},"Zarflar","Mal",30199230,null,null,"Kabartma desenli veya perforeli yazı kağıtları"]
[null,null,null,null,null,null,null,1922,30199240,{"$f":"IF(K1926=1,COUNTIF($K$5:K1926,1),\"\")","v":1922},{"$f":"IF(ISNUMBER(SEARCH('Bilgi Girişi'!$E$4,KalemAdı,1))=TRUE,1,0)","v":1},"Postalama kiti","Mal",30199240,null,null,{"$f":"IFERROR(VLOOKUP(ROW($P1926),$J$5:$L$9594,3,FALSE),\"\")","v":"Bilgisayar yazıcıları için sürekli formlar"}]
[null,null,null,null,null,null,null,1923,30199300,{"$f":"IF(K1927=1,COUNTIF($K$5:K1927,1),\"\")","v":1923},{"$f":"IF(ISNUMBER(SEARCH('Bilgi Girişi'!$E$4,KalemAdı,1))=TRUE,1,0)","v":1},"Kabartma desenli ve perforeli kağıtlar","Mal",30199300,null,null,"Sürekli formlar"]
[null,null,null,null,null,null,null,1924,30199310,{"$f":"IF(K1928=1,COUNTIF($K$5:K1928,1),\"\")","v":1924},{"$f":"IF(ISNUMBER(SEARCH('Bilgi Girişi'!$E$4,KalemAdı,1))=TRUE,1,0)","v":1},"Kabartma desenli veya perforeli baskı kağıtları","Mal",30199310,null,null,"Zamklı veya yapışkan kağıt"]
[null,null,null,null,null,null,null,1925,30199320,{"$f":"IF(K1929=1,COUNTIF($K$5:K1929,1),\"\")","v":1925},{"$f":"IF(ISNUMBER(SEARCH('Bilgi Girişi'!$E$4,KalemAdı,1))=TRUE,1,0)","v":1},"Kabartma desenli veya perforeli yazı kağıtları","Mal",30199320,null,null,"Kendiliğinden yapışan kağıt"]
[null,null,null,null,null,null,null,1926,30199330,{"$f":"IF(K1930=1,COUNTIF($K$5:K1930,1),\"\")","v":1926},{"$f":"IF(ISNUMBER(SEARCH('Bilgi Girişi'!$E$4,KalemAdı,1))=TRUE,1,0)","v":1},"Bilgisayar yazıcıları için sürekli formlar","Mal",30199330,null,null,"Dosya kutuları, evrak kutuları, ambalaj kutuları ve benzeri eşyalar"]
[null,null,null,null,null,null,null,1927,30199340,{"$f":"IF(K1931=1,COUNTIF($K$5:K1931,1),\"\")","v":1927},{"$f":"IF(ISNUMBER(SEARCH('Bilgi Girişi'!$E$4,KalemAdı,1))=TRUE,1,0)","v":1},"Sürekli formlar","Mal",30199340,null,null,"Yazı malzemleri için ayraçlar"]
[null,null,null,null,null,null,null,1928,30199400,{"$f":"IF(K1932=1,COUNTIF($K$5:K1932,1),\"\")","v":1928},{"$f":"IF(ISNUMBER(SEARCH('Bilgi Girişi'!$E$4,KalemAdı,1))=TRUE,1,0)","v":1},"Zamklı veya yapışkan kağıt","Mal",30199400,null,null,"Formlar dışında kalan basılı kırtasiye"]
[null,null,null,null,null,null,null,1929,30199410,{"$f":"IF(K1933=1,COUNTIF($K$5:K1933,1),\"\")","v":1929},{"$f":"IF(ISNUMBER(SEARCH('Bilgi Girişi'!$E$4,KalemAdı,1))=TRUE,1,0)","v":1},"Kendiliğinden yapışan kağıt","Mal",30199410,null,null,"Baskılı zarflar"]
[null,null,null,null,null,null,null,1930,30199500,{"$f":"IF(K1934=1,COUNTIF($K$5:K1934,1),\"\")","v":1930},{"$f":"IF(ISNUMBER(SEARCH('Bilgi Girişi'!$E$4,KalemAdı,1))=TRUE,1,0)","v":1},"Dosya kutuları, evrak kutuları, ambalaj kutuları ve benzeri eşyalar","Mal",30199500,null,null,"Baskılı pencereli zarflar"]
[null,null,null,null,null,null,null,1931,30199600,{"$f":"IF(K1935=1,COUNTIF($K$5:K1935,1),\"\")","v":1931},{"$f":"IF(ISNUMBER(SEARCH('Bilgi Girişi'!$E$4,KalemAdı,1))=TRUE,1,0)","v":1},"Yazı malzemleri için ayraçlar","Mal",30199600,null,null,"Basılı penceresiz zarflar"]
[null,null,null,null,null,null,null,1932,30199700,{"$f":"IF(K1936=1,COUNTIF($K$5:K1936,1),\"\")","v":1932},{"$f":"IF(ISNUMBER(SEARCH('Bilgi Girişi'!$E$4,KalemAdı,1))=TRUE,1,0)","v":1},"Formlar dışında kalan basılı kırtasiye","Mal",30199700,null,null,"X-ışını baskılı zarf"]
[null,null,null,null,null,null,null,1933,30199710,{"$f":"IF(K1937=1,COUNTIF($K$5:K1937,1),\"\")","v":1933},{"$f":"IF(ISNUMBER(SEARCH('Bilgi Girişi'!$E$4,KalemAdı,1))=TRUE,1,0)","v":1},"Baskılı zarflar","Mal",30199710,null,null,"Not kağıtları"]
[null,null,null,null,null,null,null,1934,30199711,{"$f":"IF(K1938=1,COUNTIF($K$5:K1938,1),\"\")","v":1934},{"$f":"IF(ISNUMBER(SEARCH('Bilgi Girişi'!$E$4,KalemAdı,1))=TRUE,1,0)","v":1},"Baskılı pencereli zarflar","Mal",30199711,null,null,"Kartvizitler"]
[null,null,null,null,null,null,null,1935,30199712,{"$f":"IF(K1939=1,COUNTIF($K$5:K1939,1),\"\")","v":1935},{"$f":"IF(ISNUMBER(SEARCH('Bilgi Girişi'!$E$4,KalemAdı,1))=TRUE,1,0)","v":1},"Basılı penceresiz zarflar","Mal",30199712,null,null,"Kartvizitlikler"]
[null,null,null,null,null,null,null,1936,30199713,{"$f":"IF(K1940=1,COUNTIF($K$5:K1940,1),\"\")","v":1936},{"$f":"IF(ISNUMBER(SEARCH('Bilgi Girişi'!$E$4,KalemAdı,1))=TRUE,1,0)","v":1},"X-ışını baskılı zarf","Mal",30199713,null,null,"Tebrik not kağıtları"]
[null,null,null,null,null,null,null,1937,30199720,{"$f":"IF(K1941=1,COUNTIF($K$5:K1941,1),\"\")","v":1937},{"$f":"IF(ISNUMBER(SEARCH('Bilgi Girişi'!$E$4,KalemAdı,1))=TRUE,1,0)","v":1},"Not kağıtları","Mal",30199720,null,null,"Kuponlar"]
[null,null,null,null,null,null,null,1938,30199730,{"$f":"IF(K1942=1,COUNTIF($K$5:K1942,1),\"\")","v":1938},{"$f":"IF(ISNUMBER(SEARCH('Bilgi Girişi'!$E$4,KalemAdı,1))=TRUE,1,0)","v":1},"Kartvizitler","Mal",30199730,null,null,"Etiketler"]
[null,null,null,null,null,null,null,1939,30199731,{"$f":"IF(K1943=1,COUNTIF($K$5:K1943,1),\"\")","v":1939},{"$f":"IF(ISNUMBER(SEARCH('Bilgi Girişi'!$E$4,KalemAdı,1))=TRUE,1,0)","v":1},"Kartvizitlikler","Mal",30199731,null,null,"Barkodlu etiketler"]
[null,null,null,null,null,null,null,1940,30199740,{"$f":"IF(K1944=1,COUNTIF($K$5:K1944,1),\"\")","v":1940},{"$f":"IF(ISNUMBER(SEARCH('Bilgi Girişi'!$E$4,KalemAdı,1))=TRUE,1,0)","v":1},"Tebrik not kağıtları","Mal",30199740,null,null,"Bagaj etiketleri"]
[null,null,null,null,null,null,null,1941,30199750,{"$f":"IF(K1945=1,COUNTIF($K$5:K1945,1),\"\")","v":1941},{"$f":"IF(ISNUMBER(SEARCH('Bilgi Girişi'!$E$4,KalemAdı,1))=TRUE,1,0)","v":1},"Kuponlar","Mal",30199750,null,null,"Hırsızlıktan korunma etiketleri"]
[null,null,null,null,null,null,null,1942,30199760,{"$f":"IF(K1946=1,COUNTIF($K$5:K1946,1),\"\")","v":1942},{"$f":"IF(ISNUMBER(SEARCH('Bilgi Girişi'!$E$4,KalemAdı,1))=TRUE,1,0)","v":1},"Etiketler","Mal",30199760,null,null,"Yemek fişleri"]
[null,null,null,null,null,null,null,1943,30199761,{"$f":"IF(K1947=1,COUNTIF($K$5:K1947,1),\"\")","v":1943},{"$f":"IF(ISNUMBER(SEARCH('Bilgi Girişi'!$E$4,KalemAdı,1))=TRUE,1,0)","v":1},"Barkodlu etiketler","Mal",30199761,null,null,"Kurutma kağıdı blokları"]
[null,null,null,null,null,null,null,1944,30199762,{"$f":"IF(K1948=1,COUNTIF($K$5:K1948,1),\"\")","v":1944},{"$f":"IF(ISNUMBER(SEARCH('Bilgi Girişi'!$E$4,KalemAdı,1))=TRUE,1,0)","v":1},"Bagaj etiketleri","Mal",30199762,null,null,"Tarifeler"]
[null,null,null,null,null,null,null,1945,30199763,{"$f":"IF(K1949=1,COUNTIF($K$5:K1949,1),\"\")","v":1945},{"$f":"IF(ISNUMBER(SEARCH('Bilgi Girişi'!$E$4,KalemAdı,1))=TRUE,1,0)","v":1},"Hırsızlıktan korunma etiketleri","Mal",30199763,null,null,"Yıllık duvar takvimleri"]
[null,null,null,null,null,null,null,1946,30199770,{"$f":"IF(K1950=1,COUNTIF($K$5:K1950,1),\"\")","v":1946},{"$f":"IF(ISNUMBER(SEARCH('Bilgi Girişi'!$E$4,KalemAdı,1))=TRUE,1,0)","v":1},"Yemek fişleri","Mal",30199770,null,null,"Takvimler"]
[null,null,null,null,null,null,null,1947,30199780,{"$f":"IF(K1951=1,COUNTIF($K$5:K1951,1),\"\")","v":1947},{"$f":"IF(ISNUMBER(SEARCH('Bilgi Girişi'!$E$4,KalemAdı,1))=TRUE,1,0)","v":1},"Kurutma kağıdı blokları","Mal",30199780,null,null,"Günlük stantları"]
[null,null,null,null,null,null,null,1948,30199790,{"$f":"IF(K1952=1,COUNTIF($K$5:K1952,1),\"\")","v":1948},{"$f":"IF(ISNUMBER(SEARCH('Bilgi Girişi'!$E$4,KalemAdı,1))=TRUE,1,0)","v":1},"Tarifeler","Mal",30199790,null,null,"Bilgisayar donanım ve malzemeleri"]
[null,null,null,null,null,null,null,1949,30199791,{"$f":"IF(K1953=1,COUNTIF($K$5:K1953,1),\"\")","v":1949},{"$f":"IF(ISNUMBER(SEARCH('Bilgi Girişi'!$E$4,KalemAdı,1))=TRUE,1,0)","v":1},"Yıllık duvar takvimleri","Mal",30199791,null,null,"Veri işleme makineleri (donanım)"]
[null,null,null,null,null,null,null,1950,30199792,{"$f":"IF(K1954=1,COUNTIF($K$5:K1954,1),\"\")","v":1950},{"$f":"IF(ISNUMBER(SEARCH('Bilgi Girişi'!$E$4,KalemAdı,1))=TRUE,1,0)","v":1},"Takvimler","Mal",30199792,null,null,"Ana bilgisayarlar, büyük sistem bilgisayarlar"]
[null,null,null,null,null,null,null,1951,30199793,{"$f":"IF(K1955=1,COUNTIF($K$5:K1955,1),\"\")","v":1951},{"$f":"IF(ISNUMBER(SEARCH('Bilgi Girişi'!$E$4,KalemAdı,1))=TRUE,1,0)","v":1},"Günlük stantları","Mal",30199793,null,null,"Süper bilgisayarlar"]
[null,null,null,null,null,null,null,1952,30200000,{"$f":"IF(K1956=1,COUNTIF($K$5:K1956,1),\"\")","v":1952},{"$f":"IF(ISNUMBER(SEARCH('Bilgi Girişi'!$E$4,KalemAdı,1))=TRUE,1,0)","v":1},"Bilgisayar donanım ve malzemeleri","Mal",30200000,null,null,"Ana bilgisayar donanımları"]
[null,null,null,null,null,null,null,1953,30210000,{"$f":"IF(K1957=1,COUNTIF($K$5:K1957,1),\"\")","v":1953},{"$f":"IF(ISNUMBER(SEARCH('Bilgi Girişi'!$E$4,KalemAdı,1))=TRUE,1,0)","v":1},"Veri işleme makineleri (donanım)","Mal",30210000,null,null,"Bilgisayar platformları"]
[null,null,null,null,null,null,null,1954,30211000,{"$f":"IF(K1958=1,COUNTIF($K$5:K1958,1),\"\")","v":1954},{"$f":"IF(ISNUMBER(SEARCH('Bilgi Girişi'!$E$4,KalemAdı,1))=TRUE,1,0)","v":1},"Ana bilgisayarlar, büyük sistem bilgisayarlar","Mal",30211000,null,null,"Bilgisayar konfigürasyonları"]
[null,null,null,null,null,null,null,1955,30211100,{"$f":"IF(K1959=1,COUNTIF($K$5:K1959,1),\"\")","v":1955},{"$f":"IF(ISNUMBER(SEARCH('Bilgi Girişi'!$E$4,KalemAdı,1))=TRUE,1,0)","v":1},"Süper bilgisayarlar","Mal",30211100,null,null,"Merkezi işlem birimi (CPU) veya işlemciler"]
[null,null,null,null,null,null,null,1956,30211200,{"$f":"IF(K1960=1,COUNTIF($K$5:K1960,1),\"\")","v":1956},{"$f":"IF(ISNUMBER(SEARCH('Bilgi Girişi'!$E$4,KalemAdı,1))=TRUE,1,0)","v":1},"Ana bilgisayar donanımları","Mal",30211200,null,null,"Mini bilgisayar donanımları"]
[null,null,null,null,null,null,null,1957,30211300,{"$f":"IF(K1961=1,COUNTIF($K$5:K1961,1),\"\")","v":1957},{"$f":"IF(ISNUMBER(SEARCH('Bilgi Girişi'!$E$4,KalemAdı,1))=TRUE,1,0)","v":1},"Bilgisayar platformları","Mal",30211300,null,null,"Minibilgisayarlar için merkezi işlem birimleri"]
[null,null,null,null,null,null,null,1958,30211400,{"$f":"IF(K1962=1,COUNTIF($K$5:K1962,1),\"\")","v":1958},{"$f":"IF(ISNUMBER(SEARCH('Bilgi Girişi'!$E$4,KalemAdı,1))=TRUE,1,0)","v":1},"Bilgisayar konfigürasyonları","Mal",30211400,null,null,"Kişisel bilgisayarlar"]
[null,null,null,null,null,null,null,1959,30211500,{"$f":"IF(K1963=1,COUNTIF($K$5:K1963,1),\"\")","v":1959},{"$f":"IF(ISNUMBER(SEARCH('Bilgi Girişi'!$E$4,KalemAdı,1))=TRUE,1,0)","v":1},"Merkezi işlem birimi (CPU) veya işlemciler","Mal",30211500,null,null,"Taşınabilir bilgisayarlar"]
[null,null,null,null,null,null,null,1960,30212000,{"$f":"IF(K1964=1,COUNTIF($K$5:K1964,1),\"\")","v":1960},{"$f":"IF(ISNUMBER(SEARCH('Bilgi Girişi'!$E$4,KalemAdı,1))=TRUE,1,0)","v":1},"Mini bilgisayar donanımları","Mal",30212000,null,null,"Tablet bilgisayar"]
[null,null,null,null,null,null,null,1961,30212100,{"$f":"IF(K1965=1,COUNTIF($K$5:K1965,1),\"\")","v":1961},{"$f":"IF(ISNUMBER(SEARCH('Bilgi Girişi'!$E$4,KalemAdı,1))=TRUE,1,0)","v":1},"Minibilgisayarlar için merkezi işlem birimleri","Mal",30212100,null,null,"Masaüstü bilgisayar"]
[null,null,null,null,null,null,null,1962,30213000,{"$f":"IF(K1966=1,COUNTIF($K$5:K1966,1),\"\")","v":1962},{"$f":"IF(ISNUMBER(SEARCH('Bilgi Girişi'!$E$4,KalemAdı,1))=TRUE,1,0)","v":1},"Kişisel bilgisayarlar","Mal",30213000,null,null,"Kişisel bilgisayarlar için merkezi işlem birimleri"]
[null,null,null,null,null,null,null,1963,30213100,{"$f":"IF(K1967=1,COUNTIF($K$5:K1967,1),\"\")","v":1963},{"$f":"IF(ISNUMBER(SEARCH('Bilgi Girişi'!$E$4,KalemAdı,1))=TRUE,1,0)","v":1},"Taşınabilir bilgisayarlar","Mal",30213100,null,null,"Cep bilgisayarları"]
[null,null,null,null,null,null,null,1964,30213200,{"$f":"IF(K1968=1,COUNTIF($K$5:K1968,1),\"\")","v":1964},{"$f":"IF(ISNUMBER(SEARCH('Bilgi Girişi'!$E$4,KalemAdı,1))=TRUE,1,0)","v":1},"Tablet bilgisayar","Mal",30213200,null,null,"İş istasyonları"]
[null,null,null,null,null,null,null,1965,30213300,{"$f":"IF(K1969=1,COUNTIF($K$5:K1969,1),\"\")","v":1965},{"$f":"IF(ISNUMBER(SEARCH('Bilgi Girişi'!$E$4,KalemAdı,1))=TRUE,1,0)","v":1},"Masaüstü bilgisayar","Mal",30213300,null,null,"Mikrobilgisayar donanımları"]
[null,null,null,null,null,null,null,1966,30213400,{"$f":"IF(K1970=1,COUNTIF($K$5:K1970,1),\"\")","v":1966},{"$f":"IF(ISNUMBER(SEARCH('Bilgi Girişi'!$E$4,KalemAdı,1))=TRUE,1,0)","v":1},"Kişisel bilgisayarlar için merkezi işlem birimleri","Mal",30213400,null,null,"Mikrobilgisayarlar için merkezi işlem birimleri"]
[null,null,null,null,null,null,null,1967,30213500,{"$f":"IF(K1971=1,COUNTIF($K$5:K1971,1),\"\")","v":1967},{"$f":"IF(ISNUMBER(SEARCH('Bilgi Girişi'!$E$4,KalemAdı,1))=TRUE,1,0)","v":1},"Cep bilgisayarları","Mal",30213500,null,null,"Manyetik ya da optik okuyucular"]
[null,null,null,null,null,null,null,1968,30214000,{"$f":"IF(K1972=1,COUNTIF($K$5:K1972,1),\"\")","v":1968},{"$f":"IF(ISNUMBER(SEARCH('Bilgi Girişi'!$E$4,KalemAdı,1))=TRUE,1,0)","v":1},"İş istasyonları","Mal",30214000,null,null,"Optik okuyucular"]
[null,null,null,null,null,null,null,1969,30215000,{"$f":"IF(K1973=1,COUNTIF($K$5:K1973,1),\"\")","v":1969},{"$f":"IF(ISNUMBER(SEARCH('Bilgi Girişi'!$E$4,KalemAdı,1))=TRUE,1,0)","v":1},"Mikrobilgisayar donanımları","Mal",30215000,null,null,"Bilgisayar ile kullanılan tarayıcılar"]
[null,null,null,null,null,null,null,1970,30215100,{"$f":"IF(K1974=1,COUNTIF($K$5:K1974,1),\"\")","v":1970},{"$f":"IF(ISNUMBER(SEARCH('Bilgi Girişi'!$E$4,KalemAdı,1))=TRUE,1,0)","v":1},"Mikrobilgisayarlar için merkezi işlem birimleri","Mal",30215100,null,null,"Optik karakter tanıma donanımı"]
[null,null,null,null,null,null,null,1971,30216000,{"$f":"IF(K1975=1,COUNTIF($K$5:K1975,1),\"\")","v":1971},{"$f":"IF(ISNUMBER(SEARCH('Bilgi Girişi'!$E$4,KalemAdı,1))=TRUE,1,0)","v":1},"Manyetik ya da optik okuyucular","Mal",30216000,null,null,"Barkod okuyucular"]
[null,null,null,null,null,null,null,1972,30216100,{"$f":"IF(K1976=1,COUNTIF($K$5:K1976,1),\"\")","v":1972},{"$f":"IF(ISNUMBER(SEARCH('Bilgi Girişi'!$E$4,KalemAdı,1))=TRUE,1,0)","v":1},"Optik okuyucular","Mal",30216100,null,null,"Manyetik kart okuyucular"]
[null,null,null,null,null,null,null,1973,30216110,{"$f":"IF(K1977=1,COUNTIF($K$5:K1977,1),\"\")","v":1973},{"$f":"IF(ISNUMBER(SEARCH('Bilgi Girişi'!$E$4,KalemAdı,1))=TRUE,1,0)","v":1},"Bilgisayar ile kullanılan tarayıcılar","Mal",30216110,null,null,"Delikli kart okuyucular"]
[null,null,null,null,null,null,null,1974,30216120,{"$f":"IF(K1978=1,COUNTIF($K$5:K1978,1),\"\")","v":1974},{"$f":"IF(ISNUMBER(SEARCH('Bilgi Girişi'!$E$4,KalemAdı,1))=TRUE,1,0)","v":1},"Optik karakter tanıma donanımı","Mal",30216120,null,null,"Sayısal haritacılık donanımı"]
[null,null,null,null,null,null,null,1975,30216130,{"$f":"IF(K1979=1,COUNTIF($K$5:K1979,1),\"\")","v":1975},{"$f":"IF(ISNUMBER(SEARCH('Bilgi Girişi'!$E$4,KalemAdı,1))=TRUE,1,0)","v":1},"Barkod okuyucular","Mal",30216130,null,null,"Sayısal kadastro haritaları"]
[null,null,null,null,null,null,null,1976,30216200,{"$f":"IF(K1980=1,COUNTIF($K$5:K1980,1),\"\")","v":1976},{"$f":"IF(ISNUMBER(SEARCH('Bilgi Girişi'!$E$4,KalemAdı,1))=TRUE,1,0)","v":1},"Manyetik kart okuyucular","Mal",30216200,null,null,"Bilgisayar ile ilgili ekipman"]
[null,null,null,null,null,null,null,1977,30216300,{"$f":"IF(K1981=1,COUNTIF($K$5:K1981,1),\"\")","v":1977},{"$f":"IF(ISNUMBER(SEARCH('Bilgi Girişi'!$E$4,KalemAdı,1))=TRUE,1,0)","v":1},"Delikli kart okuyucular","Mal",30216300,null,null,"Bilgisayar ekranları ve konsollar"]
[null,null,null,null,null,null,null,1978,30220000,{"$f":"IF(K1982=1,COUNTIF($K$5:K1982,1),\"\")","v":1978},{"$f":"IF(ISNUMBER(SEARCH('Bilgi Girişi'!$E$4,KalemAdı,1))=TRUE,1,0)","v":1},"Sayısal haritacılık donanımı","Mal",30220000,null,null,"Bilgisayar terminalleri, bilgisayar uç birimleri"]
[null,null,null,null,null,null,null,1979,30221000,{"$f":"IF(K1983=1,COUNTIF($K$5:K1983,1),\"\")","v":1979},{"$f":"IF(ISNUMBER(SEARCH('Bilgi Girişi'!$E$4,KalemAdı,1))=TRUE,1,0)","v":1},"Sayısal kadastro haritaları","Mal",30221000,null,null,"Konsollar"]
[null,null,null,null,null,null,null,1980,30230000,{"$f":"IF(K1984=1,COUNTIF($K$5:K1984,1),\"\")","v":1980},{"$f":"IF(ISNUMBER(SEARCH('Bilgi Girişi'!$E$4,KalemAdı,1))=TRUE,1,0)","v":1},"Bilgisayar ile ilgili ekipman","Mal",30230000,null,null,"Monitörler"]
[null,null,null,null,null,null,null,1981,30231000,{"$f":"IF(K1985=1,COUNTIF($K$5:K1985,1),\"\")","v":1981},{"$f":"IF(ISNUMBER(SEARCH('Bilgi Girişi'!$E$4,KalemAdı,1))=TRUE,1,0)","v":1},"Bilgisayar ekranları ve konsollar","Mal",30231000,null,null,"Düz panel ekranlar"]
[null,null,null,null,null,null,null,1982,30231100,{"$f":"IF(K1986=1,COUNTIF($K$5:K1986,1),\"\")","v":1982},{"$f":"IF(ISNUMBER(SEARCH('Bilgi Girişi'!$E$4,KalemAdı,1))=TRUE,1,0)","v":1},"Bilgisayar terminalleri, bilgisayar uç birimleri","Mal",30231100,null,null,"Dokunmatik ekran monitörler"]
[null,null,null,null,null,null,null,1983,30231200,{"$f":"IF(K1987=1,COUNTIF($K$5:K1987,1),\"\")","v":1983},{"$f":"IF(ISNUMBER(SEARCH('Bilgi Girişi'!$E$4,KalemAdı,1))=TRUE,1,0)","v":1},"Konsollar","Mal",30231200,null,null,"Çevre donatımı"]
[null,null,null,null,null,null,null,1984,30231300,{"$f":"IF(K1988=1,COUNTIF($K$5:K1988,1),\"\")","v":1984},{"$f":"IF(ISNUMBER(SEARCH('Bilgi Girişi'!$E$4,KalemAdı,1))=TRUE,1,0)","v":1},"Monitörler","Mal",30231300,null,null,"Yazıcılar ve çiziciler"]
[null,null,null,null,null,null,null,1985,30231310,{"$f":"IF(K1989=1,COUNTIF($K$5:K1989,1),\"\")","v":1985},{"$f":"IF(ISNUMBER(SEARCH('Bilgi Girişi'!$E$4,KalemAdı,1))=TRUE,1,0)","v":1},"Düz panel ekranlar","Mal",30231310,null,null,"Lazer yazıcılar"]
[null,null,null,null,null,null,null,1986,30231320,{"$f":"IF(K1990=1,COUNTIF($K$5:K1990,1),\"\")","v":1986},{"$f":"IF(ISNUMBER(SEARCH('Bilgi Girişi'!$E$4,KalemAdı,1))=TRUE,1,0)","v":1},"Dokunmatik ekran monitörler","Mal",30231320,null,null,{"$f":"IFERROR(VLOOKUP(ROW($P1990),$J$5:$L$9594,3,FALSE),\"\")","v":"Nokta vuruşlu yazıcılar"}]
[null,null,null,null,null,null,null,1987,30232000,{"$f":"IF(K1991=1,COUNTIF($K$5:K1991,1),\"\")","v":1987},{"$f":"IF(ISNUMBER(SEARCH('Bilgi Girişi'!$E$4,KalemAdı,1))=TRUE,1,0)","v":1},"Çevre donatımı","Mal",30232000,null,null,"Renkli grafik yazıcılar"]
[null,null,null,null,null,null,null,1988,30232100,{"$f":"IF(K1992=1,COUNTIF($K$5:K1992,1),\"\")","v":1988},{"$f":"IF(ISNUMBER(SEARCH('Bilgi Girişi'!$E$4,KalemAdı,1))=TRUE,1,0)","v":1},"Yazıcılar ve çiziciler","Mal",30232100,null,null,"Çiziciler"]
[null,null,null,null,null,null,null,1989,30232110,{"$f":"IF(K1993=1,COUNTIF($K$5:K1993,1),\"\")","v":1989},{"$f":"IF(ISNUMBER(SEARCH('Bilgi Girişi'!$E$4,KalemAdı,1))=TRUE,1,0)","v":1},"Lazer yazıcılar","Mal",30232110,null,null,"Mürekkep püskürtmeli yazıcılar"]
[null,null,null,null,null,null,null,1990,30232120,{"$f":"IF(K1994=1,COUNTIF($K$5:K1994,1),\"\")","v":1990},{"$f":"IF(ISNUMBER(SEARCH('Bilgi Girişi'!$E$4,KalemAdı,1))=TRUE,1,0)","v":1},"Nokta vuruşlu yazıcılar","Mal",30232120,null,null,"Kodlayıcılar"]
[null,null,null,null,null,null,null,1991,30232130,{"$f":"IF(K1995=1,COUNTIF($K$5:K1995,1),\"\")","v":1991},{"$f":"IF(ISNUMBER(SEARCH('Bilgi Girişi'!$E$4,KalemAdı,1))=TRUE,1,0)","v":1},"Renkli grafik yazıcılar","Mal",30232130,null,null,"Merkezi denetim birimi"]
[null,null,null,null,null,null,null,1992,30232140,{"$f":"IF(K1996=1,COUNTIF($K$5:K1996,1),\"\")","v":1992},{"$f":"IF(ISNUMBER(SEARCH('Bilgi Girişi'!$E$4,KalemAdı,1))=TRUE,1,0)","v":1},"Çiziciler","Mal",30232140,null,null,"Ortam depolama ve okuma cihazları"]
[null,null,null,null,null,null,null,1993,30232150,{"$f":"IF(K1997=1,COUNTIF($K$5:K1997,1),\"\")","v":1993},{"$f":"IF(ISNUMBER(SEARCH('Bilgi Girişi'!$E$4,KalemAdı,1))=TRUE,1,0)","v":1},"Mürekkep püskürtmeli yazıcılar","Mal",30232150,null,null,"Bilgisayar saklama birimleri"]
[null,null,null,null,null,null,null,1994,30232600,{"$f":"IF(K1998=1,COUNTIF($K$5:K1998,1),\"\")","v":1994},{"$f":"IF(ISNUMBER(SEARCH('Bilgi Girişi'!$E$4,KalemAdı,1))=TRUE,1,0)","v":1},"Kodlayıcılar","Mal",30232600,null,null,"Manyetik kart saklama birimleri"]
[null,null,null,null,null,null,null,1995,30232700,{"$f":"IF(K1999=1,COUNTIF($K$5:K1999,1),\"\")","v":1995},{"$f":"IF(ISNUMBER(SEARCH('Bilgi Girişi'!$E$4,KalemAdı,1))=TRUE,1,0)","v":1},"Merkezi denetim birimi","Mal",30232700,null,null,"Manyetik teyp saklama birimleri"]
[null,null,null,null,null,null,null,1996,30233000,{"$f":"IF(K2000=1,COUNTIF($K$5:K2000,1),\"\")","v":1996},{"$f":"IF(ISNUMBER(SEARCH('Bilgi Girişi'!$E$4,KalemAdı,1))=TRUE,1,0)","v":1},"Ortam depolama ve okuma cihazları","Mal",30233000,null,null,"Manyetik disk saklama birimleri"]
[null,null,null,null,null,null,null,1997,30233100,{"$f":"IF(K2001=1,COUNTIF($K$5:K2001,1),\"\")","v":1997},{"$f":"IF(ISNUMBER(SEARCH('Bilgi Girişi'!$E$4,KalemAdı,1))=TRUE,1,0)","v":1},"Bilgisayar saklama birimleri","Mal",30233100,null,null,"Disket sürücüler"]
[null,null,null,null,null,null,null,2002,30233132,{"$f":"IF(K2006=1,COUNTIF($K$5:K2006,1),\"\")","v":2002},{"$f":"IF(ISNUMBER(SEARCH('Bilgi Girişi'!$E$4,KalemAdı,1))=TRUE,1,0)","v":1},"Sabit disk sürücüler","Mal",30233132,null,null,"Kompakt disk (CD) okuyucu ve / veya yazıcılar"]
[null,null,null,null,null,null,null,2005,30233150,{"$f":"IF(K2009=1,COUNTIF($K$5:K2009,1),\"\")","v":2005},{"$f":"IF(ISNUMBER(SEARCH('Bilgi Girişi'!$E$4,KalemAdı,1))=TRUE,1,0)","v":1},"Optik disk sürücüler","Mal",30233150,null,null,"Teyp sarma cihazları"]
[null,null,null,null,null,null,null,2007,30233152,{"$f":"IF(K2011=1,COUNTIF($K$5:K2011,1),\"\")","v":2007},{"$f":"IF(ISNUMBER(SEARCH('Bilgi Girişi'!$E$4,KalemAdı,1))=TRUE,1,0)","v":1},"Dijital çok yönlü disk (DVD) okuyucu ve / veya yazıcılar","Mal",30233152,null,null,"Otomatik teyp-kaset takma, çıkarma, arşive kaldırma donanımları"]
[null,null,null,null,null,null,null,2013,30233190,{"$f":"IF(K2017=1,COUNTIF($K$5:K2017,1),\"\")","v":2013},{"$f":"IF(ISNUMBER(SEARCH('Bilgi Girişi'!$E$4,KalemAdı,1))=TRUE,1,0)","v":1},"Disk denetleyici","Mal",30233190,null,null,"Bilgi saklama ve depolama ortamları"]
[null,null,null,null,null,null,null,2016,30233320,{"$f":"IF(K2020=1,COUNTIF($K$5:K2020,1),\"\")","v":2016},{"$f":"IF(ISNUMBER(SEARCH('Bilgi Girişi'!$E$4,KalemAdı,1))=TRUE,1,0)","v":1},"Kombine akıllı kart ve parmak izi okuyucu","Mal",30233320,null,null,"Kompakt diskler (CD)"]
[null,null,null,null,null,null,null,2018,30234100,{"$f":"IF(K2022=1,COUNTIF($K$5:K2022,1),\"\")","v":2018},{"$f":"IF(ISNUMBER(SEARCH('Bilgi Girişi'!$E$4,KalemAdı,1))=TRUE,1,0)","v":1},"Manyetik diskler","Mal",30234100,null,null,"Bellek depolama ortamı"]
[null,null,null,null,null,null,null,2021,30234400,{"$f":"IF(K2025=1,COUNTIF($K$5:K2025,1),\"\")","v":2021},{"$f":"IF(ISNUMBER(SEARCH('Bilgi Girişi'!$E$4,KalemAdı,1))=TRUE,1,0)","v":1},"Dijital çok yönlü diskler (DVD)","Mal",30234400,null,null,"Diğer bilgisayar donanımları"]
[null,null,null,null,null,null,null,2026,30236100,{"$f":"IF(K2030=1,COUNTIF($K$5:K2030,1),\"\")","v":2026},{"$f":"IF(ISNUMBER(SEARCH('Bilgi Girişi'!$E$4,KalemAdı,1))=TRUE,1,0)","v":1},"Bellek genişletme donanımı","Mal",30236100,null,null,"Senkronize dinamik rasgele erişimli bellek (SDRAM)"]
[null,null,null,null,null,null,null,2030,30236113,{"$f":"IF(K2034=1,COUNTIF($K$5:K2034,1),\"\")","v":2030},{"$f":"IF(ISNUMBER(SEARCH('Bilgi Girişi'!$E$4,KalemAdı,1))=TRUE,1,0)","v":1},"Senkronize dinamik rasgele erişimli bellek (SDRAM)","Mal",30236113,null,null,"Programlanabilir (PROM) salt pkunur bellek"]
[null,null,null,null,null,null,null,2035,30236122,{"$f":"IF(K2039=1,COUNTIF($K$5:K2039,1),\"\")","v":2035},{"$f":"IF(ISNUMBER(SEARCH('Bilgi Girişi'!$E$4,KalemAdı,1))=TRUE,1,0)","v":1},"Silinebilir programlanabilir (EPROM) salt okunur bellek","Mal",30236122,null,null,"Bilgisayar aksam ve parçaları"]
[null,null,null,null,null,null,null,2038,30237000,{"$f":"IF(K2042=1,COUNTIF($K$5:K2042,1),\"\")","v":2038},{"$f":"IF(ISNUMBER(SEARCH('Bilgi Girişi'!$E$4,KalemAdı,1))=TRUE,1,0)","v":1},"Bilgisayarların parça, aksesuar ve malzemeleri","Mal",30237000,null,null,"Seri kızılötesi bağlantı noktaları"]
[null,null,null,null,null,null,null,2040,30237110,{"$f":"IF(K2044=1,COUNTIF($K$5:K2044,1),\"\")","v":2040},{"$f":"IF(ISNUMBER(SEARCH('Bilgi Girişi'!$E$4,KalemAdı,1))=TRUE,1,0)","v":1},"İletişim ağı arayüzleri","Mal",30237110,null,null,"Elektronik kartlar"]
[null,null,null,null,null,null,null,2045,30237132,{"$f":"IF(K2049=1,COUNTIF($K$5:K2049,1),\"\")","v":2045},{"$f":"IF(ISNUMBER(SEARCH('Bilgi Girişi'!$E$4,KalemAdı,1))=TRUE,1,0)","v":1},"Evrensel Seri Yol (USB) Arabirimler","Mal",30237132,null,null,"Ses kartları"]
[null,null,null,null,null,null,null,2049,30237136,{"$f":"IF(K2053=1,COUNTIF($K$5:K2053,1),\"\")","v":2049},{"$f":"IF(ISNUMBER(SEARCH('Bilgi Girişi'!$E$4,KalemAdı,1))=TRUE,1,0)","v":1},"Ses kartları","Mal",30237136,null,null,"Fare tabanı, mousepad"]
[null,null,null,null,null,null,null,2050,30237140,{"$f":"IF(K2054=1,COUNTIF($K$5:K2054,1),\"\")","v":2050},{"$f":"IF(ISNUMBER(SEARCH('Bilgi Girişi'!$E$4,KalemAdı,1))=TRUE,1,0)","v":1},"Anakartlar","Mal",30237140,null,null,{"$f":"IFERROR(VLOOKUP(ROW($P2054),$J$5:$L$9594,3,FALSE),\"\")","v":"Ön bellekler"}]
[null,null,null,null,null,null,null,2054,30237230,{"$f":"IF(K2058=1,COUNTIF($K$5:K2058,1),\"\")","v":2054},{"$f":"IF(ISNUMBER(SEARCH('Bilgi Girişi'!$E$4,KalemAdı,1))=TRUE,1,0)","v":1},"Ön bellekler","Mal",30237230,null,null,"Hava basınçlı duster"]
[null,null,null,null,null,null,null,2058,30237252,{"$f":"IF(K2062=1,COUNTIF($K$5:K2062,1),\"\")","v":2058},{"$f":"IF(ISNUMBER(SEARCH('Bilgi Girişi'!$E$4,KalemAdı,1))=TRUE,1,0)","v":1},"Hava basınçlı duster","Mal",30237252,null,null,"Güç kaynağı aksesuarları"]
[null,null,null,null,null,null,null,2063,30237290,{"$f":"IF(K2067=1,COUNTIF($K$5:K2067,1),\"\")","v":2063},{"$f":"IF(ISNUMBER(SEARCH('Bilgi Girişi'!$E$4,KalemAdı,1))=TRUE,1,0)","v":1},"Klavye bilek desteği","Mal",30237290,null,null,"Disketler"]
[null,null,null,null,null,null,null,2066,30237310,{"$f":"IF(K2070=1,COUNTIF($K$5:K2070,1),\"\")","v":2066},{"$f":"IF(ISNUMBER(SEARCH('Bilgi Girişi'!$E$4,KalemAdı,1))=TRUE,1,0)","v":1},"Yazıcılar için yazı karakter kartuşları","Mal",30237310,null,null,"Veri kartuşları"]
[null,null,null,null,null,null,null,2068,30237330,{"$f":"IF(K2072=1,COUNTIF($K$5:K2072,1),\"\")","v":2068},{"$f":"IF(ISNUMBER(SEARCH('Bilgi Girişi'!$E$4,KalemAdı,1))=TRUE,1,0)","v":1},"Dijital Ses Teyp (DAT) kartuşları","Mal",30237330,null,null,"Kayıt kartuşları"]
[null,null,null,null,null,null,null,2073,30237380,{"$f":"IF(K2077=1,COUNTIF($K$5:K2077,1),\"\")","v":2073},{"$f":"IF(ISNUMBER(SEARCH('Bilgi Girişi'!$E$4,KalemAdı,1))=TRUE,1,0)","v":1},"CD-ROM","Mal",30237380,null,null,"Işıklı kalemler, light pens"]
[null,null,null,null,null,null,null,2075,30237410,{"$f":"IF(K2079=1,COUNTIF($K$5:K2079,1),\"\")","v":2075},{"$f":"IF(ISNUMBER(SEARCH('Bilgi Girişi'!$E$4,KalemAdı,1))=TRUE,1,0)","v":1},"Bilgisayar faresi","Mal",30237410,null,null,"Grafik tabletleri"]
[null,null,null,null,null,null,null,2078,30237440,{"$f":"IF(K2082=1,COUNTIF($K$5:K2082,1),\"\")","v":2078},{"$f":"IF(ISNUMBER(SEARCH('Bilgi Girişi'!$E$4,KalemAdı,1))=TRUE,1,0)","v":1},"Döner küreler, trackballs","Mal",30237440,null,null,"Kör alfabe klavyeleri"]
[null,null,null,null,null,null,null,2083,30237475,{"$f":"IF(K2087=1,COUNTIF($K$5:K2087,1),\"\")","v":2083},{"$f":"IF(ISNUMBER(SEARCH('Bilgi Girişi'!$E$4,KalemAdı,1))=TRUE,1,0)","v":1},"Elektrik sensörleri","Mal",30237475,null,null,"Elektrik motorları, üreteçleri ve trafoları"]
[null,null,null,null,null,null,null,2087,31100000,{"$f":"IF(K2091=1,COUNTIF($K$5:K2091,1),\"\")","v":2087},{"$f":"IF(ISNUMBER(SEARCH('Bilgi Girişi'!$E$4,KalemAdı,1))=TRUE,1,0)","v":1},"Elektrik motorları, üreteçleri ve trafoları","Mal",31100000,null,null,"Enerji üretim grupları"]
[null,null,null,null,null,null,null,2090,31120000,{"$f":"IF(K2094=1,COUNTIF($K$5:K2094,1),\"\")","v":2090},{"$f":"IF(ISNUMBER(SEARCH('Bilgi Girişi'!$E$4,KalemAdı,1))=TRUE,1,0)","v":1},"Üreteçler","Mal",31120000,null,null,"Elektrikli döner konvertörler"]
[null,null,null,null,null,null,null,2092,31121100,{"$f":"IF(K2096=1,COUNTIF($K$5:K2096,1),\"\")","v":2092},{"$f":"IF(ISNUMBER(SEARCH('Bilgi Girişi'!$E$4,KalemAdı,1))=TRUE,1,0)","v":1},"Sıkıştırmalı yanmalı motorlara sahip üretim grupları","Mal",31121100,null,null,"Rüzgar enerjisi üreteçleri"]
[null,null,null,null,null,null,null,2098,31121320,{"$f":"IF(K2102=1,COUNTIF($K$5:K2102,1),\"\")","v":2098},{"$f":"IF(ISNUMBER(SEARCH('Bilgi Girişi'!$E$4,KalemAdı,1))=TRUE,1,0)","v":1},"Rüzgar türbinleri","Mal",31121320,null,null,"Üreteç birimleri"]
[null,null,null,null,null,null,null,2101,31121340,{"$f":"IF(K2105=1,COUNTIF($K$5:K2105,1),\"\")","v":2101},{"$f":"IF(ISNUMBER(SEARCH('Bilgi Girişi'!$E$4,KalemAdı,1))=TRUE,1,0)","v":1},"Rüzgar tarlası","Mal",31121340,null,null,"Türbin üreteci takımları"]
[null,null,null,null,null,null,null,2103,31122100,{"$f":"IF(K2107=1,COUNTIF($K$5:K2107,1),\"\")","v":2103},{"$f":"IF(ISNUMBER(SEARCH('Bilgi Girişi'!$E$4,KalemAdı,1))=TRUE,1,0)","v":1},"Yakıt hücreleri","Mal",31122100,null,null,"Dinamolar"]
[null,null,null,null,null,null,null,2106,31124200,{"$f":"IF(K2110=1,COUNTIF($K$5:K2110,1),\"\")","v":2106},{"$f":"IF(ISNUMBER(SEARCH('Bilgi Girişi'!$E$4,KalemAdı,1))=TRUE,1,0)","v":1},"Türbin üreteci kontrol aygıtları","Mal",31124200,null,null,"Alternatörler"]
[null,null,null,null,null,null,null,2111,31131000,{"$f":"IF(K2115=1,COUNTIF($K$5:K2115,1),\"\")","v":2111},{"$f":"IF(ISNUMBER(SEARCH('Bilgi Girişi'!$E$4,KalemAdı,1))=TRUE,1,0)","v":1},"Tek fazlı motorlar","Mal",31131000,null,null,"Soğutma kuleleri"]
[null,null,null,null,null,null,null,2115,31140000,{"$f":"IF(K2119=1,COUNTIF($K$5:K2119,1),\"\")","v":2115},{"$f":"IF(ISNUMBER(SEARCH('Bilgi Girişi'!$E$4,KalemAdı,1))=TRUE,1,0)","v":1},"Soğutma kuleleri","Mal",31140000,null,null,"Doğrultmaçlar"]
[null,null,null,null,null,null,null,2120,31154000,{"$f":"IF(K2124=1,COUNTIF($K$5:K2124,1),\"\")","v":2120},{"$f":"IF(ISNUMBER(SEARCH('Bilgi Girişi'!$E$4,KalemAdı,1))=TRUE,1,0)","v":1},"Kesintisiz güç kaynakları","Mal",31154000,null,null,"Şarj aletleri"]
[null,null,null,null,null,null,null,2123,31157000,{"$f":"IF(K2127=1,COUNTIF($K$5:K2127,1),\"\")","v":2123},{"$f":"IF(ISNUMBER(SEARCH('Bilgi Girişi'!$E$4,KalemAdı,1))=TRUE,1,0)","v":1},"Yalıtkanlar","Mal",31157000,null,null,"Turboşarj"]
[null,null,null,null,null,null,null,2125,31158100,{"$f":"IF(K2129=1,COUNTIF($K$5:K2129,1),\"\")","v":2125},{"$f":"IF(ISNUMBER(SEARCH('Bilgi Girişi'!$E$4,KalemAdı,1))=TRUE,1,0)","v":1},"Akü şarj cihazları","Mal",31158100,null,null,"Elektrik motorları ve üreteçleri için parçalar"]
[null,null,null,null,null,null,null,2128,31160000,{"$f":"IF(K2132=1,COUNTIF($K$5:K2132,1),\"\")","v":2128},{"$f":"IF(ISNUMBER(SEARCH('Bilgi Girişi'!$E$4,KalemAdı,1))=TRUE,1,0)","v":1},"Elektrik motorları, jeneratörler ve transformatörlerin parçaları","Mal",31160000,null,null,"Üreteç rotorları"]
[null,null,null,null,null,null,null,2134,31161500,{"$f":"IF(K2138=1,COUNTIF($K$5:K2138,1),\"\")","v":2134},{"$f":"IF(ISNUMBER(SEARCH('Bilgi Girişi'!$E$4,KalemAdı,1))=TRUE,1,0)","v":1},"Kapalı depolu yağ soğutmalı sistemler","Mal",31161500,null,null,"Voltaj kontrol sistemleri"]
[null,null,null,null,null,null,null,2135,31161600,{"$f":"IF(K2139=1,COUNTIF($K$5:K2139,1),\"\")","v":2135},{"$f":"IF(ISNUMBER(SEARCH('Bilgi Girişi'!$E$4,KalemAdı,1))=TRUE,1,0)","v":1},"Statör su soğutmalı sistemler","Mal",31161600,null,null,"Trafo, yalıtkan ve statik dönüştürücü parçaları"]
[null,null,null,null,null,null,null,2139,31162000,{"$f":"IF(K2143=1,COUNTIF($K$5:K2143,1),\"\")","v":2139},{"$f":"IF(ISNUMBER(SEARCH('Bilgi Girişi'!$E$4,KalemAdı,1))=TRUE,1,0)","v":1},"Trafo, yalıtkan ve statik dönüştürücü parçaları","Mal",31162000,null,null,"Gerilim trafoları, transformatörleri"]
[null,null,null,null,null,null,null,2143,31172000,{"$f":"IF(K2147=1,COUNTIF($K$5:K2147,1),\"\")","v":2143},{"$f":"IF(ISNUMBER(SEARCH('Bilgi Girişi'!$E$4,KalemAdı,1))=TRUE,1,0)","v":1},"Gerilim trafoları, transformatörleri","Mal",31172000,null,null,"Anahtarlama veya elektrik devrelerinin korunması için elektrikli cihazlar"]
[null,null,null,null,null,null,null,2148,31211000,{"$f":"IF(K2152=1,COUNTIF($K$5:K2152,1),\"\")","v":2148},{"$f":"IF(ISNUMBER(SEARCH('Bilgi Girişi'!$E$4,KalemAdı,1))=TRUE,1,0)","v":1},"Panolar ve sigorta kutuları","Mal",31211000,null,null,"Sigortalar"]
[null,null,null,null,null,null,null,2149,31211100,{"$f":"IF(K2153=1,COUNTIF($K$5:K2153,1),\"\")","v":2149},{"$f":"IF(ISNUMBER(SEARCH('Bilgi Girişi'!$E$4,KalemAdı,1))=TRUE,1,0)","v":1},"Elektrikli cihazlar için kartlar","Mal",31211100,null,null,"Ankastre çıkışları"]
[null,null,null,null,null,null,null,2155,31211330,{"$f":"IF(K2159=1,COUNTIF($K$5:K2159,1),\"\")","v":2155},{"$f":"IF(ISNUMBER(SEARCH('Bilgi Girişi'!$E$4,KalemAdı,1))=TRUE,1,0)","v":1},"Sigorta telleri","Mal",31211330,null,null,"Devre muayene cihazları"]
[null,null,null,null,null,null,null,2158,31212100,{"$f":"IF(K2162=1,COUNTIF($K$5:K2162,1),\"\")","v":2158},{"$f":"IF(ISNUMBER(SEARCH('Bilgi Girişi'!$E$4,KalemAdı,1))=TRUE,1,0)","v":1},"Başlık devre kesiciler","Mal",31212100,null,null,"Dağıtım ekipmanı"]
[null,null,null,null,null,null,null,2160,31212300,{"$f":"IF(K2164=1,COUNTIF($K$5:K2164,1),\"\")","v":2160},{"$f":"IF(ISNUMBER(SEARCH('Bilgi Girişi'!$E$4,KalemAdı,1))=TRUE,1,0)","v":1},"Manyetik devre kesiciler","Mal",31212300,null,null,"Dağıtım trafoları"]
[null,null,null,null,null,null,null,2163,31213100,{"$f":"IF(K2167=1,COUNTIF($K$5:K2167,1),\"\")","v":2163},{"$f":"IF(ISNUMBER(SEARCH('Bilgi Girişi'!$E$4,KalemAdı,1))=TRUE,1,0)","v":1},"Dağıtım kutuları","Mal",31213100,null,null,"Şalter kolu"]
[null,null,null,null,null,null,null,2168,31214100,{"$f":"IF(K2172=1,COUNTIF($K$5:K2172,1),\"\")","v":2168},{"$f":"IF(ISNUMBER(SEARCH('Bilgi Girişi'!$E$4,KalemAdı,1))=TRUE,1,0)","v":1},"Anahtarlar","Mal",31214100,null,null,"Karartma ayarlı anahtar"]
[null,null,null,null,null,null,null,2172,31214140,{"$f":"IF(K2176=1,COUNTIF($K$5:K2176,1),\"\")","v":2172},{"$f":"IF(ISNUMBER(SEARCH('Bilgi Girişi'!$E$4,KalemAdı,1))=TRUE,1,0)","v":1},"Karartma ayarlı anahtar","Mal",31214140,null,null,"Kaydırmalı anahtarlar"]
[null,null,null,null,null,null,null,2176,31214180,{"$f":"IF(K2180=1,COUNTIF($K$5:K2180,1),\"\")","v":2176},{"$f":"IF(ISNUMBER(SEARCH('Bilgi Girişi'!$E$4,KalemAdı,1))=TRUE,1,0)","v":1},"Kaydırmalı anahtarlar","Mal",31214180,null,null,"Sigorta şalteri devre ayırıcıları"]
[null,null,null,null,null,null,null,2177,31214190,{"$f":"IF(K2181=1,COUNTIF($K$5:K2181,1),\"\")","v":2177},{"$f":"IF(ISNUMBER(SEARCH('Bilgi Girişi'!$E$4,KalemAdı,1))=TRUE,1,0)","v":1},"Sınırlayıcı anahtarlar","Mal",31214190,null,null,"Elektrik panoları"]
[null,null,null,null,null,null,null,2183,31214520,{"$f":"IF(K2187=1,COUNTIF($K$5:K2187,1),\"\")","v":2183},{"$f":"IF(ISNUMBER(SEARCH('Bilgi Girişi'!$E$4,KalemAdı,1))=TRUE,1,0)","v":1},"Orta gerilim kontrol tablosu","Mal",31214520,null,null,"Yıldırım iletkenleri"]
[null,null,null,null,null,null,null,2186,31216100,{"$f":"IF(K2190=1,COUNTIF($K$5:K2190,1),\"\")","v":2186},{"$f":"IF(ISNUMBER(SEARCH('Bilgi Girişi'!$E$4,KalemAdı,1))=TRUE,1,0)","v":1},"Yıldırımdan koruma ekipmanı","Mal",31216100,null,null,"Muhafaza kutuları"]
[null,null,null,null,null,null,null,2191,31220000,{"$f":"IF(K2195=1,COUNTIF($K$5:K2195,1),\"\")","v":2191},{"$f":"IF(ISNUMBER(SEARCH('Bilgi Girişi'!$E$4,KalemAdı,1))=TRUE,1,0)","v":1},"Elektrik devre elemanları","Mal",31220000,null,null,"Soket röleler"]
[null,null,null,null,null,null,null,2193,31221100,{"$f":"IF(K2197=1,COUNTIF($K$5:K2197,1),\"\")","v":2193},{"$f":"IF(ISNUMBER(SEARCH('Bilgi Girişi'!$E$4,KalemAdı,1))=TRUE,1,0)","v":1},"Güç röleleri","Mal",31221100,null,null,"Cıva röleleri"]
[null,null,null,null,null,null,null,2196,31221400,{"$f":"IF(K2200=1,COUNTIF($K$5:K2200,1),\"\")","v":2196},{"$f":"IF(ISNUMBER(SEARCH('Bilgi Girişi'!$E$4,KalemAdı,1))=TRUE,1,0)","v":1},"Değişken voltaj düzenleyici","Mal",31221400,null,null,"Lamba duyları"]
[null,null,null,null,null,null,null,2200,31223000,{"$f":"IF(K2204=1,COUNTIF($K$5:K2204,1),\"\")","v":2200},{"$f":"IF(ISNUMBER(SEARCH('Bilgi Girişi'!$E$4,KalemAdı,1))=TRUE,1,0)","v":1},"Lamba duyları","Mal",31223000,null,null,"Bağlantı kutuları"]
[null,null,null,null,null,null,null,2205,31224400,{"$f":"IF(K2209=1,COUNTIF($K$5:K2209,1),\"\")","v":2205},{"$f":"IF(ISNUMBER(SEARCH('Bilgi Girişi'!$E$4,KalemAdı,1))=TRUE,1,0)","v":1},"Bağlantı kabloları","Mal",31224400,null,null,"Kablo bağlantı takımları"]
[null,null,null,null,null,null,null,2208,31224700,{"$f":"IF(K2212=1,COUNTIF($K$5:K2212,1),\"\")","v":2208},{"$f":"IF(ISNUMBER(SEARCH('Bilgi Girişi'!$E$4,KalemAdı,1))=TRUE,1,0)","v":1},"Buatlar","Mal",31224700,null,null,"Yalıtımlı tel ve kablolar"]
[null,null,null,null,null,null,null,2210,31224810,{"$f":"IF(K2214=1,COUNTIF($K$5:K2214,1),\"\")","v":2210},{"$f":"IF(ISNUMBER(SEARCH('Bilgi Girişi'!$E$4,KalemAdı,1))=TRUE,1,0)","v":1},"Uzatma kabloları","Mal",31224810,null,null,"Şebeke bağlantı elemanları"]
[null,null,null,null,null,null,null,2213,31310000,{"$f":"IF(K2217=1,COUNTIF($K$5:K2217,1),\"\")","v":2213},{"$f":"IF(ISNUMBER(SEARCH('Bilgi Girişi'!$E$4,KalemAdı,1))=TRUE,1,0)","v":1},"Şebeke","Mal",31310000,null,null,"Havai güç hatları"]
[null,null,null,null,null,null,null,2219,31321210,{"$f":"IF(K2223=1,COUNTIF($K$5:K2223,1),\"\")","v":2219},{"$f":"IF(ISNUMBER(SEARCH('Bilgi Girişi'!$E$4,KalemAdı,1))=TRUE,1,0)","v":1},"Düşük voltaj için kablolar","Mal",31321210,null,null,"Deniz altı kabloları"]
[null,null,null,null,null,null,null,2220,31321220,{"$f":"IF(K2224=1,COUNTIF($K$5:K2224,1),\"\")","v":2220},{"$f":"IF(ISNUMBER(SEARCH('Bilgi Girişi'!$E$4,KalemAdı,1))=TRUE,1,0)","v":1},"Orta gerilim kabloları","Mal",31321220,null,null,"Zırhlı kablolar"]
[null,null,null,null,null,null,null,2225,31321700,{"$f":"IF(K2229=1,COUNTIF($K$5:K2229,1),\"\")","v":2225},{"$f":"IF(ISNUMBER(SEARCH('Bilgi Girişi'!$E$4,KalemAdı,1))=TRUE,1,0)","v":1},"Sinyal kablosu","Mal",31321700,null,null,"Yalıtılmış kablo eklemleri"]
[null,null,null,null,null,null,null,2229,31342000,{"$f":"IF(K2233=1,COUNTIF($K$5:K2233,1),\"\")","v":2229},{"$f":"IF(ISNUMBER(SEARCH('Bilgi Girişi'!$E$4,KalemAdı,1))=TRUE,1,0)","v":1},"Yalıtılmış kablo eklemleri","Mal",31342000,null,null,"Erişim kontrol sistemleri için elektrik iletkenleri"]
[null,null,null,null,null,null,null,2233,31351000,{"$f":"IF(K2237=1,COUNTIF($K$5:K2237,1),\"\")","v":2233},{"$f":"IF(ISNUMBER(SEARCH('Bilgi Girişi'!$E$4,KalemAdı,1))=TRUE,1,0)","v":1},"Erişim kontrol sistemleri için elektrik iletkenleri","Mal",31351000,null,null,"Şarjsız bataryalar"]
[null,null,null,null,null,null,null,2234,31400000,{"$f":"IF(K2238=1,COUNTIF($K$5:K2238,1),\"\")","v":2234},{"$f":"IF(ISNUMBER(SEARCH('Bilgi Girişi'!$E$4,KalemAdı,1))=TRUE,1,0)","v":1},"Aküler, şarjsız pil ve bataryalar","Mal",31400000,null,null,"Kurşunlu bataryalar"]
[null,null,null,null,null,null,null,2240,31430000,{"$f":"IF(K2244=1,COUNTIF($K$5:K2244,1),\"\")","v":2240},{"$f":"IF(ISNUMBER(SEARCH('Bilgi Girişi'!$E$4,KalemAdı,1))=TRUE,1,0)","v":1},"Elektrik aküleri","Mal",31430000,null,null,"Lityum akümülatörleri"]
[null,null,null,null,null,null,null,2243,31433000,{"$f":"IF(K2247=1,COUNTIF($K$5:K2247,1),\"\")","v":2243},{"$f":"IF(ISNUMBER(SEARCH('Bilgi Girişi'!$E$4,KalemAdı,1))=TRUE,1,0)","v":1},"Nikel-demir akümülatörler","Mal",31433000,null,null,"Flamanlı elektrik ampülleri"]
[null,null,null,null,null,null,null,2245,31440000,{"$f":"IF(K2249=1,COUNTIF($K$5:K2249,1),\"\")","v":2245},{"$f":"IF(ISNUMBER(SEARCH('Bilgi Girişi'!$E$4,KalemAdı,1))=TRUE,1,0)","v":1},"Piller/aküler/bataryalar","Mal",31440000,null,null,"Tungstenden mamul flamanlı halojen lambalar"]
[null,null,null,null,null,null,null,2248,31511000,{"$f":"IF(K2252=1,COUNTIF($K$5:K2252,1),\"\")","v":2248},{"$f":"IF(ISNUMBER(SEARCH('Bilgi Girişi'!$E$4,KalemAdı,1))=TRUE,1,0)","v":1},"Işık yalıtımlı lamba üniteleri","Mal",31511000,null,null,"Halojen ampuller, dikroik"]
[null,null,null,null,null,null,null,2253,31514000,{"$f":"IF(K2257=1,COUNTIF($K$5:K2257,1),\"\")","v":2253},{"$f":"IF(ISNUMBER(SEARCH('Bilgi Girişi'!$E$4,KalemAdı,1))=TRUE,1,0)","v":1},"Deşarj ampulleri","Mal",31514000,null,null,"Sinyal lambaları"]
[null,null,null,null,null,null,null,2257,31518000,{"$f":"IF(K2261=1,COUNTIF($K$5:K2261,1),\"\")","v":2257},{"$f":"IF(ISNUMBER(SEARCH('Bilgi Girişi'!$E$4,KalemAdı,1))=TRUE,1,0)","v":1},"Sinyal lambaları","Mal",31518000,null,null,"Işık çubuğu"]
[null,null,null,null,null,null,null,2262,31518300,{"$f":"IF(K2266=1,COUNTIF($K$5:K2266,1),\"\")","v":2262},{"$f":"IF(ISNUMBER(SEARCH('Bilgi Girişi'!$E$4,KalemAdı,1))=TRUE,1,0)","v":1},"Çatı aydınlatma lambaları","Mal",31518300,null,null,"Akkor lambalar"]
[null,null,null,null,null,null,null,2265,31519000,{"$f":"IF(K2269=1,COUNTIF($K$5:K2269,1),\"\")","v":2265},{"$f":"IF(ISNUMBER(SEARCH('Bilgi Girişi'!$E$4,KalemAdı,1))=TRUE,1,0)","v":1},"Akkor ve neon lambalar","Mal",31519000,null,null,"Lambalar"]
[null,null,null,null,null,null,null,2267,31519200,{"$f":"IF(K2271=1,COUNTIF($K$5:K2271,1),\"\")","v":2267},{"$f":"IF(ISNUMBER(SEARCH('Bilgi Girişi'!$E$4,KalemAdı,1))=TRUE,1,0)","v":1},"Neon lambaları","Mal",31519200,null,null,"Ayaklı aydınlatma lambaları"]
[null,null,null,null,null,null,null,2270,31521100,{"$f":"IF(K2274=1,COUNTIF($K$5:K2274,1),\"\")","v":2270},{"$f":"IF(ISNUMBER(SEARCH('Bilgi Girişi'!$E$4,KalemAdı,1))=TRUE,1,0)","v":1},"Masa lambaları","Mal",31521100,null,null,"Meşaleler, asetilen lambaları"]
[null,null,null,null,null,null,null,2276,31522000,{"$f":"IF(K2280=1,COUNTIF($K$5:K2280,1),\"\")","v":2276},{"$f":"IF(ISNUMBER(SEARCH('Bilgi Girişi'!$E$4,KalemAdı,1))=TRUE,1,0)","v":1},"Noel ağacı süs ampülleri","Mal",31522000,null,null,"Işıklı tabelalar"]
[null,null,null,null,null,null,null,2278,31523100,{"$f":"IF(K2282=1,COUNTIF($K$5:K2282,1),\"\")","v":2278},{"$f":"IF(ISNUMBER(SEARCH('Bilgi Girişi'!$E$4,KalemAdı,1))=TRUE,1,0)","v":1},"Reklam amaçlı neon ışıkları","Mal",31523100,null,null,"Tavan lambası montaj elemanları"]
[null,null,null,null,null,null,null,2281,31524000,{"$f":"IF(K2285=1,COUNTIF($K$5:K2285,1),\"\")","v":2281},{"$f":"IF(ISNUMBER(SEARCH('Bilgi Girişi'!$E$4,KalemAdı,1))=TRUE,1,0)","v":1},"Tavan veya duvar için aydınlatma cihazları","Mal",31524000,null,null,"Duvar ışıklandırma  parçaları"]
[null,null,null,null,null,null,null,2285,31524200,{"$f":"IF(K2289=1,COUNTIF($K$5:K2289,1),\"\")","v":2285},{"$f":"IF(ISNUMBER(SEARCH('Bilgi Girişi'!$E$4,KalemAdı,1))=TRUE,1,0)","v":1},"Duvar ışıklandırma  parçaları","Mal",31524200,null,null,"Fenerler"]
[null,null,null,null,null,null,null,2290,31527260,{"$f":"IF(K2294=1,COUNTIF($K$5:K2294,1),\"\")","v":2290},{"$f":"IF(ISNUMBER(SEARCH('Bilgi Girişi'!$E$4,KalemAdı,1))=TRUE,1,0)","v":1},"Aydınlatma sistemleri","Mal",31527260,null,null,"Lamba ve aydınlatma ekipmanı parçaları"]
[null,null,null,null,null,null,null,2293,31527400,{"$f":"IF(K2297=1,COUNTIF($K$5:K2297,1),\"\")","v":2293},{"$f":"IF(ISNUMBER(SEARCH('Bilgi Girişi'!$E$4,KalemAdı,1))=TRUE,1,0)","v":1},"Sualtı ışıkları","Mal",31527400,null,null,"Lamba ve ampul bağlantı kısımlarına ait parça ve aksesuarlar"]
[null,null,null,null,null,null,null,2295,31531000,{"$f":"IF(K2299=1,COUNTIF($K$5:K2299,1),\"\")","v":2295},{"$f":"IF(ISNUMBER(SEARCH('Bilgi Girişi'!$E$4,KalemAdı,1))=TRUE,1,0)","v":1},"Aydınlatma ampulleri","Mal",31531000,null,null,"Floresan tüp lambalar"]
[null,null,null,null,null,null,null,2300,31532120,{"$f":"IF(K2304=1,COUNTIF($K$5:K2304,1),\"\")","v":2300},{"$f":"IF(ISNUMBER(SEARCH('Bilgi Girişi'!$E$4,KalemAdı,1))=TRUE,1,0)","v":1},"Kompakt floresan tüp lambalar","Mal",31532120,null,null,"Kompakt floresan küre lambalar"]
[null,null,null,null,null,null,null,2302,31532210,{"$f":"IF(K2306=1,COUNTIF($K$5:K2306,1),\"\")","v":2302},{"$f":"IF(ISNUMBER(SEARCH('Bilgi Girişi'!$E$4,KalemAdı,1))=TRUE,1,0)","v":1},"Floresan halka lambalar","Mal",31532210,null,null,"Lamba starterleri"]
[null,null,null,null,null,null,null,2305,31532400,{"$f":"IF(K2309=1,COUNTIF($K$5:K2309,1),\"\")","v":2305},{"$f":"IF(ISNUMBER(SEARCH('Bilgi Girişi'!$E$4,KalemAdı,1))=TRUE,1,0)","v":1},"Lamba soketleri","Mal",31532400,null,null,"Floresan lambalar için reaktörler"]
[null,null,null,null,null,null,null,2310,31532700,{"$f":"IF(K2314=1,COUNTIF($K$5:K2314,1),\"\")","v":2310},{"$f":"IF(ISNUMBER(SEARCH('Bilgi Girişi'!$E$4,KalemAdı,1))=TRUE,1,0)","v":1},"Lamba kapakları","Mal",31532700,null,null,"Ampuller ve floresan lambalar"]
[null,null,null,null,null,null,null,2314,31532920,{"$f":"IF(K2318=1,COUNTIF($K$5:K2318,1),\"\")","v":2314},{"$f":"IF(ISNUMBER(SEARCH('Bilgi Girişi'!$E$4,KalemAdı,1))=TRUE,1,0)","v":1},"Ampuller ve floresan lambalar","Mal",31532920,null,null,"Motorlar için elektrik kablo takımları"]
[null,null,null,null,null,null,null,2318,31612000,{"$f":"IF(K2322=1,COUNTIF($K$5:K2322,1),\"\")","v":2318},{"$f":"IF(ISNUMBER(SEARCH('Bilgi Girişi'!$E$4,KalemAdı,1))=TRUE,1,0)","v":1},"Motorlar için elektrik kablo takımları","Mal",31612000,null,null,"Sesli ya da görsel sinyal cihazları"]
[null,null,null,null,null,null,null,2319,31612200,{"$f":"IF(K2323=1,COUNTIF($K$5:K2323,1),\"\")","v":2319},{"$f":"IF(ISNUMBER(SEARCH('Bilgi Girişi'!$E$4,KalemAdı,1))=TRUE,1,0)","v":1},"Marş motorları","Mal",31612200,null,null,"Hırsızlık ve yangın alarm düzenekleri"]
[null,null,null,null,null,null,null,2323,31625000,{"$f":"IF(K2327=1,COUNTIF($K$5:K2327,1),\"\")","v":2323},{"$f":"IF(ISNUMBER(SEARCH('Bilgi Girişi'!$E$4,KalemAdı,1))=TRUE,1,0)","v":1},"Hırsızlık ve yangın alarm düzenekleri","Mal",31625000,null,null,"Mıknatıslar"]
[null,null,null,null,null,null,null,2328,31640000,{"$f":"IF(K2332=1,COUNTIF($K$5:K2332,1),\"\")","v":2328},{"$f":"IF(ISNUMBER(SEARCH('Bilgi Girişi'!$E$4,KalemAdı,1))=TRUE,1,0)","v":1},"Münferit özelliklere sahip makine ve düzenekler","Mal",31640000,null,null,"Plastikler için tespit cihazları"]
[null,null,null,null,null,null,null,2330,31642100,{"$f":"IF(K2334=1,COUNTIF($K$5:K2334,1),\"\")","v":2330},{"$f":"IF(ISNUMBER(SEARCH('Bilgi Girişi'!$E$4,KalemAdı,1))=TRUE,1,0)","v":1},"Metal borular için  tespit cihazları","Mal",31642100,null,null,"Ahşap ve kereste tespit cihazları"]
[null,null,null,null,null,null,null,2333,31642400,{"$f":"IF(K2337=1,COUNTIF($K$5:K2337,1),\"\")","v":2333},{"$f":"IF(ISNUMBER(SEARCH('Bilgi Girişi'!$E$4,KalemAdı,1))=TRUE,1,0)","v":1},"Metal olmayan nesneleri tespit etmekte kullanılan cihazlar","Mal",31642400,null,null,"Diğer çeşitli veri kayıt cihazları"]
[null,null,null,null,null,null,null,2338,31645000,{"$f":"IF(K2342=1,COUNTIF($K$5:K2342,1),\"\")","v":2338},{"$f":"IF(ISNUMBER(SEARCH('Bilgi Girişi'!$E$4,KalemAdı,1))=TRUE,1,0)","v":1},"Tilt makineleri","Mal",31645000,null,null,"Makine ve aletlerin elektrikli aksam ve parçalar"]
[null,null,null,null,null,null,null,2343,31671000,{"$f":"IF(K2347=1,COUNTIF($K$5:K2347,1),\"\")","v":2343},{"$f":"IF(ISNUMBER(SEARCH('Bilgi Girişi'!$E$4,KalemAdı,1))=TRUE,1,0)","v":1},"Cam zarfları ve katot ışını tüpleri","Mal",31671000,null,null,"Elektrikli aksesuarlar"]
[null,null,null,null,null,null,null,2347,31681000,{"$f":"IF(K2351=1,COUNTIF($K$5:K2351,1),\"\")","v":2347},{"$f":"IF(ISNUMBER(SEARCH('Bilgi Girişi'!$E$4,KalemAdı,1))=TRUE,1,0)","v":1},"Elektrikli aksesuarlar","Mal",31681000,null,null,"Elektrikli parçalar"]
[null,null,null,null,null,null,null,2350,31681300,{"$f":"IF(K2354=1,COUNTIF($K$5:K2354,1),\"\")","v":2350},{"$f":"IF(ISNUMBER(SEARCH('Bilgi Girişi'!$E$4,KalemAdı,1))=TRUE,1,0)","v":1},"Elektrik devreleri","Mal",31681300,null,null,"Elektrik tesisat malzemeleri"]
[null,null,null,null,null,null,null,2352,31681410,{"$f":"IF(K2356=1,COUNTIF($K$5:K2356,1),\"\")","v":2352},{"$f":"IF(ISNUMBER(SEARCH('Bilgi Girişi'!$E$4,KalemAdı,1))=TRUE,1,0)","v":1},"Elektrikli malzemeler","Mal",31681410,null,null,"Elektrik kutusu kapakları"]
[null,null,null,null,null,null,null,2355,31682100,{"$f":"IF(K2359=1,COUNTIF($K$5:K2359,1),\"\")","v":2355},{"$f":"IF(ISNUMBER(SEARCH('Bilgi Girişi'!$E$4,KalemAdı,1))=TRUE,1,0)","v":1},"Elektrik kutuları","Mal",31682100,null,null,"Karma panolar"]
[null,null,null,null,null,null,null,2361,31682300,{"$f":"IF(K2365=1,COUNTIF($K$5:K2365,1),\"\")","v":2361},{"$f":"IF(ISNUMBER(SEARCH('Bilgi Girişi'!$E$4,KalemAdı,1))=TRUE,1,0)","v":1},"Orta gerilim ekipmanı","Mal",31682300,null,null,"Acil durum elektrik ekipmanı"]
[null,null,null,null,null,null,null,2363,31682400,{"$f":"IF(K2367=1,COUNTIF($K$5:K2367,1),\"\")","v":2363},{"$f":"IF(ISNUMBER(SEARCH('Bilgi Girişi'!$E$4,KalemAdı,1))=TRUE,1,0)","v":1},"Havai tip elektrik ekipmanı","Mal",31682400,null,null,"Acil durum kapatma sistemleri"]
[null,null,null,null,null,null,null,2366,31682510,{"$f":"IF(K2370=1,COUNTIF($K$5:K2370,1),\"\")","v":2366},{"$f":"IF(ISNUMBER(SEARCH('Bilgi Girişi'!$E$4,KalemAdı,1))=TRUE,1,0)","v":1},"Acil durum güç sistemleri","Mal",31682510,null,null,"Elektronik, elektromekanik ve elektroteknik malzemeler"]
[null,null,null,null,null,null,null,2371,31710000,{"$f":"IF(K2375=1,COUNTIF($K$5:K2375,1),\"\")","v":2371},{"$f":"IF(ISNUMBER(SEARCH('Bilgi Girişi'!$E$4,KalemAdı,1))=TRUE,1,0)","v":1},"Elektronik ekipmanı","Mal",31710000,null,null,"Transducer, dönüştürücüler"]
[null,null,null,null,null,null,null,2375,31711120,{"$f":"IF(K2379=1,COUNTIF($K$5:K2379,1),\"\")","v":2375},{"$f":"IF(ISNUMBER(SEARCH('Bilgi Girişi'!$E$4,KalemAdı,1))=TRUE,1,0)","v":1},"Transducer, dönüştürücüler","Mal",31711120,null,null,"Elektrik kondansatörleri"]
[null,null,null,null,null,null,null,2376,31711130,{"$f":"IF(K2380=1,COUNTIF($K$5:K2380,1),\"\")","v":2376},{"$f":"IF(ISNUMBER(SEARCH('Bilgi Girişi'!$E$4,KalemAdı,1))=TRUE,1,0)","v":1},"Dirençler","Mal",31711130,null,null,"Sabit kondansatörler"]
[null,null,null,null,null,null,null,2380,31711151,{"$f":"IF(K2384=1,COUNTIF($K$5:K2384,1),\"\")","v":2380},{"$f":"IF(ISNUMBER(SEARCH('Bilgi Girişi'!$E$4,KalemAdı,1))=TRUE,1,0)","v":1},"Sabit kondansatörler","Mal",31711151,null,null,"Elektronik sayı tahtaları"]
[null,null,null,null,null,null,null,2385,31711300,{"$f":"IF(K2389=1,COUNTIF($K$5:K2389,1),\"\")","v":2385},{"$f":"IF(ISNUMBER(SEARCH('Bilgi Girişi'!$E$4,KalemAdı,1))=TRUE,1,0)","v":1},"Elektronik kronometre sistemleri","Mal",31711300,null,null,"Televizyon kamerası tüpleri"]
[null,null,null,null,null,null,null,2388,31711410,{"$f":"IF(K2392=1,COUNTIF($K$5:K2392,1),\"\")","v":2388},{"$f":"IF(ISNUMBER(SEARCH('Bilgi Girişi'!$E$4,KalemAdı,1))=TRUE,1,0)","v":1},"Katot ışınlı televizyon resim tüpleri","Mal",31711410,null,null,"Mikrodalga ekipmanı"]
[null,null,null,null,null,null,null,2390,31711420,{"$f":"IF(K2394=1,COUNTIF($K$5:K2394,1),\"\")","v":2390},{"$f":"IF(ISNUMBER(SEARCH('Bilgi Girişi'!$E$4,KalemAdı,1))=TRUE,1,0)","v":1},"Mikrodalga tüpleri ve ekipmanı","Mal",31711420,null,null,"Klistronlar"]
[null,null,null,null,null,null,null,2395,31711430,{"$f":"IF(K2399=1,COUNTIF($K$5:K2399,1),\"\")","v":2395},{"$f":"IF(ISNUMBER(SEARCH('Bilgi Girişi'!$E$4,KalemAdı,1))=TRUE,1,0)","v":1},"Valf tüpleri","Mal",31711430,null,null,"Elektrikli direnç, reosta ve potansiyometrenin aksam ve parçaları"]
[null,null,null,null,null,null,null,2399,31711520,{"$f":"IF(K2403=1,COUNTIF($K$5:K2403,1),\"\")","v":2399},{"$f":"IF(ISNUMBER(SEARCH('Bilgi Girişi'!$E$4,KalemAdı,1))=TRUE,1,0)","v":1},"Elektrikli direnç, reosta ve potansiyometrenin aksam ve parçaları","Mal",31711520,null,null,"Elektronik entegre devreler ve komple mikrocihazlar"]
[null,null,null,null,null,null,null,2403,31712110,{"$f":"IF(K2407=1,COUNTIF($K$5:K2407,1),\"\")","v":2403},{"$f":"IF(ISNUMBER(SEARCH('Bilgi Girişi'!$E$4,KalemAdı,1))=TRUE,1,0)","v":1},"Elektronik entegre devreler ve komple mikrocihazlar","Mal",31712110,null,null,"Entegre elektronik devreler"]
[null,null,null,null,null,null,null,2404,31712111,{"$f":"IF(K2408=1,COUNTIF($K$5:K2408,1),\"\")","v":2404},{"$f":"IF(ISNUMBER(SEARCH('Bilgi Girişi'!$E$4,KalemAdı,1))=TRUE,1,0)","v":1},"Telefon kartları","Mal",31712111,null,null,"Komple mikrocihazlar"]
[null,null,null,null,null,null,null,2408,31712115,{"$f":"IF(K2412=1,COUNTIF($K$5:K2412,1),\"\")","v":2408},{"$f":"IF(ISNUMBER(SEARCH('Bilgi Girişi'!$E$4,KalemAdı,1))=TRUE,1,0)","v":1},"Komple mikrocihazlar","Mal",31712115,null,null,"Entegre devre kapakları"]
[null,null,null,null,null,null,null,2413,31712200,{"$f":"IF(K2417=1,COUNTIF($K$5:K2417,1),\"\")","v":2413},{"$f":"IF(ISNUMBER(SEARCH('Bilgi Girişi'!$E$4,KalemAdı,1))=TRUE,1,0)","v":1},"Mikro sistemler","Mal",31712200,null,null,"Yarı iletkenler"]
[null,null,null,null,null,null,null,2418,31712331,{"$f":"IF(K2422=1,COUNTIF($K$5:K2422,1),\"\")","v":2418},{"$f":"IF(ISNUMBER(SEARCH('Bilgi Girişi'!$E$4,KalemAdı,1))=TRUE,1,0)","v":1},"Fotovoltaik hücreler","Mal",31712331,null,null,"Optik çift uçlu izolatörler"]
[null,null,null,null,null,null,null,2420,31712333,{"$f":"IF(K2424=1,COUNTIF($K$5:K2424,1),\"\")","v":2420},{"$f":"IF(ISNUMBER(SEARCH('Bilgi Girişi'!$E$4,KalemAdı,1))=TRUE,1,0)","v":1},"Alternatif akımlar için diotlar","Mal",31712333,null,null,"Diyotlar"]
[null,null,null,null,null,null,null,2423,31712336,{"$f":"IF(K2427=1,COUNTIF($K$5:K2427,1),\"\")","v":2423},{"$f":"IF(ISNUMBER(SEARCH('Bilgi Girişi'!$E$4,KalemAdı,1))=TRUE,1,0)","v":1},"Kristal osilatörler","Mal",31712336,null,null,"Zener diyotlar"]
[null,null,null,null,null,null,null,2428,31712344,{"$f":"IF(K2432=1,COUNTIF($K$5:K2432,1),\"\")","v":2428},{"$f":"IF(ISNUMBER(SEARCH('Bilgi Girişi'!$E$4,KalemAdı,1))=TRUE,1,0)","v":1},"Schottky diyotları","Mal",31712344,null,null,"Diyot lazerler"]
[null,null,null,null,null,null,null,2432,31712348,{"$f":"IF(K2436=1,COUNTIF($K$5:K2436,1),\"\")","v":2432},{"$f":"IF(ISNUMBER(SEARCH('Bilgi Girişi'!$E$4,KalemAdı,1))=TRUE,1,0)","v":1},"Diyot lazerler","Mal",31712348,null,null,"Saha etkili transistörler (FET)"]
[null,null,null,null,null,null,null,2435,31712351,{"$f":"IF(K2439=1,COUNTIF($K$5:K2439,1),\"\")","v":2435},{"$f":"IF(ISNUMBER(SEARCH('Bilgi Girişi'!$E$4,KalemAdı,1))=TRUE,1,0)","v":1},"Fotoğraf duyarlı transistörler","Mal",31712351,null,null,"Bipolar darlington veya radyo frekansı (RF) transistörleri"]
[null,null,null,null,null,null,null,2437,31712353,{"$f":"IF(K2441=1,COUNTIF($K$5:K2441,1),\"\")","v":2437},{"$f":"IF(ISNUMBER(SEARCH('Bilgi Girişi'!$E$4,KalemAdı,1))=TRUE,1,0)","v":1},"Metal oksit alan-etkili transistörler  (MOSFET)","Mal",31712353,null,null,"Insulated gate bipolar transistör (IGBT)"]
[null,null,null,null,null,null,null,2440,31712356,{"$f":"IF(K2444=1,COUNTIF($K$5:K2444,1),\"\")","v":2440},{"$f":"IF(ISNUMBER(SEARCH('Bilgi Girişi'!$E$4,KalemAdı,1))=TRUE,1,0)","v":1},"Unijunction transistörler","Mal",31712356,null,null,"Monteli tip piezo-elektrik kristalleri"]
[null,null,null,null,null,null,null,2446,31730000,{"$f":"IF(K2450=1,COUNTIF($K$5:K2450,1),\"\")","v":2446},{"$f":"IF(ISNUMBER(SEARCH('Bilgi Girişi'!$E$4,KalemAdı,1))=TRUE,1,0)","v":1},"Elektro teknik ekipman","Mal",31730000,null,null,"Telsiz telefon, telsiz telgraf, radyo yayını ve televizyon için iletim düzenek ve"]
[null,null,null,null,null,null,null,2447,31731000,{"$f":"IF(K2451=1,COUNTIF($K$5:K2451,1),\"\")","v":2447},{"$f":"IF(ISNUMBER(SEARCH('Bilgi Girişi'!$E$4,KalemAdı,1))=TRUE,1,0)","v":1},"Elektro teknik malzeme","Mal",31731000,null,null,"Radyo ve televizyon yayıncılığı için ekipman"]
[null,null,null,null,null,null,null,2452,32211000,{"$f":"IF(K2456=1,COUNTIF($K$5:K2456,1),\"\")","v":2452},{"$f":"IF(ISNUMBER(SEARCH('Bilgi Girişi'!$E$4,KalemAdı,1))=TRUE,1,0)","v":1},"Yayın üretim ekipmanı","Mal",32211000,null,null,"Video transmisyon cihazları"]
[null,null,null,null,null,null,null,2456,32223000,{"$f":"IF(K2460=1,COUNTIF($K$5:K2460,1),\"\")","v":2456},{"$f":"IF(ISNUMBER(SEARCH('Bilgi Girişi'!$E$4,KalemAdı,1))=TRUE,1,0)","v":1},"Video transmisyon cihazları","Mal",32223000,null,null,"Video konferans ekipmanı"]
[null,null,null,null,null,null,null,2460,32232000,{"$f":"IF(K2464=1,COUNTIF($K$5:K2464,1),\"\")","v":2460},{"$f":"IF(ISNUMBER(SEARCH('Bilgi Girişi'!$E$4,KalemAdı,1))=TRUE,1,0)","v":1},"Video konferans ekipmanı","Mal",32232000,null,null,"Telsiz telefonlar"]
[null,null,null,null,null,null,null,2461,32233000,{"$f":"IF(K2465=1,COUNTIF($K$5:K2465,1),\"\")","v":2461},{"$f":"IF(ISNUMBER(SEARCH('Bilgi Girişi'!$E$4,KalemAdı,1))=TRUE,1,0)","v":1},"Radyo frekans güçlendirme istasyonları","Mal",32233000,null,null,"Kısa mesafeli telsiz cihazları, Volki tolkiler"]
[null,null,null,null,null,null,null,2465,32237000,{"$f":"IF(K2469=1,COUNTIF($K$5:K2469,1),\"\")","v":2465},{"$f":"IF(ISNUMBER(SEARCH('Bilgi Girişi'!$E$4,KalemAdı,1))=TRUE,1,0)","v":1},"Kısa mesafeli telsiz cihazları, Volki tolkiler","Mal",32237000,null,null,"Kulaklık setleri"]
[null,null,null,null,null,null,null,2470,32252000,{"$f":"IF(K2474=1,COUNTIF($K$5:K2474,1),\"\")","v":2470},{"$f":"IF(ISNUMBER(SEARCH('Bilgi Girişi'!$E$4,KalemAdı,1))=TRUE,1,0)","v":1},"GSM Telefonları, Cep telefonları","Mal",32252000,null,null,"Sayısal iletim cihazları"]
[null,null,null,null,null,null,null,2473,32260000,{"$f":"IF(K2477=1,COUNTIF($K$5:K2477,1),\"\")","v":2473},{"$f":"IF(ISNUMBER(SEARCH('Bilgi Girişi'!$E$4,KalemAdı,1))=TRUE,1,0)","v":1},"Veri iletim donanımı","Mal",32260000,null,null,"Televizyon ve görsel-işitsel cihazlar"]
[null,null,null,null,null,null,null,2475,32300000,{"$f":"IF(K2479=1,COUNTIF($K$5:K2479,1),\"\")","v":2475},{"$f":"IF(ISNUMBER(SEARCH('Bilgi Girişi'!$E$4,KalemAdı,1))=TRUE,1,0)","v":1},"Televizyon ve radyo alıcıları ile sesli ya da görüntülü kayıt ya da çoğaltma","Mal",32300000,null,null,"Film ekipmanı"]
[null,null,null,null,null,null,null,2480,32321200,{"$f":"IF(K2484=1,COUNTIF($K$5:K2484,1),\"\")","v":2480},{"$f":"IF(ISNUMBER(SEARCH('Bilgi Girişi'!$E$4,KalemAdı,1))=TRUE,1,0)","v":1},"Görsel-işitsel cihazlar","Mal",32321200,null,null,"Renkli video monitörleri"]
[null,null,null,null,null,null,null,2484,32323100,{"$f":"IF(K2488=1,COUNTIF($K$5:K2488,1),\"\")","v":2484},{"$f":"IF(ISNUMBER(SEARCH('Bilgi Girişi'!$E$4,KalemAdı,1))=TRUE,1,0)","v":1},"Renkli video monitörleri","Mal",32323100,null,null,"Video gözetleme sistemleri"]
[null,null,null,null,null,null,null,2489,32324000,{"$f":"IF(K2493=1,COUNTIF($K$5:K2493,1),\"\")","v":2489},{"$f":"IF(ISNUMBER(SEARCH('Bilgi Girişi'!$E$4,KalemAdı,1))=TRUE,1,0)","v":1},"Televizyonlar","Mal",32324000,null,null,"Uydu antenleri"]
[null,null,null,null,null,null,null,2490,32324100,{"$f":"IF(K2494=1,COUNTIF($K$5:K2494,1),\"\")","v":2490},{"$f":"IF(ISNUMBER(SEARCH('Bilgi Girişi'!$E$4,KalemAdı,1))=TRUE,1,0)","v":1},"Renkli televizyonlar","Mal",32324100,null,null,"Televizyon antenleri"]
[null,null,null,null,null,null,null,2494,32324400,{"$f":"IF(K2498=1,COUNTIF($K$5:K2498,1),\"\")","v":2494},{"$f":"IF(ISNUMBER(SEARCH('Bilgi Girişi'!$E$4,KalemAdı,1))=TRUE,1,0)","v":1},"Televizyon antenleri","Mal",32324400,null,null,"Pikaplar"]
[null,null,null,null,null,null,null,2497,32330000,{"$f":"IF(K2501=1,COUNTIF($K$5:K2501,1),\"\")","v":2497},{"$f":"IF(ISNUMBER(SEARCH('Bilgi Girişi'!$E$4,KalemAdı,1))=TRUE,1,0)","v":1},"Ses, video kayıt ve çoğaltma cihazları","Mal",32330000,null,null,"Ses çoğaltma cihazları"]
[null,null,null,null,null,null,null,2503,32331600,{"$f":"IF(K2507=1,COUNTIF($K$5:K2507,1),\"\")","v":2503},{"$f":"IF(ISNUMBER(SEARCH('Bilgi Girişi'!$E$4,KalemAdı,1))=TRUE,1,0)","v":1},"MP3 çalar","Mal",32331600,null,null,"Ses kayıt cihazları"]
[null,null,null,null,null,null,null,2505,32332100,{"$f":"IF(K2509=1,COUNTIF($K$5:K2509,1),\"\")","v":2505},{"$f":"IF(ISNUMBER(SEARCH('Bilgi Girişi'!$E$4,KalemAdı,1))=TRUE,1,0)","v":1},"Dikte makineleri","Mal",32332100,null,null,"Video kayıt cihazları"]
[null,null,null,null,null,null,null,2508,32333000,{"$f":"IF(K2512=1,COUNTIF($K$5:K2512,1),\"\")","v":2508},{"$f":"IF(ISNUMBER(SEARCH('Bilgi Girişi'!$E$4,KalemAdı,1))=TRUE,1,0)","v":1},"Video kayıt ya da çoğaltma cihazları","Mal",32333000,null,null,"Video oynatıcılar"]
[null,null,null,null,null,null,null,2513,32340000,{"$f":"IF(K2517=1,COUNTIF($K$5:K2517,1),\"\")","v":2513},{"$f":"IF(ISNUMBER(SEARCH('Bilgi Girişi'!$E$4,KalemAdı,1))=TRUE,1,0)","v":1},"Mikrofon ve hoparlörler","Mal",32340000,null,null,"Kulağa takılan, müstakil kulaklıklar"]
[null,null,null,null,null,null,null,2517,32342200,{"$f":"IF(K2521=1,COUNTIF($K$5:K2521,1),\"\")","v":2517},{"$f":"IF(ISNUMBER(SEARCH('Bilgi Girişi'!$E$4,KalemAdı,1))=TRUE,1,0)","v":1},"Kulağa takılan, müstakil kulaklıklar","Mal",32342200,null,null,"Mini hoparlörler"]
[null,null,null,null,null,null,null,2518,32342300,{"$f":"IF(K2522=1,COUNTIF($K$5:K2522,1),\"\")","v":2518},{"$f":"IF(ISNUMBER(SEARCH('Bilgi Girişi'!$E$4,KalemAdı,1))=TRUE,1,0)","v":1},"Mikrofon ve hoparlör grupları","Mal",32342300,null,null,"Stüdyo miks konsolu"]
[null,null,null,null,null,null,null,2522,32342420,{"$f":"IF(K2526=1,COUNTIF($K$5:K2526,1),\"\")","v":2522},{"$f":"IF(ISNUMBER(SEARCH('Bilgi Girişi'!$E$4,KalemAdı,1))=TRUE,1,0)","v":1},"Stüdyo miks konsolu","Mal",32342420,null,null,"Ses frekans yükselteçleri"]
[null,null,null,null,null,null,null,2527,32343200,{"$f":"IF(K2531=1,COUNTIF($K$5:K2531,1),\"\")","v":2527},{"$f":"IF(ISNUMBER(SEARCH('Bilgi Girişi'!$E$4,KalemAdı,1))=TRUE,1,0)","v":1},"Megafonlar","Mal",32343200,null,null,"Radyo alıcıları"]
[null,null,null,null,null,null,null,2530,32344110,{"$f":"IF(K2534=1,COUNTIF($K$5:K2534,1),\"\")","v":2530},{"$f":"IF(ISNUMBER(SEARCH('Bilgi Girişi'!$E$4,KalemAdı,1))=TRUE,1,0)","v":1},"Ses kaydı tutma sistemleri","Mal",32344110,null,null,"Radyo istasyonları"]
[null,null,null,null,null,null,null,2532,32344210,{"$f":"IF(K2536=1,COUNTIF($K$5:K2536,1),\"\")","v":2532},{"$f":"IF(ISNUMBER(SEARCH('Bilgi Girişi'!$E$4,KalemAdı,1))=TRUE,1,0)","v":1},"Radyo ekipmanı","Mal",32344210,null,null,"Radyo tesisatları"]
[null,null,null,null,null,null,null,2538,32344270,{"$f":"IF(K2542=1,COUNTIF($K$5:K2542,1),\"\")","v":2538},{"$f":"IF(ISNUMBER(SEARCH('Bilgi Girişi'!$E$4,KalemAdı,1))=TRUE,1,0)","v":1},"Radyo ve telefon kontrol sistemi","Mal",32344270,null,null,"Görüntü düzeltme donanımı"]
[null,null,null,null,null,null,null,2541,32351000,{"$f":"IF(K2545=1,COUNTIF($K$5:K2545,1),\"\")","v":2541},{"$f":"IF(ISNUMBER(SEARCH('Bilgi Girişi'!$E$4,KalemAdı,1))=TRUE,1,0)","v":1},"Ses ve görüntü ekipmanının aksesuarları","Mal",32351000,null,null,"Teyp kasetleri"]
[null,null,null,null,null,null,null,2545,32351310,{"$f":"IF(K2549=1,COUNTIF($K$5:K2549,1),\"\")","v":2545},{"$f":"IF(ISNUMBER(SEARCH('Bilgi Girişi'!$E$4,KalemAdı,1))=TRUE,1,0)","v":1},"Teyp kasetleri","Mal",32351310,null,null,"Ses kayıt malzemeleri"]
[null,null,null,null,null,null,null,2546,32352000,{"$f":"IF(K2550=1,COUNTIF($K$5:K2550,1),\"\")","v":2546},{"$f":"IF(ISNUMBER(SEARCH('Bilgi Girişi'!$E$4,KalemAdı,1))=TRUE,1,0)","v":1},"Anten ve reflektörler","Mal",32352000,null,null,"Plaklar"]
[null,null,null,null,null,null,null,2550,32353100,{"$f":"IF(K2554=1,COUNTIF($K$5:K2554,1),\"\")","v":2550},{"$f":"IF(ISNUMBER(SEARCH('Bilgi Girişi'!$E$4,KalemAdı,1))=TRUE,1,0)","v":1},"Plaklar","Mal",32353100,null,null,"Röntgen filmleri"]
[null,null,null,null,null,null,null,2555,32354120,{"$f":"IF(K2559=1,COUNTIF($K$5:K2559,1),\"\")","v":2555},{"$f":"IF(ISNUMBER(SEARCH('Bilgi Girişi'!$E$4,KalemAdı,1))=TRUE,1,0)","v":1},"Mavi diyazopozitif filmler","Mal",32354120,null,null,"Video filmleri"]
[null,null,null,null,null,null,null,2558,32354400,{"$f":"IF(K2562=1,COUNTIF($K$5:K2562,1),\"\")","v":2558},{"$f":"IF(ISNUMBER(SEARCH('Bilgi Girişi'!$E$4,KalemAdı,1))=TRUE,1,0)","v":1},"Poloroid filmler, hemen basılan filmler","Mal",32354400,null,null,"Yiyecekleri saklarken kullanılan çok ince şeffaf filmler (saydam jelatin kağıt)"]
[null,null,null,null,null,null,null,2560,32354600,{"$f":"IF(K2564=1,COUNTIF($K$5:K2564,1),\"\")","v":2560},{"$f":"IF(ISNUMBER(SEARCH('Bilgi Girişi'!$E$4,KalemAdı,1))=TRUE,1,0)","v":1},"Video kasetler","Mal",32354600,null,null,"Şebekeler, ağlar"]
[null,null,null,null,null,null,null,2565,32410000,{"$f":"IF(K2569=1,COUNTIF($K$5:K2569,1),\"\")","v":2565},{"$f":"IF(ISNUMBER(SEARCH('Bilgi Girişi'!$E$4,KalemAdı,1))=TRUE,1,0)","v":1},"Yerel alan ağı, LAN","Mal",32410000,null,null,"Internet ağı"]
[null,null,null,null,null,null,null,2570,32412120,{"$f":"IF(K2574=1,COUNTIF($K$5:K2574,1),\"\")","v":2570},{"$f":"IF(ISNUMBER(SEARCH('Bilgi Girişi'!$E$4,KalemAdı,1))=TRUE,1,0)","v":1},"Intranet ağı","Mal",32412120,null,null,"ISDN ağ"]
[null,null,null,null,null,null,null,2574,32416000,{"$f":"IF(K2578=1,COUNTIF($K$5:K2578,1),\"\")","v":2574},{"$f":"IF(ISNUMBER(SEARCH('Bilgi Girişi'!$E$4,KalemAdı,1))=TRUE,1,0)","v":1},"ISDN ağ","Mal",32416000,null,null,"Ağ donanımı"]
[null,null,null,null,null,null,null,2575,32416100,{"$f":"IF(K2579=1,COUNTIF($K$5:K2579,1),\"\")","v":2575},{"$f":"IF(ISNUMBER(SEARCH('Bilgi Girişi'!$E$4,KalemAdı,1))=TRUE,1,0)","v":1},"ISDX ağ","Mal",32416100,null,null,"Ağ kablolama"]
[null,null,null,null,null,null,null,2579,32421000,{"$f":"IF(K2583=1,COUNTIF($K$5:K2583,1),\"\")","v":2579},{"$f":"IF(ISNUMBER(SEARCH('Bilgi Girişi'!$E$4,KalemAdı,1))=TRUE,1,0)","v":1},"Ağ kablolama","Mal",32421000,null,null,"Ağ işletim sistemi"]
[null,null,null,null,null,null,null,2583,32425000,{"$f":"IF(K2587=1,COUNTIF($K$5:K2587,1),\"\")","v":2583},{"$f":"IF(ISNUMBER(SEARCH('Bilgi Girişi'!$E$4,KalemAdı,1))=TRUE,1,0)","v":1},"Ağ işletim sistemi","Mal",32425000,null,null,"Telefon ağı ekipmanı"]
[null,null,null,null,null,null,null,2588,32430000,{"$f":"IF(K2592=1,COUNTIF($K$5:K2592,1),\"\")","v":2588},{"$f":"IF(ISNUMBER(SEARCH('Bilgi Girişi'!$E$4,KalemAdı,1))=TRUE,1,0)","v":1},"Geniş alan ağı, WAN","Mal",32430000,null,null,"Telemetre ve kontrol ekipmanı"]
[null,null,null,null,null,null,null,2590,32441000,{"$f":"IF(K2594=1,COUNTIF($K$5:K2594,1),\"\")","v":2590},{"$f":"IF(ISNUMBER(SEARCH('Bilgi Girişi'!$E$4,KalemAdı,1))=TRUE,1,0)","v":1},"Telemetre (Uzaktan mesafe ölçme) ekipmanı","Mal",32441000,null,null,"Terminal ekipmanı"]
[null,null,null,null,null,null,null,2593,32441300,{"$f":"IF(K2597=1,COUNTIF($K$5:K2597,1),\"\")","v":2593},{"$f":"IF(ISNUMBER(SEARCH('Bilgi Girişi'!$E$4,KalemAdı,1))=TRUE,1,0)","v":1},"Telematik sistemi","Mal",32441300,null,null,"Terminal emülatörleri"]
[null,null,null,null,null,null,null,2598,32442400,{"$f":"IF(K2602=1,COUNTIF($K$5:K2602,1),\"\")","v":2598},{"$f":"IF(ISNUMBER(SEARCH('Bilgi Girişi'!$E$4,KalemAdı,1))=TRUE,1,0)","v":1},"Terminal blokları","Mal",32442400,null,null,"Telekomünikasyon kabloları"]
[null,null,null,null,null,null,null,2602,32521000,{"$f":"IF(K2606=1,COUNTIF($K$5:K2606,1),\"\")","v":2602},{"$f":"IF(ISNUMBER(SEARCH('Bilgi Girişi'!$E$4,KalemAdı,1))=TRUE,1,0)","v":1},"Telekomünikasyon kabloları","Mal",32521000,null,null,"Uydu bağlantılı iletişim donanımı"]
[null,null,null,null,null,null,null,2603,32522000,{"$f":"IF(K2607=1,COUNTIF($K$5:K2607,1),\"\")","v":2603},{"$f":"IF(ISNUMBER(SEARCH('Bilgi Girişi'!$E$4,KalemAdı,1))=TRUE,1,0)","v":1},"Telekomünikasyon ekipmanı","Mal",32522000,null,null,"Uydu iletişim donanımı"]
[null,null,null,null,null,null,null,2607,32531000,{"$f":"IF(K2611=1,COUNTIF($K$5:K2611,1),\"\")","v":2607},{"$f":"IF(ISNUMBER(SEARCH('Bilgi Girişi'!$E$4,KalemAdı,1))=TRUE,1,0)","v":1},"Uydu iletişim donanımı","Mal",32531000,null,null,"Santraller"]
[null,null,null,null,null,null,null,2612,32541000,{"$f":"IF(K2616=1,COUNTIF($K$5:K2616,1),\"\")","v":2612},{"$f":"IF(ISNUMBER(SEARCH('Bilgi Girişi'!$E$4,KalemAdı,1))=TRUE,1,0)","v":1},"Santral panosu donanımı","Mal",32541000,null,null,"PABX sistemleri"]
[null,null,null,null,null,null,null,2615,32544000,{"$f":"IF(K2619=1,COUNTIF($K$5:K2619,1),\"\")","v":2615},{"$f":"IF(ISNUMBER(SEARCH('Bilgi Girişi'!$E$4,KalemAdı,1))=TRUE,1,0)","v":1},"PABX ekipmanı","Mal",32544000,null,null,"Vakumlu santraller"]
[null,null,null,null,null,null,null,2617,32546000,{"$f":"IF(K2621=1,COUNTIF($K$5:K2621,1),\"\")","v":2617},{"$f":"IF(ISNUMBER(SEARCH('Bilgi Girişi'!$E$4,KalemAdı,1))=TRUE,1,0)","v":1},"Sayısal anahtarlama ekipmanı","Mal",32546000,null,null,"Telefon kabloları ve ilgili ekipmanlar"]
[null,null,null,null,null,null,null,2623,32551200,{"$f":"IF(K2627=1,COUNTIF($K$5:K2627,1),\"\")","v":2623},{"$f":"IF(ISNUMBER(SEARCH('Bilgi Girişi'!$E$4,KalemAdı,1))=TRUE,1,0)","v":1},"Telefon santralleri","Mal",32551200,null,null,"Telli telefon ya da telgraf için elektrikli cihazlar"]
[null,null,null,null,null,null,null,2626,32551500,{"$f":"IF(K2630=1,COUNTIF($K$5:K2630,1),\"\")","v":2626},{"$f":"IF(ISNUMBER(SEARCH('Bilgi Girişi'!$E$4,KalemAdı,1))=TRUE,1,0)","v":1},"Telefon kabloları","Mal",32551500,null,null,{"$f":"IFERROR(VLOOKUP(ROW($P2630),$J$5:$L$9594,3,FALSE),\"\")","v":"Acil durum telefonları"}]
[null,null,null,null,null,null,null,2630,32552120,{"$f":"IF(K2634=1,COUNTIF($K$5:K2634,1),\"\")","v":2630},{"$f":"IF(ISNUMBER(SEARCH('Bilgi Girişi'!$E$4,KalemAdı,1))=TRUE,1,0)","v":1},"Acil durum telefonları","Mal",32552120,null,null,"İşitme engelliler için telefonlar"]
[null,null,null,null,null,null,null,2631,32552130,{"$f":"IF(K2635=1,COUNTIF($K$5:K2635,1),\"\")","v":2631},{"$f":"IF(ISNUMBER(SEARCH('Bilgi Girişi'!$E$4,KalemAdı,1))=TRUE,1,0)","v":1},"Umumi telefonlar","Mal",32552130,null,null,"Telefona monteli yazıcılar"]
[null,null,null,null,null,null,null,2636,32552300,{"$f":"IF(K2640=1,COUNTIF($K$5:K2640,1),\"\")","v":2636},{"$f":"IF(ISNUMBER(SEARCH('Bilgi Girişi'!$E$4,KalemAdı,1))=TRUE,1,0)","v":1},"Telefon ya da telgraf anahtarlama cihazları","Mal",32552300,null,null,"Ses frekansı sinyal dönüştürme cihazları"]
[null,null,null,null,null,null,null,2640,32552400,{"$f":"IF(K2644=1,COUNTIF($K$5:K2644,1),\"\")","v":2640},{"$f":"IF(ISNUMBER(SEARCH('Bilgi Girişi'!$E$4,KalemAdı,1))=TRUE,1,0)","v":1},"Ses frekansı sinyal dönüştürme cihazları","Mal",32552400,null,null,"Teletext cihazları"]
[null,null,null,null,null,null,null,2645,32552510,{"$f":"IF(K2649=1,COUNTIF($K$5:K2649,1),\"\")","v":2645},{"$f":"IF(ISNUMBER(SEARCH('Bilgi Girişi'!$E$4,KalemAdı,1))=TRUE,1,0)","v":1},"Videotext terminalleri","Mal",32552510,null,null,"Fiber optik malzemeler"]
[null,null,null,null,null,null,null,2647,32552600,{"$f":"IF(K2651=1,COUNTIF($K$5:K2651,1),\"\")","v":2647},{"$f":"IF(ISNUMBER(SEARCH('Bilgi Girişi'!$E$4,KalemAdı,1))=TRUE,1,0)","v":1},"Diyafon üniteleri","Mal",32552600,null,null,"Fiber optik kablolar"]
[null,null,null,null,null,null,null,2650,32561000,{"$f":"IF(K2654=1,COUNTIF($K$5:K2654,1),\"\")","v":2650},{"$f":"IF(ISNUMBER(SEARCH('Bilgi Girişi'!$E$4,KalemAdı,1))=TRUE,1,0)","v":1},"Fiber optik bağlantılar","Mal",32561000,null,null,"Fiber optik veri iletim kabloları"]
[null,null,null,null,null,null,null,2655,32570000,{"$f":"IF(K2659=1,COUNTIF($K$5:K2659,1),\"\")","v":2655},{"$f":"IF(ISNUMBER(SEARCH('Bilgi Girişi'!$E$4,KalemAdı,1))=TRUE,1,0)","v":1},"İletişim donanımı","Mal",32570000,null,null,"Koaksiyel iletkenlere sahip iletişim kabloları"]
[null,null,null,null,null,null,null,2659,32572200,{"$f":"IF(K2663=1,COUNTIF($K$5:K2663,1),\"\")","v":2659},{"$f":"IF(ISNUMBER(SEARCH('Bilgi Girişi'!$E$4,KalemAdı,1))=TRUE,1,0)","v":1},"Koaksiyel iletkenlere sahip iletişim kabloları","Mal",32572200,null,null,"Veri iletişim donanımı"]
[null,null,null,null,null,null,null,2660,32572300,{"$f":"IF(K2664=1,COUNTIF($K$5:K2664,1),\"\")","v":2660},{"$f":"IF(ISNUMBER(SEARCH('Bilgi Girişi'!$E$4,KalemAdı,1))=TRUE,1,0)","v":1},"Özel uygulamalara yönelik iletişim kabloları","Mal",32572300,null,null,"Veri iletim kabloları"]
[null,null,null,null,null,null,null,2664,32581100,{"$f":"IF(K2668=1,COUNTIF($K$5:K2668,1),\"\")","v":2664},{"$f":"IF(ISNUMBER(SEARCH('Bilgi Girişi'!$E$4,KalemAdı,1))=TRUE,1,0)","v":1},"Veri iletim kabloları","Mal",32581100,null,null,"Faks ekipmanları"]
[null,null,null,null,null,null,null,2668,32581200,{"$f":"IF(K2672=1,COUNTIF($K$5:K2672,1),\"\")","v":2668},{"$f":"IF(ISNUMBER(SEARCH('Bilgi Girişi'!$E$4,KalemAdı,1))=TRUE,1,0)","v":1},"Faks ekipmanları","Mal",32581200,null,null,"Veri taşıyıcı medya"]
[null,null,null,null,null,null,null,2673,33000000,{"$f":"IF(K2677=1,COUNTIF($K$5:K2677,1),\"\")","v":2673},{"$f":"IF(ISNUMBER(SEARCH('Bilgi Girişi'!$E$4,KalemAdı,1))=TRUE,1,0)","v":1},"Tıbbi cihazlar, ilaç ve kişisel bakım ürünleri","Mal",33000000,null,null,"Röntgen masaları"]
[null,null,null,null,null,null,null,2674,33100000,{"$f":"IF(K2678=1,COUNTIF($K$5:K2678,1),\"\")","v":2674},{"$f":"IF(ISNUMBER(SEARCH('Bilgi Girişi'!$E$4,KalemAdı,1))=TRUE,1,0)","v":1},"Tıbbi cihazlar","Mal",33100000,null,null,"Röntgen iş istasyonları"]
[null,null,null,null,null,null,null,2680,33111400,{"$f":"IF(K2684=1,COUNTIF($K$5:K2684,1),\"\")","v":2680},{"$f":"IF(ISNUMBER(SEARCH('Bilgi Girişi'!$E$4,KalemAdı,1))=TRUE,1,0)","v":1},"Röntgen floroskopi cihazları","Mal",33111400,null,null,"Gama ışın kameraları"]
[null,null,null,null,null,null,null,2683,33111610,{"$f":"IF(K2687=1,COUNTIF($K$5:K2687,1),\"\")","v":2683},{"$f":"IF(ISNUMBER(SEARCH('Bilgi Girişi'!$E$4,KalemAdı,1))=TRUE,1,0)","v":1},"Manyetik Rezonans (MR) üniteleri","Mal",33111610,null,null,"Kemik denitometreleri"]
[null,null,null,null,null,null,null,2685,33111640,{"$f":"IF(K2689=1,COUNTIF($K$5:K2689,1),\"\")","v":2685},{"$f":"IF(ISNUMBER(SEARCH('Bilgi Girişi'!$E$4,KalemAdı,1))=TRUE,1,0)","v":1},"Termograflar","Mal",33111640,null,null,"Anjiyografi malzemeleri"]
[null,null,null,null,null,null,null,2688,33111700,{"$f":"IF(K2692=1,COUNTIF($K$5:K2692,1),\"\")","v":2688},{"$f":"IF(ISNUMBER(SEARCH('Bilgi Girişi'!$E$4,KalemAdı,1))=TRUE,1,0)","v":1},"Anjiyografi odası","Mal",33111700,null,null,"Anjiyoplasti malzemeleri"]
[null,null,null,null,null,null,null,2692,33111730,{"$f":"IF(K2696=1,COUNTIF($K$5:K2696,1),\"\")","v":2692},{"$f":"IF(ISNUMBER(SEARCH('Bilgi Girişi'!$E$4,KalemAdı,1))=TRUE,1,0)","v":1},"Anjiyoplasti malzemeleri","Mal",33111730,null,null,"Ultrasonlu kalp detektörü"]
[null,null,null,null,null,null,null,2697,33112200,{"$f":"IF(K2701=1,COUNTIF($K$5:K2701,1),\"\")","v":2697},{"$f":"IF(ISNUMBER(SEARCH('Bilgi Girişi'!$E$4,KalemAdı,1))=TRUE,1,0)","v":1},"Ultrason ünitesi","Mal",33112200,null,null,"Ekoansefalograflar"]
[null,null,null,null,null,null,null,2700,33112320,{"$f":"IF(K2704=1,COUNTIF($K$5:K2704,1),\"\")","v":2700},{"$f":"IF(ISNUMBER(SEARCH('Bilgi Girişi'!$E$4,KalemAdı,1))=TRUE,1,0)","v":1},"Doppler ekipmanı","Mal",33112320,null,null,"Manyetik rezonans MR tarayıcıları"]
[null,null,null,null,null,null,null,2702,33112340,{"$f":"IF(K2706=1,COUNTIF($K$5:K2706,1),\"\")","v":2702},{"$f":"IF(ISNUMBER(SEARCH('Bilgi Girişi'!$E$4,KalemAdı,1))=TRUE,1,0)","v":1},"Ekokardiyograflar","Mal",33112340,null,null,"Spektroskopi cihazları"]
[null,null,null,null,null,null,null,2708,33115100,{"$f":"IF(K2712=1,COUNTIF($K$5:K2712,1),\"\")","v":2708},{"$f":"IF(ISNUMBER(SEARCH('Bilgi Girişi'!$E$4,KalemAdı,1))=TRUE,1,0)","v":1},"CT tarayıcılar","Mal",33115100,null,null,"Elektroanselografi cihazları"]
[null,null,null,null,null,null,null,2711,33121000,{"$f":"IF(K2715=1,COUNTIF($K$5:K2715,1),\"\")","v":2711},{"$f":"IF(ISNUMBER(SEARCH('Bilgi Girişi'!$E$4,KalemAdı,1))=TRUE,1,0)","v":1},"Yürüyen hastalara takılan uzun dönem kayıt sistemleri","Mal",33121000,null,null,"Ses ölçüm cihazları"]
[null,null,null,null,null,null,null,2716,33121500,{"$f":"IF(K2720=1,COUNTIF($K$5:K2720,1),\"\")","v":2716},{"$f":"IF(ISNUMBER(SEARCH('Bilgi Girişi'!$E$4,KalemAdı,1))=TRUE,1,0)","v":1},"Elektrokardiyograf cihazları","Mal",33121500,null,null,"Elektrokardiyografi ünitesi"]
[null,null,null,null,null,null,null,2717,33122000,{"$f":"IF(K2721=1,COUNTIF($K$5:K2721,1),\"\")","v":2717},{"$f":"IF(ISNUMBER(SEARCH('Bilgi Girişi'!$E$4,KalemAdı,1))=TRUE,1,0)","v":1},"Oftalmoloji ekipmanları","Mal",33122000,null,null,"Kalp izleme cihazları"]
[null,null,null,null,null,null,null,2721,33123210,{"$f":"IF(K2725=1,COUNTIF($K$5:K2725,1),\"\")","v":2721},{"$f":"IF(ISNUMBER(SEARCH('Bilgi Girişi'!$E$4,KalemAdı,1))=TRUE,1,0)","v":1},"Kalp izleme cihazları","Mal",33123210,null,null,"Tanı cihazları"]
[null,null,null,null,null,null,null,2725,33124100,{"$f":"IF(K2729=1,COUNTIF($K$5:K2729,1),\"\")","v":2725},{"$f":"IF(ISNUMBER(SEARCH('Bilgi Girişi'!$E$4,KalemAdı,1))=TRUE,1,0)","v":1},"Tanı cihazları","Mal",33124100,null,null,"Ayraç bantları"]
[null,null,null,null,null,null,null,2730,33124200,{"$f":"IF(K2734=1,COUNTIF($K$5:K2734,1),\"\")","v":2730},{"$f":"IF(ISNUMBER(SEARCH('Bilgi Girişi'!$E$4,KalemAdı,1))=TRUE,1,0)","v":1},"Radyodiagnostik cihazları","Mal",33124200,null,null,"Bağışıklık analiz cihazları"]
[null,null,null,null,null,null,null,2733,33126000,{"$f":"IF(K2737=1,COUNTIF($K$5:K2737,1),\"\")","v":2733},{"$f":"IF(ISNUMBER(SEARCH('Bilgi Girişi'!$E$4,KalemAdı,1))=TRUE,1,0)","v":1},"Stomatoloji cihazları","Mal",33126000,null,null,"Dişçi el aletleri"]
[null,null,null,null,null,null,null,2735,33128000,{"$f":"IF(K2739=1,COUNTIF($K$5:K2739,1),\"\")","v":2735},{"$f":"IF(ISNUMBER(SEARCH('Bilgi Girişi'!$E$4,KalemAdı,1))=TRUE,1,0)","v":1},"Ameliyatlar dışında kullanılan tıbbi lazerler","Mal",33128000,null,null,"Dental preseller,fırçalar,ayırıcılar ve cilalayıcılar"]
[null,null,null,null,null,null,null,2740,33131111,{"$f":"IF(K2744=1,COUNTIF($K$5:K2744,1),\"\")","v":2740},{"$f":"IF(ISNUMBER(SEARCH('Bilgi Girişi'!$E$4,KalemAdı,1))=TRUE,1,0)","v":1},"Preseller","Mal",33131111,null,null,"Dental kriyocerrahi göstergeleri ,elevatör ve kazıcıyaları"]
[null,null,null,null,null,null,null,2744,33131120,{"$f":"IF(K2748=1,COUNTIF($K$5:K2748,1),\"\")","v":2744},{"$f":"IF(ISNUMBER(SEARCH('Bilgi Girişi'!$E$4,KalemAdı,1))=TRUE,1,0)","v":1},"Dental kriyocerrahi göstergeleri ,elevatör ve kazıcıyaları","Mal",33131120,null,null,"Dental kazıyıcılar"]
[null,null,null,null,null,null,null,2745,33131121,{"$f":"IF(K2749=1,COUNTIF($K$5:K2749,1),\"\")","v":2745},{"$f":"IF(ISNUMBER(SEARCH('Bilgi Girişi'!$E$4,KalemAdı,1))=TRUE,1,0)","v":1},"Dental kriyocerrahi üniteleri","Mal",33131121,null,null,"Dental parmak koruyucular ve davyeler"]
[null,null,null,null,null,null,null,2749,33131130,{"$f":"IF(K2753=1,COUNTIF($K$5:K2753,1),\"\")","v":2749},{"$f":"IF(ISNUMBER(SEARCH('Bilgi Girişi'!$E$4,KalemAdı,1))=TRUE,1,0)","v":1},"Dental parmak koruyucular ve davyeler","Mal",33131130,null,null,"Dental aynalar"]
[null,null,null,null,null,null,null,2754,33131142,{"$f":"IF(K2758=1,COUNTIF($K$5:K2758,1),\"\")","v":2754},{"$f":"IF(ISNUMBER(SEARCH('Bilgi Girişi'!$E$4,KalemAdı,1))=TRUE,1,0)","v":1},"Dental eğeler","Mal",33131142,null,null,{"$f":"IFERROR(VLOOKUP(ROW($P2758),$J$5:$L$9594,3,FALSE),\"\")","v":"Dental ölçekler"}]
[null,null,null,null,null,null,null,2757,33131152,{"$f":"IF(K2761=1,COUNTIF($K$5:K2761,1),\"\")","v":2757},{"$f":"IF(ISNUMBER(SEARCH('Bilgi Girişi'!$E$4,KalemAdı,1))=TRUE,1,0)","v":1},"Dental kazıyıcılar","Mal",33131152,null,null,"Bistüri"]
[null,null,null,null,null,null,null,2759,33131160,{"$f":"IF(K2763=1,COUNTIF($K$5:K2763,1),\"\")","v":2759},{"$f":"IF(ISNUMBER(SEARCH('Bilgi Girişi'!$E$4,KalemAdı,1))=TRUE,1,0)","v":1},"Dental makaslar ve bistüriler","Mal",33131160,null,null,"Dental spatüller"]
[null,null,null,null,null,null,null,2765,33131173,{"$f":"IF(K2769=1,COUNTIF($K$5:K2769,1),\"\")","v":2765},{"$f":"IF(ISNUMBER(SEARCH('Bilgi Girişi'!$E$4,KalemAdı,1))=TRUE,1,0)","v":1},"Dental mum spatülleri","Mal",33131173,null,null,"Diş çekim aleti"]
[null,null,null,null,null,null,null,2768,33131400,{"$f":"IF(K2772=1,COUNTIF($K$5:K2772,1),\"\")","v":2768},{"$f":"IF(ISNUMBER(SEARCH('Bilgi Girişi'!$E$4,KalemAdı,1))=TRUE,1,0)","v":1},"Diş probları","Mal",33131400,null,null,"Tedavi amacı ile dişe konulan madde"]
[null,null,null,null,null,null,null,2770,33131510,{"$f":"IF(K2774=1,COUNTIF($K$5:K2774,1),\"\")","v":2770},{"$f":"IF(ISNUMBER(SEARCH('Bilgi Girişi'!$E$4,KalemAdı,1))=TRUE,1,0)","v":1},"Diş oyma matkapları","Mal",33131510,null,null,"Endodonti aksesuarları"]
[null,null,null,null,null,null,null,2773,33133000,{"$f":"IF(K2777=1,COUNTIF($K$5:K2777,1),\"\")","v":2773},{"$f":"IF(ISNUMBER(SEARCH('Bilgi Girişi'!$E$4,KalemAdı,1))=TRUE,1,0)","v":1},"Diş estetiği için kullanılan aksesuarlar","Mal",33133000,null,null,"Dental profilaksi için kullanılan aksesuarlar"]
[null,null,null,null,null,null,null,2778,33138000,{"$f":"IF(K2782=1,COUNTIF($K$5:K2782,1),\"\")","v":2778},{"$f":"IF(ISNUMBER(SEARCH('Bilgi Girişi'!$E$4,KalemAdı,1))=TRUE,1,0)","v":1},"Prostodonti ve dişlerin sırasını düzeltmede kullanılan ürünler","Mal",33138000,null,null,"Sargılar, metal kıskaçlar, ameliyat ipleri ve bağlama malzemeleri"]
[null,null,null,null,null,null,null,2782,33141100,{"$f":"IF(K2786=1,COUNTIF($K$5:K2786,1),\"\")","v":2782},{"$f":"IF(ISNUMBER(SEARCH('Bilgi Girişi'!$E$4,KalemAdı,1))=TRUE,1,0)","v":1},"Sargılar, metal kıskaçlar, ameliyat ipleri ve bağlama malzemeleri","Mal",33141100,null,null,"Bandajlar"]
[null,null,null,null,null,null,null,2785,33141112,{"$f":"IF(K2789=1,COUNTIF($K$5:K2789,1),\"\")","v":2785},{"$f":"IF(ISNUMBER(SEARCH('Bilgi Girişi'!$E$4,KalemAdı,1))=TRUE,1,0)","v":1},"Plasterler","Mal",33141112,null,null,"Sargı paketleri"]
[null,null,null,null,null,null,null,2787,33141114,{"$f":"IF(K2791=1,COUNTIF($K$5:K2791,1),\"\")","v":2787},{"$f":"IF(ISNUMBER(SEARCH('Bilgi Girişi'!$E$4,KalemAdı,1))=TRUE,1,0)","v":1},"Tıbbi amaçlı gazlı bezler","Mal",33141114,null,null,"Yara temizleme tamponları"]
[null,null,null,null,null,null,null,2792,33141119,{"$f":"IF(K2796=1,COUNTIF($K$5:K2796,1),\"\")","v":2792},{"$f":"IF(ISNUMBER(SEARCH('Bilgi Girişi'!$E$4,KalemAdı,1))=TRUE,1,0)","v":1},"Kompresler","Mal",33141119,null,null,"Kesici cisim kapları"]
[null,null,null,null,null,null,null,2797,33141124,{"$f":"IF(K2801=1,COUNTIF($K$5:K2801,1),\"\")","v":2797},{"$f":"IF(ISNUMBER(SEARCH('Bilgi Girişi'!$E$4,KalemAdı,1))=TRUE,1,0)","v":1},"Ince dikiş iğnesi pedleri","Mal",33141124,null,null,"Ameliyat iplikleri için iğneler"]
[null,null,null,null,null,null,null,2801,33141128,{"$f":"IF(K2805=1,COUNTIF($K$5:K2805,1),\"\")","v":2801},{"$f":"IF(ISNUMBER(SEARCH('Bilgi Girişi'!$E$4,KalemAdı,1))=TRUE,1,0)","v":1},"Ameliyat iplikleri için iğneler","Mal",33141128,null,null,"Dilatör"]
[null,null,null,null,null,null,null,2802,33141200,{"$f":"IF(K2806=1,COUNTIF($K$5:K2806,1),\"\")","v":2802},{"$f":"IF(ISNUMBER(SEARCH('Bilgi Girişi'!$E$4,KalemAdı,1))=TRUE,1,0)","v":1},"Kateterler","Mal",33141200,null,null,"Kateter aksesuarları"]
[null,null,null,null,null,null,null,2806,33141240,{"$f":"IF(K2810=1,COUNTIF($K$5:K2810,1),\"\")","v":2806},{"$f":"IF(ISNUMBER(SEARCH('Bilgi Girişi'!$E$4,KalemAdı,1))=TRUE,1,0)","v":1},"Kateter aksesuarları","Mal",33141240,null,null,"Anestezi iğneleri"]
[null,null,null,null,null,null,null,2810,33141321,{"$f":"IF(K2814=1,COUNTIF($K$5:K2814,1),\"\")","v":2810},{"$f":"IF(ISNUMBER(SEARCH('Bilgi Girişi'!$E$4,KalemAdı,1))=TRUE,1,0)","v":1},"Anestezi iğneleri","Mal",33141321,null,null,"Fistül iğneleri"]
[null,null,null,null,null,null,null,2815,33141326,{"$f":"IF(K2819=1,COUNTIF($K$5:K2819,1),\"\")","v":2815},{"$f":"IF(ISNUMBER(SEARCH('Bilgi Girişi'!$E$4,KalemAdı,1))=TRUE,1,0)","v":1},"Radyoloji prosedürleri iğneleri","Mal",33141326,null,null,"Tıpta kullanılan bağteli keskileri, bistüriler ve ameliyat eldivenleri"]
[null,null,null,null,null,null,null,2818,33141329,{"$f":"IF(K2822=1,COUNTIF($K$5:K2822,1),\"\")","v":2818},{"$f":"IF(ISNUMBER(SEARCH('Bilgi Girişi'!$E$4,KalemAdı,1))=TRUE,1,0)","v":1},"Amniyosentez iğneleri","Mal",33141329,null,null,{"$f":"IFERROR(VLOOKUP(ROW($P2822),$J$5:$L$9594,3,FALSE),\"\")","v":"Ameliyat eldivenleri"}]
[null,null,null,null,null,null,null,2820,33141410,{"$f":"IF(K2824=1,COUNTIF($K$5:K2824,1),\"\")","v":2820},{"$f":"IF(ISNUMBER(SEARCH('Bilgi Girişi'!$E$4,KalemAdı,1))=TRUE,1,0)","v":1},"Bağteli keskileri ve bisturiler","Mal",33141410,null,null,"Kan ürünleri"]
[null,null,null,null,null,null,null,2825,33141520,{"$f":"IF(K2829=1,COUNTIF($K$5:K2829,1),\"\")","v":2825},{"$f":"IF(ISNUMBER(SEARCH('Bilgi Girişi'!$E$4,KalemAdı,1))=TRUE,1,0)","v":1},"Plazma hülasaları, parçaları","Mal",33141520,null,null,"İnsan organları"]
[null,null,null,null,null,null,null,2829,33141560,{"$f":"IF(K2833=1,COUNTIF($K$5:K2833,1),\"\")","v":2829},{"$f":"IF(ISNUMBER(SEARCH('Bilgi Girişi'!$E$4,KalemAdı,1))=TRUE,1,0)","v":1},"İnsan organları","Mal",33141560,null,null,"Toplama torbaları"]
[null,null,null,null,null,null,null,2830,33141570,{"$f":"IF(K2834=1,COUNTIF($K$5:K2834,1),\"\")","v":2830},{"$f":"IF(ISNUMBER(SEARCH('Bilgi Girişi'!$E$4,KalemAdı,1))=TRUE,1,0)","v":1},"İnsan kanı","Mal",33141570,null,null,"Kan torbaları"]
[null,null,null,null,null,null,null,2835,33141614,{"$f":"IF(K2839=1,COUNTIF($K$5:K2839,1),\"\")","v":2835},{"$f":"IF(ISNUMBER(SEARCH('Bilgi Girişi'!$E$4,KalemAdı,1))=TRUE,1,0)","v":1},"Plazma torbaları","Mal",33141614,null,null,"AIDS'ten korunma grupları"]
[null,null,null,null,null,null,null,2839,33141622,{"$f":"IF(K2843=1,COUNTIF($K$5:K2843,1),\"\")","v":2839},{"$f":"IF(ISNUMBER(SEARCH('Bilgi Girişi'!$E$4,KalemAdı,1))=TRUE,1,0)","v":1},"AIDS'ten korunma grupları","Mal",33141622,null,null,"Dozaj çantaları"]
[null,null,null,null,null,null,null,2842,33141625,{"$f":"IF(K2846=1,COUNTIF($K$5:K2846,1),\"\")","v":2842},{"$f":"IF(ISNUMBER(SEARCH('Bilgi Girişi'!$E$4,KalemAdı,1))=TRUE,1,0)","v":1},"Tanısal alet çantaları","Mal",33141625,null,null,"Sondalar"]
[null,null,null,null,null,null,null,2844,33141630,{"$f":"IF(K2848=1,COUNTIF($K$5:K2848,1),\"\")","v":2844},{"$f":"IF(ISNUMBER(SEARCH('Bilgi Girişi'!$E$4,KalemAdı,1))=TRUE,1,0)","v":1},"Kan plazma filtreleri","Mal",33141630,null,null,"Ortopedik malzemeler"]
[null,null,null,null,null,null,null,2850,33141720,{"$f":"IF(K2854=1,COUNTIF($K$5:K2854,1),\"\")","v":2850},{"$f":"IF(ISNUMBER(SEARCH('Bilgi Girişi'!$E$4,KalemAdı,1))=TRUE,1,0)","v":1},"Yürüme yardımcıları","Mal",33141720,null,null,"Kemik kırılmalarında kullanılan metal ahşap veya plastikten mamul tespit"]
[null,null,null,null,null,null,null,2853,33141750,{"$f":"IF(K2857=1,COUNTIF($K$5:K2857,1),\"\")","v":2853},{"$f":"IF(ISNUMBER(SEARCH('Bilgi Girişi'!$E$4,KalemAdı,1))=TRUE,1,0)","v":1},"Yapay eklemler","Mal",33141750,null,null,"Diş dolgu malzemeleri"]
[null,null,null,null,null,null,null,2855,33141770,{"$f":"IF(K2859=1,COUNTIF($K$5:K2859,1),\"\")","v":2855},{"$f":"IF(ISNUMBER(SEARCH('Bilgi Girişi'!$E$4,KalemAdı,1))=TRUE,1,0)","v":1},"Kırıklara uygulanan cihaz, çivi ve plakalar","Mal",33141770,null,null,"Porselen diş"]
[null,null,null,null,null,null,null,2858,33141820,{"$f":"IF(K2862=1,COUNTIF($K$5:K2862,1),\"\")","v":2858},{"$f":"IF(ISNUMBER(SEARCH('Bilgi Girişi'!$E$4,KalemAdı,1))=TRUE,1,0)","v":1},"Diş","Mal",33141820,null,null,"Dental kanama durdurucu"]
[null,null,null,null,null,null,null,2863,33141850,{"$f":"IF(K2867=1,COUNTIF($K$5:K2867,1),\"\")","v":2863},{"$f":"IF(ISNUMBER(SEARCH('Bilgi Girişi'!$E$4,KalemAdı,1))=TRUE,1,0)","v":1},"Hijyenik diş ürünleri","Mal",33141850,null,null,"Gama terapi aygıtları"]
[null,null,null,null,null,null,null,2867,33151100,{"$f":"IF(K2871=1,COUNTIF($K$5:K2871,1),\"\")","v":2867},{"$f":"IF(ISNUMBER(SEARCH('Bilgi Girişi'!$E$4,KalemAdı,1))=TRUE,1,0)","v":1},"Gama terapi aygıtları","Mal",33151100,null,null,"Kuvözler"]
[null,null,null,null,null,null,null,2872,33153000,{"$f":"IF(K2876=1,COUNTIF($K$5:K2876,1),\"\")","v":2872},{"$f":"IF(ISNUMBER(SEARCH('Bilgi Girişi'!$E$4,KalemAdı,1))=TRUE,1,0)","v":1},"Litotritler (mesane taşlarını parçalamaya yarayan cihazlar)","Mal",33153000,null,null,"Gaz terapi ve solunum cihazları"]
[null,null,null,null,null,null,null,2875,33156000,{"$f":"IF(K2879=1,COUNTIF($K$5:K2879,1),\"\")","v":2875},{"$f":"IF(ISNUMBER(SEARCH('Bilgi Girişi'!$E$4,KalemAdı,1))=TRUE,1,0)","v":1},"Psikolojik muayene cihazları","Mal",33156000,null,null,"Oksijen takımları"]
[null,null,null,null,null,null,null,2877,33157100,{"$f":"IF(K2881=1,COUNTIF($K$5:K2881,1),\"\")","v":2877},{"$f":"IF(ISNUMBER(SEARCH('Bilgi Girişi'!$E$4,KalemAdı,1))=TRUE,1,0)","v":1},"Tıbbi amaçlı gaz maskeleri","Mal",33157100,null,null,"Tıbbi solunum cihazları"]
[null,null,null,null,null,null,null,2880,33157300,{"$f":"IF(K2884=1,COUNTIF($K$5:K2884,1),\"\")","v":2880},{"$f":"IF(ISNUMBER(SEARCH('Bilgi Girişi'!$E$4,KalemAdı,1))=TRUE,1,0)","v":1},"Oksijen çadırları","Mal",33157300,null,null,"Oksijen uygulama ünitesi"]
[null,null,null,null,null,null,null,2886,33158000,{"$f":"IF(K2890=1,COUNTIF($K$5:K2890,1),\"\")","v":2886},{"$f":"IF(ISNUMBER(SEARCH('Bilgi Girişi'!$E$4,KalemAdı,1))=TRUE,1,0)","v":1},"Elektriksel, elektromanyetik ve mekanik tedavi","Mal",33158000,null,null,"Mor ötesi tıbbi aygıtlar"]
[null,null,null,null,null,null,null,2887,33158100,{"$f":"IF(K2891=1,COUNTIF($K$5:K2891,1),\"\")","v":2887},{"$f":"IF(ISNUMBER(SEARCH('Bilgi Girişi'!$E$4,KalemAdı,1))=TRUE,1,0)","v":1},"Elektromanyetik ünite","Mal",33158100,null,null,"Mekanik terapi ünitesi"]
[null,null,null,null,null,null,null,2891,33158400,{"$f":"IF(K2895=1,COUNTIF($K$5:K2895,1),\"\")","v":2891},{"$f":"IF(ISNUMBER(SEARCH('Bilgi Girişi'!$E$4,KalemAdı,1))=TRUE,1,0)","v":1},"Mekanik terapi ünitesi","Mal",33158400,null,null,"Elektrocerrahi ünitesi"]
[null,null,null,null,null,null,null,2895,33161000,{"$f":"IF(K2899=1,COUNTIF($K$5:K2899,1),\"\")","v":2895},{"$f":"IF(ISNUMBER(SEARCH('Bilgi Girişi'!$E$4,KalemAdı,1))=TRUE,1,0)","v":1},"Elektrocerrahi ünitesi","Mal",33161000,null,null,"Tıbbi kullanım için çadır"]
[null,null,null,null,null,null,null,2900,33164000,{"$f":"IF(K2904=1,COUNTIF($K$5:K2904,1),\"\")","v":2900},{"$f":"IF(ISNUMBER(SEARCH('Bilgi Girişi'!$E$4,KalemAdı,1))=TRUE,1,0)","v":1},"Selyoskopi cihazları","Mal",33164000,null,null,"Ameliyat lambaları"]
[null,null,null,null,null,null,null,2901,33164100,{"$f":"IF(K2905=1,COUNTIF($K$5:K2905,1),\"\")","v":2901},{"$f":"IF(ISNUMBER(SEARCH('Bilgi Girişi'!$E$4,KalemAdı,1))=TRUE,1,0)","v":1},"Kolposkopi cihazları","Mal",33164100,null,null,"Endoskopi, endocerrahide kullanılan cihazları"]
[null,null,null,null,null,null,null,2907,33169000,{"$f":"IF(K2911=1,COUNTIF($K$5:K2911,1),\"\")","v":2907},{"$f":"IF(ISNUMBER(SEARCH('Bilgi Girişi'!$E$4,KalemAdı,1))=TRUE,1,0)","v":1},"Cerrahi araç ve gereçler","Mal",33169000,null,null,"Cerrahi kaplar"]
[null,null,null,null,null,null,null,2910,33169300,{"$f":"IF(K2914=1,COUNTIF($K$5:K2914,1),\"\")","v":2910},{"$f":"IF(ISNUMBER(SEARCH('Bilgi Girişi'!$E$4,KalemAdı,1))=TRUE,1,0)","v":1},"Cerrahi tepsileri","Mal",33169300,null,null,"Anestezi ve canlandırma için aletler"]
[null,null,null,null,null,null,null,2912,33169500,{"$f":"IF(K2916=1,COUNTIF($K$5:K2916,1),\"\")","v":2912},{"$f":"IF(ISNUMBER(SEARCH('Bilgi Girişi'!$E$4,KalemAdı,1))=TRUE,1,0)","v":1},"Cerrahi takip ve izleme sistemleri","Mal",33169500,null,null,"Anestezi maskesi"]
[null,null,null,null,null,null,null,2915,33171100,{"$f":"IF(K2919=1,COUNTIF($K$5:K2919,1),\"\")","v":2915},{"$f":"IF(ISNUMBER(SEARCH('Bilgi Girişi'!$E$4,KalemAdı,1))=TRUE,1,0)","v":1},"Anestezi için aletler","Mal",33171100,null,null,"Epidural kitleri veya paketleri"]
[null,null,null,null,null,null,null,2920,33172000,{"$f":"IF(K2924=1,COUNTIF($K$5:K2924,1),\"\")","v":2920},{"$f":"IF(ISNUMBER(SEARCH('Bilgi Girişi'!$E$4,KalemAdı,1))=TRUE,1,0)","v":1},"Anestezi ve canlandırma cihazları","Mal",33172000,null,null,"Böbrek destek cihazları"]
[null,null,null,null,null,null,null,2924,33181000,{"$f":"IF(K2928=1,COUNTIF($K$5:K2928,1),\"\")","v":2924},{"$f":"IF(ISNUMBER(SEARCH('Bilgi Girişi'!$E$4,KalemAdı,1))=TRUE,1,0)","v":1},"Böbrek destek cihazları","Mal",33181000,null,null,"Çok konumlu hemodiyaliz"]
[null,null,null,null,null,null,null,2928,33181400,{"$f":"IF(K2932=1,COUNTIF($K$5:K2932,1),\"\")","v":2928},{"$f":"IF(ISNUMBER(SEARCH('Bilgi Girişi'!$E$4,KalemAdı,1))=TRUE,1,0)","v":1},"Çok konumlu hemodiyaliz","Mal",33181400,null,null,"Kalp destek cihazları"]
[null,null,null,null,null,null,null,2929,33181500,{"$f":"IF(K2933=1,COUNTIF($K$5:K2933,1),\"\")","v":2929},{"$f":"IF(ISNUMBER(SEARCH('Bilgi Girişi'!$E$4,KalemAdı,1))=TRUE,1,0)","v":1},"Böbrek tüketim maddeleri","Mal",33181500,null,null,"Defibrilatör"]
[null,null,null,null,null,null,null,2935,33182210,{"$f":"IF(K2939=1,COUNTIF($K$5:K2939,1),\"\")","v":2935},{"$f":"IF(ISNUMBER(SEARCH('Bilgi Girişi'!$E$4,KalemAdı,1))=TRUE,1,0)","v":1},"Kalp çalışmasını düzenleyen elektronik cihaz","Mal",33182210,null,null,"Kalp pilleri"]
[null,null,null,null,null,null,null,2938,33182240,{"$f":"IF(K2942=1,COUNTIF($K$5:K2942,1),\"\")","v":2938},{"$f":"IF(ISNUMBER(SEARCH('Bilgi Girişi'!$E$4,KalemAdı,1))=TRUE,1,0)","v":1},"Kalp çalışması düzenleyici cihazlar için aksam ve parçalar","Mal",33182240,null,null,"Ortopedik destek cihazları"]
[null,null,null,null,null,null,null,2943,33183100,{"$f":"IF(K2947=1,COUNTIF($K$5:K2947,1),\"\")","v":2943},{"$f":"IF(ISNUMBER(SEARCH('Bilgi Girişi'!$E$4,KalemAdı,1))=TRUE,1,0)","v":1},"Ortopedik implantlar (vücuda yerleştirilen yapay malzemeler)","Mal",33183100,null,null,"Cerrahi implantlar"]
[null,null,null,null,null,null,null,2944,33183200,{"$f":"IF(K2948=1,COUNTIF($K$5:K2948,1),\"\")","v":2944},{"$f":"IF(ISNUMBER(SEARCH('Bilgi Girişi'!$E$4,KalemAdı,1))=TRUE,1,0)","v":1},"Ortopedik protezler","Mal",33183200,null,null,"Damar protezleri"]
[null,null,null,null,null,null,null,2948,33184200,{"$f":"IF(K2952=1,COUNTIF($K$5:K2952,1),\"\")","v":2948},{"$f":"IF(ISNUMBER(SEARCH('Bilgi Girişi'!$E$4,KalemAdı,1))=TRUE,1,0)","v":1},"Damar protezleri","Mal",33184200,null,null,"Dış meme protezleri"]
[null,null,null,null,null,null,null,2952,33184420,{"$f":"IF(K2956=1,COUNTIF($K$5:K2956,1),\"\")","v":2952},{"$f":"IF(ISNUMBER(SEARCH('Bilgi Girişi'!$E$4,KalemAdı,1))=TRUE,1,0)","v":1},"Dış meme protezleri","Mal",33184420,null,null,"İşitme yardımcı cihazlarının aksam ve parçaları"]
[null,null,null,null,null,null,null,2957,33185200,{"$f":"IF(K2961=1,COUNTIF($K$5:K2961,1),\"\")","v":2957},{"$f":"IF(ISNUMBER(SEARCH('Bilgi Girişi'!$E$4,KalemAdı,1))=TRUE,1,0)","v":1},"Yapay kulak salyangozları","Mal",33185200,null,null,"Oksijen yükleme cihazları"]
[null,null,null,null,null,null,null,2960,33186000,{"$f":"IF(K2964=1,COUNTIF($K$5:K2964,1),\"\")","v":2960},{"$f":"IF(ISNUMBER(SEARCH('Bilgi Girişi'!$E$4,KalemAdı,1))=TRUE,1,0)","v":1},"Vücut dışı kan dolaşım ünitesi, ekstra korperal kan dolaşım ünitesi","Mal",33186000,null,null,"Sterilizasyon, dezenfeksiyon ve hijyen cihazları"]
[null,null,null,null,null,null,null,2962,33186200,{"$f":"IF(K2966=1,COUNTIF($K$5:K2966,1),\"\")","v":2962},{"$f":"IF(ISNUMBER(SEARCH('Bilgi Girişi'!$E$4,KalemAdı,1))=TRUE,1,0)","v":1},"Kan ve sıvı ısıtma sistemleri","Mal",33186200,null,null,"Otoklavlar"]
[null,null,null,null,null,null,null,2965,33191100,{"$f":"IF(K2969=1,COUNTIF($K$5:K2969,1),\"\")","v":2965},{"$f":"IF(ISNUMBER(SEARCH('Bilgi Girişi'!$E$4,KalemAdı,1))=TRUE,1,0)","v":1},"Sterilazatör","Mal",33191100,null,null,"Ortopedik yataklar"]
[null,null,null,null,null,null,null,2971,33192130,{"$f":"IF(K2975=1,COUNTIF($K$5:K2975,1),\"\")","v":2971},{"$f":"IF(ISNUMBER(SEARCH('Bilgi Girişi'!$E$4,KalemAdı,1))=TRUE,1,0)","v":1},"Motorlu yatak","Mal",33192130,null,null,"Tıbbi amaçlı masalar"]
[null,null,null,null,null,null,null,2973,33192150,{"$f":"IF(K2977=1,COUNTIF($K$5:K2977,1),\"\")","v":2973},{"$f":"IF(ISNUMBER(SEARCH('Bilgi Girişi'!$E$4,KalemAdı,1))=TRUE,1,0)","v":1},"Terapi yatakları","Mal",33192150,null,null,"Ameliyat masaları"]
[null,null,null,null,null,null,null,2976,33192210,{"$f":"IF(K2980=1,COUNTIF($K$5:K2980,1),\"\")","v":2976},{"$f":"IF(ISNUMBER(SEARCH('Bilgi Girişi'!$E$4,KalemAdı,1))=TRUE,1,0)","v":1},"Muayene masaları","Mal",33192210,null,null,"İdrar şişesi tutucuları"]
[null,null,null,null,null,null,null,2981,33192330,{"$f":"IF(K2985=1,COUNTIF($K$5:K2985,1),\"\")","v":2981},{"$f":"IF(ISNUMBER(SEARCH('Bilgi Girişi'!$E$4,KalemAdı,1))=TRUE,1,0)","v":1},"Transfüzyon sehpaları","Mal",33192330,null,null,"Dişçi sandalyeleri"]
[null,null,null,null,null,null,null,2985,33192410,{"$f":"IF(K2989=1,COUNTIF($K$5:K2989,1),\"\")","v":2985},{"$f":"IF(ISNUMBER(SEARCH('Bilgi Girişi'!$E$4,KalemAdı,1))=TRUE,1,0)","v":1},"Dişçi sandalyeleri","Mal",33192410,null,null,"Hasta arabaları ve tekerlekli sandalyeler"]
[null,null,null,null,null,null,null,2986,33192500,{"$f":"IF(K2990=1,COUNTIF($K$5:K2990,1),\"\")","v":2986},{"$f":"IF(ISNUMBER(SEARCH('Bilgi Girişi'!$E$4,KalemAdı,1))=TRUE,1,0)","v":1},"Test, deney tüpleri","Mal",33192500,null,null,"Hasta arabaları ve tekerlekli sandalyeler"]
[null,null,null,null,null,null,null,2992,33193121,{"$f":"IF(K2996=1,COUNTIF($K$5:K2996,1),\"\")","v":2992},{"$f":"IF(ISNUMBER(SEARCH('Bilgi Girişi'!$E$4,KalemAdı,1))=TRUE,1,0)","v":1},"Motorlu tekerlekli sandalyeler","Mal",33193121,null,null,"Hasta arabaları için direksiyon cihazları"]
[null,null,null,null,null,null,null,2995,33193211,{"$f":"IF(K2999=1,COUNTIF($K$5:K2999,1),\"\")","v":2995},{"$f":"IF(ISNUMBER(SEARCH('Bilgi Girişi'!$E$4,KalemAdı,1))=TRUE,1,0)","v":1},"Sakat arabaları için motorlar","Mal",33193211,null,null,"Tekerlekli sandalyeler için parça ve aksesuarlar"]
[null,null,null,null,null,null,null,2997,33193213,{"$f":"IF(K3001=1,COUNTIF($K$5:K3001,1),\"\")","v":2997},{"$f":"IF(ISNUMBER(SEARCH('Bilgi Girişi'!$E$4,KalemAdı,1))=TRUE,1,0)","v":1},"Hasta arabaları için kontrol cihazları","Mal",33193213,null,null,"Tekerlekli sandalye kasaları"]
[null,null,null,null,null,null,null,3000,33193221,{"$f":"IF(K3004=1,COUNTIF($K$5:K3004,1),\"\")","v":3000},{"$f":"IF(ISNUMBER(SEARCH('Bilgi Girişi'!$E$4,KalemAdı,1))=TRUE,1,0)","v":1},"Tekerlekli sandalye minderleri","Mal",33193221,null,null,"Tekerlekli sandalye lastikleri"]
[null,null,null,null,null,null,null,3005,33194000,{"$f":"IF(K3009=1,COUNTIF($K$5:K3009,1),\"\")","v":3005},{"$f":"IF(ISNUMBER(SEARCH('Bilgi Girişi'!$E$4,KalemAdı,1))=TRUE,1,0)","v":1},"Transfüzyon ve enfüzyon cihaz ve donanımları","Mal",33194000,null,null,"Transfüzyon donanım ve cihazları"]
[null,null,null,null,null,null,null,3009,33194200,{"$f":"IF(K3013=1,COUNTIF($K$5:K3013,1),\"\")","v":3009},{"$f":"IF(ISNUMBER(SEARCH('Bilgi Girişi'!$E$4,KalemAdı,1))=TRUE,1,0)","v":1},"Transfüzyon donanım ve cihazları","Mal",33194200,null,null,"Monitörler"]
[null,null,null,null,null,null,null,3013,33195100,{"$f":"IF(K3017=1,COUNTIF($K$5:K3017,1),\"\")","v":3013},{"$f":"IF(ISNUMBER(SEARCH('Bilgi Girişi'!$E$4,KalemAdı,1))=TRUE,1,0)","v":1},"Monitörler","Mal",33195100,null,null,"Yaşlılara özel alet ve cihazlar"]
[null,null,null,null,null,null,null,3014,33195110,{"$f":"IF(K3018=1,COUNTIF($K$5:K3018,1),\"\")","v":3014},{"$f":"IF(ISNUMBER(SEARCH('Bilgi Girişi'!$E$4,KalemAdı,1))=TRUE,1,0)","v":1},"Solunum takip monitörleri","Mal",33195110,null,null,"Özürlüler için alet ve cihazlar"]
[null,null,null,null,null,null,null,3019,33197000,{"$f":"IF(K3023=1,COUNTIF($K$5:K3023,1),\"\")","v":3019},{"$f":"IF(ISNUMBER(SEARCH('Bilgi Girişi'!$E$4,KalemAdı,1))=TRUE,1,0)","v":1},"Tıbbi bilgisayar donanımı","Mal",33197000,null,null,"Tıbbi giyecekler"]
[null,null,null,null,null,null,null,3022,33198200,{"$f":"IF(K3026=1,COUNTIF($K$5:K3026,1),\"\")","v":3022},{"$f":"IF(ISNUMBER(SEARCH('Bilgi Girişi'!$E$4,KalemAdı,1))=TRUE,1,0)","v":1},"Kağıt sterilizasyon torbaları veya ambalajları","Mal",33198200,null,null,"Asit ilgili bozukluklar için tıbbi ürünler"]
[null,null,null,null,null,null,null,3028,33613000,{"$f":"IF(K3032=1,COUNTIF($K$5:K3032,1),\"\")","v":3028},{"$f":"IF(ISNUMBER(SEARCH('Bilgi Girişi'!$E$4,KalemAdı,1))=TRUE,1,0)","v":1},"Laksatifler","Mal",33613000,null,null,"Vitaminler"]
[null,null,null,null,null,null,null,3030,33615000,{"$f":"IF(K3034=1,COUNTIF($K$5:K3034,1),\"\")","v":3030},{"$f":"IF(ISNUMBER(SEARCH('Bilgi Girişi'!$E$4,KalemAdı,1))=TRUE,1,0)","v":1},"Diyabet hastalığında kullanılan tıbbi ürünler","Mal",33615000,null,null,"Mineral takviyeleri"]
[null,null,null,null,null,null,null,3033,33616100,{"$f":"IF(K3037=1,COUNTIF($K$5:K3037,1),\"\")","v":3033},{"$f":"IF(ISNUMBER(SEARCH('Bilgi Girişi'!$E$4,KalemAdı,1))=TRUE,1,0)","v":1},"Provitaminler","Mal",33616100,null,null,"Trombotik ilaçlar"]
[null,null,null,null,null,null,null,3037,33621100,{"$f":"IF(K3041=1,COUNTIF($K$5:K3041,1),\"\")","v":3037},{"$f":"IF(ISNUMBER(SEARCH('Bilgi Girişi'!$E$4,KalemAdı,1))=TRUE,1,0)","v":1},"Trombotik ilaçlar","Mal",33621100,null,null,"Kardiyovasküler sistem için tıbbi ürünler"]
[null,null,null,null,null,null,null,3042,33622100,{"$f":"IF(K3046=1,COUNTIF($K$5:K3046,1),\"\")","v":3042},{"$f":"IF(ISNUMBER(SEARCH('Bilgi Girişi'!$E$4,KalemAdı,1))=TRUE,1,0)","v":1},"Kardiyak tedavisinde kullanılan tıbbi ürünler","Mal",33622100,null,null,"Topikal kollanım için hemoroid ilaçları"]
[null,null,null,null,null,null,null,3045,33622400,{"$f":"IF(K3049=1,COUNTIF($K$5:K3049,1),\"\")","v":3045},{"$f":"IF(ISNUMBER(SEARCH('Bilgi Girişi'!$E$4,KalemAdı,1))=TRUE,1,0)","v":1},"Vazoprotektifler","Mal",33622400,null,null,"Renin-anjiyotensin sisteminde çalışan maddeler"]
[null,null,null,null,null,null,null,3047,33622600,{"$f":"IF(K3051=1,COUNTIF($K$5:K3051,1),\"\")","v":3047},{"$f":"IF(ISNUMBER(SEARCH('Bilgi Girişi'!$E$4,KalemAdı,1))=TRUE,1,0)","v":1},"Beta blokör ajanlar","Mal",33622600,null,null,"Dermatoloji için tıbbi ürünler"]
[null,null,null,null,null,null,null,3052,33631100,{"$f":"IF(K3056=1,COUNTIF($K$5:K3056,1),\"\")","v":3052},{"$f":"IF(ISNUMBER(SEARCH('Bilgi Girişi'!$E$4,KalemAdı,1))=TRUE,1,0)","v":1},"Dermatolojik kullanım için antifungallar","Mal",33631100,null,null,"Dermatolojik kullanım için antibiyotikler ve kemoterapi ilaçları"]
[null,null,null,null,null,null,null,3054,33631200,{"$f":"IF(K3058=1,COUNTIF($K$5:K3058,1),\"\")","v":3054},{"$f":"IF(ISNUMBER(SEARCH('Bilgi Girişi'!$E$4,KalemAdı,1))=TRUE,1,0)","v":1},"Yumuşatıcılar ve koruyucular [cilt]","Mal",33631200,null,null,"Antiseptikler ve dezenfektanlar"]
[null,null,null,null,null,null,null,3057,33631500,{"$f":"IF(K3061=1,COUNTIF($K$5:K3061,1),\"\")","v":3057},{"$f":"IF(ISNUMBER(SEARCH('Bilgi Girişi'!$E$4,KalemAdı,1))=TRUE,1,0)","v":1},"Dermatolojik kullanım ve dermatolojik ilaçlar için kortikosteroidler","Mal",33631500,null,null,"Antienflamatuar ve antiromatizmal ürünler"]
[null,null,null,null,null,null,null,3062,33632200,{"$f":"IF(K3066=1,COUNTIF($K$5:K3066,1),\"\")","v":3062},{"$f":"IF(ISNUMBER(SEARCH('Bilgi Girişi'!$E$4,KalemAdı,1))=TRUE,1,0)","v":1},"Kas gevşeticiler","Mal",33632200,null,null,"Jinekolojik anti-infektifler ve antiseptikler"]
[null,null,null,null,null,null,null,3066,33641100,{"$f":"IF(K3070=1,COUNTIF($K$5:K3070,1),\"\")","v":3066},{"$f":"IF(ISNUMBER(SEARCH('Bilgi Girişi'!$E$4,KalemAdı,1))=TRUE,1,0)","v":1},"Jinekolojik anti-infektifler ve antiseptikler","Mal",33641100,null,null,"Ağızdan alınan doğum kontrol ilaçları"]
[null,null,null,null,null,null,null,3070,33641410,{"$f":"IF(K3074=1,COUNTIF($K$5:K3074,1),\"\")","v":3070},{"$f":"IF(ISNUMBER(SEARCH('Bilgi Girişi'!$E$4,KalemAdı,1))=TRUE,1,0)","v":1},"Ağızdan alınan doğum kontrol ilaçları","Mal",33641410,null,null,"Sistemik kullanıma kortikosteroidler"]
[null,null,null,null,null,null,null,3071,33641420,{"$f":"IF(K3075=1,COUNTIF($K$5:K3075,1),\"\")","v":3071},{"$f":"IF(ISNUMBER(SEARCH('Bilgi Girişi'!$E$4,KalemAdı,1))=TRUE,1,0)","v":1},"Kimyasal doğum kontrol ilaçları","Mal",33641420,null,null,"Tiroid tedavisi tıbbi ürünleri"]
[null,null,null,null,null,null,null,3075,33642300,{"$f":"IF(K3079=1,COUNTIF($K$5:K3079,1),\"\")","v":3075},{"$f":"IF(ISNUMBER(SEARCH('Bilgi Girişi'!$E$4,KalemAdı,1))=TRUE,1,0)","v":1},"Tiroid tedavisi tıbbi ürünleri","Mal",33642300,null,null,"Sistemik kullanım için antimikotic ilçlar"]
[null,null,null,null,null,null,null,3080,33651300,{"$f":"IF(K3084=1,COUNTIF($K$5:K3084,1),\"\")","v":3080},{"$f":"IF(ISNUMBER(SEARCH('Bilgi Girişi'!$E$4,KalemAdı,1))=TRUE,1,0)","v":1},"Antimikobakteriyel ilaçlar","Mal",33651300,null,null,"İmmünoglobulinler"]
[null,null,null,null,null,null,null,3082,33651500,{"$f":"IF(K3086=1,COUNTIF($K$5:K3086,1),\"\")","v":3082},{"$f":"IF(ISNUMBER(SEARCH('Bilgi Girişi'!$E$4,KalemAdı,1))=TRUE,1,0)","v":1},"İmmun serum ve immünoglobulinler","Mal",33651500,null,null,"Difteri-boğmaca-tetanoz aşıları"]
[null,null,null,null,null,null,null,3085,33651600,{"$f":"IF(K3089=1,COUNTIF($K$5:K3089,1),\"\")","v":3085},{"$f":"IF(ISNUMBER(SEARCH('Bilgi Girişi'!$E$4,KalemAdı,1))=TRUE,1,0)","v":1},"Aşılar","Mal",33651600,null,null,"Kızamık-kabakulak-kızamıkçık aşıları"]
[null,null,null,null,null,null,null,3090,33651650,{"$f":"IF(K3094=1,COUNTIF($K$5:K3094,1),\"\")","v":3090},{"$f":"IF(ISNUMBER(SEARCH('Bilgi Girişi'!$E$4,KalemAdı,1))=TRUE,1,0)","v":1},"Tifüs aşıları","Mal",33651650,null,null,"Veteriner aşıları"]
[null,null,null,null,null,null,null,3095,33652000,{"$f":"IF(K3099=1,COUNTIF($K$5:K3099,1),\"\")","v":3095},{"$f":"IF(ISNUMBER(SEARCH('Bilgi Girişi'!$E$4,KalemAdı,1))=TRUE,1,0)","v":1},"Antineoplastik ve immunomodülatör maddeler","Mal",33652000,null,null,"Sinir sistemi ve duyu organları tıbbi ürünler"]
[null,null,null,null,null,null,null,3099,33660000,{"$f":"IF(K3103=1,COUNTIF($K$5:K3103,1),\"\")","v":3099},{"$f":"IF(ISNUMBER(SEARCH('Bilgi Girişi'!$E$4,KalemAdı,1))=TRUE,1,0)","v":1},"Sinir sistemi ve duyu organları tıbbi ürünler","Mal",33660000,null,null,"Epileptik ilaçlar"]
[null,null,null,null,null,null,null,3102,33661200,{"$f":"IF(K3106=1,COUNTIF($K$5:K3106,1),\"\")","v":3102},{"$f":"IF(ISNUMBER(SEARCH('Bilgi Girişi'!$E$4,KalemAdı,1))=TRUE,1,0)","v":1},"Analjezikler","Mal",33661200,null,null,"Psikoaneliptikler"]
[null,null,null,null,null,null,null,3104,33661400,{"$f":"IF(K3108=1,COUNTIF($K$5:K3108,1),\"\")","v":3104},{"$f":"IF(ISNUMBER(SEARCH('Bilgi Girişi'!$E$4,KalemAdı,1))=TRUE,1,0)","v":1},"Parkinson hastalığına karşı tıbbi ürünler","Mal",33661400,null,null,"Duyu organları için tıbbi ürünler"]
[null,null,null,null,null,null,null,3107,33661700,{"$f":"IF(K3111=1,COUNTIF($K$5:K3111,1),\"\")","v":3107},{"$f":"IF(ISNUMBER(SEARCH('Bilgi Girişi'!$E$4,KalemAdı,1))=TRUE,1,0)","v":1},"Diğer sinir sistemine ilişkin tıbbi ürünler","Mal",33661700,null,null,"Obstrüktif hava yolu hastalıkları için tıbbi ürünler"]
[null,null,null,null,null,null,null,3113,33675000,{"$f":"IF(K3117=1,COUNTIF($K$5:K3117,1),\"\")","v":3113},{"$f":"IF(ISNUMBER(SEARCH('Bilgi Girişi'!$E$4,KalemAdı,1))=TRUE,1,0)","v":1},"Sistemik kullanım için antihistaminler","Mal",33675000,null,null,"Kauçuk tampon yastıkları"]
[null,null,null,null,null,null,null,3115,33681000,{"$f":"IF(K3119=1,COUNTIF($K$5:K3119,1),\"\")","v":3115},{"$f":"IF(ISNUMBER(SEARCH('Bilgi Girişi'!$E$4,KalemAdı,1))=TRUE,1,0)","v":1},"Emzik, süt önlüğü ve benzeri bebek eşyaları","Mal",33681000,null,null,"Parazit ilaçları, insektesidler ve repulisifler"]
[null,null,null,null,null,null,null,3118,33690000,{"$f":"IF(K3122=1,COUNTIF($K$5:K3122,1),\"\")","v":3118},{"$f":"IF(ISNUMBER(SEARCH('Bilgi Girişi'!$E$4,KalemAdı,1))=TRUE,1,0)","v":1},"Çeşitli tıbbi ürünler","Mal",33690000,null,null,"Ektoparazitler, scabisidler, insktisidler ve kovucular"]
[null,null,null,null,null,null,null,3123,33692000,{"$f":"IF(K3127=1,COUNTIF($K$5:K3127,1),\"\")","v":3123},{"$f":"IF(ISNUMBER(SEARCH('Bilgi Girişi'!$E$4,KalemAdı,1))=TRUE,1,0)","v":1},"Tıbbi solüsyonlar, çözeltiler","Mal",33692000,null,null,"Bağırsaktan besleme için ürünler"]
[null,null,null,null,null,null,null,3127,33692300,{"$f":"IF(K3131=1,COUNTIF($K$5:K3131,1),\"\")","v":3127},{"$f":"IF(ISNUMBER(SEARCH('Bilgi Girişi'!$E$4,KalemAdı,1))=TRUE,1,0)","v":1},"Bağırsaktan besleme için ürünler","Mal",33692300,null,null,"Bitkisel ilaç solüsyonları, galenik solüsyonlar"]
[null,null,null,null,null,null,null,3128,33692400,{"$f":"IF(K3132=1,COUNTIF($K$5:K3132,1),\"\")","v":3128},{"$f":"IF(ISNUMBER(SEARCH('Bilgi Girişi'!$E$4,KalemAdı,1))=TRUE,1,0)","v":1},"Damar yoluyla verilen solüsyonlar, perfüzyon solüsyonları","Mal",33692400,null,null,"Glikoz solüsyonları"]
[null,null,null,null,null,null,null,3132,33692700,{"$f":"IF(K3136=1,COUNTIF($K$5:K3136,1),\"\")","v":3132},{"$f":"IF(ISNUMBER(SEARCH('Bilgi Girişi'!$E$4,KalemAdı,1))=TRUE,1,0)","v":1},"Glikoz solüsyonları","Mal",33692700,null,null,"Nikotin yerine kullanılabilen maddeler"]
[null,null,null,null,null,null,null,3137,33693300,{"$f":"IF(K3141=1,COUNTIF($K$5:K3141,1),\"\")","v":3137},{"$f":"IF(ISNUMBER(SEARCH('Bilgi Girişi'!$E$4,KalemAdı,1))=TRUE,1,0)","v":1},"Bağımlılık tedavi hizmetleri","Mal",33693300,null,null,"Kan gruplandırma ayıraçları"]
[null,null,null,null,null,null,null,3139,33695000,{"$f":"IF(K3143=1,COUNTIF($K$5:K3143,1),\"\")","v":3139},{"$f":"IF(ISNUMBER(SEARCH('Bilgi Girişi'!$E$4,KalemAdı,1))=TRUE,1,0)","v":1},"Tüm diğer tedavi edici olmayan ürünler","Mal",33695000,null,null,"Kimyasal ayıraçlar"]
[null,null,null,null,null,null,null,3142,33696200,{"$f":"IF(K3146=1,COUNTIF($K$5:K3146,1),\"\")","v":3142},{"$f":"IF(ISNUMBER(SEARCH('Bilgi Girişi'!$E$4,KalemAdı,1))=TRUE,1,0)","v":1},"Kan analizi ayıraçları","Mal",33696200,null,null,"Elektroförez ayıraçları"]
[null,null,null,null,null,null,null,3147,33696700,{"$f":"IF(K3151=1,COUNTIF($K$5:K3151,1),\"\")","v":3147},{"$f":"IF(ISNUMBER(SEARCH('Bilgi Girişi'!$E$4,KalemAdı,1))=TRUE,1,0)","v":1},"Ürolojik etken maddeler, ürolojik ayıraçlar","Mal",33696700,null,null,"Kemik tedavisinde kullanılan çimentolar"]
[null,null,null,null,null,null,null,3151,33697110,{"$f":"IF(K3155=1,COUNTIF($K$5:K3155,1),\"\")","v":3151},{"$f":"IF(ISNUMBER(SEARCH('Bilgi Girişi'!$E$4,KalemAdı,1))=TRUE,1,0)","v":1},"Kemik tedavisinde kullanılan çimentolar","Mal",33697110,null,null,"Peptik maddeler"]
[null,null,null,null,null,null,null,3155,33698300,{"$f":"IF(K3159=1,COUNTIF($K$5:K3159,1),\"\")","v":3155},{"$f":"IF(ISNUMBER(SEARCH('Bilgi Girişi'!$E$4,KalemAdı,1))=TRUE,1,0)","v":1},"Peptik maddeler","Mal",33698300,null,null,"Parfüm seyreltileri, tuvalet suları"]
[null,null,null,null,null,null,null,3156,33700000,{"$f":"IF(K3160=1,COUNTIF($K$5:K3160,1),\"\")","v":3156},{"$f":"IF(ISNUMBER(SEARCH('Bilgi Girişi'!$E$4,KalemAdı,1))=TRUE,1,0)","v":1},"Kişisel bakım ürünleri","Mal",33700000,null,null,"Deodorantlar"]
[null,null,null,null,null,null,null,3160,33711110,{"$f":"IF(K3164=1,COUNTIF($K$5:K3164,1),\"\")","v":3160},{"$f":"IF(ISNUMBER(SEARCH('Bilgi Girişi'!$E$4,KalemAdı,1))=TRUE,1,0)","v":1},"Deodorantlar","Mal",33711110,null,null,"Gül suyu"]
[null,null,null,null,null,null,null,3165,33711200,{"$f":"IF(K3169=1,COUNTIF($K$5:K3169,1),\"\")","v":3165},{"$f":"IF(ISNUMBER(SEARCH('Bilgi Girişi'!$E$4,KalemAdı,1))=TRUE,1,0)","v":1},"Makyaj müstahzarları","Mal",33711200,null,null,"Makyaj kitleri"]
[null,null,null,null,null,null,null,3170,33711430,{"$f":"IF(K3174=1,COUNTIF($K$5:K3174,1),\"\")","v":3170},{"$f":"IF(ISNUMBER(SEARCH('Bilgi Girişi'!$E$4,KalemAdı,1))=TRUE,1,0)","v":1},"Tek kullanımlık kişisel mendiller","Mal",33711430,null,null,"Güneşten korunma ürünleri"]
[null,null,null,null,null,null,null,3172,33711450,{"$f":"IF(K3176=1,COUNTIF($K$5:K3176,1),\"\")","v":3172},{"$f":"IF(ISNUMBER(SEARCH('Bilgi Girişi'!$E$4,KalemAdı,1))=TRUE,1,0)","v":1},"Dövmeler","Mal",33711450,null,null,"Duş kapaklar"]
[null,null,null,null,null,null,null,3175,33711520,{"$f":"IF(K3179=1,COUNTIF($K$5:K3179,1),\"\")","v":3175},{"$f":"IF(ISNUMBER(SEARCH('Bilgi Girişi'!$E$4,KalemAdı,1))=TRUE,1,0)","v":1},"Banyo jelleri","Mal",33711520,null,null,"Şampuanlar"]
[null,null,null,null,null,null,null,3180,33711620,{"$f":"IF(K3184=1,COUNTIF($K$5:K3184,1),\"\")","v":3180},{"$f":"IF(ISNUMBER(SEARCH('Bilgi Girişi'!$E$4,KalemAdı,1))=TRUE,1,0)","v":1},"Taraklar","Mal",33711620,null,null,"Diş fırçaları"]
[null,null,null,null,null,null,null,3184,33711710,{"$f":"IF(K3188=1,COUNTIF($K$5:K3188,1),\"\")","v":3184},{"$f":"IF(ISNUMBER(SEARCH('Bilgi Girişi'!$E$4,KalemAdı,1))=TRUE,1,0)","v":1},"Diş fırçaları","Mal",33711710,null,null,"Ağız spreyleri"]
[null,null,null,null,null,null,null,3187,33711740,{"$f":"IF(K3191=1,COUNTIF($K$5:K3191,1),\"\")","v":3187},{"$f":"IF(ISNUMBER(SEARCH('Bilgi Girişi'!$E$4,KalemAdı,1))=TRUE,1,0)","v":1},"Gargara","Mal",33711740,null,null,"Protez temizleme tabletleri"]
[null,null,null,null,null,null,null,3189,33711760,{"$f":"IF(K3193=1,COUNTIF($K$5:K3193,1),\"\")","v":3189},{"$f":"IF(ISNUMBER(SEARCH('Bilgi Girişi'!$E$4,KalemAdı,1))=TRUE,1,0)","v":1},"Diş ipi","Mal",33711760,null,null,"Tıraş müstahzarları"]
[null,null,null,null,null,null,null,3192,33711790,{"$f":"IF(K3196=1,COUNTIF($K$5:K3196,1),\"\")","v":3192},{"$f":"IF(ISNUMBER(SEARCH('Bilgi Girişi'!$E$4,KalemAdı,1))=TRUE,1,0)","v":1},"Dental kitler","Mal",33711790,null,null,"Prezervatifler"]
[null,null,null,null,null,null,null,3198,33720000,{"$f":"IF(K3202=1,COUNTIF($K$5:K3202,1),\"\")","v":3198},{"$f":"IF(ISNUMBER(SEARCH('Bilgi Girişi'!$E$4,KalemAdı,1))=TRUE,1,0)","v":1},"Jilet ve manikür veya pedikür setleri","Mal",33720000,null,null,"Manikür ve pedikür takımları"]
[null,null,null,null,null,null,null,3200,33721100,{"$f":"IF(K3204=1,COUNTIF($K$5:K3204,1),\"\")","v":3200},{"$f":"IF(ISNUMBER(SEARCH('Bilgi Girişi'!$E$4,KalemAdı,1))=TRUE,1,0)","v":1},"Jiletler","Mal",33721100,null,null,"Manikür alet edevatları"]
[null,null,null,null,null,null,null,3203,33722100,{"$f":"IF(K3207=1,COUNTIF($K$5:K3207,1),\"\")","v":3203},{"$f":"IF(ISNUMBER(SEARCH('Bilgi Girişi'!$E$4,KalemAdı,1))=TRUE,1,0)","v":1},"Manikür setleri","Mal",33722100,null,null,"Saç tokaları"]
[null,null,null,null,null,null,null,3208,33730000,{"$f":"IF(K3212=1,COUNTIF($K$5:K3212,1),\"\")","v":3208},{"$f":"IF(ISNUMBER(SEARCH('Bilgi Girişi'!$E$4,KalemAdı,1))=TRUE,1,0)","v":1},"Göz bakım ürünleri ve düzeltici lensler","Mal",33730000,null,null,"Gözlük camları"]
[null,null,null,null,null,null,null,3212,33731120,{"$f":"IF(K3216=1,COUNTIF($K$5:K3216,1),\"\")","v":3212},{"$f":"IF(ISNUMBER(SEARCH('Bilgi Girişi'!$E$4,KalemAdı,1))=TRUE,1,0)","v":1},"Gözlük camları","Mal",33731120,null,null,"Gözlük çerçeveleri ile aksam ve parçaları"]
[null,null,null,null,null,null,null,3213,33732000,{"$f":"IF(K3217=1,COUNTIF($K$5:K3217,1),\"\")","v":3213},{"$f":"IF(ISNUMBER(SEARCH('Bilgi Girişi'!$E$4,KalemAdı,1))=TRUE,1,0)","v":1},"Kontakt lens losyonları","Mal",33732000,null,null,"Gözlük camı"]
[null,null,null,null,null,null,null,3217,33734200,{"$f":"IF(K3221=1,COUNTIF($K$5:K3221,1),\"\")","v":3217},{"$f":"IF(ISNUMBER(SEARCH('Bilgi Girişi'!$E$4,KalemAdı,1))=TRUE,1,0)","v":1},"Gözlük camı","Mal",33734200,null,null,"El ve tırnak bakım ürünleri"]
[null,null,null,null,null,null,null,3222,33741000,{"$f":"IF(K3226=1,COUNTIF($K$5:K3226,1),\"\")","v":3222},{"$f":"IF(ISNUMBER(SEARCH('Bilgi Girişi'!$E$4,KalemAdı,1))=TRUE,1,0)","v":1},"El bakım ürünleri","Mal",33741000,null,null,"Tırnak bakım ürünleri"]
[null,null,null,null,null,null,null,3225,33741300,{"$f":"IF(K3229=1,COUNTIF($K$5:K3229,1),\"\")","v":3225},{"$f":"IF(ISNUMBER(SEARCH('Bilgi Girişi'!$E$4,KalemAdı,1))=TRUE,1,0)","v":1},"El Temizleyicileri","Mal",33741300,null,null,"Bebek bakım ürünleri"]
[null,null,null,null,null,null,null,3227,33742100,{"$f":"IF(K3231=1,COUNTIF($K$5:K3231,1),\"\")","v":3227},{"$f":"IF(ISNUMBER(SEARCH('Bilgi Girişi'!$E$4,KalemAdı,1))=TRUE,1,0)","v":1},"Tırnak Makasları","Mal",33742100,null,null,"Emzirme pedleri"]
[null,null,null,null,null,null,null,3232,33760000,{"$f":"IF(K3236=1,COUNTIF($K$5:K3236,1),\"\")","v":3232},{"$f":"IF(ISNUMBER(SEARCH('Bilgi Girişi'!$E$4,KalemAdı,1))=TRUE,1,0)","v":1},"Tuvalet kağıdı, mendiller, el havluları ve peçeteler","Mal",33760000,null,null,"Kağıt peçeteler"]
[null,null,null,null,null,null,null,3236,33764000,{"$f":"IF(K3240=1,COUNTIF($K$5:K3240,1),\"\")","v":3236},{"$f":"IF(ISNUMBER(SEARCH('Bilgi Girişi'!$E$4,KalemAdı,1))=TRUE,1,0)","v":1},"Kağıt peçeteler","Mal",33764000,null,null,"Kağıttan mamul peçete altlıkları"]
[null,null,null,null,null,null,null,3240,33771200,{"$f":"IF(K3244=1,COUNTIF($K$5:K3244,1),\"\")","v":3240},{"$f":"IF(ISNUMBER(SEARCH('Bilgi Girişi'!$E$4,KalemAdı,1))=TRUE,1,0)","v":1},"Kağıttan mamul peçete altlıkları","Mal",33771200,null,null,"Cam farmakolojik gereçler"]
[null,null,null,null,null,null,null,3241,33772000,{"$f":"IF(K3245=1,COUNTIF($K$5:K3245,1),\"\")","v":3241},{"$f":"IF(ISNUMBER(SEARCH('Bilgi Girişi'!$E$4,KalemAdı,1))=TRUE,1,0)","v":1},"Atılabilir kağıt ürünler","Mal",33772000,null,null,"Cam laboratuar gereçleri"]
[null,null,null,null,null,null,null,3246,33900000,{"$f":"IF(K3250=1,COUNTIF($K$5:K3250,1),\"\")","v":3246},{"$f":"IF(ISNUMBER(SEARCH('Bilgi Girişi'!$E$4,KalemAdı,1))=TRUE,1,0)","v":1},"Otopsi ve morg ekipman ve malzemeleri","Mal",33900000,null,null,"Otopsi diseksiyon forsepsleri"]
[null,null,null,null,null,null,null,3249,33912000,{"$f":"IF(K3253=1,COUNTIF($K$5:K3253,1),\"\")","v":3249},{"$f":"IF(ISNUMBER(SEARCH('Bilgi Girişi'!$E$4,KalemAdı,1))=TRUE,1,0)","v":1},"Otopsi diseksiyon kitleri","Mal",33912000,null,null,"Post-mortem iplik"]
[null,null,null,null,null,null,null,3255,33914300,{"$f":"IF(K3259=1,COUNTIF($K$5:K3259,1),\"\")","v":3255},{"$f":"IF(ISNUMBER(SEARCH('Bilgi Girişi'!$E$4,KalemAdı,1))=TRUE,1,0)","v":1},"Post-mortem kesi klipsleri","Mal",33914300,null,null,"Diseksiyon tahtaları veya pedleri"]
[null,null,null,null,null,null,null,3257,33916000,{"$f":"IF(K3261=1,COUNTIF($K$5:K3261,1),\"\")","v":3257},{"$f":"IF(ISNUMBER(SEARCH('Bilgi Girişi'!$E$4,KalemAdı,1))=TRUE,1,0)","v":1},"Otopsi testere bıçakları veya aksesuarları","Mal",33916000,null,null,"Otopsi cerrahi aletleri veya aksesuarları için alet ruloları"]
[null,null,null,null,null,null,null,3260,33918000,{"$f":"IF(K3264=1,COUNTIF($K$5:K3264,1),\"\")","v":3260},{"$f":"IF(ISNUMBER(SEARCH('Bilgi Girişi'!$E$4,KalemAdı,1))=TRUE,1,0)","v":1},"Otopside kullanılan aletler veya aksesuarların kutuları","Mal",33918000,null,null,"Kadavra taşıma torbaları"]
[null,null,null,null,null,null,null,3265,33923000,{"$f":"IF(K3269=1,COUNTIF($K$5:K3269,1),\"\")","v":3265},{"$f":"IF(ISNUMBER(SEARCH('Bilgi Girişi'!$E$4,KalemAdı,1))=TRUE,1,0)","v":1},"Otopsi baş destekleri, diseksiyon tahtaları veya askılı tartılar","Mal",33923000,null,null,"Otopsi bulaşıcı hastalık kitleri"]
[null,null,null,null,null,null,null,3269,33924000,{"$f":"IF(K3273=1,COUNTIF($K$5:K3273,1),\"\")","v":3269},{"$f":"IF(ISNUMBER(SEARCH('Bilgi Girişi'!$E$4,KalemAdı,1))=TRUE,1,0)","v":1},"Otopsi bulaşıcı hastalık kitleri","Mal",33924000,null,null,"Post-mortem parmak düzleştiriciler"]
[null,null,null,null,null,null,null,3270,33925000,{"$f":"IF(K3274=1,COUNTIF($K$5:K3274,1),\"\")","v":3270},{"$f":"IF(ISNUMBER(SEARCH('Bilgi Girişi'!$E$4,KalemAdı,1))=TRUE,1,0)","v":1},"Post-mortem kimlik etiketleri veya bilezikler","Mal",33925000,null,null,"Kadavradan doku oluşturma kitleri"]
[null,null,null,null,null,null,null,3274,33929000,{"$f":"IF(K3278=1,COUNTIF($K$5:K3278,1),\"\")","v":3274},{"$f":"IF(ISNUMBER(SEARCH('Bilgi Girişi'!$E$4,KalemAdı,1))=TRUE,1,0)","v":1},"Kadavradan doku oluşturma kitleri","Mal",33929000,null,null,"Otopsi masaları veya aksesuarları"]
[null,null,null,null,null,null,null,3279,33933100,{"$f":"IF(K3283=1,COUNTIF($K$5:K3283,1),\"\")","v":3279},{"$f":"IF(ISNUMBER(SEARCH('Bilgi Girişi'!$E$4,KalemAdı,1))=TRUE,1,0)","v":1},"Otopsi masaları","Mal",33933100,null,null,"Otopsi aşağı çekişli iş istasyonları veya aksesuarları"]
[null,null,null,null,null,null,null,3282,33936000,{"$f":"IF(K3286=1,COUNTIF($K$5:K3286,1),\"\")","v":3282},{"$f":"IF(ISNUMBER(SEARCH('Bilgi Girişi'!$E$4,KalemAdı,1))=TRUE,1,0)","v":1},"Tahnit iş istasyonları veya aksesuarları","Mal",33936000,null,null,"Kadavra taşıyıcıları"]
[null,null,null,null,null,null,null,3284,33940000,{"$f":"IF(K3288=1,COUNTIF($K$5:K3288,1),\"\")","v":3284},{"$f":"IF(ISNUMBER(SEARCH('Bilgi Girişi'!$E$4,KalemAdı,1))=TRUE,1,0)","v":1},"Kadavra nakliyesi ve saklanmasına ilişik ekipman ve malzemeler","Mal",33940000,null,null,"Morg kabin buzdolabları veya derin dondurucuları"]
[null,null,null,null,null,null,null,3290,33946000,{"$f":"IF(K3294=1,COUNTIF($K$5:K3294,1),\"\")","v":3290},{"$f":"IF(ISNUMBER(SEARCH('Bilgi Girişi'!$E$4,KalemAdı,1))=TRUE,1,0)","v":1},"Otopsi sedyeleri","Mal",33946000,null,null,"Klinik adli tıp donanımları ve gereçleri"]
[null,null,null,null,null,null,null,3293,33949000,{"$f":"IF(K3297=1,COUNTIF($K$5:K3297,1),\"\")","v":3293},{"$f":"IF(ISNUMBER(SEARCH('Bilgi Girişi'!$E$4,KalemAdı,1))=TRUE,1,0)","v":1},"Ceset nakliye kutuları","Mal",33949000,null,null,"Post-mortem kan tespit kitleri veya sarf malzemeleri"]
[null,null,null,null,null,null,null,3297,33953000,{"$f":"IF(K3301=1,COUNTIF($K$5:K3301,1),\"\")","v":3297},{"$f":"IF(ISNUMBER(SEARCH('Bilgi Girişi'!$E$4,KalemAdı,1))=TRUE,1,0)","v":1},"Post-mortem kan tespit kitleri veya sarf malzemeleri","Mal",33953000,null,null,"Damar tahnit drenaj boruları"]
[null,null,null,null,null,null,null,3298,33954000,{"$f":"IF(K3302=1,COUNTIF($K$5:K3302,1),\"\")","v":3298},{"$f":"IF(ISNUMBER(SEARCH('Bilgi Girişi'!$E$4,KalemAdı,1))=TRUE,1,0)","v":1},"Biyolojik kanıt toplama kitleri","Mal",33954000,null,null,"Tahnit sıvıları veya kimyasal işlemler"]
[null,null,null,null,null,null,null,3302,33963000,{"$f":"IF(K3306=1,COUNTIF($K$5:K3306,1),\"\")","v":3302},{"$f":"IF(ISNUMBER(SEARCH('Bilgi Girişi'!$E$4,KalemAdı,1))=TRUE,1,0)","v":1},"Tahnit sıvıları veya kimyasal işlemler","Mal",33963000,null,null,"Tahnit enjektör iğneleri"]
[null,null,null,null,null,null,null,3307,33968000,{"$f":"IF(K3311=1,COUNTIF($K$5:K3311,1),\"\")","v":3307},{"$f":"IF(ISNUMBER(SEARCH('Bilgi Girişi'!$E$4,KalemAdı,1))=TRUE,1,0)","v":1},"Göz kapakları","Mal",33968000,null,null,"Kefenler"]
[null,null,null,null,null,null,null,3310,33972000,{"$f":"IF(K3314=1,COUNTIF($K$5:K3314,1),\"\")","v":3310},{"$f":"IF(ISNUMBER(SEARCH('Bilgi Girişi'!$E$4,KalemAdı,1))=TRUE,1,0)","v":1},"Morg paketleri","Mal",33972000,null,null,"Nakliye araçları ve nakliye için yardımcı ürünler"]
[null,null,null,null,null,null,null,3312,33974000,{"$f":"IF(K3316=1,COUNTIF($K$5:K3316,1),\"\")","v":3312},{"$f":"IF(ISNUMBER(SEARCH('Bilgi Girişi'!$E$4,KalemAdı,1))=TRUE,1,0)","v":1},"Morg aspiratörleri","Mal",33974000,null,null,"Binek tipi araç ve otomobiller"]
[null,null,null,null,null,null,null,3317,34111000,{"$f":"IF(K3321=1,COUNTIF($K$5:K3321,1),\"\")","v":3317},{"$f":"IF(ISNUMBER(SEARCH('Bilgi Girişi'!$E$4,KalemAdı,1))=TRUE,1,0)","v":1},"Emlak ve salon araçları","Mal",34111000,null,null,"Jipler"]
[null,null,null,null,null,null,null,3322,34113200,{"$f":"IF(K3326=1,COUNTIF($K$5:K3326,1),\"\")","v":3322},{"$f":"IF(ISNUMBER(SEARCH('Bilgi Girişi'!$E$4,KalemAdı,1))=TRUE,1,0)","v":1},"Her türlü araziye uygun araçlar","Mal",34113200,null,null,"Kurtarma amaçlı taşıt ve vasıtalar"]
[null,null,null,null,null,null,null,3326,34114110,{"$f":"IF(K3330=1,COUNTIF($K$5:K3330,1),\"\")","v":3326},{"$f":"IF(ISNUMBER(SEARCH('Bilgi Girişi'!$E$4,KalemAdı,1))=TRUE,1,0)","v":1},"Kurtarma amaçlı taşıt ve vasıtalar","Mal",34114110,null,null,"Polis arabaları"]
[null,null,null,null,null,null,null,3327,34114120,{"$f":"IF(K3331=1,COUNTIF($K$5:K3331,1),\"\")","v":3327},{"$f":"IF(ISNUMBER(SEARCH('Bilgi Girişi'!$E$4,KalemAdı,1))=TRUE,1,0)","v":1},"Acil tıbbi müdahale ve hasta taşıma amaçlı vasıtalar","Mal",34114120,null,null,"Mahkum nakil vasıtaları"]
[null,null,null,null,null,null,null,3331,34114210,{"$f":"IF(K3335=1,COUNTIF($K$5:K3335,1),\"\")","v":3331},{"$f":"IF(ISNUMBER(SEARCH('Bilgi Girişi'!$E$4,KalemAdı,1))=TRUE,1,0)","v":1},"Mahkum nakil vasıtaları","Mal",34114210,null,null,"10 kişiden az sayıda yolcu taşıma kapasiteli motorlu araçlar"]
[null,null,null,null,null,null,null,3335,34115200,{"$f":"IF(K3339=1,COUNTIF($K$5:K3339,1),\"\")","v":3335},{"$f":"IF(ISNUMBER(SEARCH('Bilgi Girişi'!$E$4,KalemAdı,1))=TRUE,1,0)","v":1},"10 kişiden az sayıda yolcu taşıma kapasiteli motorlu araçlar","Mal",34115200,null,null,"Kamu hizmetine tahsis edilmiş otobüsler"]
[null,null,null,null,null,null,null,3340,34121200,{"$f":"IF(K3344=1,COUNTIF($K$5:K3344,1),\"\")","v":3340},{"$f":"IF(ISNUMBER(SEARCH('Bilgi Girişi'!$E$4,KalemAdı,1))=TRUE,1,0)","v":1},"Körüklü otobüsler","Mal",34121200,null,null,"Mal nakliyatında kullanılan motorlu taşıtlar"]
[null,null,null,null,null,null,null,3342,34121400,{"$f":"IF(K3346=1,COUNTIF($K$5:K3346,1),\"\")","v":3342},{"$f":"IF(ISNUMBER(SEARCH('Bilgi Girişi'!$E$4,KalemAdı,1))=TRUE,1,0)","v":1},"Alçak zeminli otobüsler (sakatlar ve özürlüler için)","Mal",34121400,null,null,"Motorlu kızakları"]
[null,null,null,null,null,null,null,3345,34131000,{"$f":"IF(K3349=1,COUNTIF($K$5:K3349,1),\"\")","v":3345},{"$f":"IF(ISNUMBER(SEARCH('Bilgi Girişi'!$E$4,KalemAdı,1))=TRUE,1,0)","v":1},"Kamyonetler","Mal",34131000,null,null,"Yakıt tankerleri"]
[null,null,null,null,null,null,null,3350,34134000,{"$f":"IF(K3354=1,COUNTIF($K$5:K3354,1),\"\")","v":3350},{"$f":"IF(ISNUMBER(SEARCH('Bilgi Girişi'!$E$4,KalemAdı,1))=TRUE,1,0)","v":1},"Açık kasa ve damperli kamyonlar","Mal",34134000,null,null,"Hafif kamyonetler"]
[null,null,null,null,null,null,null,3354,34136100,{"$f":"IF(K3358=1,COUNTIF($K$5:K3358,1),\"\")","v":3354},{"$f":"IF(ISNUMBER(SEARCH('Bilgi Girişi'!$E$4,KalemAdı,1))=TRUE,1,0)","v":1},"Hafif kamyonetler","Mal",34136100,null,null,"Şase"]
[null,null,null,null,null,null,null,3355,34136200,{"$f":"IF(K3359=1,COUNTIF($K$5:K3359,1),\"\")","v":3355},{"$f":"IF(ISNUMBER(SEARCH('Bilgi Girişi'!$E$4,KalemAdı,1))=TRUE,1,0)","v":1},"Panelvanlar","Mal",34136200,null,null,"Şase kapakları"]
[null,null,null,null,null,null,null,3359,34139100,{"$f":"IF(K3363=1,COUNTIF($K$5:K3363,1),\"\")","v":3359},{"$f":"IF(ISNUMBER(SEARCH('Bilgi Girişi'!$E$4,KalemAdı,1))=TRUE,1,0)","v":1},"Şase kapakları","Mal",34139100,null,null,"Vinç ve damperli kamyon"]
[null,null,null,null,null,null,null,3364,34142100,{"$f":"IF(K3368=1,COUNTIF($K$5:K3368,1),\"\")","v":3364},{"$f":"IF(ISNUMBER(SEARCH('Bilgi Girişi'!$E$4,KalemAdı,1))=TRUE,1,0)","v":1},"Asansörlü platformlu kamyonlar","Mal",34142100,null,null,"Özel amaçlı motorlu taşıtlar"]
[null,null,null,null,null,null,null,3367,34143000,{"$f":"IF(K3371=1,COUNTIF($K$5:K3371,1),\"\")","v":3367},{"$f":"IF(ISNUMBER(SEARCH('Bilgi Girişi'!$E$4,KalemAdı,1))=TRUE,1,0)","v":1},"Karla mücadele araçları","Mal",34143000,null,null,"İtfaiye araçları"]
[null,null,null,null,null,null,null,3369,34144100,{"$f":"IF(K3373=1,COUNTIF($K$5:K3373,1),\"\")","v":3369},{"$f":"IF(ISNUMBER(SEARCH('Bilgi Girişi'!$E$4,KalemAdı,1))=TRUE,1,0)","v":1},"Hareketli sondaj kuleleri","Mal",34144100,null,null,"Su taşıma araçları"]
[null,null,null,null,null,null,null,3375,34144220,{"$f":"IF(K3379=1,COUNTIF($K$5:K3379,1),\"\")","v":3375},{"$f":"IF(ISNUMBER(SEARCH('Bilgi Girişi'!$E$4,KalemAdı,1))=TRUE,1,0)","v":1},"Onarım araçları","Mal",34144220,null,null,"Tuz atma araçları"]
[null,null,null,null,null,null,null,3378,34144410,{"$f":"IF(K3382=1,COUNTIF($K$5:K3382,1),\"\")","v":3378},{"$f":"IF(ISNUMBER(SEARCH('Bilgi Girişi'!$E$4,KalemAdı,1))=TRUE,1,0)","v":1},"Vidanjörler","Mal",34144410,null,null,"Buzlu yollara tuz, kum atma araçları"]
[null,null,null,null,null,null,null,3382,34144440,{"$f":"IF(K3386=1,COUNTIF($K$5:K3386,1),\"\")","v":3382},{"$f":"IF(ISNUMBER(SEARCH('Bilgi Girişi'!$E$4,KalemAdı,1))=TRUE,1,0)","v":1},"Buzlu yollara tuz, kum atma araçları","Mal",34144440,null,null,"Çöp toplama kamyonları"]
[null,null,null,null,null,null,null,3383,34144450,{"$f":"IF(K3387=1,COUNTIF($K$5:K3387,1),\"\")","v":3383},{"$f":"IF(ISNUMBER(SEARCH('Bilgi Girişi'!$E$4,KalemAdı,1))=TRUE,1,0)","v":1},"Su fıskiye araçları","Mal",34144450,null,null,"Çöp sıkıştırma kamyonları"]
[null,null,null,null,null,null,null,3387,34144512,{"$f":"IF(K3391=1,COUNTIF($K$5:K3391,1),\"\")","v":3387},{"$f":"IF(ISNUMBER(SEARCH('Bilgi Girişi'!$E$4,KalemAdı,1))=TRUE,1,0)","v":1},"Çöp sıkıştırma kamyonları","Mal",34144512,null,null,"Uçak yakıt ikmal araçları"]
[null,null,null,null,null,null,null,3392,34144740,{"$f":"IF(K3396=1,COUNTIF($K$5:K3396,1),\"\")","v":3392},{"$f":"IF(ISNUMBER(SEARCH('Bilgi Girişi'!$E$4,KalemAdı,1))=TRUE,1,0)","v":1},"Uçak çekme araçları","Mal",34144740,null,null,"Karavanlar"]
[null,null,null,null,null,null,null,3397,34144900,{"$f":"IF(K3401=1,COUNTIF($K$5:K3401,1),\"\")","v":3397},{"$f":"IF(ISNUMBER(SEARCH('Bilgi Girişi'!$E$4,KalemAdı,1))=TRUE,1,0)","v":1},"Elektrikli araçlar","Mal",34144900,null,null,"Eğitim simülatörleri"]
[null,null,null,null,null,null,null,3399,34150000,{"$f":"IF(K3403=1,COUNTIF($K$5:K3403,1),\"\")","v":3399},{"$f":"IF(ISNUMBER(SEARCH('Bilgi Girişi'!$E$4,KalemAdı,1))=TRUE,1,0)","v":1},"Simülatörler","Mal",34150000,null,null,"Taşıt aracı karoserleri"]
[null,null,null,null,null,null,null,3402,34200000,{"$f":"IF(K3406=1,COUNTIF($K$5:K3406,1),\"\")","v":3402},{"$f":"IF(ISNUMBER(SEARCH('Bilgi Girişi'!$E$4,KalemAdı,1))=TRUE,1,0)","v":1},"Motorlu araç karoserleri, römorklar ve yarı römorklar","Mal",34200000,null,null,"Ambulans karoserleri"]
[null,null,null,null,null,null,null,3407,34211300,{"$f":"IF(K3411=1,COUNTIF($K$5:K3411,1),\"\")","v":3407},{"$f":"IF(ISNUMBER(SEARCH('Bilgi Girişi'!$E$4,KalemAdı,1))=TRUE,1,0)","v":1},"Yük taşıma amaçlı araçların karoserleri","Mal",34211300,null,null,"Mobil acil durum üniteleri"]
[null,null,null,null,null,null,null,3411,34221200,{"$f":"IF(K3415=1,COUNTIF($K$5:K3415,1),\"\")","v":3411},{"$f":"IF(ISNUMBER(SEARCH('Bilgi Girişi'!$E$4,KalemAdı,1))=TRUE,1,0)","v":1},"Mobil acil durum üniteleri","Mal",34221200,null,null,"Römork tipi sıvı ikmal tankları"]
[null,null,null,null,null,null,null,3412,34221300,{"$f":"IF(K3416=1,COUNTIF($K$5:K3416,1),\"\")","v":3412},{"$f":"IF(ISNUMBER(SEARCH('Bilgi Girişi'!$E$4,KalemAdı,1))=TRUE,1,0)","v":1},"Kimyasal müdahale üniteleri","Mal",34221300,null,null,"Römorklar"]
[null,null,null,null,null,null,null,3416,34223300,{"$f":"IF(K3420=1,COUNTIF($K$5:K3420,1),\"\")","v":3416},{"$f":"IF(ISNUMBER(SEARCH('Bilgi Girişi'!$E$4,KalemAdı,1))=TRUE,1,0)","v":1},"Römorklar","Mal",34223300,null,null,"Tanker römorkları"]
[null,null,null,null,null,null,null,3420,34223340,{"$f":"IF(K3424=1,COUNTIF($K$5:K3424,1),\"\")","v":3420},{"$f":"IF(ISNUMBER(SEARCH('Bilgi Girişi'!$E$4,KalemAdı,1))=TRUE,1,0)","v":1},"Tanker römorkları","Mal",34223340,null,null,"Karavan tipi römork ve yarı römorklar"]
[null,null,null,null,null,null,null,3425,34224000,{"$f":"IF(K3429=1,COUNTIF($K$5:K3429,1),\"\")","v":3425},{"$f":"IF(ISNUMBER(SEARCH('Bilgi Girişi'!$E$4,KalemAdı,1))=TRUE,1,0)","v":1},"Römork, yarı römork ve diğer araçların parçaları","Mal",34224000,null,null,"Motorlar ve motor parçaları"]
[null,null,null,null,null,null,null,3427,34224200,{"$f":"IF(K3431=1,COUNTIF($K$5:K3431,1),\"\")","v":3427},{"$f":"IF(ISNUMBER(SEARCH('Bilgi Girişi'!$E$4,KalemAdı,1))=TRUE,1,0)","v":1},"Diğer araç parçaları","Mal",34224200,null,null,"Motorlu taşıtlar ve motosikletler için içten yanmalı motorlar"]
[null,null,null,null,null,null,null,3430,34311000,{"$f":"IF(K3434=1,COUNTIF($K$5:K3434,1),\"\")","v":3430},{"$f":"IF(ISNUMBER(SEARCH('Bilgi Girişi'!$E$4,KalemAdı,1))=TRUE,1,0)","v":1},"Motorlar","Mal",34311000,null,null,"Motor aksam ve parçaları"]
[null,null,null,null,null,null,null,3435,34312100,{"$f":"IF(K3439=1,COUNTIF($K$5:K3439,1),\"\")","v":3435},{"$f":"IF(ISNUMBER(SEARCH('Bilgi Girişi'!$E$4,KalemAdı,1))=TRUE,1,0)","v":1},"Vantilatör kayışları","Mal",34312100,null,null,"Contalar"]
[null,null,null,null,null,null,null,3437,34312300,{"$f":"IF(K3441=1,COUNTIF($K$5:K3441,1),\"\")","v":3437},{"$f":"IF(ISNUMBER(SEARCH('Bilgi Girişi'!$E$4,KalemAdı,1))=TRUE,1,0)","v":1},"Araç radyatörleri","Mal",34312300,null,null,"Kauçuk taşıma bantları"]
[null,null,null,null,null,null,null,3440,34312600,{"$f":"IF(K3444=1,COUNTIF($K$5:K3444,1),\"\")","v":3440},{"$f":"IF(ISNUMBER(SEARCH('Bilgi Girişi'!$E$4,KalemAdı,1))=TRUE,1,0)","v":1},"Kauçuk konveyör bantları","Mal",34312600,null,null,"Dingiller"]
[null,null,null,null,null,null,null,3444,34321100,{"$f":"IF(K3448=1,COUNTIF($K$5:K3448,1),\"\")","v":3444},{"$f":"IF(ISNUMBER(SEARCH('Bilgi Girişi'!$E$4,KalemAdı,1))=TRUE,1,0)","v":1},"Dingiller","Mal",34321100,null,null,"Disk frenler"]
[null,null,null,null,null,null,null,3449,34322300,{"$f":"IF(K3453=1,COUNTIF($K$5:K3453,1),\"\")","v":3449},{"$f":"IF(ISNUMBER(SEARCH('Bilgi Girişi'!$E$4,KalemAdı,1))=TRUE,1,0)","v":1},"Fren balataları","Mal",34322300,null,null,"Tekerlek balans ayarı ekipmanı"]
[null,null,null,null,null,null,null,3452,34324000,{"$f":"IF(K3456=1,COUNTIF($K$5:K3456,1),\"\")","v":3452},{"$f":"IF(ISNUMBER(SEARCH('Bilgi Girişi'!$E$4,KalemAdı,1))=TRUE,1,0)","v":1},"Tekerlekler, parça ve aksesuarları","Mal",34324000,null,null,"Egzoz boruları"]
[null,null,null,null,null,null,null,3454,34325000,{"$f":"IF(K3458=1,COUNTIF($K$5:K3458,1),\"\")","v":3454},{"$f":"IF(ISNUMBER(SEARCH('Bilgi Girişi'!$E$4,KalemAdı,1))=TRUE,1,0)","v":1},"Susturucular ve eksoz boruları","Mal",34325000,null,null,"Kavramalar ve ilgili parçalar"]
[null,null,null,null,null,null,null,3460,34327000,{"$f":"IF(K3464=1,COUNTIF($K$5:K3464,1),\"\")","v":3460},{"$f":"IF(ISNUMBER(SEARCH('Bilgi Girişi'!$E$4,KalemAdı,1))=TRUE,1,0)","v":1},"Direksiyon tekerleği, mili ve kutuları","Mal",34327000,null,null,"Test tezgahları"]
[null,null,null,null,null,null,null,3463,34328000,{"$f":"IF(K3467=1,COUNTIF($K$5:K3467,1),\"\")","v":3463},{"$f":"IF(ISNUMBER(SEARCH('Bilgi Girişi'!$E$4,KalemAdı,1))=TRUE,1,0)","v":1},"Test tezgahları, araç dönüşüm kitleri ve emniyet kemerleri","Mal",34328000,null,null,"Araçlar, minibüsler ve otomobil yedek parçaları"]
[null,null,null,null,null,null,null,3468,34350000,{"$f":"IF(K3472=1,COUNTIF($K$5:K3472,1),\"\")","v":3468},{"$f":"IF(ISNUMBER(SEARCH('Bilgi Girişi'!$E$4,KalemAdı,1))=TRUE,1,0)","v":1},"Ağır / hafif görev araçları için lastikler","Mal",34350000,null,null,"Kamyon lastikleri"]
[null,null,null,null,null,null,null,3469,34351000,{"$f":"IF(K3473=1,COUNTIF($K$5:K3473,1),\"\")","v":3469},{"$f":"IF(ISNUMBER(SEARCH('Bilgi Girişi'!$E$4,KalemAdı,1))=TRUE,1,0)","v":1},"Hafif işlerde kullanılan lastikler","Mal",34351000,null,null,"Otobüs lastikleri"]
[null,null,null,null,null,null,null,3473,34352200,{"$f":"IF(K3477=1,COUNTIF($K$5:K3477,1),\"\")","v":3473},{"$f":"IF(ISNUMBER(SEARCH('Bilgi Girişi'!$E$4,KalemAdı,1))=TRUE,1,0)","v":1},"Otobüs lastikleri","Mal",34352200,null,null,"Traktör aksesuarları"]
[null,null,null,null,null,null,null,3477,34390000,{"$f":"IF(K3481=1,COUNTIF($K$5:K3481,1),\"\")","v":3477},{"$f":"IF(ISNUMBER(SEARCH('Bilgi Girişi'!$E$4,KalemAdı,1))=TRUE,1,0)","v":1},"Traktör aksesuarları","Mal",34390000,null,null,"Motosiklet sepetleri"]
[null,null,null,null,null,null,null,3482,34411110,{"$f":"IF(K3486=1,COUNTIF($K$5:K3486,1),\"\")","v":3482},{"$f":"IF(ISNUMBER(SEARCH('Bilgi Girişi'!$E$4,KalemAdı,1))=TRUE,1,0)","v":1},"Motosiklet sepetleri için parça ve aksesuarlar","Mal",34411110,null,null,"Mopetler"]
[null,null,null,null,null,null,null,3485,34421000,{"$f":"IF(K3489=1,COUNTIF($K$5:K3489,1),\"\")","v":3485},{"$f":"IF(ISNUMBER(SEARCH('Bilgi Girişi'!$E$4,KalemAdı,1))=TRUE,1,0)","v":1},"Küçük (Vespa tipi) motosikletler","Mal",34421000,null,null,"Bisiklet parça ve aksesuarları"]
[null,null,null,null,null,null,null,3487,34430000,{"$f":"IF(K3491=1,COUNTIF($K$5:K3491,1),\"\")","v":3487},{"$f":"IF(ISNUMBER(SEARCH('Bilgi Girişi'!$E$4,KalemAdı,1))=TRUE,1,0)","v":1},"Bisikletler","Mal",34430000,null,null,"Gemi ve tekneler"]
[null,null,null,null,null,null,null,3492,34510000,{"$f":"IF(K3496=1,COUNTIF($K$5:K3496,1),\"\")","v":3492},{"$f":"IF(ISNUMBER(SEARCH('Bilgi Girişi'!$E$4,KalemAdı,1))=TRUE,1,0)","v":1},"Gemiler","Mal",34510000,null,null,"Yolcu gemileri"]
[null,null,null,null,null,null,null,3496,34512200,{"$f":"IF(K3500=1,COUNTIF($K$5:K3500,1),\"\")","v":3496},{"$f":"IF(ISNUMBER(SEARCH('Bilgi Girişi'!$E$4,KalemAdı,1))=TRUE,1,0)","v":1},"Yolcu gemileri","Mal",34512200,null,null,"Konteyner taşıyıcı gemiler"]
[null,null,null,null,null,null,null,3497,34512300,{"$f":"IF(K3501=1,COUNTIF($K$5:K3501,1),\"\")","v":3497},{"$f":"IF(ISNUMBER(SEARCH('Bilgi Girişi'!$E$4,KalemAdı,1))=TRUE,1,0)","v":1},"Dökme yük gemileri","Mal",34512300,null,null,"Ro-Ro gemileri"]
[null,null,null,null,null,null,null,3501,34512700,{"$f":"IF(K3505=1,COUNTIF($K$5:K3505,1),\"\")","v":3501},{"$f":"IF(ISNUMBER(SEARCH('Bilgi Girişi'!$E$4,KalemAdı,1))=TRUE,1,0)","v":1},"Ro-Ro gemileri","Mal",34512700,null,null,"Balıkçılık, acil durumlar ve diğer özel gemiler"]
[null,null,null,null,null,null,null,3506,34513100,{"$f":"IF(K3510=1,COUNTIF($K$5:K3510,1),\"\")","v":3506},{"$f":"IF(ISNUMBER(SEARCH('Bilgi Girişi'!$E$4,KalemAdı,1))=TRUE,1,0)","v":1},"Balıkçı gemileri","Mal",34513100,null,null,"Açık deniz tipi yüzer havuzlar"]
[null,null,null,null,null,null,null,3509,34513250,{"$f":"IF(K3513=1,COUNTIF($K$5:K3513,1),\"\")","v":3509},{"$f":"IF(ISNUMBER(SEARCH('Bilgi Girişi'!$E$4,KalemAdı,1))=TRUE,1,0)","v":1},"Deniz dibi tarama gemileri","Mal",34513250,null,null,"Üretim gemileri"]
[null,null,null,null,null,null,null,3511,34513350,{"$f":"IF(K3515=1,COUNTIF($K$5:K3515,1),\"\")","v":3511},{"$f":"IF(ISNUMBER(SEARCH('Bilgi Girişi'!$E$4,KalemAdı,1))=TRUE,1,0)","v":1},"Dalış destek tekneleri","Mal",34513350,null,null,"Araştırma gemileri"]
[null,null,null,null,null,null,null,3517,34513650,{"$f":"IF(K3521=1,COUNTIF($K$5:K3521,1),\"\")","v":3517},{"$f":"IF(ISNUMBER(SEARCH('Bilgi Girişi'!$E$4,KalemAdı,1))=TRUE,1,0)","v":1},"Yangın söndürme gemileri","Mal",34513650,null,null,"Sondaj gemileri"]
[null,null,null,null,null,null,null,3520,34514000,{"$f":"IF(K3524=1,COUNTIF($K$5:K3524,1),\"\")","v":3520},{"$f":"IF(ISNUMBER(SEARCH('Bilgi Girişi'!$E$4,KalemAdı,1))=TRUE,1,0)","v":1},"Yüzer veya dalgıç tip sondaj ya da üretim platformları","Mal",34514000,null,null,"Yüzer tip sondaj platformları"]
[null,null,null,null,null,null,null,3522,34514200,{"$f":"IF(K3526=1,COUNTIF($K$5:K3526,1),\"\")","v":3522},{"$f":"IF(ISNUMBER(SEARCH('Bilgi Girişi'!$E$4,KalemAdı,1))=TRUE,1,0)","v":1},"Sondaj yükseltme tesisatı","Mal",34514200,null,null,{"$f":"IFERROR(VLOOKUP(ROW($P3526),$J$5:$L$9594,3,FALSE),\"\")","v":"Yarı dalgıç tip donanım"}]
[null,null,null,null,null,null,null,3525,34514500,{"$f":"IF(K3529=1,COUNTIF($K$5:K3529,1),\"\")","v":3525},{"$f":"IF(ISNUMBER(SEARCH('Bilgi Girişi'!$E$4,KalemAdı,1))=TRUE,1,0)","v":1},"Yüzer tip üretim tesisleri","Mal",34514500,null,null,"Sondaj platformları"]
[null,null,null,null,null,null,null,3530,34515000,{"$f":"IF(K3534=1,COUNTIF($K$5:K3534,1),\"\")","v":3530},{"$f":"IF(ISNUMBER(SEARCH('Bilgi Girişi'!$E$4,KalemAdı,1))=TRUE,1,0)","v":1},"Yüzer yapılar","Mal",34515000,null,null,"Botlar"]
[null,null,null,null,null,null,null,3534,34520000,{"$f":"IF(K3538=1,COUNTIF($K$5:K3538,1),\"\")","v":3534},{"$f":"IF(ISNUMBER(SEARCH('Bilgi Girişi'!$E$4,KalemAdı,1))=TRUE,1,0)","v":1},"Botlar","Mal",34520000,null,null,"Polis devriye gemileri"]
[null,null,null,null,null,null,null,3537,34521200,{"$f":"IF(K3541=1,COUNTIF($K$5:K3541,1),\"\")","v":3537},{"$f":"IF(ISNUMBER(SEARCH('Bilgi Girişi'!$E$4,KalemAdı,1))=TRUE,1,0)","v":1},"Gümrük devriye gemileri","Mal",34521200,null,null,"Yelkenli tekneler"]
[null,null,null,null,null,null,null,3539,34521400,{"$f":"IF(K3543=1,COUNTIF($K$5:K3543,1),\"\")","v":3539},{"$f":"IF(ISNUMBER(SEARCH('Bilgi Girişi'!$E$4,KalemAdı,1))=TRUE,1,0)","v":1},"Can kurtarma botları","Mal",34521400,null,null,"Kurtarma sandalları"]
[null,null,null,null,null,null,null,3544,34522250,{"$f":"IF(K3548=1,COUNTIF($K$5:K3548,1),\"\")","v":3544},{"$f":"IF(ISNUMBER(SEARCH('Bilgi Girişi'!$E$4,KalemAdı,1))=TRUE,1,0)","v":1},"Yelkenli sandallar","Mal",34522250,null,null,"Şişme tekne ve botlar"]
[null,null,null,null,null,null,null,3549,34522500,{"$f":"IF(K3553=1,COUNTIF($K$5:K3553,1),\"\")","v":3549},{"$f":"IF(ISNUMBER(SEARCH('Bilgi Girişi'!$E$4,KalemAdı,1))=TRUE,1,0)","v":1},"Kauçuk sandallar","Mal",34522500,null,null,"Demiryolu ve tramvay lokomotifleri ile vagonları ve bunlarla ilgili parçalar"]
[null,null,null,null,null,null,null,3553,34600000,{"$f":"IF(K3557=1,COUNTIF($K$5:K3557,1),\"\")","v":3553},{"$f":"IF(ISNUMBER(SEARCH('Bilgi Girişi'!$E$4,KalemAdı,1))=TRUE,1,0)","v":1},"Demiryolu ve tramvay lokomotifleri ile vagonları ve bunlarla ilgili parçalar","Mal",34600000,null,null,"Lokomotiflerin üniteleri"]
[null,null,null,null,null,null,null,3554,34610000,{"$f":"IF(K3558=1,COUNTIF($K$5:K3558,1),\"\")","v":3554},{"$f":"IF(ISNUMBER(SEARCH('Bilgi Girişi'!$E$4,KalemAdı,1))=TRUE,1,0)","v":1},"Demiryolu lokomotifleri ve vagonları","Mal",34610000,null,null,"Teleferik vagonları"]
[null,null,null,null,null,null,null,3558,34612200,{"$f":"IF(K3562=1,COUNTIF($K$5:K3562,1),\"\")","v":3558},{"$f":"IF(ISNUMBER(SEARCH('Bilgi Girişi'!$E$4,KalemAdı,1))=TRUE,1,0)","v":1},"Teleferik vagonları","Mal",34612200,null,null,"Demiryolu bakım onarım araçları"]
[null,null,null,null,null,null,null,3562,34621200,{"$f":"IF(K3566=1,COUNTIF($K$5:K3566,1),\"\")","v":3562},{"$f":"IF(ISNUMBER(SEARCH('Bilgi Girişi'!$E$4,KalemAdı,1))=TRUE,1,0)","v":1},"Demiryolu bakım onarım araçları","Mal",34621200,null,null,"Troleybüsler"]
[null,null,null,null,null,null,null,3567,34622400,{"$f":"IF(K3571=1,COUNTIF($K$5:K3571,1),\"\")","v":3567},{"$f":"IF(ISNUMBER(SEARCH('Bilgi Girişi'!$E$4,KalemAdı,1))=TRUE,1,0)","v":1},"Demiryolu yük katarları","Mal",34622400,null,null,"Yekpare tekerlekler"]
[null,null,null,null,null,null,null,3570,34631000,{"$f":"IF(K3574=1,COUNTIF($K$5:K3574,1),\"\")","v":3570},{"$f":"IF(ISNUMBER(SEARCH('Bilgi Girişi'!$E$4,KalemAdı,1))=TRUE,1,0)","v":1},"Lokomotif veya vagonların aksam ve parçaları","Mal",34631000,null,null,"Lokomotif ve vagonların tekerlek aksları ve lastikleri ile diğer parçaları"]
[null,null,null,null,null,null,null,3572,34631200,{"$f":"IF(K3576=1,COUNTIF($K$5:K3576,1),\"\")","v":3572},{"$f":"IF(ISNUMBER(SEARCH('Bilgi Girişi'!$E$4,KalemAdı,1))=TRUE,1,0)","v":1},"Demiryolu tampon ve çekme donanımları","Mal",34631200,null,null,"Mekanik sinyalizasyon"]
[null,null,null,null,null,null,null,3577,34632200,{"$f":"IF(K3581=1,COUNTIF($K$5:K3581,1),\"\")","v":3577},{"$f":"IF(ISNUMBER(SEARCH('Bilgi Girişi'!$E$4,KalemAdı,1))=TRUE,1,0)","v":1},"Demiryolları için elektrikli sinyalizasyon donanımları","Mal",34632200,null,null,"Helikopter, uçak, uzay aracı ve diğer güçlendirilmiş uçaklar"]
[null,null,null,null,null,null,null,3581,34710000,{"$f":"IF(K3585=1,COUNTIF($K$5:K3585,1),\"\")","v":3581},{"$f":"IF(ISNUMBER(SEARCH('Bilgi Girişi'!$E$4,KalemAdı,1))=TRUE,1,0)","v":1},"Helikopter, uçak, uzay aracı ve diğer güçlendirilmiş uçaklar","Mal",34710000,null,null,"Pilotsuz hava araçları"]
[null,null,null,null,null,null,null,3582,34711000,{"$f":"IF(K3586=1,COUNTIF($K$5:K3586,1),\"\")","v":3582},{"$f":"IF(ISNUMBER(SEARCH('Bilgi Girişi'!$E$4,KalemAdı,1))=TRUE,1,0)","v":1},"Helikopterler ve jet uçakları","Mal",34711000,null,null,"Pilotlu hava araçları"]
[null,null,null,null,null,null,null,3587,34711400,{"$f":"IF(K3591=1,COUNTIF($K$5:K3591,1),\"\")","v":3587},{"$f":"IF(ISNUMBER(SEARCH('Bilgi Girişi'!$E$4,KalemAdı,1))=TRUE,1,0)","v":1},"Özel amaçlı hava araçları","Mal",34711400,null,null,"Uydular"]
[null,null,null,null,null,null,null,3591,34712200,{"$f":"IF(K3595=1,COUNTIF($K$5:K3595,1),\"\")","v":3591},{"$f":"IF(ISNUMBER(SEARCH('Bilgi Girişi'!$E$4,KalemAdı,1))=TRUE,1,0)","v":1},"Uydular","Mal",34712200,null,null,"Askı halatlı planörler"]
[null,null,null,null,null,null,null,3594,34721000,{"$f":"IF(K3598=1,COUNTIF($K$5:K3598,1),\"\")","v":3594},{"$f":"IF(ISNUMBER(SEARCH('Bilgi Girişi'!$E$4,KalemAdı,1))=TRUE,1,0)","v":1},"Planörler","Mal",34721000,null,null,"İtmeli hava araçları"]
[null,null,null,null,null,null,null,3596,34722000,{"$f":"IF(K3600=1,COUNTIF($K$5:K3600,1),\"\")","v":3596},{"$f":"IF(ISNUMBER(SEARCH('Bilgi Girişi'!$E$4,KalemAdı,1))=TRUE,1,0)","v":1},"Balonlar ve zeplinler","Mal",34722000,null,null,"Hava araçlarının aksam ve parçaları"]
[null,null,null,null,null,null,null,3602,34731200,{"$f":"IF(K3606=1,COUNTIF($K$5:K3606,1),\"\")","v":3602},{"$f":"IF(ISNUMBER(SEARCH('Bilgi Girişi'!$E$4,KalemAdı,1))=TRUE,1,0)","v":1},"Turbo jetler","Mal",34731200,null,null,"Turbo jet ve turbo motorlu türbinli pervaneli uçakların aksam ve parçaları"]
[null,null,null,null,null,null,null,3605,34731500,{"$f":"IF(K3609=1,COUNTIF($K$5:K3609,1),\"\")","v":3605},{"$f":"IF(ISNUMBER(SEARCH('Bilgi Girişi'!$E$4,KalemAdı,1))=TRUE,1,0)","v":1},"Hava aracı motorlarının parçaları","Mal",34731500,null,null,"Uçak veya uzay aracı ekipmanları, eğiticileri, simülatörleri ve ilgili parçaları"]
[null,null,null,null,null,null,null,3607,34731700,{"$f":"IF(K3611=1,COUNTIF($K$5:K3611,1),\"\")","v":3607},{"$f":"IF(ISNUMBER(SEARCH('Bilgi Girişi'!$E$4,KalemAdı,1))=TRUE,1,0)","v":1},"Helikopterlerin aksam ve parçaları","Mal",34731700,null,null,"Hava aracı fırlatma donanımı"]
[null,null,null,null,null,null,null,3610,34741000,{"$f":"IF(K3614=1,COUNTIF($K$5:K3614,1),\"\")","v":3610},{"$f":"IF(ISNUMBER(SEARCH('Bilgi Girişi'!$E$4,KalemAdı,1))=TRUE,1,0)","v":1},"Hava aracı ekipmanı","Mal",34741000,null,null,"Uçuş simülatörleri"]
[null,null,null,null,null,null,null,3615,34741500,{"$f":"IF(K3619=1,COUNTIF($K$5:K3619,1),\"\")","v":3615},{"$f":"IF(ISNUMBER(SEARCH('Bilgi Girişi'!$E$4,KalemAdı,1))=TRUE,1,0)","v":1},"Yerde uçuş eğitim donanımı","Mal",34741500,null,null,"El ve at arabaları ile mekanik olarak hareket ettirilmeyen diğer araçlar"]
[null,null,null,null,null,null,null,3619,34911000,{"$f":"IF(K3623=1,COUNTIF($K$5:K3623,1),\"\")","v":3619},{"$f":"IF(ISNUMBER(SEARCH('Bilgi Girişi'!$E$4,KalemAdı,1))=TRUE,1,0)","v":1},"El ve at arabaları ile mekanik olarak hareket ettirilmeyen diğer araçlar","Mal",34911000,null,null,"Çeşitli yedek parçalar"]
[null,null,null,null,null,null,null,3624,34913100,{"$f":"IF(K3628=1,COUNTIF($K$5:K3628,1),\"\")","v":3624},{"$f":"IF(ISNUMBER(SEARCH('Bilgi Girişi'!$E$4,KalemAdı,1))=TRUE,1,0)","v":1},"Kullanılmış lastikler","Mal",34913100,null,null,"Araç kilitleri"]
[null,null,null,null,null,null,null,3627,34913400,{"$f":"IF(K3631=1,COUNTIF($K$5:K3631,1),\"\")","v":3627},{"$f":"IF(ISNUMBER(SEARCH('Bilgi Girişi'!$E$4,KalemAdı,1))=TRUE,1,0)","v":1},"Araçlar için saatler","Mal",34913400,null,null,"İtfaiye araç merdivenleri"]
[null,null,null,null,null,null,null,3629,34913510,{"$f":"IF(K3633=1,COUNTIF($K$5:K3633,1),\"\")","v":3629},{"$f":"IF(ISNUMBER(SEARCH('Bilgi Girişi'!$E$4,KalemAdı,1))=TRUE,1,0)","v":1},"Bisiklet kilitleri","Mal",34913510,null,null,"Yol ekipmanı"]
[null,null,null,null,null,null,null,3632,34913800,{"$f":"IF(K3636=1,COUNTIF($K$5:K3636,1),\"\")","v":3632},{"$f":"IF(ISNUMBER(SEARCH('Bilgi Girişi'!$E$4,KalemAdı,1))=TRUE,1,0)","v":1},"Çıpalar","Mal",34913800,null,null,"Pist süpürme araçları"]
[null,null,null,null,null,null,null,3638,34922100,{"$f":"IF(K3642=1,COUNTIF($K$5:K3642,1),\"\")","v":3638},{"$f":"IF(ISNUMBER(SEARCH('Bilgi Girişi'!$E$4,KalemAdı,1))=TRUE,1,0)","v":1},"Yol işaretleri","Mal",34922100,null,null,"Otopark kontrol ekipmanları"]
[null,null,null,null,null,null,null,3639,34922110,{"$f":"IF(K3643=1,COUNTIF($K$5:K3643,1),\"\")","v":3639},{"$f":"IF(ISNUMBER(SEARCH('Bilgi Girişi'!$E$4,KalemAdı,1))=TRUE,1,0)","v":1},"Yol İşaretleme için cam boncuklar","Mal",34922110,null,null,"Jetonlu park ekipmanı"]
[null,null,null,null,null,null,null,3643,34927000,{"$f":"IF(K3647=1,COUNTIF($K$5:K3647,1),\"\")","v":3643},{"$f":"IF(ISNUMBER(SEARCH('Bilgi Girişi'!$E$4,KalemAdı,1))=TRUE,1,0)","v":1},"Jetonlu park ekipmanı","Mal",34927000,null,null,"Yol tampon bariyerleri"]
[null,null,null,null,null,null,null,3647,34928110,{"$f":"IF(K3651=1,COUNTIF($K$5:K3651,1),\"\")","v":3647},{"$f":"IF(ISNUMBER(SEARCH('Bilgi Girişi'!$E$4,KalemAdı,1))=TRUE,1,0)","v":1},"Yol tampon bariyerleri","Mal",34928110,null,null,"Parmaklık parçaları"]
[null,null,null,null,null,null,null,3652,34928230,{"$f":"IF(K3656=1,COUNTIF($K$5:K3656,1),\"\")","v":3652},{"$f":"IF(ISNUMBER(SEARCH('Bilgi Girişi'!$E$4,KalemAdı,1))=TRUE,1,0)","v":1},"Gürültü önleyici çit","Mal",34928230,null,null,"Çığdan korunma cihazları"]
[null,null,null,null,null,null,null,3655,34928320,{"$f":"IF(K3659=1,COUNTIF($K$5:K3659,1),\"\")","v":3655},{"$f":"IF(ISNUMBER(SEARCH('Bilgi Girişi'!$E$4,KalemAdı,1))=TRUE,1,0)","v":1},"Güvenlik amaçlı demir parmaklıklar","Mal",34928320,null,null,"Puan yazıcı direkler"]
[null,null,null,null,null,null,null,3657,34928340,{"$f":"IF(K3661=1,COUNTIF($K$5:K3661,1),\"\")","v":3657},{"$f":"IF(ISNUMBER(SEARCH('Bilgi Girişi'!$E$4,KalemAdı,1))=TRUE,1,0)","v":1},"Kar çitleri","Mal",34928340,null,null,"İşaret kuleleri"]
[null,null,null,null,null,null,null,3662,34928440,{"$f":"IF(K3666=1,COUNTIF($K$5:K3666,1),\"\")","v":3662},{"$f":"IF(ISNUMBER(SEARCH('Bilgi Girişi'!$E$4,KalemAdı,1))=TRUE,1,0)","v":1},"Otobüs durak levha direkleri","Mal",34928440,null,null,"İşaretlemede kullanılan malzemeler"]
[null,null,null,null,null,null,null,3664,34928460,{"$f":"IF(K3668=1,COUNTIF($K$5:K3668,1),\"\")","v":3664},{"$f":"IF(ISNUMBER(SEARCH('Bilgi Girişi'!$E$4,KalemAdı,1))=TRUE,1,0)","v":1},"Yol bariyer konikleri","Mal",34928460,null,null,"Atık ve çöp konteynırları ve bidonları"]
[null,null,null,null,null,null,null,3667,34928472,{"$f":"IF(K3671=1,COUNTIF($K$5:K3671,1),\"\")","v":3667},{"$f":"IF(ISNUMBER(SEARCH('Bilgi Girişi'!$E$4,KalemAdı,1))=TRUE,1,0)","v":1},"İşaret direkleri","Mal",34928472,null,null,"Aydınlatma direkleri"]
[null,null,null,null,null,null,null,3672,34928530,{"$f":"IF(K3676=1,COUNTIF($K$5:K3676,1),\"\")","v":3672},{"$f":"IF(ISNUMBER(SEARCH('Bilgi Girişi'!$E$4,KalemAdı,1))=TRUE,1,0)","v":1},"Sokak lambaları","Mal",34928530,null,null,"Liman, dok tesisleri"]
[null,null,null,null,null,null,null,3676,34931100,{"$f":"IF(K3680=1,COUNTIF($K$5:K3680,1),\"\")","v":3676},{"$f":"IF(ISNUMBER(SEARCH('Bilgi Girişi'!$E$4,KalemAdı,1))=TRUE,1,0)","v":1},"Liman, dok tesisleri","Mal",34931100,null,null,"Gemi trafik kontrol ekipmanları"]
[null,null,null,null,null,null,null,3680,34931500,{"$f":"IF(K3684=1,COUNTIF($K$5:K3684,1),\"\")","v":3680},{"$f":"IF(ISNUMBER(SEARCH('Bilgi Girişi'!$E$4,KalemAdı,1))=TRUE,1,0)","v":1},"Gemi trafik kontrol ekipmanları","Mal",34931500,null,null,"Demiryolu ekipmanı"]
[null,null,null,null,null,null,null,3681,34932000,{"$f":"IF(K3685=1,COUNTIF($K$5:K3685,1),\"\")","v":3681},{"$f":"IF(ISNUMBER(SEARCH('Bilgi Girişi'!$E$4,KalemAdı,1))=TRUE,1,0)","v":1},"Radar setleri","Mal",34932000,null,null,"Ray ve aksamlar"]
[null,null,null,null,null,null,null,3687,34941200,{"$f":"IF(K3691=1,COUNTIF($K$5:K3691,1),\"\")","v":3687},{"$f":"IF(ISNUMBER(SEARCH('Bilgi Girişi'!$E$4,KalemAdı,1))=TRUE,1,0)","v":1},"Demiryolu rayları","Mal",34941200,null,null,"Demiryolu makasları"]
[null,null,null,null,null,null,null,3690,34941600,{"$f":"IF(K3694=1,COUNTIF($K$5:K3694,1),\"\")","v":3690},{"$f":"IF(ISNUMBER(SEARCH('Bilgi Girişi'!$E$4,KalemAdı,1))=TRUE,1,0)","v":1},"Demiryolu üst geçitleri","Mal",34941600,null,null,"İşaret kutuları"]
[null,null,null,null,null,null,null,3695,34943000,{"$f":"IF(K3699=1,COUNTIF($K$5:K3699,1),\"\")","v":3695},{"$f":"IF(ISNUMBER(SEARCH('Bilgi Girişi'!$E$4,KalemAdı,1))=TRUE,1,0)","v":1},"Tren izleme sistemleri","Mal",34943000,null,null,"Demiryolu yapımında kullanılan demir veya çelik malzemeler"]
[null,null,null,null,null,null,null,3696,34944000,{"$f":"IF(K3700=1,COUNTIF($K$5:K3700,1),\"\")","v":3696},{"$f":"IF(ISNUMBER(SEARCH('Bilgi Girişi'!$E$4,KalemAdı,1))=TRUE,1,0)","v":1},"Makas ısıtma sistemi","Mal",34944000,null,null,"Raylar"]
[null,null,null,null,null,null,null,3700,34946110,{"$f":"IF(K3704=1,COUNTIF($K$5:K3704,1),\"\")","v":3700},{"$f":"IF(ISNUMBER(SEARCH('Bilgi Girişi'!$E$4,KalemAdı,1))=TRUE,1,0)","v":1},"Raylar","Mal",34946110,null,null,"Demiryolu yapımında kullanılan malzemeler"]
[null,null,null,null,null,null,null,3704,34946200,{"$f":"IF(K3708=1,COUNTIF($K$5:K3708,1),\"\")","v":3704},{"$f":"IF(ISNUMBER(SEARCH('Bilgi Girişi'!$E$4,KalemAdı,1))=TRUE,1,0)","v":1},"Demiryolu yapımında kullanılan malzemeler","Mal",34946200,null,null,"Demiryolu makas göbeği"]
[null,null,null,null,null,null,null,3709,34946223,{"$f":"IF(K3713=1,COUNTIF($K$5:K3713,1),\"\")","v":3709},{"$f":"IF(ISNUMBER(SEARCH('Bilgi Girişi'!$E$4,KalemAdı,1))=TRUE,1,0)","v":1},"İşaret çubukları","Mal",34946223,null,null,"Kaideler/taban plakası/altlık ve bağlantılar"]
[null,null,null,null,null,null,null,3712,34946231,{"$f":"IF(K3716=1,COUNTIF($K$5:K3716,1),\"\")","v":3712},{"$f":"IF(ISNUMBER(SEARCH('Bilgi Girişi'!$E$4,KalemAdı,1))=TRUE,1,0)","v":1},"Ray klipsleri","Mal",34946231,null,null,"Demiryolu traversleri"]
[null,null,null,null,null,null,null,3714,34946240,{"$f":"IF(K3718=1,COUNTIF($K$5:K3718,1),\"\")","v":3714},{"$f":"IF(ISNUMBER(SEARCH('Bilgi Girişi'!$E$4,KalemAdı,1))=TRUE,1,0)","v":1},"Sandalyeler ve sandalye kama civataları","Mal",34946240,null,null,{"$f":"IFERROR(VLOOKUP(ROW($P3718),$J$5:$L$9594,3,FALSE),\"\")","v":"Yük taşımada kullanılan ekipman"}]
[null,null,null,null,null,null,null,3717,34947200,{"$f":"IF(K3721=1,COUNTIF($K$5:K3721,1),\"\")","v":3717},{"$f":"IF(ISNUMBER(SEARCH('Bilgi Girişi'!$E$4,KalemAdı,1))=TRUE,1,0)","v":1},"Travers parçaları","Mal",34947200,null,null,"Çamur kurutma tesisatı"]
[null,null,null,null,null,null,null,3723,34953000,{"$f":"IF(K3727=1,COUNTIF($K$5:K3727,1),\"\")","v":3723},{"$f":"IF(ISNUMBER(SEARCH('Bilgi Girişi'!$E$4,KalemAdı,1))=TRUE,1,0)","v":1},"Erişim rampaları","Mal",34953000,null,null,"Tarak tekneleri"]
[null,null,null,null,null,null,null,3725,34953300,{"$f":"IF(K3729=1,COUNTIF($K$5:K3729,1),\"\")","v":3725},{"$f":"IF(ISNUMBER(SEARCH('Bilgi Girişi'!$E$4,KalemAdı,1))=TRUE,1,0)","v":1},"Yolcu indirme/bindirme iskeleleri","Mal",34953300,null,null,"Havalimanı ekipmanı"]
[null,null,null,null,null,null,null,3728,34955100,{"$f":"IF(K3732=1,COUNTIF($K$5:K3732,1),\"\")","v":3728},{"$f":"IF(ISNUMBER(SEARCH('Bilgi Girişi'!$E$4,KalemAdı,1))=TRUE,1,0)","v":1},"Yüzer depolama üniteleri","Mal",34955100,null,null,"Hava trafik kontrol ekipmanı"]
[null,null,null,null,null,null,null,3733,34962100,{"$f":"IF(K3737=1,COUNTIF($K$5:K3737,1),\"\")","v":3733},{"$f":"IF(ISNUMBER(SEARCH('Bilgi Girişi'!$E$4,KalemAdı,1))=TRUE,1,0)","v":1},"Kontrol kulesi ekipmanı","Mal",34962100,null,null,"Hava trafiği kontrol eğitimleri"]
[null,null,null,null,null,null,null,3737,34962230,{"$f":"IF(K3741=1,COUNTIF($K$5:K3741,1),\"\")","v":3737},{"$f":"IF(ISNUMBER(SEARCH('Bilgi Girişi'!$E$4,KalemAdı,1))=TRUE,1,0)","v":1},"Hava trafiği kontrol eğitimleri","Mal",34962230,null,null,"Radyo Yön Bulucu ve Doğrusal olmayan beacon"]
[null,null,null,null,null,null,null,3738,34963000,{"$f":"IF(K3742=1,COUNTIF($K$5:K3742,1),\"\")","v":3738},{"$f":"IF(ISNUMBER(SEARCH('Bilgi Girişi'!$E$4,KalemAdı,1))=TRUE,1,0)","v":1},"Aletli iniş sistemi (ILS)","Mal",34963000,null,null,"Radyo Yön Bulucu (RDF)"]
[null,null,null,null,null,null,null,3744,34967000,{"$f":"IF(K3748=1,COUNTIF($K$5:K3748,1),\"\")","v":3744},{"$f":"IF(ISNUMBER(SEARCH('Bilgi Girişi'!$E$4,KalemAdı,1))=TRUE,1,0)","v":1},"Havalimanı haberleşme sistemleri (COM)","Mal",34967000,null,null,"Uçaklar için yolcu biniş köprü ve merdivenleri"]
[null,null,null,null,null,null,null,3747,34968200,{"$f":"IF(K3751=1,COUNTIF($K$5:K3751,1),\"\")","v":3747},{"$f":"IF(ISNUMBER(SEARCH('Bilgi Girişi'!$E$4,KalemAdı,1))=TRUE,1,0)","v":1},"Havalimanı ışıklandırma sistemleri (PAPI)","Mal",34968200,null,null,"Trafik izleme ekipmanı"]
[null,null,null,null,null,null,null,3749,34969100,{"$f":"IF(K3753=1,COUNTIF($K$5:K3753,1),\"\")","v":3749},{"$f":"IF(ISNUMBER(SEARCH('Bilgi Girişi'!$E$4,KalemAdı,1))=TRUE,1,0)","v":1},"Uçaklar için yolcu biniş köprüleri","Mal",34969100,null,null,"Trafik akışı ölçüm sistemi"]
[null,null,null,null,null,null,null,3752,34971000,{"$f":"IF(K3756=1,COUNTIF($K$5:K3756,1),\"\")","v":3752},{"$f":"IF(ISNUMBER(SEARCH('Bilgi Girişi'!$E$4,KalemAdı,1))=TRUE,1,0)","v":1},"Hızlı kamera ekipmanı","Mal",34971000,null,null,"Açık arazi tipi aydınlatma lambaları"]
[null,null,null,null,null,null,null,3757,34992000,{"$f":"IF(K3761=1,COUNTIF($K$5:K3761,1),\"\")","v":3757},{"$f":"IF(ISNUMBER(SEARCH('Bilgi Girişi'!$E$4,KalemAdı,1))=TRUE,1,0)","v":1},"İşaret ve ışıklı işaretler","Mal",34992000,null,null,"Yol lambaları"]
[null,null,null,null,null,null,null,3761,34993000,{"$f":"IF(K3765=1,COUNTIF($K$5:K3765,1),\"\")","v":3761},{"$f":"IF(ISNUMBER(SEARCH('Bilgi Girişi'!$E$4,KalemAdı,1))=TRUE,1,0)","v":1},"Yol lambaları","Mal",34993000,null,null,"Uçak kılavuz ve aydınlatma lambaları"]
[null,null,null,null,null,null,null,3765,34995000,{"$f":"IF(K3769=1,COUNTIF($K$5:K3769,1),\"\")","v":3765},{"$f":"IF(ISNUMBER(SEARCH('Bilgi Girişi'!$E$4,KalemAdı,1))=TRUE,1,0)","v":1},"Uçak kılavuz ve aydınlatma lambaları","Mal",34995000,null,null,"Otopark tesisleri için kontrol, emniyet ya da sinyalizasyon ekipmanı"]
[null,null,null,null,null,null,null,3766,34996000,{"$f":"IF(K3770=1,COUNTIF($K$5:K3770,1),\"\")","v":3766},{"$f":"IF(ISNUMBER(SEARCH('Bilgi Girişi'!$E$4,KalemAdı,1))=TRUE,1,0)","v":1},"Karayolları için kontrol, emniyet ve sinyalizasyon ekipmanı","Mal",34996000,null,null,"Hava limanları için kontrol, emniyet ya da sinyalizasyon ekipmanı"]
[null,null,null,null,null,null,null,3771,34997100,{"$f":"IF(K3775=1,COUNTIF($K$5:K3775,1),\"\")","v":3771},{"$f":"IF(ISNUMBER(SEARCH('Bilgi Girişi'!$E$4,KalemAdı,1))=TRUE,1,0)","v":1},"Uçuş kayıt cihazları","Mal",34997100,null,null,"Sinyal jeneratörleri, hava sinyal bölücüleri ve elektro-kaplama makineleri"]
[null,null,null,null,null,null,null,3774,34998000,{"$f":"IF(K3778=1,COUNTIF($K$5:K3778,1),\"\")","v":3774},{"$f":"IF(ISNUMBER(SEARCH('Bilgi Girişi'!$E$4,KalemAdı,1))=TRUE,1,0)","v":1},"Liman tesis ve yapıları için kontrol, emniyet ya da sinyalizasyon ekipmanı","Mal",34998000,null,null,"Elektrolizle kaplama makineleri"]
[null,null,null,null,null,null,null,3780,34999410,{"$f":"IF(K3784=1,COUNTIF($K$5:K3784,1),\"\")","v":3780},{"$f":"IF(ISNUMBER(SEARCH('Bilgi Girişi'!$E$4,KalemAdı,1))=TRUE,1,0)","v":1},"Uçak maketi","Mal",34999410,null,null,"İtfaiye, kurtarma ve güvenlik donanımları"]
[null,null,null,null,null,null,null,3782,35000000,{"$f":"IF(K3786=1,COUNTIF($K$5:K3786,1),\"\")","v":3782},{"$f":"IF(ISNUMBER(SEARCH('Bilgi Girişi'!$E$4,KalemAdı,1))=TRUE,1,0)","v":1},"Güvenlik, yangınla mücadele, polis ve savunma teçhizatı","Mal",35000000,null,null,"İtfaiyeciler için solunum cihazları"]
[null,null,null,null,null,null,null,3785,35111000,{"$f":"IF(K3789=1,COUNTIF($K$5:K3789,1),\"\")","v":3785},{"$f":"IF(ISNUMBER(SEARCH('Bilgi Girişi'!$E$4,KalemAdı,1))=TRUE,1,0)","v":1},"Yangın söndürme ekipmanı","Mal",35111000,null,null,"Köpük üniteleri"]
[null,null,null,null,null,null,null,3789,35111310,{"$f":"IF(K3793=1,COUNTIF($K$5:K3793,1),\"\")","v":3789},{"$f":"IF(ISNUMBER(SEARCH('Bilgi Girişi'!$E$4,KalemAdı,1))=TRUE,1,0)","v":1},"Köpük üniteleri","Mal",35111310,null,null,"Yangın söndürme el aletleri"]
[null,null,null,null,null,null,null,3794,35111520,{"$f":"IF(K3798=1,COUNTIF($K$5:K3798,1),\"\")","v":3794},{"$f":"IF(ISNUMBER(SEARCH('Bilgi Girişi'!$E$4,KalemAdı,1))=TRUE,1,0)","v":1},"Yangın söndürme köpüğü veya benzeri bileşikler","Mal",35111520,null,null,"Göz duşu"]
[null,null,null,null,null,null,null,3797,35112200,{"$f":"IF(K3801=1,COUNTIF($K$5:K3801,1),\"\")","v":3797},{"$f":"IF(ISNUMBER(SEARCH('Bilgi Girişi'!$E$4,KalemAdı,1))=TRUE,1,0)","v":1},"Acil duş","Mal",35112200,null,null,"Nükleer reaktör koruma sistemi"]
[null,null,null,null,null,null,null,3799,35113000,{"$f":"IF(K3803=1,COUNTIF($K$5:K3803,1),\"\")","v":3799},{"$f":"IF(ISNUMBER(SEARCH('Bilgi Girişi'!$E$4,KalemAdı,1))=TRUE,1,0)","v":1},"Emniyet ekipmanı","Mal",35113000,null,null,"Nükleer güvenlik ekipmanı"]
[null,null,null,null,null,null,null,3802,35113200,{"$f":"IF(K3806=1,COUNTIF($K$5:K3806,1),\"\")","v":3802},{"$f":"IF(ISNUMBER(SEARCH('Bilgi Girişi'!$E$4,KalemAdı,1))=TRUE,1,0)","v":1},"Nükleer, biyolojik, kimyasal ve radyolojik korunma ekipmanları","Mal",35113200,null,null,"Biyolojik veya kimyasal koruyucu elbiseler"]
[null,null,null,null,null,null,null,3808,35113430,{"$f":"IF(K3812=1,COUNTIF($K$5:K3812,1),\"\")","v":3808},{"$f":"IF(ISNUMBER(SEARCH('Bilgi Girişi'!$E$4,KalemAdı,1))=TRUE,1,0)","v":1},"Koruyucu yelekler","Mal",35113430,null,null,"Koruyucu gömlek veya pantolon"]
[null,null,null,null,null,null,null,3809,35113440,{"$f":"IF(K3813=1,COUNTIF($K$5:K3813,1),\"\")","v":3809},{"$f":"IF(ISNUMBER(SEARCH('Bilgi Girişi'!$E$4,KalemAdı,1))=TRUE,1,0)","v":1},"Yansıtıcılı yelek","Mal",35113440,null,null,"Koruyucu bileklikler"]
[null,null,null,null,null,null,null,3814,35113490,{"$f":"IF(K3818=1,COUNTIF($K$5:K3818,1),\"\")","v":3814},{"$f":"IF(ISNUMBER(SEARCH('Bilgi Girişi'!$E$4,KalemAdı,1))=TRUE,1,0)","v":1},"Koruyucu iş giysileri","Mal",35113490,null,null,"Sahte para detektörleri"]
[null,null,null,null,null,null,null,3818,35121200,{"$f":"IF(K3822=1,COUNTIF($K$5:K3822,1),\"\")","v":3818},{"$f":"IF(ISNUMBER(SEARCH('Bilgi Girişi'!$E$4,KalemAdı,1))=TRUE,1,0)","v":1},"Sahte para detektörleri","Mal",35121200,null,null,"Etiketler"]
[null,null,null,null,null,null,null,3822,35121600,{"$f":"IF(K3826=1,COUNTIF($K$5:K3826,1),\"\")","v":3822},{"$f":"IF(ISNUMBER(SEARCH('Bilgi Girişi'!$E$4,KalemAdı,1))=TRUE,1,0)","v":1},"Etiketler","Mal",35121600,null,null,"Şantiye alanı belirleme ekipmanı"]
[null,null,null,null,null,null,null,3823,35121700,{"$f":"IF(K3827=1,COUNTIF($K$5:K3827,1),\"\")","v":3823},{"$f":"IF(ISNUMBER(SEARCH('Bilgi Girişi'!$E$4,KalemAdı,1))=TRUE,1,0)","v":1},"Alarm sistemleri","Mal",35121700,null,null,"Manyetik kartlı sistemler"]
[null,null,null,null,null,null,null,3827,35123100,{"$f":"IF(K3831=1,COUNTIF($K$5:K3831,1),\"\")","v":3827},{"$f":"IF(ISNUMBER(SEARCH('Bilgi Girişi'!$E$4,KalemAdı,1))=TRUE,1,0)","v":1},"Manyetik kartlı sistemler","Mal",35123100,null,null,"Video tanıma sistemleri"]
[null,null,null,null,null,null,null,3832,35124000,{"$f":"IF(K3836=1,COUNTIF($K$5:K3836,1),\"\")","v":3832},{"$f":"IF(ISNUMBER(SEARCH('Bilgi Girişi'!$E$4,KalemAdı,1))=TRUE,1,0)","v":1},"Metal detektörleri","Mal",35124000,null,null,"Zaman kontrol sistemi veya çalışma zamanı kaydedici"]
[null,null,null,null,null,null,null,3834,35125100,{"$f":"IF(K3838=1,COUNTIF($K$5:K3838,1),\"\")","v":3834},{"$f":"IF(ISNUMBER(SEARCH('Bilgi Girişi'!$E$4,KalemAdı,1))=TRUE,1,0)","v":1},"Duyargalar, sensörler","Mal",35125100,null,null,"Barkod okuyucları"]
[null,null,null,null,null,null,null,3837,35125300,{"$f":"IF(K3841=1,COUNTIF($K$5:K3841,1),\"\")","v":3837},{"$f":"IF(ISNUMBER(SEARCH('Bilgi Girişi'!$E$4,KalemAdı,1))=TRUE,1,0)","v":1},"Güvenlik kameraları","Mal",35125300,null,null,"Kargaşa bastırmada kullanılan ekipmanlar"]
[null,null,null,null,null,null,null,3842,35221000,{"$f":"IF(K3846=1,COUNTIF($K$5:K3846,1),\"\")","v":3842},{"$f":"IF(ISNUMBER(SEARCH('Bilgi Girişi'!$E$4,KalemAdı,1))=TRUE,1,0)","v":1},"Su topları, basınçlı su püskürtme teçhizatı","Mal",35221000,null,null,{"$f":"IFERROR(VLOOKUP(ROW($P3846),$J$5:$L$9594,3,FALSE),\"\")","v":"Plastikten polis levhaları"}]
[null,null,null,null,null,null,null,3846,35260000,{"$f":"IF(K3850=1,COUNTIF($K$5:K3850,1),\"\")","v":3846},{"$f":"IF(ISNUMBER(SEARCH('Bilgi Girişi'!$E$4,KalemAdı,1))=TRUE,1,0)","v":1},"Plastikten polis levhaları","Mal",35260000,null,null,"Silahlar, mühimmat ve ilgili aksam ve parçaları"]
[null,null,null,null,null,null,null,3851,35310000,{"$f":"IF(K3855=1,COUNTIF($K$5:K3855,1),\"\")","v":3851},{"$f":"IF(ISNUMBER(SEARCH('Bilgi Girişi'!$E$4,KalemAdı,1))=TRUE,1,0)","v":1},"Çeşitli silahlar","Mal",35310000,null,null,"Kasaturalar"]
[null,null,null,null,null,null,null,3854,35311200,{"$f":"IF(K3858=1,COUNTIF($K$5:K3858,1),\"\")","v":3854},{"$f":"IF(ISNUMBER(SEARCH('Bilgi Girişi'!$E$4,KalemAdı,1))=TRUE,1,0)","v":1},"Yatağanlar","Mal",35311200,null,null,"Ateşli Silahlar"]
[null,null,null,null,null,null,null,3856,35311400,{"$f":"IF(K3860=1,COUNTIF($K$5:K3860,1),\"\")","v":3856},{"$f":"IF(ISNUMBER(SEARCH('Bilgi Girişi'!$E$4,KalemAdı,1))=TRUE,1,0)","v":1},"Mızraklar","Mal",35311400,null,null,"Tabancalar"]
[null,null,null,null,null,null,null,3859,35321000,{"$f":"IF(K3863=1,COUNTIF($K$5:K3863,1),\"\")","v":3859},{"$f":"IF(ISNUMBER(SEARCH('Bilgi Girişi'!$E$4,KalemAdı,1))=TRUE,1,0)","v":1},"Hafif Ateşli Silahlar","Mal",35321000,null,null,"Ağır silahlar /topçuluk"]
[null,null,null,null,null,null,null,3865,35322200,{"$f":"IF(K3869=1,COUNTIF($K$5:K3869,1),\"\")","v":3865},{"$f":"IF(ISNUMBER(SEARCH('Bilgi Girişi'!$E$4,KalemAdı,1))=TRUE,1,0)","v":1},"Kundağı motorlu top","Mal",35322200,null,null,"Mühimmat"]
[null,null,null,null,null,null,null,3867,35322400,{"$f":"IF(K3871=1,COUNTIF($K$5:K3871,1),\"\")","v":3867},{"$f":"IF(ISNUMBER(SEARCH('Bilgi Girişi'!$E$4,KalemAdı,1))=TRUE,1,0)","v":1},"Havanlar","Mal",35322400,null,null,"Mermiler"]
[null,null,null,null,null,null,null,3870,35331000,{"$f":"IF(K3874=1,COUNTIF($K$5:K3874,1),\"\")","v":3870},{"$f":"IF(ISNUMBER(SEARCH('Bilgi Girişi'!$E$4,KalemAdı,1))=TRUE,1,0)","v":1},"Ateşli silahlar ve muharebe için mühimmat","Mal",35331000,null,null,"Kara mayınları"]
[null,null,null,null,null,null,null,3875,35331500,{"$f":"IF(K3879=1,COUNTIF($K$5:K3879,1),\"\")","v":3875},{"$f":"IF(ISNUMBER(SEARCH('Bilgi Girişi'!$E$4,KalemAdı,1))=TRUE,1,0)","v":1},"Kartuşlar","Mal",35331500,null,null,"Hava muharebesi için mühimmat"]
[null,null,null,null,null,null,null,3879,35333000,{"$f":"IF(K3883=1,COUNTIF($K$5:K3883,1),\"\")","v":3879},{"$f":"IF(ISNUMBER(SEARCH('Bilgi Girişi'!$E$4,KalemAdı,1))=TRUE,1,0)","v":1},"Hava muharebesi için mühimmat","Mal",35333000,null,null,"Hafif ateşli silahların parçaları"]
[null,null,null,null,null,null,null,3880,35333100,{"$f":"IF(K3884=1,COUNTIF($K$5:K3884,1),\"\")","v":3880},{"$f":"IF(ISNUMBER(SEARCH('Bilgi Girişi'!$E$4,KalemAdı,1))=TRUE,1,0)","v":1},"Bombalar","Mal",35333100,null,null,"Tunç boru bağlantı parçaları"]
[null,null,null,null,null,null,null,3884,35341100,{"$f":"IF(K3888=1,COUNTIF($K$5:K3888,1),\"\")","v":3884},{"$f":"IF(ISNUMBER(SEARCH('Bilgi Girişi'!$E$4,KalemAdı,1))=TRUE,1,0)","v":1},"Tunç boru bağlantı parçaları","Mal",35341100,null,null,"Zırhlı askeri kara araçları"]
[null,null,null,null,null,null,null,3889,35411000,{"$f":"IF(K3893=1,COUNTIF($K$5:K3893,1),\"\")","v":3889},{"$f":"IF(ISNUMBER(SEARCH('Bilgi Girişi'!$E$4,KalemAdı,1))=TRUE,1,0)","v":1},"Savaş tankları","Mal",35411000,null,null,"Piyade savaş araçları"]
[null,null,null,null,null,null,null,3891,35411200,{"$f":"IF(K3895=1,COUNTIF($K$5:K3895,1),\"\")","v":3891},{"$f":"IF(ISNUMBER(SEARCH('Bilgi Girişi'!$E$4,KalemAdı,1))=TRUE,1,0)","v":1},"Hafif muharebe tankları","Mal",35411200,null,null,"Zırhlı silah taşıyıcılar"]
[null,null,null,null,null,null,null,3894,35412200,{"$f":"IF(K3898=1,COUNTIF($K$5:K3898,1),\"\")","v":3894},{"$f":"IF(ISNUMBER(SEARCH('Bilgi Girişi'!$E$4,KalemAdı,1))=TRUE,1,0)","v":1},"Zırhlı personel taşıyıcılar","Mal",35412200,null,null,"Askeri araç parçaları"]
[null,null,null,null,null,null,null,3899,35421000,{"$f":"IF(K3903=1,COUNTIF($K$5:K3903,1),\"\")","v":3899},{"$f":"IF(ISNUMBER(SEARCH('Bilgi Girişi'!$E$4,KalemAdı,1))=TRUE,1,0)","v":1},"Askeri araçlar için mekanik yedek parçalar","Mal",35421000,null,null,"Savaş gemileri"]
[null,null,null,null,null,null,null,3903,35510000,{"$f":"IF(K3907=1,COUNTIF($K$5:K3907,1),\"\")","v":3903},{"$f":"IF(ISNUMBER(SEARCH('Bilgi Girişi'!$E$4,KalemAdı,1))=TRUE,1,0)","v":1},"Savaş gemileri","Mal",35510000,null,null,"Hafif savaş gemileri ve devriye botları"]
[null,null,null,null,null,null,null,3907,35511300,{"$f":"IF(K3911=1,COUNTIF($K$5:K3911,1),\"\")","v":3907},{"$f":"IF(ISNUMBER(SEARCH('Bilgi Girişi'!$E$4,KalemAdı,1))=TRUE,1,0)","v":1},"Hafif savaş gemileri ve devriye botları","Mal",35511300,null,null,"Nükleer yakıtlı saldırı denizaltısı"]
[null,null,null,null,null,null,null,3908,35511400,{"$f":"IF(K3912=1,COUNTIF($K$5:K3912,1),\"\")","v":3908},{"$f":"IF(ISNUMBER(SEARCH('Bilgi Girişi'!$E$4,KalemAdı,1))=TRUE,1,0)","v":1},"Amfibi araç ve gemiler","Mal",35511400,null,null,"Dizel yakıtlı saldırı denizaltısı"]
[null,null,null,null,null,null,null,3912,35512300,{"$f":"IF(K3916=1,COUNTIF($K$5:K3916,1),\"\")","v":3912},{"$f":"IF(ISNUMBER(SEARCH('Bilgi Girişi'!$E$4,KalemAdı,1))=TRUE,1,0)","v":1},"Dizel yakıtlı saldırı denizaltısı","Mal",35512300,null,null,"Yardımcı/Destek araştırma gemisi"]
[null,null,null,null,null,null,null,3917,35513300,{"$f":"IF(K3921=1,COUNTIF($K$5:K3921,1),\"\")","v":3917},{"$f":"IF(ISNUMBER(SEARCH('Bilgi Girişi'!$E$4,KalemAdı,1))=TRUE,1,0)","v":1},"Yardımcı istihbarat toplama aracı","Mal",35513300,null,null,"Savaş gemileri için motor ve motor parçaları"]
[null,null,null,null,null,null,null,3922,35522000,{"$f":"IF(K3926=1,COUNTIF($K$5:K3926,1),\"\")","v":3922},{"$f":"IF(ISNUMBER(SEARCH('Bilgi Girişi'!$E$4,KalemAdı,1))=TRUE,1,0)","v":1},"Savaş gemileri için elektronik ve elektrikli yedek parçalar","Mal",35522000,null,null,"Avcı-bombardıman/kara saldırı uçakları"]
[null,null,null,null,null,null,null,3924,35610000,{"$f":"IF(K3928=1,COUNTIF($K$5:K3928,1),\"\")","v":3924},{"$f":"IF(ISNUMBER(SEARCH('Bilgi Girişi'!$E$4,KalemAdı,1))=TRUE,1,0)","v":1},"Askeri uçaklar","Mal",35610000,null,null,"Askeri nakliye uçakları"]
[null,null,null,null,null,null,null,3927,35611300,{"$f":"IF(K3931=1,COUNTIF($K$5:K3931,1),\"\")","v":3927},{"$f":"IF(ISNUMBER(SEARCH('Bilgi Girişi'!$E$4,KalemAdı,1))=TRUE,1,0)","v":1},"Bombardıman uçağı","Mal",35611300,null,null,"Tanker uçaklar"]
[null,null,null,null,null,null,null,3932,35611800,{"$f":"IF(K3936=1,COUNTIF($K$5:K3936,1),\"\")","v":3932},{"$f":"IF(ISNUMBER(SEARCH('Bilgi Girişi'!$E$4,KalemAdı,1))=TRUE,1,0)","v":1},"Keşif uçakları","Mal",35611800,null,null,"Askeri nakliye helikopterleri"]
[null,null,null,null,null,null,null,3936,35612400,{"$f":"IF(K3940=1,COUNTIF($K$5:K3940,1),\"\")","v":3936},{"$f":"IF(ISNUMBER(SEARCH('Bilgi Girişi'!$E$4,KalemAdı,1))=TRUE,1,0)","v":1},"Askeri nakliye helikopterleri","Mal",35612400,null,null,"Roketler"]
[null,null,null,null,null,null,null,3939,35613100,{"$f":"IF(K3943=1,COUNTIF($K$5:K3943,1),\"\")","v":3939},{"$f":"IF(ISNUMBER(SEARCH('Bilgi Girişi'!$E$4,KalemAdı,1))=TRUE,1,0)","v":1},"İnsansız hava muharebe araçları","Mal",35613100,null,null,"Kıtalar arası balistik füzeler"]
[null,null,null,null,null,null,null,3941,35621000,{"$f":"IF(K3945=1,COUNTIF($K$5:K3945,1),\"\")","v":3941},{"$f":"IF(ISNUMBER(SEARCH('Bilgi Girişi'!$E$4,KalemAdı,1))=TRUE,1,0)","v":1},"Stratejik füzeler","Mal",35621000,null,null,"Orta menzilli balistik füzeler"]
[null,null,null,null,null,null,null,3944,35621300,{"$f":"IF(K3948=1,COUNTIF($K$5:K3948,1),\"\")","v":3944},{"$f":"IF(ISNUMBER(SEARCH('Bilgi Girişi'!$E$4,KalemAdı,1))=TRUE,1,0)","v":1},"Denizaltı balistik füzeleri","Mal",35621300,null,null,"Havadan karaya atılan füzeler"]
[null,null,null,null,null,null,null,3950,35622400,{"$f":"IF(K3954=1,COUNTIF($K$5:K3954,1),\"\")","v":3950},{"$f":"IF(ISNUMBER(SEARCH('Bilgi Girişi'!$E$4,KalemAdı,1))=TRUE,1,0)","v":1},"Denizaltı tahrip roketi","Mal",35622400,null,null,"Kruz füzeleri"]
[null,null,null,null,null,null,null,3952,35622600,{"$f":"IF(K3956=1,COUNTIF($K$5:K3956,1),\"\")","v":3952},{"$f":"IF(ISNUMBER(SEARCH('Bilgi Girişi'!$E$4,KalemAdı,1))=TRUE,1,0)","v":1},"Tanksavar güdümlü füze","Mal",35622600,null,null,"Askeri uzayaraçları"]
[null,null,null,null,null,null,null,3955,35623100,{"$f":"IF(K3959=1,COUNTIF($K$5:K3959,1),\"\")","v":3955},{"$f":"IF(ISNUMBER(SEARCH('Bilgi Girişi'!$E$4,KalemAdı,1))=TRUE,1,0)","v":1},"Hava/kara/denizden atılan kruz füzeleri","Mal",35623100,null,null,"Gözlem uyduları"]
[null,null,null,null,null,null,null,3960,35631300,{"$f":"IF(K3964=1,COUNTIF($K$5:K3964,1),\"\")","v":3960},{"$f":"IF(ISNUMBER(SEARCH('Bilgi Girişi'!$E$4,KalemAdı,1))=TRUE,1,0)","v":1},"Navigasyon uyduları","Mal",35631300,null,null,"Askeri havacılık ekipmanları için elektronik ve elektrikli yedek parçalar"]
[null,null,null,null,null,null,null,3964,35642000,{"$f":"IF(K3968=1,COUNTIF($K$5:K3968,1),\"\")","v":3964},{"$f":"IF(ISNUMBER(SEARCH('Bilgi Girişi'!$E$4,KalemAdı,1))=TRUE,1,0)","v":1},"Askeri havacılık ekipmanları için elektronik ve elektrikli yedek parçalar","Mal",35642000,null,null,"Taktiksel komuta, kontrol ve haberleşme sistemleri"]
[null,null,null,null,null,null,null,3965,35700000,{"$f":"IF(K3969=1,COUNTIF($K$5:K3969,1),\"\")","v":3965},{"$f":"IF(ISNUMBER(SEARCH('Bilgi Girişi'!$E$4,KalemAdı,1))=TRUE,1,0)","v":1},"Askeri elektronik sistemler","Mal",35700000,null,null,"İstihbarat, gözetleme, hedef tespiti ve keşif"]
[null,null,null,null,null,null,null,3969,35720000,{"$f":"IF(K3973=1,COUNTIF($K$5:K3973,1),\"\")","v":3969},{"$f":"IF(ISNUMBER(SEARCH('Bilgi Girişi'!$E$4,KalemAdı,1))=TRUE,1,0)","v":1},"İstihbarat, gözetleme, hedef tespiti ve keşif","Mal",35720000,null,null,"Elektronik muharebe sistemleri ve karşı önlemler"]
[null,null,null,null,null,null,null,3974,35740000,{"$f":"IF(K3978=1,COUNTIF($K$5:K3978,1),\"\")","v":3974},{"$f":"IF(ISNUMBER(SEARCH('Bilgi Girişi'!$E$4,KalemAdı,1))=TRUE,1,0)","v":1},"Muharebe simülatörleri","Mal",35740000,null,null,"Polis üniformaları"]
[null,null,null,null,null,null,null,3977,35811100,{"$f":"IF(K3981=1,COUNTIF($K$5:K3981,1),\"\")","v":3977},{"$f":"IF(ISNUMBER(SEARCH('Bilgi Girişi'!$E$4,KalemAdı,1))=TRUE,1,0)","v":1},"İtfaiye üniformaları","Mal",35811100,null,null,"Kamuflaj ceketleri"]
[null,null,null,null,null,null,null,3979,35811300,{"$f":"IF(K3983=1,COUNTIF($K$5:K3983,1),\"\")","v":3979},{"$f":"IF(ISNUMBER(SEARCH('Bilgi Girişi'!$E$4,KalemAdı,1))=TRUE,1,0)","v":1},"Askeri üniformalar","Mal",35811300,null,null,"Muharebe giysileri"]
[null,null,null,null,null,null,null,3984,35813000,{"$f":"IF(K3988=1,COUNTIF($K$5:K3988,1),\"\")","v":3984},{"$f":"IF(ISNUMBER(SEARCH('Bilgi Girişi'!$E$4,KalemAdı,1))=TRUE,1,0)","v":1},"Askeri miğfer ve kasklar","Mal",35813000,null,null,"Kurşun geçirmez yelekler"]
[null,null,null,null,null,null,null,3988,35815100,{"$f":"IF(K3992=1,COUNTIF($K$5:K3992,1),\"\")","v":3988},{"$f":"IF(ISNUMBER(SEARCH('Bilgi Girişi'!$E$4,KalemAdı,1))=TRUE,1,0)","v":1},"Kurşun geçirmez yelekler","Mal",35815100,null,null,"Müzik aletleri, spor ürünleri, oyunlar, oyuncaklar, el sanatları, sanat"]
[null,null,null,null,null,null,null,3992,37000000,{"$f":"IF(K3996=1,COUNTIF($K$5:K3996,1),\"\")","v":3992},{"$f":"IF(ISNUMBER(SEARCH('Bilgi Girişi'!$E$4,KalemAdı,1))=TRUE,1,0)","v":1},"Müzik aletleri, spor ürünleri, oyunlar, oyuncaklar, el sanatları, sanat","Mal",37000000,null,null,"Piyanolar"]
[null,null,null,null,null,null,null,3993,37300000,{"$f":"IF(K3997=1,COUNTIF($K$5:K3997,1),\"\")","v":3993},{"$f":"IF(ISNUMBER(SEARCH('Bilgi Girişi'!$E$4,KalemAdı,1))=TRUE,1,0)","v":1},"Müzik aletleri ve parçaları","Mal",37300000,null,null,"Akordeon"]
[null,null,null,null,null,null,null,3998,37311300,{"$f":"IF(K4002=1,COUNTIF($K$5:K4002,1),\"\")","v":3998},{"$f":"IF(ISNUMBER(SEARCH('Bilgi Girişi'!$E$4,KalemAdı,1))=TRUE,1,0)","v":1},"Orglar","Mal",37311300,null,null,"Trombones"]
[null,null,null,null,null,null,null,4001,37312100,{"$f":"IF(K4005=1,COUNTIF($K$5:K4005,1),\"\")","v":4001},{"$f":"IF(ISNUMBER(SEARCH('Bilgi Girişi'!$E$4,KalemAdı,1))=TRUE,1,0)","v":1},"Trompetler","Mal",37312100,null,null,"Düdük"]
[null,null,null,null,null,null,null,4007,37312700,{"$f":"IF(K4011=1,COUNTIF($K$5:K4011,1),\"\")","v":4007},{"$f":"IF(ISNUMBER(SEARCH('Bilgi Girişi'!$E$4,KalemAdı,1))=TRUE,1,0)","v":1},"Sakshornlar","Mal",37312700,null,null,"Bariton kornalar"]
[null,null,null,null,null,null,null,4009,37312900,{"$f":"IF(K4013=1,COUNTIF($K$5:K4013,1),\"\")","v":4009},{"$f":"IF(ISNUMBER(SEARCH('Bilgi Girişi'!$E$4,KalemAdı,1))=TRUE,1,0)","v":1},"Alto, bariton, flügel ve Fransız kornası","Mal",37312900,null,null,"Fransız kornası"]
[null,null,null,null,null,null,null,4012,37312930,{"$f":"IF(K4016=1,COUNTIF($K$5:K4016,1),\"\")","v":4012},{"$f":"IF(ISNUMBER(SEARCH('Bilgi Girişi'!$E$4,KalemAdı,1))=TRUE,1,0)","v":1},"Flügel kornası","Mal",37312930,null,null,"Klavsenler"]
[null,null,null,null,null,null,null,4017,37313300,{"$f":"IF(K4021=1,COUNTIF($K$5:K4021,1),\"\")","v":4017},{"$f":"IF(ISNUMBER(SEARCH('Bilgi Girişi'!$E$4,KalemAdı,1))=TRUE,1,0)","v":1},"Guitarlar","Mal",37313300,null,null,"Mandolinler"]
[null,null,null,null,null,null,null,4021,37313700,{"$f":"IF(K4025=1,COUNTIF($K$5:K4025,1),\"\")","v":4021},{"$f":"IF(ISNUMBER(SEARCH('Bilgi Girişi'!$E$4,KalemAdı,1))=TRUE,1,0)","v":1},"Mandolinler","Mal",37313700,null,null,"Klarnetler"]
[null,null,null,null,null,null,null,4022,37313800,{"$f":"IF(K4026=1,COUNTIF($K$5:K4026,1),\"\")","v":4022},{"$f":"IF(ISNUMBER(SEARCH('Bilgi Girişi'!$E$4,KalemAdı,1))=TRUE,1,0)","v":1},"Viyolonsel","Mal",37313800,null,null,"Obualar"]
[null,null,null,null,null,null,null,4026,37314200,{"$f":"IF(K4030=1,COUNTIF($K$5:K4030,1),\"\")","v":4026},{"$f":"IF(ISNUMBER(SEARCH('Bilgi Girişi'!$E$4,KalemAdı,1))=TRUE,1,0)","v":1},"Obualar","Mal",37314200,null,null,"Pikololar"]
[null,null,null,null,null,null,null,4029,37314320,{"$f":"IF(K4033=1,COUNTIF($K$5:K4033,1),\"\")","v":4029},{"$f":"IF(ISNUMBER(SEARCH('Bilgi Girişi'!$E$4,KalemAdı,1))=TRUE,1,0)","v":1},"Flütler","Mal",37314320,null,null,"Afrika'ya özgü nefesli bir çalgı"]
[null,null,null,null,null,null,null,4035,37314900,{"$f":"IF(K4039=1,COUNTIF($K$5:K4039,1),\"\")","v":4035},{"$f":"IF(ISNUMBER(SEARCH('Bilgi Girişi'!$E$4,KalemAdı,1))=TRUE,1,0)","v":1},"Okarinalar (flüt benzeri antik çalgı)","Mal",37314900,null,null,"Ziller (müzik aleti)"]
[null,null,null,null,null,null,null,4036,37315000,{"$f":"IF(K4040=1,COUNTIF($K$5:K4040,1),\"\")","v":4036},{"$f":"IF(ISNUMBER(SEARCH('Bilgi Girişi'!$E$4,KalemAdı,1))=TRUE,1,0)","v":1},"Elektrikli amplifikatörlü müzik aletleri","Mal",37315000,null,null,"Çanlar (enstrüman)"]
[null,null,null,null,null,null,null,4042,37316400,{"$f":"IF(K4046=1,COUNTIF($K$5:K4046,1),\"\")","v":4042},{"$f":"IF(ISNUMBER(SEARCH('Bilgi Girişi'!$E$4,KalemAdı,1))=TRUE,1,0)","v":1},"Kastanyet","Mal",37316400,null,null,"Müzik aletlerinin aksam ve parçaları"]
[null,null,null,null,null,null,null,4045,37316700,{"$f":"IF(K4049=1,COUNTIF($K$5:K4049,1),\"\")","v":4045},{"$f":"IF(ISNUMBER(SEARCH('Bilgi Girişi'!$E$4,KalemAdı,1))=TRUE,1,0)","v":1},"Vibrafonlar","Mal",37316700,null,null,"Diller (üflemeli çalgılar için)"]
[null,null,null,null,null,null,null,4049,37321200,{"$f":"IF(K4053=1,COUNTIF($K$5:K4053,1),\"\")","v":4049},{"$f":"IF(ISNUMBER(SEARCH('Bilgi Girişi'!$E$4,KalemAdı,1))=TRUE,1,0)","v":1},"Diller (üflemeli çalgılar için)","Mal",37321200,null,null,"Enstrüman torbası veya çantaları veya aksesuarları"]
[null,null,null,null,null,null,null,4050,37321300,{"$f":"IF(K4054=1,COUNTIF($K$5:K4054,1),\"\")","v":4050},{"$f":"IF(ISNUMBER(SEARCH('Bilgi Girişi'!$E$4,KalemAdı,1))=TRUE,1,0)","v":1},"Telli çalgılar ile ilgili aksesuarlar","Mal",37321300,null,null,"Enstrüman ayakları veya sayfa tutucuları"]
[null,null,null,null,null,null,null,4054,37321700,{"$f":"IF(K4058=1,COUNTIF($K$5:K4058,1),\"\")","v":4054},{"$f":"IF(ISNUMBER(SEARCH('Bilgi Girişi'!$E$4,KalemAdı,1))=TRUE,1,0)","v":1},"Enstrüman ayakları veya sayfa tutucuları","Mal",37321700,null,null,"Ağızlıklar"]
[null,null,null,null,null,null,null,4059,37322400,{"$f":"IF(K4063=1,COUNTIF($K$5:K4063,1),\"\")","v":4059},{"$f":"IF(ISNUMBER(SEARCH('Bilgi Girişi'!$E$4,KalemAdı,1))=TRUE,1,0)","v":1},"Surdinler (enstrüman)","Mal",37322400,null,null,"Spor alet ve malzemeleri"]
[null,null,null,null,null,null,null,4062,37322700,{"$f":"IF(K4066=1,COUNTIF($K$5:K4066,1),\"\")","v":4062},{"$f":"IF(ISNUMBER(SEARCH('Bilgi Girişi'!$E$4,KalemAdı,1))=TRUE,1,0)","v":1},"Pikolo pedleri","Mal",37322700,null,null,"Kayak ve snowboard ekipmanları"]
[null,null,null,null,null,null,null,4064,37410000,{"$f":"IF(K4068=1,COUNTIF($K$5:K4068,1),\"\")","v":4064},{"$f":"IF(ISNUMBER(SEARCH('Bilgi Girişi'!$E$4,KalemAdı,1))=TRUE,1,0)","v":1},"Açık hava sporları malzeme ve donanımı","Mal",37410000,null,null,"Kayak skileri"]
[null,null,null,null,null,null,null,4070,37411140,{"$f":"IF(K4074=1,COUNTIF($K$5:K4074,1),\"\")","v":4070},{"$f":"IF(ISNUMBER(SEARCH('Bilgi Girişi'!$E$4,KalemAdı,1))=TRUE,1,0)","v":1},"Bağlantı elemanları","Mal",37411140,null,null,"Hokey diskleri"]
[null,null,null,null,null,null,null,4073,37411200,{"$f":"IF(K4077=1,COUNTIF($K$5:K4077,1),\"\")","v":4073},{"$f":"IF(ISNUMBER(SEARCH('Bilgi Girişi'!$E$4,KalemAdı,1))=TRUE,1,0)","v":1},"Paten ve buz hokeyi donanımları","Mal",37411200,null,null,"Kutup giysi ve donanımı"]
[null,null,null,null,null,null,null,4078,37412000,{"$f":"IF(K4082=1,COUNTIF($K$5:K4082,1),\"\")","v":4078},{"$f":"IF(ISNUMBER(SEARCH('Bilgi Girişi'!$E$4,KalemAdı,1))=TRUE,1,0)","v":1},"Su sporları ekipmanı","Mal",37412000,null,null,"Skuba tankları"]
[null,null,null,null,null,null,null,4079,37412100,{"$f":"IF(K4083=1,COUNTIF($K$5:K4083,1),\"\")","v":4079},{"$f":"IF(ISNUMBER(SEARCH('Bilgi Girişi'!$E$4,KalemAdı,1))=TRUE,1,0)","v":1},"Su kayakları","Mal",37412100,null,null,"Skuba regülatörleri"]
[null,null,null,null,null,null,null,4083,37412230,{"$f":"IF(K4087=1,COUNTIF($K$5:K4087,1),\"\")","v":4083},{"$f":"IF(ISNUMBER(SEARCH('Bilgi Girişi'!$E$4,KalemAdı,1))=TRUE,1,0)","v":1},"Skuba regülatörleri","Mal",37412230,null,null,"Dalgıç giyecekleri"]
[null,null,null,null,null,null,null,4086,37412242,{"$f":"IF(K4090=1,COUNTIF($K$5:K4090,1),\"\")","v":4086},{"$f":"IF(ISNUMBER(SEARCH('Bilgi Girişi'!$E$4,KalemAdı,1))=TRUE,1,0)","v":1},"Dalış kıyafeti","Mal",37412242,null,null,"Su geçirmez elbise"]
[null,null,null,null,null,null,null,4092,37412310,{"$f":"IF(K4096=1,COUNTIF($K$5:K4096,1),\"\")","v":4092},{"$f":"IF(ISNUMBER(SEARCH('Bilgi Girişi'!$E$4,KalemAdı,1))=TRUE,1,0)","v":1},"Su kayağı, kneeboardlar veya boogieboardlar","Mal",37412310,null,null,"Parasailing donanımları"]
[null,null,null,null,null,null,null,4094,37412330,{"$f":"IF(K4098=1,COUNTIF($K$5:K4098,1),\"\")","v":4094},{"$f":"IF(ISNUMBER(SEARCH('Bilgi Girişi'!$E$4,KalemAdı,1))=TRUE,1,0)","v":1},"Surf tahtaları","Mal",37412330,null,null,"Balık avlama malzemeleri"]
[null,null,null,null,null,null,null,4097,37413000,{"$f":"IF(K4101=1,COUNTIF($K$5:K4101,1),\"\")","v":4097},{"$f":"IF(ISNUMBER(SEARCH('Bilgi Girişi'!$E$4,KalemAdı,1))=TRUE,1,0)","v":1},"Avcılık ya da balıkçılık malzemeleri","Mal",37413000,null,null,"Olta makaraları"]
[null,null,null,null,null,null,null,4102,37413140,{"$f":"IF(K4106=1,COUNTIF($K$5:K4106,1),\"\")","v":4102},{"$f":"IF(ISNUMBER(SEARCH('Bilgi Girişi'!$E$4,KalemAdı,1))=TRUE,1,0)","v":1},"Balık zokaları","Mal",37413140,null,null,"Hayvan sesleri"]
[null,null,null,null,null,null,null,4106,37413210,{"$f":"IF(K4110=1,COUNTIF($K$5:K4110,1),\"\")","v":4106},{"$f":"IF(ISNUMBER(SEARCH('Bilgi Girişi'!$E$4,KalemAdı,1))=TRUE,1,0)","v":1},"Hayvan sesleri","Mal",37413210,null,null,"Kampçılık malzemeleri"]
[null,null,null,null,null,null,null,4107,37413220,{"$f":"IF(K4111=1,COUNTIF($K$5:K4111,1),\"\")","v":4107},{"$f":"IF(ISNUMBER(SEARCH('Bilgi Girişi'!$E$4,KalemAdı,1))=TRUE,1,0)","v":1},"Avcılık yemleri","Mal",37413220,null,null,"Uyku pedleri"]
[null,null,null,null,null,null,null,4111,37414100,{"$f":"IF(K4115=1,COUNTIF($K$5:K4115,1),\"\")","v":4111},{"$f":"IF(ISNUMBER(SEARCH('Bilgi Girişi'!$E$4,KalemAdı,1))=TRUE,1,0)","v":1},"Uyku pedleri","Mal",37414100,null,null,"İçecek soğutucuları"]
[null,null,null,null,null,null,null,4116,37414800,{"$f":"IF(K4120=1,COUNTIF($K$5:K4120,1),\"\")","v":4116},{"$f":"IF(ISNUMBER(SEARCH('Bilgi Girişi'!$E$4,KalemAdı,1))=TRUE,1,0)","v":1},"Komple hayatta kalma kıyafetleri","Mal",37414800,null,null,"Spor salonu minderi ve yaylıları"]
[null,null,null,null,null,null,null,4119,37420000,{"$f":"IF(K4123=1,COUNTIF($K$5:K4123,1),\"\")","v":4119},{"$f":"IF(ISNUMBER(SEARCH('Bilgi Girişi'!$E$4,KalemAdı,1))=TRUE,1,0)","v":1},"Jimnastik ekipmanı","Mal",37420000,null,null,"Jimnastik denge aletleri"]
[null,null,null,null,null,null,null,4121,37422000,{"$f":"IF(K4125=1,COUNTIF($K$5:K4125,1),\"\")","v":4121},{"$f":"IF(ISNUMBER(SEARCH('Bilgi Girişi'!$E$4,KalemAdı,1))=TRUE,1,0)","v":1},"Jimnastik barlar veya denge aletleri","Mal",37422000,null,null,"Jimnastik halatları"]
[null,null,null,null,null,null,null,4127,37423300,{"$f":"IF(K4131=1,COUNTIF($K$5:K4131,1),\"\")","v":4127},{"$f":"IF(ISNUMBER(SEARCH('Bilgi Girişi'!$E$4,KalemAdı,1))=TRUE,1,0)","v":1},"Jimnastik tırmanma aksesuarları","Mal",37423300,null,null,"Boks ekipmanları"]
[null,null,null,null,null,null,null,4130,37426000,{"$f":"IF(K4134=1,COUNTIF($K$5:K4134,1),\"\")","v":4130},{"$f":"IF(ISNUMBER(SEARCH('Bilgi Girişi'!$E$4,KalemAdı,1))=TRUE,1,0)","v":1},"Denge ekipmanları","Mal",37426000,null,null,"Boks eldivenleri"]
[null,null,null,null,null,null,null,4134,37433000,{"$f":"IF(K4138=1,COUNTIF($K$5:K4138,1),\"\")","v":4134},{"$f":"IF(ISNUMBER(SEARCH('Bilgi Girişi'!$E$4,KalemAdı,1))=TRUE,1,0)","v":1},"Boks eldivenleri","Mal",37433000,null,null,"Merdiven tırmanma egzersiz aletleri"]
[null,null,null,null,null,null,null,4135,37440000,{"$f":"IF(K4139=1,COUNTIF($K$5:K4139,1),\"\")","v":4135},{"$f":"IF(ISNUMBER(SEARCH('Bilgi Girişi'!$E$4,KalemAdı,1))=TRUE,1,0)","v":1},"Fitness ekipmanları","Mal",37440000,null,null,"Sabit bisiklet/gzersiz bisikletleri"]
[null,null,null,null,null,null,null,4139,37441300,{"$f":"IF(K4143=1,COUNTIF($K$5:K4143,1),\"\")","v":4139},{"$f":"IF(ISNUMBER(SEARCH('Bilgi Girişi'!$E$4,KalemAdı,1))=TRUE,1,0)","v":1},"Sabit bisiklet/gzersiz bisikletleri","Mal",37441300,null,null,"Egzersiz topları"]
[null,null,null,null,null,null,null,4144,37441800,{"$f":"IF(K4148=1,COUNTIF($K$5:K4148,1),\"\")","v":4144},{"$f":"IF(ISNUMBER(SEARCH('Bilgi Girişi'!$E$4,KalemAdı,1))=TRUE,1,0)","v":1},"Step aerobik donanımları","Mal",37441800,null,null,"Halterler"]
[null,null,null,null,null,null,null,4149,37442300,{"$f":"IF(K4153=1,COUNTIF($K$5:K4153,1),\"\")","v":4149},{"$f":"IF(ISNUMBER(SEARCH('Bilgi Girişi'!$E$4,KalemAdı,1))=TRUE,1,0)","v":1},"Alt ve üst vücut direnci artırıcı makineler","Mal",37442300,null,null,"Fitness ağırlıkları"]
[null,null,null,null,null,null,null,4151,37442320,{"$f":"IF(K4155=1,COUNTIF($K$5:K4155,1),\"\")","v":4151},{"$f":"IF(ISNUMBER(SEARCH('Bilgi Girişi'!$E$4,KalemAdı,1))=TRUE,1,0)","v":1},"Üst vücut direncini artırıcı makineler","Mal",37442320,null,null,"El egzersiz aletleri"]
[null,null,null,null,null,null,null,4154,37442600,{"$f":"IF(K4158=1,COUNTIF($K$5:K4158,1),\"\")","v":4154},{"$f":"IF(ISNUMBER(SEARCH('Bilgi Girişi'!$E$4,KalemAdı,1))=TRUE,1,0)","v":1},"Pilates makineleri","Mal",37442600,null,null,"Direnç tüpleri"]
[null,null,null,null,null,null,null,4159,37442900,{"$f":"IF(K4163=1,COUNTIF($K$5:K4163,1),\"\")","v":4159},{"$f":"IF(ISNUMBER(SEARCH('Bilgi Girişi'!$E$4,KalemAdı,1))=TRUE,1,0)","v":1},"Ağırlık İstasyonları","Mal",37442900,null,null,"Beyzbol emniyet ağları veya çitleri"]
[null,null,null,null,null,null,null,4163,37451110,{"$f":"IF(K4167=1,COUNTIF($K$5:K4167,1),\"\")","v":4163},{"$f":"IF(ISNUMBER(SEARCH('Bilgi Girişi'!$E$4,KalemAdı,1))=TRUE,1,0)","v":1},"Beyzbol emniyet ağları veya çitleri","Mal",37451110,null,null,"Beyzbol eldivenleri"]
[null,null,null,null,null,null,null,4164,37451120,{"$f":"IF(K4168=1,COUNTIF($K$5:K4168,1),\"\")","v":4164},{"$f":"IF(ISNUMBER(SEARCH('Bilgi Girişi'!$E$4,KalemAdı,1))=TRUE,1,0)","v":1},"Beyzbol kaleleri","Mal",37451120,null,null,"Beyzbol veya softbol koruyucu malzemeleri"]
[null,null,null,null,null,null,null,4168,37451160,{"$f":"IF(K4172=1,COUNTIF($K$5:K4172,1),\"\")","v":4168},{"$f":"IF(ISNUMBER(SEARCH('Bilgi Girişi'!$E$4,KalemAdı,1))=TRUE,1,0)","v":1},"Beyzbol veya softbol koruyucu malzemeleri","Mal",37451160,null,null,"Amerikan futbol topları"]
[null,null,null,null,null,null,null,4172,37451300,{"$f":"IF(K4176=1,COUNTIF($K$5:K4176,1),\"\")","v":4172},{"$f":"IF(ISNUMBER(SEARCH('Bilgi Girişi'!$E$4,KalemAdı,1))=TRUE,1,0)","v":1},"Amerikan futbol topları","Mal",37451300,null,null,"Flag futbol elbiseleri"]
[null,null,null,null,null,null,null,4177,37451400,{"$f":"IF(K4181=1,COUNTIF($K$5:K4181,1),\"\")","v":4177},{"$f":"IF(ISNUMBER(SEARCH('Bilgi Girişi'!$E$4,KalemAdı,1))=TRUE,1,0)","v":1},"Lakros topları","Mal",37451400,null,null,"Futbol sahası işaretleme ekipmanları"]
[null,null,null,null,null,null,null,4179,37451600,{"$f":"IF(K4183=1,COUNTIF($K$5:K4183,1),\"\")","v":4179},{"$f":"IF(ISNUMBER(SEARCH('Bilgi Girişi'!$E$4,KalemAdı,1))=TRUE,1,0)","v":1},"Top fırlatma makineleri","Mal",37451600,null,null,"Futbol eğitim yardımcı malzemeleri"]
[null,null,null,null,null,null,null,4182,37451720,{"$f":"IF(K4186=1,COUNTIF($K$5:K4186,1),\"\")","v":4182},{"$f":"IF(ISNUMBER(SEARCH('Bilgi Girişi'!$E$4,KalemAdı,1))=TRUE,1,0)","v":1},"Futbol koruyucu ekipmanları","Mal",37451720,null,null,"Softbol eldivenleri"]
[null,null,null,null,null,null,null,4187,37451900,{"$f":"IF(K4191=1,COUNTIF($K$5:K4191,1),\"\")","v":4187},{"$f":"IF(ISNUMBER(SEARCH('Bilgi Girişi'!$E$4,KalemAdı,1))=TRUE,1,0)","v":1},"Hentbol topları","Mal",37451900,null,null,"Badminton topları"]
[null,null,null,null,null,null,null,4189,37452000,{"$f":"IF(K4193=1,COUNTIF($K$5:K4193,1),\"\")","v":4189},{"$f":"IF(ISNUMBER(SEARCH('Bilgi Girişi'!$E$4,KalemAdı,1))=TRUE,1,0)","v":1},"Raket ve kort sporları donanımları","Mal",37452000,null,null,"Basketbol topları"]
[null,null,null,null,null,null,null,4192,37452120,{"$f":"IF(K4196=1,COUNTIF($K$5:K4196,1),\"\")","v":4192},{"$f":"IF(ISNUMBER(SEARCH('Bilgi Girişi'!$E$4,KalemAdı,1))=TRUE,1,0)","v":1},"Badminton raketleri","Mal",37452120,null,null,"Raketbol topları, kulplar ve ipler"]
[null,null,null,null,null,null,null,4196,37452400,{"$f":"IF(K4200=1,COUNTIF($K$5:K4200,1),\"\")","v":4196},{"$f":"IF(ISNUMBER(SEARCH('Bilgi Girişi'!$E$4,KalemAdı,1))=TRUE,1,0)","v":1},"Raketbol topları, kulplar ve ipler","Mal",37452400,null,null,"Raketbol raketleri"]
[null,null,null,null,null,null,null,4201,37452600,{"$f":"IF(K4205=1,COUNTIF($K$5:K4205,1),\"\")","v":4201},{"$f":"IF(ISNUMBER(SEARCH('Bilgi Girişi'!$E$4,KalemAdı,1))=TRUE,1,0)","v":1},"Squash ekipmanları","Mal",37452600,null,null,"Tenis topları"]
[null,null,null,null,null,null,null,4204,37452700,{"$f":"IF(K4208=1,COUNTIF($K$5:K4208,1),\"\")","v":4204},{"$f":"IF(ISNUMBER(SEARCH('Bilgi Girişi'!$E$4,KalemAdı,1))=TRUE,1,0)","v":1},"Tenis malzemeleri","Mal",37452700,null,null,"Tenis eğitim yardımcıları"]
[null,null,null,null,null,null,null,4206,37452720,{"$f":"IF(K4210=1,COUNTIF($K$5:K4210,1),\"\")","v":4206},{"$f":"IF(ISNUMBER(SEARCH('Bilgi Girişi'!$E$4,KalemAdı,1))=TRUE,1,0)","v":1},"Tenis kortu ekipmanları","Mal",37452720,null,null,"Tether topları"]
[null,null,null,null,null,null,null,4212,37452900,{"$f":"IF(K4216=1,COUNTIF($K$5:K4216,1),\"\")","v":4212},{"$f":"IF(ISNUMBER(SEARCH('Bilgi Girişi'!$E$4,KalemAdı,1))=TRUE,1,0)","v":1},"Voleybol topları","Mal",37452900,null,null,"Ciritler"]
[null,null,null,null,null,null,null,4215,37453000,{"$f":"IF(K4219=1,COUNTIF($K$5:K4219,1),\"\")","v":4215},{"$f":"IF(ISNUMBER(SEARCH('Bilgi Girişi'!$E$4,KalemAdı,1))=TRUE,1,0)","v":1},"Pist sporları ekipmanları","Mal",37453000,null,null,"Gülleler"]
[null,null,null,null,null,null,null,4217,37453200,{"$f":"IF(K4221=1,COUNTIF($K$5:K4221,1),\"\")","v":4217},{"$f":"IF(ISNUMBER(SEARCH('Bilgi Girişi'!$E$4,KalemAdı,1))=TRUE,1,0)","v":1},"Atlama barları","Mal",37453200,null,null,"Engelli yarış engelleri"]
[null,null,null,null,null,null,null,4220,37453500,{"$f":"IF(K4224=1,COUNTIF($K$5:K4224,1),\"\")","v":4220},{"$f":"IF(ISNUMBER(SEARCH('Bilgi Girişi'!$E$4,KalemAdı,1))=TRUE,1,0)","v":1},"Atlama direkleri","Mal",37453500,null,null,"Masa oyunları ve ekipmanları"]
[null,null,null,null,null,null,null,4225,37461100,{"$f":"IF(K4229=1,COUNTIF($K$5:K4229,1),\"\")","v":4225},{"$f":"IF(ISNUMBER(SEARCH('Bilgi Girişi'!$E$4,KalemAdı,1))=TRUE,1,0)","v":1},"Hava hokeyi masası ve aksesuarları","Mal",37461100,null,null,"Bilardo ıstakası"]
[null,null,null,null,null,null,null,4229,37461300,{"$f":"IF(K4233=1,COUNTIF($K$5:K4233,1),\"\")","v":4229},{"$f":"IF(ISNUMBER(SEARCH('Bilgi Girişi'!$E$4,KalemAdı,1))=TRUE,1,0)","v":1},"Bilardo ıstakası","Mal",37461300,null,null,"Masa tenisi raketleri"]
[null,null,null,null,null,null,null,4234,37462000,{"$f":"IF(K4238=1,COUNTIF($K$5:K4238,1),\"\")","v":4234},{"$f":"IF(ISNUMBER(SEARCH('Bilgi Girişi'!$E$4,KalemAdı,1))=TRUE,1,0)","v":1},"Hedef oyunları ve donanımları","Mal",37462000,null,null,"Okçuluk emniyet ağı"]
[null,null,null,null,null,null,null,4237,37462120,{"$f":"IF(K4241=1,COUNTIF($K$5:K4241,1),\"\")","v":4237},{"$f":"IF(ISNUMBER(SEARCH('Bilgi Girişi'!$E$4,KalemAdı,1))=TRUE,1,0)","v":1},"Okçuluk okları","Mal",37462120,null,null,"Okçuluk eldivenleri"]
[null,null,null,null,null,null,null,4239,37462140,{"$f":"IF(K4243=1,COUNTIF($K$5:K4243,1),\"\")","v":4239},{"$f":"IF(ISNUMBER(SEARCH('Bilgi Girişi'!$E$4,KalemAdı,1))=TRUE,1,0)","v":1},"Okçuluk yay ipleri","Mal",37462140,null,null,"Okçuluk hedefleri"]
[null,null,null,null,null,null,null,4244,37462200,{"$f":"IF(K4248=1,COUNTIF($K$5:K4248,1),\"\")","v":4244},{"$f":"IF(ISNUMBER(SEARCH('Bilgi Girişi'!$E$4,KalemAdı,1))=TRUE,1,0)","v":1},"Dartlar","Mal",37462200,null,null,"Golf ve bowling ekipmanları"]
[null,null,null,null,null,null,null,4248,37470000,{"$f":"IF(K4252=1,COUNTIF($K$5:K4252,1),\"\")","v":4248},{"$f":"IF(ISNUMBER(SEARCH('Bilgi Girişi'!$E$4,KalemAdı,1))=TRUE,1,0)","v":1},"Golf ve bowling ekipmanları","Mal",37470000,null,null,"Golf sopaları"]
[null,null,null,null,null,null,null,4249,37471000,{"$f":"IF(K4253=1,COUNTIF($K$5:K4253,1),\"\")","v":4249},{"$f":"IF(ISNUMBER(SEARCH('Bilgi Girişi'!$E$4,KalemAdı,1))=TRUE,1,0)","v":1},"Golf ekipmanı","Mal",37471000,null,null,"Golf vuruş teeleri"]
[null,null,null,null,null,null,null,4253,37471400,{"$f":"IF(K4257=1,COUNTIF($K$5:K4257,1),\"\")","v":4253},{"$f":"IF(ISNUMBER(SEARCH('Bilgi Girişi'!$E$4,KalemAdı,1))=TRUE,1,0)","v":1},"Golf vuruş teeleri","Mal",37471400,null,null,"Golf dürbünü"]
[null,null,null,null,null,null,null,4257,37471800,{"$f":"IF(K4261=1,COUNTIF($K$5:K4261,1),\"\")","v":4257},{"$f":"IF(ISNUMBER(SEARCH('Bilgi Girişi'!$E$4,KalemAdı,1))=TRUE,1,0)","v":1},"Golf dürbünü","Mal",37471800,null,null,"Buz bakım makineleri"]
[null,null,null,null,null,null,null,4262,37482000,{"$f":"IF(K4266=1,COUNTIF($K$5:K4266,1),\"\")","v":4262},{"$f":"IF(ISNUMBER(SEARCH('Bilgi Girişi'!$E$4,KalemAdı,1))=TRUE,1,0)","v":1},"Spor bilgi panoları","Mal",37482000,null,null,"Oyuncak bebek parça veya aksesuarları"]
[null,null,null,null,null,null,null,4263,37500000,{"$f":"IF(K4267=1,COUNTIF($K$5:K4267,1),\"\")","v":4263},{"$f":"IF(ISNUMBER(SEARCH('Bilgi Girişi'!$E$4,KalemAdı,1))=TRUE,1,0)","v":1},"Oyuncak ve oyunlar, panayır yeri eğlencelikleri","Mal",37500000,null,null,"Kuklalar"]
[null,null,null,null,null,null,null,4269,37520000,{"$f":"IF(K4273=1,COUNTIF($K$5:K4273,1),\"\")","v":4269},{"$f":"IF(ISNUMBER(SEARCH('Bilgi Girişi'!$E$4,KalemAdı,1))=TRUE,1,0)","v":1},"Oyuncaklar","Mal",37520000,null,null,"Oyunlar"]
[null,null,null,null,null,null,null,4272,37523000,{"$f":"IF(K4276=1,COUNTIF($K$5:K4276,1),\"\")","v":4272},{"$f":"IF(ISNUMBER(SEARCH('Bilgi Girişi'!$E$4,KalemAdı,1))=TRUE,1,0)","v":1},"Yap bozlar, bilmeceler","Mal",37523000,null,null,"Klasik oyunlar"]
[null,null,null,null,null,null,null,4274,37524100,{"$f":"IF(K4278=1,COUNTIF($K$5:K4278,1),\"\")","v":4274},{"$f":"IF(ISNUMBER(SEARCH('Bilgi Girişi'!$E$4,KalemAdı,1))=TRUE,1,0)","v":1},"Eğitsel oyunlar","Mal",37524100,null,null,"Strateji oyunları"]
[null,null,null,null,null,null,null,4277,37524400,{"$f":"IF(K4281=1,COUNTIF($K$5:K4281,1),\"\")","v":4277},{"$f":"IF(ISNUMBER(SEARCH('Bilgi Girişi'!$E$4,KalemAdı,1))=TRUE,1,0)","v":1},"Ekip oyunları","Mal",37524400,null,null,"Loto oyunları"]
[null,null,null,null,null,null,null,4281,37524800,{"$f":"IF(K4285=1,COUNTIF($K$5:K4285,1),\"\")","v":4281},{"$f":"IF(ISNUMBER(SEARCH('Bilgi Girişi'!$E$4,KalemAdı,1))=TRUE,1,0)","v":1},"Loto oyunları","Mal",37524800,null,null,"Oyuncak kovalar"]
[null,null,null,null,null,null,null,4286,37527000,{"$f":"IF(K4290=1,COUNTIF($K$5:K4290,1),\"\")","v":4286},{"$f":"IF(ISNUMBER(SEARCH('Bilgi Girişi'!$E$4,KalemAdı,1))=TRUE,1,0)","v":1},"Oyuncak trenler ve araçlar","Mal",37527000,null,null,"Şişme oyuncaklar ve binilebilen oyuncaklar"]
[null,null,null,null,null,null,null,4289,37528000,{"$f":"IF(K4293=1,COUNTIF($K$5:K4293,1),\"\")","v":4289},{"$f":"IF(ISNUMBER(SEARCH('Bilgi Girişi'!$E$4,KalemAdı,1))=TRUE,1,0)","v":1},"Oyuncak silahlar","Mal",37528000,null,null,"Lunapark, masa ve oyun salonları için malzeme ve donanımları"]
[null,null,null,null,null,null,null,4291,37529100,{"$f":"IF(K4295=1,COUNTIF($K$5:K4295,1),\"\")","v":4291},{"$f":"IF(ISNUMBER(SEARCH('Bilgi Girişi'!$E$4,KalemAdı,1))=TRUE,1,0)","v":1},"Şişme oyuncaklar","Mal",37529100,null,null,"Video oyunları"]
[null,null,null,null,null,null,null,4296,37533000,{"$f":"IF(K4300=1,COUNTIF($K$5:K4300,1),\"\")","v":4296},{"$f":"IF(ISNUMBER(SEARCH('Bilgi Girişi'!$E$4,KalemAdı,1))=TRUE,1,0)","v":1},"Bilardolar","Mal",37533000,null,null,"Bilardo üçgenleri"]
[null,null,null,null,null,null,null,4301,37533500,{"$f":"IF(K4305=1,COUNTIF($K$5:K4305,1),\"\")","v":4301},{"$f":"IF(ISNUMBER(SEARCH('Bilgi Girişi'!$E$4,KalemAdı,1))=TRUE,1,0)","v":1},"Bilardo masaları","Mal",37533500,null,null,"Çocuk bahçesi ekipmanları"]
[null,null,null,null,null,null,null,4305,37535200,{"$f":"IF(K4309=1,COUNTIF($K$5:K4309,1),\"\")","v":4305},{"$f":"IF(ISNUMBER(SEARCH('Bilgi Girişi'!$E$4,KalemAdı,1))=TRUE,1,0)","v":1},"Çocuk bahçesi ekipmanları","Mal",37535200,null,null,"Oyun alanı kaydırakları"]
[null,null,null,null,null,null,null,4306,37535210,{"$f":"IF(K4310=1,COUNTIF($K$5:K4310,1),\"\")","v":4306},{"$f":"IF(ISNUMBER(SEARCH('Bilgi Girişi'!$E$4,KalemAdı,1))=TRUE,1,0)","v":1},"Oyun alanı salıncakları","Mal",37535210,null,null,"Oyun alanı tahteravalli"]
[null,null,null,null,null,null,null,4310,37535250,{"$f":"IF(K4314=1,COUNTIF($K$5:K4314,1),\"\")","v":4310},{"$f":"IF(ISNUMBER(SEARCH('Bilgi Girişi'!$E$4,KalemAdı,1))=TRUE,1,0)","v":1},"Oyun alanı tahteravalli","Mal",37535250,null,null,"Duvar ve ip tırmanma ekipmanları"]
[null,null,null,null,null,null,null,4314,37535290,{"$f":"IF(K4318=1,COUNTIF($K$5:K4318,1),\"\")","v":4314},{"$f":"IF(ISNUMBER(SEARCH('Bilgi Girişi'!$E$4,KalemAdı,1))=TRUE,1,0)","v":1},"Duvar ve ip tırmanma ekipmanları","Mal",37535290,null,null,"El sanatları ve resim malzemeleri"]
[null,null,null,null,null,null,null,4319,37810000,{"$f":"IF(K4323=1,COUNTIF($K$5:K4323,1),\"\")","v":4319},{"$f":"IF(ISNUMBER(SEARCH('Bilgi Girişi'!$E$4,KalemAdı,1))=TRUE,1,0)","v":1},"El sanatları malzemeleri","Mal",37810000,null,null,"Kuru boyalar"]
[null,null,null,null,null,null,null,4322,37822000,{"$f":"IF(K4326=1,COUNTIF($K$5:K4326,1),\"\")","v":4322},{"$f":"IF(ISNUMBER(SEARCH('Bilgi Girişi'!$E$4,KalemAdı,1))=TRUE,1,0)","v":1},"Çizim boya kalemleri","Mal",37822000,null,null,"Pastel boyalar"]
[null,null,null,null,null,null,null,4324,37822200,{"$f":"IF(K4328=1,COUNTIF($K$5:K4328,1),\"\")","v":4324},{"$f":"IF(ISNUMBER(SEARCH('Bilgi Girişi'!$E$4,KalemAdı,1))=TRUE,1,0)","v":1},"Resim kalemleri","Mal",37822200,null,null,"Yağ geçirmez kağıtlar"]
[null,null,null,null,null,null,null,4329,37823200,{"$f":"IF(K4333=1,COUNTIF($K$5:K4333,1),\"\")","v":4329},{"$f":"IF(ISNUMBER(SEARCH('Bilgi Girişi'!$E$4,KalemAdı,1))=TRUE,1,0)","v":1},"Kopya kağıdı","Mal",37823200,null,null,"Resim kağıtları"]
[null,null,null,null,null,null,null,4333,37823600,{"$f":"IF(K4337=1,COUNTIF($K$5:K4337,1),\"\")","v":4333},{"$f":"IF(ISNUMBER(SEARCH('Bilgi Girişi'!$E$4,KalemAdı,1))=TRUE,1,0)","v":1},"Resim kağıtları","Mal",37823600,null,null,"Laboratuar, optik ve hassas ekipmanları  (gözlük hariç)"]
[null,null,null,null,null,null,null,4334,37823700,{"$f":"IF(K4338=1,COUNTIF($K$5:K4338,1),\"\")","v":4334},{"$f":"IF(ISNUMBER(SEARCH('Bilgi Girişi'!$E$4,KalemAdı,1))=TRUE,1,0)","v":1},"Harita kağıtları","Mal",37823700,null,null,"Seyrüsefer ve meteorolojik aletler"]
[null,null,null,null,null,null,null,4339,38110000,{"$f":"IF(K4343=1,COUNTIF($K$5:K4343,1),\"\")","v":4339},{"$f":"IF(ISNUMBER(SEARCH('Bilgi Girişi'!$E$4,KalemAdı,1))=TRUE,1,0)","v":1},"Seyrüsefer ile ilgili cihazlar","Mal",38110000,null,null,"Sekstantlar"]
[null,null,null,null,null,null,null,4343,38112000,{"$f":"IF(K4347=1,COUNTIF($K$5:K4347,1),\"\")","v":4343},{"$f":"IF(ISNUMBER(SEARCH('Bilgi Girişi'!$E$4,KalemAdı,1))=TRUE,1,0)","v":1},"Sekstantlar","Mal",38112000,null,null,"Radar cihazı"]
[null,null,null,null,null,null,null,4346,38114000,{"$f":"IF(K4350=1,COUNTIF($K$5:K4350,1),\"\")","v":4346},{"$f":"IF(ISNUMBER(SEARCH('Bilgi Girişi'!$E$4,KalemAdı,1))=TRUE,1,0)","v":1},"Ekolu iskandiller","Mal",38114000,null,null,"Anemometre"]
[null,null,null,null,null,null,null,4348,38115100,{"$f":"IF(K4352=1,COUNTIF($K$5:K4352,1),\"\")","v":4348},{"$f":"IF(ISNUMBER(SEARCH('Bilgi Girişi'!$E$4,KalemAdı,1))=TRUE,1,0)","v":1},"Radar gözetleme ekipmanı","Mal",38115100,null,null,"Yağış veya buharlaşma kaydediciler"]
[null,null,null,null,null,null,null,4354,38125000,{"$f":"IF(K4358=1,COUNTIF($K$5:K4358,1),\"\")","v":4354},{"$f":"IF(ISNUMBER(SEARCH('Bilgi Girişi'!$E$4,KalemAdı,1))=TRUE,1,0)","v":1},"Yağış kaydediciler","Mal",38125000,null,null,{"$f":"IFERROR(VLOOKUP(ROW($P4358),$J$5:$L$9594,3,FALSE),\"\")","v":"Sıcaklık veya yüzey nemi gözlemleme aparatı"}]
[null,null,null,null,null,null,null,4357,38126200,{"$f":"IF(K4361=1,COUNTIF($K$5:K4361,1),\"\")","v":4357},{"$f":"IF(ISNUMBER(SEARCH('Bilgi Girişi'!$E$4,KalemAdı,1))=TRUE,1,0)","v":1},"Solar radyasyon yüzey gözlemleme cihazları","Mal",38126200,null,null,"Meteoroloji aletletleri aksesuarları"]
[null,null,null,null,null,null,null,4359,38126400,{"$f":"IF(K4363=1,COUNTIF($K$5:K4363,1),\"\")","v":4359},{"$f":"IF(ISNUMBER(SEARCH('Bilgi Girişi'!$E$4,KalemAdı,1))=TRUE,1,0)","v":1},"Yüzey rüzgar gözlemleme aparatı","Mal",38126400,null,null,"Jeoloji pergeli"]
[null,null,null,null,null,null,null,4362,38200000,{"$f":"IF(K4366=1,COUNTIF($K$5:K4366,1),\"\")","v":4362},{"$f":"IF(ISNUMBER(SEARCH('Bilgi Girişi'!$E$4,KalemAdı,1))=TRUE,1,0)","v":1},"Jeolojik ve jeofizik araçlar","Mal",38200000,null,null,"Elektromanyetik jeofizik aletleri"]
[null,null,null,null,null,null,null,4367,38240000,{"$f":"IF(K4371=1,COUNTIF($K$5:K4371,1),\"\")","v":4367},{"$f":"IF(ISNUMBER(SEARCH('Bilgi Girişi'!$E$4,KalemAdı,1))=TRUE,1,0)","v":1},"Gravite jeofizik aletleri","Mal",38240000,null,null,"Gravimetreler"]
[null,null,null,null,null,null,null,4371,38280000,{"$f":"IF(K4375=1,COUNTIF($K$5:K4375,1),\"\")","v":4371},{"$f":"IF(ISNUMBER(SEARCH('Bilgi Girişi'!$E$4,KalemAdı,1))=TRUE,1,0)","v":1},"Gravimetreler","Mal",38280000,null,null,"Sismik inceleme ve araştırma ekipmanı"]
[null,null,null,null,null,null,null,4376,38294000,{"$f":"IF(K4380=1,COUNTIF($K$5:K4380,1),\"\")","v":4376},{"$f":"IF(ISNUMBER(SEARCH('Bilgi Girişi'!$E$4,KalemAdı,1))=TRUE,1,0)","v":1},"Teodolitler","Mal",38294000,null,null,"Hassas teraziler"]
[null,null,null,null,null,null,null,4379,38300000,{"$f":"IF(K4383=1,COUNTIF($K$5:K4383,1),\"\")","v":4379},{"$f":"IF(ISNUMBER(SEARCH('Bilgi Girişi'!$E$4,KalemAdı,1))=TRUE,1,0)","v":1},"Ölçüm cihazları","Mal",38300000,null,null,"Elektronik teknik tartılar"]
[null,null,null,null,null,null,null,4381,38311000,{"$f":"IF(K4385=1,COUNTIF($K$5:K4385,1),\"\")","v":4381},{"$f":"IF(ISNUMBER(SEARCH('Bilgi Girişi'!$E$4,KalemAdı,1))=TRUE,1,0)","v":1},"Elektronik terazi ve aksesuarları","Mal",38311000,null,null,"Çizim masaları"]
[null,null,null,null,null,null,null,4384,38311210,{"$f":"IF(K4388=1,COUNTIF($K$5:K4388,1),\"\")","v":4384},{"$f":"IF(ISNUMBER(SEARCH('Bilgi Girişi'!$E$4,KalemAdı,1))=TRUE,1,0)","v":1},"Ayarlı/hassas ağırlıklar","Mal",38311210,null,null,"Hesap cetvelleri"]
[null,null,null,null,null,null,null,4390,38331000,{"$f":"IF(K4394=1,COUNTIF($K$5:K4394,1),\"\")","v":4390},{"$f":"IF(ISNUMBER(SEARCH('Bilgi Girişi'!$E$4,KalemAdı,1))=TRUE,1,0)","v":1},"İletkiler","Mal",38331000,null,null,"Radyasyon dozu ölçüm cihazları"]
[null,null,null,null,null,null,null,4391,38340000,{"$f":"IF(K4395=1,COUNTIF($K$5:K4395,1),\"\")","v":4391},{"$f":"IF(ISNUMBER(SEARCH('Bilgi Girişi'!$E$4,KalemAdı,1))=TRUE,1,0)","v":1},"Miktar ölçümünde kullanılan aletler","Mal",38340000,null,null,"Elektriksel miktarların ölçülmesine yarayan cihaz ve aletler"]
[null,null,null,null,null,null,null,4395,38341300,{"$f":"IF(K4399=1,COUNTIF($K$5:K4399,1),\"\")","v":4395},{"$f":"IF(ISNUMBER(SEARCH('Bilgi Girişi'!$E$4,KalemAdı,1))=TRUE,1,0)","v":1},"Elektriksel miktarların ölçülmesine yarayan cihaz ve aletler","Mal",38341300,null,null,"Kirlilik izleme aletleri"]
[null,null,null,null,null,null,null,4399,38341500,{"$f":"IF(K4403=1,COUNTIF($K$5:K4403,1),\"\")","v":4399},{"$f":"IF(ISNUMBER(SEARCH('Bilgi Girişi'!$E$4,KalemAdı,1))=TRUE,1,0)","v":1},"Kirlilik izleme aletleri","Mal",38341500,null,null,"Hata izleme ekipmanı"]
[null,null,null,null,null,null,null,4404,38344000,{"$f":"IF(K4408=1,COUNTIF($K$5:K4408,1),\"\")","v":4404},{"$f":"IF(ISNUMBER(SEARCH('Bilgi Girişi'!$E$4,KalemAdı,1))=TRUE,1,0)","v":1},"Kirlilik izleme aletleri","Mal",38344000,null,null,"Termometreler"]
[null,null,null,null,null,null,null,4407,38411000,{"$f":"IF(K4411=1,COUNTIF($K$5:K4411,1),\"\")","v":4407},{"$f":"IF(ISNUMBER(SEARCH('Bilgi Girişi'!$E$4,KalemAdı,1))=TRUE,1,0)","v":1},"Hidrometreler","Mal",38411000,null,null,"Psikometriler"]
[null,null,null,null,null,null,null,4409,38413000,{"$f":"IF(K4413=1,COUNTIF($K$5:K4413,1),\"\")","v":4409},{"$f":"IF(ISNUMBER(SEARCH('Bilgi Girişi'!$E$4,KalemAdı,1))=TRUE,1,0)","v":1},"Pirometreler","Mal",38413000,null,null,"Termokuplar"]
[null,null,null,null,null,null,null,4414,38418000,{"$f":"IF(K4418=1,COUNTIF($K$5:K4418,1),\"\")","v":4414},{"$f":"IF(ISNUMBER(SEARCH('Bilgi Girişi'!$E$4,KalemAdı,1))=TRUE,1,0)","v":1},"Kalorimetreler","Mal",38418000,null,null,"Debimetreler"]
[null,null,null,null,null,null,null,4416,38421000,{"$f":"IF(K4420=1,COUNTIF($K$5:K4420,1),\"\")","v":4416},{"$f":"IF(ISNUMBER(SEARCH('Bilgi Girişi'!$E$4,KalemAdı,1))=TRUE,1,0)","v":1},"Akış ölçüm ekipmanı","Mal",38421000,null,null,"Basınç ölçüm ekipmanı"]
[null,null,null,null,null,null,null,4419,38422000,{"$f":"IF(K4423=1,COUNTIF($K$5:K4423,1),\"\")","v":4419},{"$f":"IF(ISNUMBER(SEARCH('Bilgi Girişi'!$E$4,KalemAdı,1))=TRUE,1,0)","v":1},"Seviye ölçüm ekipmanı","Mal",38422000,null,null,"Akışkanlar mekaniği ekipmanı"]
[null,null,null,null,null,null,null,4424,38425100,{"$f":"IF(K4428=1,COUNTIF($K$5:K4428,1),\"\")","v":4424},{"$f":"IF(ISNUMBER(SEARCH('Bilgi Girişi'!$E$4,KalemAdı,1))=TRUE,1,0)","v":1},"Manometreler","Mal",38425100,null,null,"Güç tahmin cihazları"]
[null,null,null,null,null,null,null,4428,38425500,{"$f":"IF(K4432=1,COUNTIF($K$5:K4432,1),\"\")","v":4428},{"$f":"IF(ISNUMBER(SEARCH('Bilgi Girişi'!$E$4,KalemAdı,1))=TRUE,1,0)","v":1},"Güç tahmin cihazları","Mal",38425500,null,null,"Kulonmetre"]
[null,null,null,null,null,null,null,4432,38426000,{"$f":"IF(K4436=1,COUNTIF($K$5:K4436,1),\"\")","v":4432},{"$f":"IF(ISNUMBER(SEARCH('Bilgi Girişi'!$E$4,KalemAdı,1))=TRUE,1,0)","v":1},"Kulonmetre","Mal",38426000,null,null,"Tespit ve analiz aletleri"]
[null,null,null,null,null,null,null,4433,38427000,{"$f":"IF(K4437=1,COUNTIF($K$5:K4437,1),\"\")","v":4433},{"$f":"IF(ISNUMBER(SEARCH('Bilgi Girişi'!$E$4,KalemAdı,1))=TRUE,1,0)","v":1},"Flümetre","Mal",38427000,null,null,"Tespit aletleri"]
[null,null,null,null,null,null,null,4439,38431200,{"$f":"IF(K4443=1,COUNTIF($K$5:K4443,1),\"\")","v":4439},{"$f":"IF(ISNUMBER(SEARCH('Bilgi Girişi'!$E$4,KalemAdı,1))=TRUE,1,0)","v":1},"Duman tespit aletleri","Mal",38431200,null,null,"Kromatograflar"]
[null,null,null,null,null,null,null,4442,38432100,{"$f":"IF(K4446=1,COUNTIF($K$5:K4446,1),\"\")","v":4442},{"$f":"IF(ISNUMBER(SEARCH('Bilgi Girişi'!$E$4,KalemAdı,1))=TRUE,1,0)","v":1},"Gaz analiz aletleri","Mal",38432100,null,null,"Spektrometreler"]
[null,null,null,null,null,null,null,4444,38432210,{"$f":"IF(K4448=1,COUNTIF($K$5:K4448,1),\"\")","v":4444},{"$f":"IF(ISNUMBER(SEARCH('Bilgi Girişi'!$E$4,KalemAdı,1))=TRUE,1,0)","v":1},"Gaz kromatografları","Mal",38432210,null,null,"Emisyon ölçüm cihazı"]
[null,null,null,null,null,null,null,4447,38433100,{"$f":"IF(K4451=1,COUNTIF($K$5:K4451,1),\"\")","v":4447},{"$f":"IF(ISNUMBER(SEARCH('Bilgi Girişi'!$E$4,KalemAdı,1))=TRUE,1,0)","v":1},"Kütle spektrometreleri","Mal",38433100,null,null,"Analiz cihazları"]
[null,null,null,null,null,null,null,4452,38434100,{"$f":"IF(K4456=1,COUNTIF($K$5:K4456,1),\"\")","v":4452},{"$f":"IF(ISNUMBER(SEARCH('Bilgi Girişi'!$E$4,KalemAdı,1))=TRUE,1,0)","v":1},"Genleşme analiz cihazları","Mal",38434100,null,null,"Gürültü ölçüm ekipmanı"]
[null,null,null,null,null,null,null,4456,38434300,{"$f":"IF(K4460=1,COUNTIF($K$5:K4460,1),\"\")","v":4456},{"$f":"IF(ISNUMBER(SEARCH('Bilgi Girişi'!$E$4,KalemAdı,1))=TRUE,1,0)","v":1},"Gürültü ölçüm ekipmanı","Mal",38434300,null,null,"Sitometreler"]
[null,null,null,null,null,null,null,4461,38434520,{"$f":"IF(K4465=1,COUNTIF($K$5:K4465,1),\"\")","v":4461},{"$f":"IF(ISNUMBER(SEARCH('Bilgi Girişi'!$E$4,KalemAdı,1))=TRUE,1,0)","v":1},"Kan analiz cihazları","Mal",38434520,null,null,"Kimyasal madde analiz cihazları"]
[null,null,null,null,null,null,null,4464,38434550,{"$f":"IF(K4468=1,COUNTIF($K$5:K4468,1),\"\")","v":4464},{"$f":"IF(ISNUMBER(SEARCH('Bilgi Girişi'!$E$4,KalemAdı,1))=TRUE,1,0)","v":1},"Kan hücresi sayaçları","Mal",38434550,null,null,"Sıvıların tespiti için aletler"]
[null,null,null,null,null,null,null,4466,38434570,{"$f":"IF(K4470=1,COUNTIF($K$5:K4470,1),\"\")","v":4466},{"$f":"IF(ISNUMBER(SEARCH('Bilgi Girişi'!$E$4,KalemAdı,1))=TRUE,1,0)","v":1},"Hematoloji analiz cihazları","Mal",38434570,null,null,"Mekanik çalkalayıcılar"]
[null,null,null,null,null,null,null,4469,38436000,{"$f":"IF(K4473=1,COUNTIF($K$5:K4473,1),\"\")","v":4469},{"$f":"IF(ISNUMBER(SEARCH('Bilgi Girişi'!$E$4,KalemAdı,1))=TRUE,1,0)","v":1},"Çalkalayıcılar ve aksesuarları","Mal",38436000,null,null,"Ayırıcı huniler için ayaklar"]
[null,null,null,null,null,null,null,4475,38436150,{"$f":"IF(K4479=1,COUNTIF($K$5:K4479,1),\"\")","v":4475},{"$f":"IF(ISNUMBER(SEARCH('Bilgi Girişi'!$E$4,KalemAdı,1))=TRUE,1,0)","v":1},"Shakers(çalkalayıcılar) için Petri kutusu standı","Mal",38436150,null,null,"Döner uçuraçlar için koruyucu kalkan"]
[null,null,null,null,null,null,null,4476,38436160,{"$f":"IF(K4480=1,COUNTIF($K$5:K4480,1),\"\")","v":4476},{"$f":"IF(ISNUMBER(SEARCH('Bilgi Girişi'!$E$4,KalemAdı,1))=TRUE,1,0)","v":1},"Çalkalayıcılar için test tüpü stantı","Mal",38436160,null,null,"Döner uçuraçlar için kaynama noktası sensörü"]
[null,null,null,null,null,null,null,4480,38436220,{"$f":"IF(K4484=1,COUNTIF($K$5:K4484,1),\"\")","v":4480},{"$f":"IF(ISNUMBER(SEARCH('Bilgi Girişi'!$E$4,KalemAdı,1))=TRUE,1,0)","v":1},"Döner uçuraçlar için kaynama noktası sensörü","Mal",38436220,null,null,"Şişeler için ısıtma plakaları"]
[null,null,null,null,null,null,null,4484,38436320,{"$f":"IF(K4488=1,COUNTIF($K$5:K4488,1),\"\")","v":4484},{"$f":"IF(ISNUMBER(SEARCH('Bilgi Girişi'!$E$4,KalemAdı,1))=TRUE,1,0)","v":1},"Şişeler için ısıtma plakaları","Mal",38436320,null,null,"Mekanik karıştırıcılar için pervaneler"]
[null,null,null,null,null,null,null,4489,38436600,{"$f":"IF(K4493=1,COUNTIF($K$5:K4493,1),\"\")","v":4489},{"$f":"IF(ISNUMBER(SEARCH('Bilgi Girişi'!$E$4,KalemAdı,1))=TRUE,1,0)","v":1},"Daldırma homojenleştirenler","Mal",38436600,null,null,"Ultrason Desintegratörleri dönüştürücüleri"]
[null,null,null,null,null,null,null,4490,38436610,{"$f":"IF(K4494=1,COUNTIF($K$5:K4494,1),\"\")","v":4490},{"$f":"IF(ISNUMBER(SEARCH('Bilgi Girişi'!$E$4,KalemAdı,1))=TRUE,1,0)","v":1},"Daldırma homojenleştiriciler için dispersiyon aletleri","Mal",38436610,null,null,"Ultrason desintegratörleri için sürekli akış odaları"]
[null,null,null,null,null,null,null,4496,38437000,{"$f":"IF(K4500=1,COUNTIF($K$5:K4500,1),\"\")","v":4496},{"$f":"IF(ISNUMBER(SEARCH('Bilgi Girişi'!$E$4,KalemAdı,1))=TRUE,1,0)","v":1},"Laboratuar pipetleri ve aksesuarları","Mal",38437000,null,null,"Kontrol ve muayene düzenekleri"]
[null,null,null,null,null,null,null,4499,38437120,{"$f":"IF(K4503=1,COUNTIF($K$5:K4503,1),\"\")","v":4499},{"$f":"IF(ISNUMBER(SEARCH('Bilgi Girişi'!$E$4,KalemAdı,1))=TRUE,1,0)","v":1},"Pipet standları","Mal",38437120,null,null,"Taramalı elektron mikroskopları"]
[null,null,null,null,null,null,null,4501,38510000,{"$f":"IF(K4505=1,COUNTIF($K$5:K4505,1),\"\")","v":4501},{"$f":"IF(ISNUMBER(SEARCH('Bilgi Girişi'!$E$4,KalemAdı,1))=TRUE,1,0)","v":1},"Mikroskoplar","Mal",38510000,null,null,"İyon ve moleküler mikroskoplar"]
[null,null,null,null,null,null,null,4504,38511200,{"$f":"IF(K4508=1,COUNTIF($K$5:K4508,1),\"\")","v":4504},{"$f":"IF(ISNUMBER(SEARCH('Bilgi Girişi'!$E$4,KalemAdı,1))=TRUE,1,0)","v":1},"Transmisyon elektron mikroskopu","Mal",38511200,null,null,"Ters ve metalurjik mikroskopları"]
[null,null,null,null,null,null,null,4509,38513100,{"$f":"IF(K4513=1,COUNTIF($K$5:K4513,1),\"\")","v":4509},{"$f":"IF(ISNUMBER(SEARCH('Bilgi Girişi'!$E$4,KalemAdı,1))=TRUE,1,0)","v":1},"Ters mikroskoplar","Mal",38513100,null,null,"Tarama yapan prob mikroskopları"]
[null,null,null,null,null,null,null,4513,38514200,{"$f":"IF(K4517=1,COUNTIF($K$5:K4517,1),\"\")","v":4513},{"$f":"IF(ISNUMBER(SEARCH('Bilgi Girişi'!$E$4,KalemAdı,1))=TRUE,1,0)","v":1},"Tarama yapan prob mikroskopları","Mal",38514200,null,null,"Monoküler ve / veya binoküler hafif bileşik mikroskoplar"]
[null,null,null,null,null,null,null,4517,38516000,{"$f":"IF(K4521=1,COUNTIF($K$5:K4521,1),\"\")","v":4517},{"$f":"IF(ISNUMBER(SEARCH('Bilgi Girişi'!$E$4,KalemAdı,1))=TRUE,1,0)","v":1},"Monoküler ve / veya binoküler hafif bileşik mikroskoplar","Mal",38516000,null,null,"Geniş alan, stereo veya diseksiksiyon ışık mikroskopları"]
[null,null,null,null,null,null,null,4518,38517000,{"$f":"IF(K4522=1,COUNTIF($K$5:K4522,1),\"\")","v":4518},{"$f":"IF(ISNUMBER(SEARCH('Bilgi Girişi'!$E$4,KalemAdı,1))=TRUE,1,0)","v":1},"Akustik ve projeksiyon mikroskopları","Mal",38517000,null,null,"Geniş alan mikroskopları"]
[null,null,null,null,null,null,null,4523,38518200,{"$f":"IF(K4527=1,COUNTIF($K$5:K4527,1),\"\")","v":4523},{"$f":"IF(ISNUMBER(SEARCH('Bilgi Girişi'!$E$4,KalemAdı,1))=TRUE,1,0)","v":1},"Steryo veya diseksiyon ışık mikroskopları","Mal",38518200,null,null,"Mikroskoplar için fotoğraf veya video çekme ekleri"]
[null,null,null,null,null,null,null,4526,38519200,{"$f":"IF(K4530=1,COUNTIF($K$5:K4530,1),\"\")","v":4526},{"$f":"IF(ISNUMBER(SEARCH('Bilgi Girişi'!$E$4,KalemAdı,1))=TRUE,1,0)","v":1},"Mikroskop hedefleri","Mal",38519200,null,null,"Otomatik mikroskop şaryoları"]
[null,null,null,null,null,null,null,4532,38519600,{"$f":"IF(K4536=1,COUNTIF($K$5:K4536,1),\"\")","v":4532},{"$f":"IF(ISNUMBER(SEARCH('Bilgi Girişi'!$E$4,KalemAdı,1))=TRUE,1,0)","v":1},"Mikroskop oküler, yoğunlaştırıcılar, toplayıcılar, tüpler, şaryoları ve kapakları","Mal",38519600,null,null,"Mikroskop tüpleri"]
[null,null,null,null,null,null,null,4534,38519620,{"$f":"IF(K4538=1,COUNTIF($K$5:K4538,1),\"\")","v":4534},{"$f":"IF(ISNUMBER(SEARCH('Bilgi Girişi'!$E$4,KalemAdı,1))=TRUE,1,0)","v":1},"Mikroskop yoğunlaştırıcıları","Mal",38519620,null,null,"Mikroskobu kapakları"]
[null,null,null,null,null,null,null,4537,38519650,{"$f":"IF(K4541=1,COUNTIF($K$5:K4541,1),\"\")","v":4537},{"$f":"IF(ISNUMBER(SEARCH('Bilgi Girişi'!$E$4,KalemAdı,1))=TRUE,1,0)","v":1},"Mikroskop şaryoları","Mal",38519650,null,null,"Kromatografik tarayıcılar"]
[null,null,null,null,null,null,null,4541,38522000,{"$f":"IF(K4545=1,COUNTIF($K$5:K4545,1),\"\")","v":4541},{"$f":"IF(ISNUMBER(SEARCH('Bilgi Girişi'!$E$4,KalemAdı,1))=TRUE,1,0)","v":1},"Kromatografik tarayıcılar","Mal",38522000,null,null,"Phantom Dozimetreler"]
[null,null,null,null,null,null,null,4546,38530000,{"$f":"IF(K4550=1,COUNTIF($K$5:K4550,1),\"\")","v":4546},{"$f":"IF(ISNUMBER(SEARCH('Bilgi Girişi'!$E$4,KalemAdı,1))=TRUE,1,0)","v":1},"Defraksiyon aleti, kırınım aleti","Mal",38530000,null,null,{"$f":"IFERROR(VLOOKUP(ROW($P4550),$J$5:$L$9594,3,FALSE),\"\")","v":"Gaz tespit ekipmanı"}]
[null,null,null,null,null,null,null,4549,38542000,{"$f":"IF(K4553=1,COUNTIF($K$5:K4553,1),\"\")","v":4549},{"$f":"IF(ISNUMBER(SEARCH('Bilgi Girişi'!$E$4,KalemAdı,1))=TRUE,1,0)","v":1},"Servo hidrolik test aletleri","Mal",38542000,null,null,"Patlayıcı madde tespit sistemi"]
[null,null,null,null,null,null,null,4551,38544000,{"$f":"IF(K4555=1,COUNTIF($K$5:K4555,1),\"\")","v":4551},{"$f":"IF(ISNUMBER(SEARCH('Bilgi Girişi'!$E$4,KalemAdı,1))=TRUE,1,0)","v":1},"Alkol tespit cihazları","Mal",38544000,null,null,"Dozimetre sistemi"]
[null,null,null,null,null,null,null,4554,38546100,{"$f":"IF(K4558=1,COUNTIF($K$5:K4558,1),\"\")","v":4554},{"$f":"IF(ISNUMBER(SEARCH('Bilgi Girişi'!$E$4,KalemAdı,1))=TRUE,1,0)","v":1},"Bomba detektörleri","Mal",38546100,null,null,"Enerji sayaçları"]
[null,null,null,null,null,null,null,4560,38553000,{"$f":"IF(K4564=1,COUNTIF($K$5:K4564,1),\"\")","v":4560},{"$f":"IF(ISNUMBER(SEARCH('Bilgi Girişi'!$E$4,KalemAdı,1))=TRUE,1,0)","v":1},"Manyetik sayaçlar","Mal",38553000,null,null,"Araçlar için hız göstergeleri"]
[null,null,null,null,null,null,null,4561,38554000,{"$f":"IF(K4565=1,COUNTIF($K$5:K4565,1),\"\")","v":4561},{"$f":"IF(ISNUMBER(SEARCH('Bilgi Girişi'!$E$4,KalemAdı,1))=TRUE,1,0)","v":1},"Elektrik sayaçları","Mal",38554000,null,null,"Takometreler"]
[null,null,null,null,null,null,null,4566,38561120,{"$f":"IF(K4570=1,COUNTIF($K$5:K4570,1),\"\")","v":4566},{"$f":"IF(ISNUMBER(SEARCH('Bilgi Girişi'!$E$4,KalemAdı,1))=TRUE,1,0)","v":1},"Taksimetreler","Mal",38561120,null,null,"Radyasyon kullanımı ilkesine dayalı çalışan tıbbi amaçlı olmayan ekipmanlar"]
[null,null,null,null,null,null,null,4570,38580000,{"$f":"IF(K4574=1,COUNTIF($K$5:K4574,1),\"\")","v":4570},{"$f":"IF(ISNUMBER(SEARCH('Bilgi Girişi'!$E$4,KalemAdı,1))=TRUE,1,0)","v":1},"Radyasyon kullanımı ilkesine dayalı çalışan tıbbi amaçlı olmayan ekipmanlar","Mal",38580000,null,null,"Polarize eden malzemeler"]
[null,null,null,null,null,null,null,4574,38620000,{"$f":"IF(K4578=1,COUNTIF($K$5:K4578,1),\"\")","v":4574},{"$f":"IF(ISNUMBER(SEARCH('Bilgi Girişi'!$E$4,KalemAdı,1))=TRUE,1,0)","v":1},"Polarize eden malzemeler","Mal",38620000,null,null,"Optik yardımcı malzemeler"]
[null,null,null,null,null,null,null,4575,38621000,{"$f":"IF(K4579=1,COUNTIF($K$5:K4579,1),\"\")","v":4575},{"$f":"IF(ISNUMBER(SEARCH('Bilgi Girişi'!$E$4,KalemAdı,1))=TRUE,1,0)","v":1},"Fiber optik aletler","Mal",38621000,null,null,"Astronomik ve optik cihazlar"]
[null,null,null,null,null,null,null,4579,38630000,{"$f":"IF(K4583=1,COUNTIF($K$5:K4583,1),\"\")","v":4579},{"$f":"IF(ISNUMBER(SEARCH('Bilgi Girişi'!$E$4,KalemAdı,1))=TRUE,1,0)","v":1},"Astronomik ve optik cihazlar","Mal",38630000,null,null,"Optik mikroskoplar"]
[null,null,null,null,null,null,null,4584,38635000,{"$f":"IF(K4588=1,COUNTIF($K$5:K4588,1),\"\")","v":4584},{"$f":"IF(ISNUMBER(SEARCH('Bilgi Girişi'!$E$4,KalemAdı,1))=TRUE,1,0)","v":1},"Teleskoplar","Mal",38635000,null,null,"Sıvı kristalli aletler"]
[null,null,null,null,null,null,null,4586,38636100,{"$f":"IF(K4590=1,COUNTIF($K$5:K4590,1),\"\")","v":4586},{"$f":"IF(ISNUMBER(SEARCH('Bilgi Girişi'!$E$4,KalemAdı,1))=TRUE,1,0)","v":1},"Lazerler","Mal",38636100,null,null,"Fotoğraf ekipmanları"]
[null,null,null,null,null,null,null,4589,38641000,{"$f":"IF(K4593=1,COUNTIF($K$5:K4593,1),\"\")","v":4589},{"$f":"IF(ISNUMBER(SEARCH('Bilgi Girişi'!$E$4,KalemAdı,1))=TRUE,1,0)","v":1},"Periskoplar","Mal",38641000,null,null,"Kamera gövdeleri"]
[null,null,null,null,null,null,null,4594,38651300,{"$f":"IF(K4598=1,COUNTIF($K$5:K4598,1),\"\")","v":4594},{"$f":"IF(ISNUMBER(SEARCH('Bilgi Girişi'!$E$4,KalemAdı,1))=TRUE,1,0)","v":1},"Baskı klişesi veya silindirleri hazırlamada kullanılan fotoğraf makineleri","Mal",38651300,null,null,"Sinematografik projektörler"]
[null,null,null,null,null,null,null,4598,38652000,{"$f":"IF(K4602=1,COUNTIF($K$5:K4602,1),\"\")","v":4598},{"$f":"IF(ISNUMBER(SEARCH('Bilgi Girişi'!$E$4,KalemAdı,1))=TRUE,1,0)","v":1},"Sinematografik projektörler","Mal",38652000,null,null,"Fotoğraf büyütücü cihazlar"]
[null,null,null,null,null,null,null,4603,38652300,{"$f":"IF(K4607=1,COUNTIF($K$5:K4607,1),\"\")","v":4603},{"$f":"IF(ISNUMBER(SEARCH('Bilgi Girişi'!$E$4,KalemAdı,1))=TRUE,1,0)","v":1},"Fotoğraf küçültücü cihazlar","Mal",38652300,null,null,"Fotoğrafçılığa özgü flaş küpleri"]
[null,null,null,null,null,null,null,4606,38653110,{"$f":"IF(K4610=1,COUNTIF($K$5:K4610,1),\"\")","v":4606},{"$f":"IF(ISNUMBER(SEARCH('Bilgi Girişi'!$E$4,KalemAdı,1))=TRUE,1,0)","v":1},"Fotoğrafçılığa özgü flaş lambaları","Mal",38653110,null,null,"Projeksiyon perdeleri"]
[null,null,null,null,null,null,null,4608,38653200,{"$f":"IF(K4612=1,COUNTIF($K$5:K4612,1),\"\")","v":4608},{"$f":"IF(ISNUMBER(SEARCH('Bilgi Girişi'!$E$4,KalemAdı,1))=TRUE,1,0)","v":1},"Fotoğraf büyütücü cihazlar","Mal",38653200,null,null,"Mikrofilm ekipmanı"]
[null,null,null,null,null,null,null,4611,38654000,{"$f":"IF(K4615=1,COUNTIF($K$5:K4615,1),\"\")","v":4611},{"$f":"IF(ISNUMBER(SEARCH('Bilgi Girişi'!$E$4,KalemAdı,1))=TRUE,1,0)","v":1},"Mikrofilm ve mikrofiş ekipmanı","Mal",38654000,null,null,"Mikrofiş okuyucuları"]
[null,null,null,null,null,null,null,4617,38654310,{"$f":"IF(K4621=1,COUNTIF($K$5:K4621,1),\"\")","v":4617},{"$f":"IF(ISNUMBER(SEARCH('Bilgi Girişi'!$E$4,KalemAdı,1))=TRUE,1,0)","v":1},"Mikroform okuyucuları","Mal",38654310,null,null,"Park sayaçları"]
[null,null,null,null,null,null,null,4619,38710000,{"$f":"IF(K4623=1,COUNTIF($K$5:K4623,1),\"\")","v":4619},{"$f":"IF(ISNUMBER(SEARCH('Bilgi Girişi'!$E$4,KalemAdı,1))=TRUE,1,0)","v":1},"Zaman yazıcı cihazları","Mal",38710000,null,null,"Süreç zamanlayıcıları"]
[null,null,null,null,null,null,null,4622,38731000,{"$f":"IF(K4626=1,COUNTIF($K$5:K4626,1),\"\")","v":4622},{"$f":"IF(ISNUMBER(SEARCH('Bilgi Girişi'!$E$4,KalemAdı,1))=TRUE,1,0)","v":1},"Jeton sayaçları","Mal",38731000,null,null,"Endüstriyel süreç kontrol ekipmanı"]
[null,null,null,null,null,null,null,4627,38820000,{"$f":"IF(K4631=1,COUNTIF($K$5:K4631,1),\"\")","v":4627},{"$f":"IF(ISNUMBER(SEARCH('Bilgi Girişi'!$E$4,KalemAdı,1))=TRUE,1,0)","v":1},"Uzaktan kumanda ekipmanı","Mal",38820000,null,null,"Hijyen izleme ve test etme ekipmanları"]
[null,null,null,null,null,null,null,4631,38910000,{"$f":"IF(K4635=1,COUNTIF($K$5:K4635,1),\"\")","v":4631},{"$f":"IF(ISNUMBER(SEARCH('Bilgi Girişi'!$E$4,KalemAdı,1))=TRUE,1,0)","v":1},"Hijyen izleme ve test etme ekipmanları","Mal",38910000,null,null,"Tahıl analizörleri"]
[null,null,null,null,null,null,null,4634,38920000,{"$f":"IF(K4638=1,COUNTIF($K$5:K4638,1),\"\")","v":4634},{"$f":"IF(ISNUMBER(SEARCH('Bilgi Girişi'!$E$4,KalemAdı,1))=TRUE,1,0)","v":1},"Tohum ve yem ekipmanları","Mal",38920000,null,null,"Nem ve rutubet ölçme aletleri"]
[null,null,null,null,null,null,null,4636,38922000,{"$f":"IF(K4640=1,COUNTIF($K$5:K4640,1),\"\")","v":4636},{"$f":"IF(ISNUMBER(SEARCH('Bilgi Girişi'!$E$4,KalemAdı,1))=TRUE,1,0)","v":1},"Tohum sayaçları","Mal",38922000,null,null,"Nem ölçücüler"]
[null,null,null,null,null,null,null,4641,38940000,{"$f":"IF(K4645=1,COUNTIF($K$5:K4645,1),\"\")","v":4641},{"$f":"IF(ISNUMBER(SEARCH('Bilgi Girişi'!$E$4,KalemAdı,1))=TRUE,1,0)","v":1},"Nükleer değerlendirme araçları","Mal",38940000,null,null,"Beta gama sayaçları"]
[null,null,null,null,null,null,null,4643,38942000,{"$f":"IF(K4647=1,COUNTIF($K$5:K4647,1),\"\")","v":4643},{"$f":"IF(ISNUMBER(SEARCH('Bilgi Girişi'!$E$4,KalemAdı,1))=TRUE,1,0)","v":1},"Alfa-beta sayaçları","Mal",38942000,null,null,"KVP metre"]
[null,null,null,null,null,null,null,4646,38945000,{"$f":"IF(K4650=1,COUNTIF($K$5:K4650,1),\"\")","v":4646},{"$f":"IF(ISNUMBER(SEARCH('Bilgi Girişi'!$E$4,KalemAdı,1))=TRUE,1,0)","v":1},"Gamma sayaçları","Mal",38945000,null,null,"Gerçek zamanlı Polimeraz Zincir Reaksiyonu (PCR) donanımları"]
[null,null,null,null,null,null,null,4651,38960000,{"$f":"IF(K4655=1,COUNTIF($K$5:K4655,1),\"\")","v":4651},{"$f":"IF(ISNUMBER(SEARCH('Bilgi Girişi'!$E$4,KalemAdı,1))=TRUE,1,0)","v":1},"Alkol ateşleme kilidi","Mal",38960000,null,null,"Koltuklar, sandalyeler ve ilgili ürünler ve ilgili parçalar"]
[null,null,null,null,null,null,null,4655,39110000,{"$f":"IF(K4659=1,COUNTIF($K$5:K4659,1),\"\")","v":4655},{"$f":"IF(ISNUMBER(SEARCH('Bilgi Girişi'!$E$4,KalemAdı,1))=TRUE,1,0)","v":1},"Koltuklar, sandalyeler ve ilgili ürünler ve ilgili parçalar","Mal",39110000,null,null,"Fırlatma koltukları"]
[null,null,null,null,null,null,null,4659,39111300,{"$f":"IF(K4663=1,COUNTIF($K$5:K4663,1),\"\")","v":4659},{"$f":"IF(ISNUMBER(SEARCH('Bilgi Girişi'!$E$4,KalemAdı,1))=TRUE,1,0)","v":1},"Fırlatma koltukları","Mal",39111300,null,null,"Koltuklar"]
[null,null,null,null,null,null,null,4660,39112000,{"$f":"IF(K4664=1,COUNTIF($K$5:K4664,1),\"\")","v":4660},{"$f":"IF(ISNUMBER(SEARCH('Bilgi Girişi'!$E$4,KalemAdı,1))=TRUE,1,0)","v":1},"Sandalyeler","Mal",39112000,null,null,"Kanepeler"]
[null,null,null,null,null,null,null,4664,39113200,{"$f":"IF(K4668=1,COUNTIF($K$5:K4668,1),\"\")","v":4664},{"$f":"IF(ISNUMBER(SEARCH('Bilgi Girişi'!$E$4,KalemAdı,1))=TRUE,1,0)","v":1},"Kanepeler","Mal",39113200,null,null,"Tezgahlar"]
[null,null,null,null,null,null,null,4669,39113700,{"$f":"IF(K4673=1,COUNTIF($K$5:K4673,1),\"\")","v":4669},{"$f":"IF(ISNUMBER(SEARCH('Bilgi Girişi'!$E$4,KalemAdı,1))=TRUE,1,0)","v":1},"Ayak iskemlesi","Mal",39113700,null,null,"Masa ve sehpalar"]
[null,null,null,null,null,null,null,4672,39120000,{"$f":"IF(K4676=1,COUNTIF($K$5:K4676,1),\"\")","v":4672},{"$f":"IF(ISNUMBER(SEARCH('Bilgi Girişi'!$E$4,KalemAdı,1))=TRUE,1,0)","v":1},"Masalar, dolaplar, çalışma masaları ve kütüphaneler","Mal",39120000,null,null,"Dolap ve Kütüphaneler"]
[null,null,null,null,null,null,null,4674,39121100,{"$f":"IF(K4678=1,COUNTIF($K$5:K4678,1),\"\")","v":4674},{"$f":"IF(ISNUMBER(SEARCH('Bilgi Girişi'!$E$4,KalemAdı,1))=TRUE,1,0)","v":1},"Masalar","Mal",39121100,null,null,{"$f":"IFERROR(VLOOKUP(ROW($P4678),$J$5:$L$9594,3,FALSE),\"\")","v":"Kitaplıklar"}]
[null,null,null,null,null,null,null,4679,39130000,{"$f":"IF(K4683=1,COUNTIF($K$5:K4683,1),\"\")","v":4679},{"$f":"IF(ISNUMBER(SEARCH('Bilgi Girişi'!$E$4,KalemAdı,1))=TRUE,1,0)","v":1},"Büro mobilyaları","Mal",39130000,null,null,"Dosyalama dolapları"]
[null,null,null,null,null,null,null,4684,39132200,{"$f":"IF(K4688=1,COUNTIF($K$5:K4688,1),\"\")","v":4684},{"$f":"IF(ISNUMBER(SEARCH('Bilgi Girişi'!$E$4,KalemAdı,1))=TRUE,1,0)","v":1},"Kart indeksli dolaplar","Mal",39132200,null,null,"Teşhir birimleri"]
[null,null,null,null,null,null,null,4688,39133000,{"$f":"IF(K4692=1,COUNTIF($K$5:K4692,1),\"\")","v":4688},{"$f":"IF(ISNUMBER(SEARCH('Bilgi Girişi'!$E$4,KalemAdı,1))=TRUE,1,0)","v":1},"Teşhir birimleri","Mal",39133000,null,null,"Tasnif tepsileri"]
[null,null,null,null,null,null,null,4691,39135000,{"$f":"IF(K4695=1,COUNTIF($K$5:K4695,1),\"\")","v":4691},{"$f":"IF(ISNUMBER(SEARCH('Bilgi Girişi'!$E$4,KalemAdı,1))=TRUE,1,0)","v":1},"Tasnif masaları","Mal",39135000,null,null,"Ev mobilyaları"]
[null,null,null,null,null,null,null,4693,39136000,{"$f":"IF(K4697=1,COUNTIF($K$5:K4697,1),\"\")","v":4693},{"$f":"IF(ISNUMBER(SEARCH('Bilgi Girişi'!$E$4,KalemAdı,1))=TRUE,1,0)","v":1},"Ceket askıları","Mal",39136000,null,null,"Raflar"]
[null,null,null,null,null,null,null,4696,39141000,{"$f":"IF(K4700=1,COUNTIF($K$5:K4700,1),\"\")","v":4696},{"$f":"IF(ISNUMBER(SEARCH('Bilgi Girişi'!$E$4,KalemAdı,1))=TRUE,1,0)","v":1},"Mutfak mobilya ve ekipmanları","Mal",39141000,null,null,"Hazır mutfaklar"]
[null,null,null,null,null,null,null,4702,39142000,{"$f":"IF(K4706=1,COUNTIF($K$5:K4706,1),\"\")","v":4702},{"$f":"IF(ISNUMBER(SEARCH('Bilgi Girişi'!$E$4,KalemAdı,1))=TRUE,1,0)","v":1},"Bahçe mobilyaları","Mal",39142000,null,null,"Yatak bazaları"]
[null,null,null,null,null,null,null,4704,39143100,{"$f":"IF(K4708=1,COUNTIF($K$5:K4708,1),\"\")","v":4704},{"$f":"IF(ISNUMBER(SEARCH('Bilgi Girişi'!$E$4,KalemAdı,1))=TRUE,1,0)","v":1},"Yatak odası mobilyaları","Mal",39143100,null,null,"Özel yumuşak döşemeler"]
[null,null,null,null,null,null,null,4707,39143112,{"$f":"IF(K4711=1,COUNTIF($K$5:K4711,1),\"\")","v":4707},{"$f":"IF(ISNUMBER(SEARCH('Bilgi Girişi'!$E$4,KalemAdı,1))=TRUE,1,0)","v":1},"Somyalar","Mal",39143112,null,null,"Beşikler"]
[null,null,null,null,null,null,null,4712,39143120,{"$f":"IF(K4716=1,COUNTIF($K$5:K4716,1),\"\")","v":4712},{"$f":"IF(ISNUMBER(SEARCH('Bilgi Girişi'!$E$4,KalemAdı,1))=TRUE,1,0)","v":1},"Yatak ve yatak takımları dışında kalan yatak odası mobilyaları","Mal",39143120,null,null,"Yemek odası mobilyaları"]
[null,null,null,null,null,null,null,4716,39143200,{"$f":"IF(K4720=1,COUNTIF($K$5:K4720,1),\"\")","v":4716},{"$f":"IF(ISNUMBER(SEARCH('Bilgi Girişi'!$E$4,KalemAdı,1))=TRUE,1,0)","v":1},"Yemek odası mobilyaları","Mal",39143200,null,null,"Banyo mobilyaları"]
[null,null,null,null,null,null,null,4717,39143210,{"$f":"IF(K4721=1,COUNTIF($K$5:K4721,1),\"\")","v":4717},{"$f":"IF(ISNUMBER(SEARCH('Bilgi Girişi'!$E$4,KalemAdı,1))=TRUE,1,0)","v":1},"Yemek odası masaları","Mal",39143210,null,null,"Şarap mahzeni fikstürleri"]
[null,null,null,null,null,null,null,4721,39145000,{"$f":"IF(K4725=1,COUNTIF($K$5:K4725,1),\"\")","v":4721},{"$f":"IF(ISNUMBER(SEARCH('Bilgi Girişi'!$E$4,KalemAdı,1))=TRUE,1,0)","v":1},"Şarap mahzeni fikstürleri","Mal",39145000,null,null,"Çalışma tezgahları"]
[null,null,null,null,null,null,null,4726,39151300,{"$f":"IF(K4730=1,COUNTIF($K$5:K4730,1),\"\")","v":4726},{"$f":"IF(ISNUMBER(SEARCH('Bilgi Girişi'!$E$4,KalemAdı,1))=TRUE,1,0)","v":1},"Modüler mobilyalar","Mal",39151300,null,null,"Sergi ekipmanları"]
[null,null,null,null,null,null,null,4729,39153100,{"$f":"IF(K4733=1,COUNTIF($K$5:K4733,1),\"\")","v":4729},{"$f":"IF(ISNUMBER(SEARCH('Bilgi Girişi'!$E$4,KalemAdı,1))=TRUE,1,0)","v":1},"Kitap stantları","Mal",39153100,null,null,"Kütüphane ekipmanları"]
[null,null,null,null,null,null,null,4731,39154100,{"$f":"IF(K4735=1,COUNTIF($K$5:K4735,1),\"\")","v":4731},{"$f":"IF(ISNUMBER(SEARCH('Bilgi Girişi'!$E$4,KalemAdı,1))=TRUE,1,0)","v":1},"Sergi standtları","Mal",39154100,null,null,"Mobilya parçaları"]
[null,null,null,null,null,null,null,4736,39160000,{"$f":"IF(K4740=1,COUNTIF($K$5:K4740,1),\"\")","v":4736},{"$f":"IF(ISNUMBER(SEARCH('Bilgi Girişi'!$E$4,KalemAdı,1))=TRUE,1,0)","v":1},"Okul mobilyaları","Mal",39160000,null,null,"Öğretim malzemeleri"]
[null,null,null,null,null,null,null,4740,39162110,{"$f":"IF(K4744=1,COUNTIF($K$5:K4744,1),\"\")","v":4740},{"$f":"IF(ISNUMBER(SEARCH('Bilgi Girişi'!$E$4,KalemAdı,1))=TRUE,1,0)","v":1},"Öğretim malzemeleri","Mal",39162110,null,null,"Tezgahlar"]
[null,null,null,null,null,null,null,4744,39172000,{"$f":"IF(K4748=1,COUNTIF($K$5:K4748,1),\"\")","v":4744},{"$f":"IF(ISNUMBER(SEARCH('Bilgi Girişi'!$E$4,KalemAdı,1))=TRUE,1,0)","v":1},"Tezgahlar","Mal",39172000,null,null,"Laboratuar mobilyaları"]
[null,null,null,null,null,null,null,4745,39172100,{"$f":"IF(K4749=1,COUNTIF($K$5:K4749,1),\"\")","v":4745},{"$f":"IF(ISNUMBER(SEARCH('Bilgi Girişi'!$E$4,KalemAdı,1))=TRUE,1,0)","v":1},"Servis tezgahları","Mal",39172100,null,null,"Laboratuar tezgahları"]
[null,null,null,null,null,null,null,4750,39190000,{"$f":"IF(K4754=1,COUNTIF($K$5:K4754,1),\"\")","v":4750},{"$f":"IF(ISNUMBER(SEARCH('Bilgi Girişi'!$E$4,KalemAdı,1))=TRUE,1,0)","v":1},"Duvar kağıdı ve diğer kaplamalar","Mal",39190000,null,null,"Kağıt veya karton esaslı yer kaplamaları"]
[null,null,null,null,null,null,null,4753,39192000,{"$f":"IF(K4757=1,COUNTIF($K$5:K4757,1),\"\")","v":4753},{"$f":"IF(ISNUMBER(SEARCH('Bilgi Girişi'!$E$4,KalemAdı,1))=TRUE,1,0)","v":1},"Tekstil duvar kaplamaları","Mal",39192000,null,null,"Mutfak ekipmanı"]
[null,null,null,null,null,null,null,4759,39221110,{"$f":"IF(K4763=1,COUNTIF($K$5:K4763,1),\"\")","v":4759},{"$f":"IF(ISNUMBER(SEARCH('Bilgi Girişi'!$E$4,KalemAdı,1))=TRUE,1,0)","v":1},"Tabak takımları","Mal",39221110,null,null,"Cam bardaklar"]
[null,null,null,null,null,null,null,4761,39221121,{"$f":"IF(K4765=1,COUNTIF($K$5:K4765,1),\"\")","v":4761},{"$f":"IF(ISNUMBER(SEARCH('Bilgi Girişi'!$E$4,KalemAdı,1))=TRUE,1,0)","v":1},"Fincanlar","Mal",39221121,null,null,"Su mataraları"]
[null,null,null,null,null,null,null,4764,39221130,{"$f":"IF(K4768=1,COUNTIF($K$5:K4768,1),\"\")","v":4764},{"$f":"IF(ISNUMBER(SEARCH('Bilgi Girişi'!$E$4,KalemAdı,1))=TRUE,1,0)","v":1},"Yiyecek kapları","Mal",39221130,null,null,"Kurutma rafları"]
[null,null,null,null,null,null,null,4769,39221180,{"$f":"IF(K4773=1,COUNTIF($K$5:K4773,1),\"\")","v":4769},{"$f":"IF(ISNUMBER(SEARCH('Bilgi Girişi'!$E$4,KalemAdı,1))=TRUE,1,0)","v":1},"Mutfak takımları","Mal",39221180,null,null,"Seramik çanaklar, tepsiler"]
[null,null,null,null,null,null,null,4773,39221220,{"$f":"IF(K4777=1,COUNTIF($K$5:K4777,1),\"\")","v":4773},{"$f":"IF(ISNUMBER(SEARCH('Bilgi Girişi'!$E$4,KalemAdı,1))=TRUE,1,0)","v":1},"Seramik çanaklar, tepsiler","Mal",39221220,null,null,"Metal yemek takımları"]
[null,null,null,null,null,null,null,4774,39221230,{"$f":"IF(K4778=1,COUNTIF($K$5:K4778,1),\"\")","v":4774},{"$f":"IF(ISNUMBER(SEARCH('Bilgi Girişi'!$E$4,KalemAdı,1))=TRUE,1,0)","v":1},"Fincan/çay tabakları","Mal",39221230,null,null,"Yiyecek servis malzemeleri"]
[null,null,null,null,null,null,null,4778,39222000,{"$f":"IF(K4782=1,COUNTIF($K$5:K4782,1),\"\")","v":4778},{"$f":"IF(ISNUMBER(SEARCH('Bilgi Girişi'!$E$4,KalemAdı,1))=TRUE,1,0)","v":1},"Yiyecek servis malzemeleri","Mal",39222000,null,null,"Yemek tepsileri"]
[null,null,null,null,null,null,null,4781,39222120,{"$f":"IF(K4785=1,COUNTIF($K$5:K4785,1),\"\")","v":4781},{"$f":"IF(ISNUMBER(SEARCH('Bilgi Girişi'!$E$4,KalemAdı,1))=TRUE,1,0)","v":1},"Tek kullanımlık bardaklar","Mal",39222120,null,null,"Çatallar"]
[null,null,null,null,null,null,null,4787,39224100,{"$f":"IF(K4791=1,COUNTIF($K$5:K4791,1),\"\")","v":4787},{"$f":"IF(ISNUMBER(SEARCH('Bilgi Girişi'!$E$4,KalemAdı,1))=TRUE,1,0)","v":1},"Süpürgeler","Mal",39224100,null,null,"Tuvalet fırçaları"]
[null,null,null,null,null,null,null,4788,39224200,{"$f":"IF(K4792=1,COUNTIF($K$5:K4792,1),\"\")","v":4788},{"$f":"IF(ISNUMBER(SEARCH('Bilgi Girişi'!$E$4,KalemAdı,1))=TRUE,1,0)","v":1},"Fırçalar","Mal",39224200,null,null,"Plastik süngerler"]
[null,null,null,null,null,null,null,4793,39224330,{"$f":"IF(K4797=1,COUNTIF($K$5:K4797,1),\"\")","v":4793},{"$f":"IF(ISNUMBER(SEARCH('Bilgi Girişi'!$E$4,KalemAdı,1))=TRUE,1,0)","v":1},"Kovalar","Mal",39224330,null,null,"Sigara çakmakları"]
[null,null,null,null,null,null,null,4797,39225100,{"$f":"IF(K4801=1,COUNTIF($K$5:K4801,1),\"\")","v":4797},{"$f":"IF(ISNUMBER(SEARCH('Bilgi Girişi'!$E$4,KalemAdı,1))=TRUE,1,0)","v":1},"Sigara çakmakları","Mal",39225100,null,null,"Piroteknik ürünler, havai fişekler"]
[null,null,null,null,null,null,null,4801,39225500,{"$f":"IF(K4805=1,COUNTIF($K$5:K4805,1),\"\")","v":4801},{"$f":"IF(ISNUMBER(SEARCH('Bilgi Girişi'!$E$4,KalemAdı,1))=TRUE,1,0)","v":1},"Piroteknik ürünler, havai fişekler","Mal",39225500,null,null,"Kavanozlar"]
[null,null,null,null,null,null,null,4802,39225600,{"$f":"IF(K4806=1,COUNTIF($K$5:K4806,1),\"\")","v":4802},{"$f":"IF(ISNUMBER(SEARCH('Bilgi Girişi'!$E$4,KalemAdı,1))=TRUE,1,0)","v":1},"Mumlar","Mal",39225600,null,null,{"$f":"IFERROR(VLOOKUP(ROW($P4806),$J$5:$L$9594,3,FALSE),\"\")","v":"Küçük şişeler"}]
[null,null,null,null,null,null,null,4806,39225730,{"$f":"IF(K4810=1,COUNTIF($K$5:K4810,1),\"\")","v":4806},{"$f":"IF(ISNUMBER(SEARCH('Bilgi Girişi'!$E$4,KalemAdı,1))=TRUE,1,0)","v":1},"Küçük şişeler","Mal",39225730,null,null,"Damacanalar"]
[null,null,null,null,null,null,null,4811,39226220,{"$f":"IF(K4815=1,COUNTIF($K$5:K4815,1),\"\")","v":4811},{"$f":"IF(ISNUMBER(SEARCH('Bilgi Girişi'!$E$4,KalemAdı,1))=TRUE,1,0)","v":1},"Flasklar","Mal",39226220,null,null,"Dikiş iğneleri"]
[null,null,null,null,null,null,null,4814,39227100,{"$f":"IF(K4818=1,COUNTIF($K$5:K4818,1),\"\")","v":4814},{"$f":"IF(ISNUMBER(SEARCH('Bilgi Girişi'!$E$4,KalemAdı,1))=TRUE,1,0)","v":1},"Dikiş iğneleri veya örgü, iğne, tığ ve şişleri","Mal",39227100,null,null,"Özel amaçlı ürünler"]
[null,null,null,null,null,null,null,4816,39227120,{"$f":"IF(K4820=1,COUNTIF($K$5:K4820,1),\"\")","v":4816},{"$f":"IF(ISNUMBER(SEARCH('Bilgi Girişi'!$E$4,KalemAdı,1))=TRUE,1,0)","v":1},"Örgü iğne, tığ ve şişleri","Mal",39227120,null,null,"Jetonlar"]
[null,null,null,null,null,null,null,4822,39237000,{"$f":"IF(K4826=1,COUNTIF($K$5:K4826,1),\"\")","v":4822},{"$f":"IF(ISNUMBER(SEARCH('Bilgi Girişi'!$E$4,KalemAdı,1))=TRUE,1,0)","v":1},"Kar kazıkları","Mal",39237000,null,null,"Sofra bıçakları"]
[null,null,null,null,null,null,null,4825,39241100,{"$f":"IF(K4829=1,COUNTIF($K$5:K4829,1),\"\")","v":4825},{"$f":"IF(ISNUMBER(SEARCH('Bilgi Girişi'!$E$4,KalemAdı,1))=TRUE,1,0)","v":1},"Bıçaklar","Mal",39241100,null,null,"Makaslar"]
[null,null,null,null,null,null,null,4830,39254000,{"$f":"IF(K4834=1,COUNTIF($K$5:K4834,1),\"\")","v":4830},{"$f":"IF(ISNUMBER(SEARCH('Bilgi Girişi'!$E$4,KalemAdı,1))=TRUE,1,0)","v":1},"Zaman ölçme bilimi","Mal",39254000,null,null,"Saat camları"]
[null,null,null,null,null,null,null,4831,39254100,{"$f":"IF(K4835=1,COUNTIF($K$5:K4835,1),\"\")","v":4831},{"$f":"IF(ISNUMBER(SEARCH('Bilgi Girişi'!$E$4,KalemAdı,1))=TRUE,1,0)","v":1},"Duvar saatleri","Mal",39254100,null,null,"Teslimat tepsileri ve büro donanımları"]
[null,null,null,null,null,null,null,4835,39260000,{"$f":"IF(K4839=1,COUNTIF($K$5:K4839,1),\"\")","v":4835},{"$f":"IF(ISNUMBER(SEARCH('Bilgi Girişi'!$E$4,KalemAdı,1))=TRUE,1,0)","v":1},"Teslimat tepsileri ve büro donanımları","Mal",39260000,null,null,"Klasör veya dosyalar için aksesuarlar"]
[null,null,null,null,null,null,null,4838,39263100,{"$f":"IF(K4842=1,COUNTIF($K$5:K4842,1),\"\")","v":4838},{"$f":"IF(ISNUMBER(SEARCH('Bilgi Girişi'!$E$4,KalemAdı,1))=TRUE,1,0)","v":1},"Çalışma masası setleri","Mal",39263100,null,null,"Çeşitli mefruşatlar"]
[null,null,null,null,null,null,null,4844,39292000,{"$f":"IF(K4848=1,COUNTIF($K$5:K4848,1),\"\")","v":4844},{"$f":"IF(ISNUMBER(SEARCH('Bilgi Girişi'!$E$4,KalemAdı,1))=TRUE,1,0)","v":1},"Okul yazı tahtası veya yazı veya çizim yüzeyler veya aletleri olan panolar","Mal",39292000,null,null,"Çizim araçları"]
[null,null,null,null,null,null,null,4846,39292110,{"$f":"IF(K4850=1,COUNTIF($K$5:K4850,1),\"\")","v":4846},{"$f":"IF(ISNUMBER(SEARCH('Bilgi Girişi'!$E$4,KalemAdı,1))=TRUE,1,0)","v":1},"Karatahta silgileri","Mal",39292110,null,null,"Plastik cetveller"]
[null,null,null,null,null,null,null,4849,39292400,{"$f":"IF(K4853=1,COUNTIF($K$5:K4853,1),\"\")","v":4849},{"$f":"IF(ISNUMBER(SEARCH('Bilgi Girişi'!$E$4,KalemAdı,1))=TRUE,1,0)","v":1},"Yazma aletleri","Mal",39292400,null,null,"Yapay çiçekler"]
[null,null,null,null,null,null,null,4854,39293300,{"$f":"IF(K4858=1,COUNTIF($K$5:K4858,1),\"\")","v":4854},{"$f":"IF(ISNUMBER(SEARCH('Bilgi Girişi'!$E$4,KalemAdı,1))=TRUE,1,0)","v":1},"Yapay çimler","Mal",39293300,null,null,"Bilgi verme ve tanıtım amacı taşıyan ürünler"]
[null,null,null,null,null,null,null,4858,39294100,{"$f":"IF(K4862=1,COUNTIF($K$5:K4862,1),\"\")","v":4858},{"$f":"IF(ISNUMBER(SEARCH('Bilgi Girişi'!$E$4,KalemAdı,1))=TRUE,1,0)","v":1},"Bilgi verme ve tanıtım amacı taşıyan ürünler","Mal",39294100,null,null,"Oturma bastonları"]
[null,null,null,null,null,null,null,4859,39295000,{"$f":"IF(K4863=1,COUNTIF($K$5:K4863,1),\"\")","v":4859},{"$f":"IF(ISNUMBER(SEARCH('Bilgi Girişi'!$E$4,KalemAdı,1))=TRUE,1,0)","v":1},"Şemsiye ve güneşlikler, bastonlar","Mal",39295000,null,null,"Yürüyüş bastonları"]
[null,null,null,null,null,null,null,4863,39295400,{"$f":"IF(K4867=1,COUNTIF($K$5:K4867,1),\"\")","v":4863},{"$f":"IF(ISNUMBER(SEARCH('Bilgi Girişi'!$E$4,KalemAdı,1))=TRUE,1,0)","v":1},"Yürüyüş bastonları","Mal",39295400,null,null,"Baraka malzemeleri"]
[null,null,null,null,null,null,null,4868,39298000,{"$f":"IF(K4872=1,COUNTIF($K$5:K4872,1),\"\")","v":4868},{"$f":"IF(ISNUMBER(SEARCH('Bilgi Girişi'!$E$4,KalemAdı,1))=TRUE,1,0)","v":1},"Adi metallerden heykelcikler, süsler ve dekoratif eşyalar; fotoğraf veya resim","Mal",39298000,null,null,"Heykelcikler"]
[null,null,null,null,null,null,null,4871,39298300,{"$f":"IF(K4875=1,COUNTIF($K$5:K4875,1),\"\")","v":4871},{"$f":"IF(ISNUMBER(SEARCH('Bilgi Girişi'!$E$4,KalemAdı,1))=TRUE,1,0)","v":1},"Seramik çiçek vazoları","Mal",39298300,null,null,"Kupalar"]
[null,null,null,null,null,null,null,4873,39298500,{"$f":"IF(K4877=1,COUNTIF($K$5:K4877,1),\"\")","v":4873},{"$f":"IF(ISNUMBER(SEARCH('Bilgi Girişi'!$E$4,KalemAdı,1))=TRUE,1,0)","v":1},"Süsler","Mal",39298500,null,null,"Çeşitli dekorasyon öğeleri"]
[null,null,null,null,null,null,null,4879,39299000,{"$f":"IF(K4883=1,COUNTIF($K$5:K4883,1),\"\")","v":4879},{"$f":"IF(ISNUMBER(SEARCH('Bilgi Girişi'!$E$4,KalemAdı,1))=TRUE,1,0)","v":1},"Cam eşyalar","Mal",39299000,null,null,"Diğer çeşitli cihaz ve aletler"]
[null,null,null,null,null,null,null,4882,39299300,{"$f":"IF(K4886=1,COUNTIF($K$5:K4886,1),\"\")","v":4882},{"$f":"IF(ISNUMBER(SEARCH('Bilgi Girişi'!$E$4,KalemAdı,1))=TRUE,1,0)","v":1},"Cam aynalar","Mal",39299300,null,null,"Yiyecek hazırlama ekipmanı"]
[null,null,null,null,null,null,null,4886,39312000,{"$f":"IF(K4890=1,COUNTIF($K$5:K4890,1),\"\")","v":4886},{"$f":"IF(ISNUMBER(SEARCH('Bilgi Girişi'!$E$4,KalemAdı,1))=TRUE,1,0)","v":1},"Yiyecek hazırlama ekipmanı","Mal",39312000,null,null,"Sanayi tipi mutfak ekipmanı"]
[null,null,null,null,null,null,null,4887,39312100,{"$f":"IF(K4891=1,COUNTIF($K$5:K4891,1),\"\")","v":4887},{"$f":"IF(ISNUMBER(SEARCH('Bilgi Girişi'!$E$4,KalemAdı,1))=TRUE,1,0)","v":1},"Et diliciler","Mal",39312100,null,null,"Lokanta ekipmanı"]
[null,null,null,null,null,null,null,4891,39315000,{"$f":"IF(K4895=1,COUNTIF($K$5:K4895,1),\"\")","v":4891},{"$f":"IF(ISNUMBER(SEARCH('Bilgi Girişi'!$E$4,KalemAdı,1))=TRUE,1,0)","v":1},"Lokanta ekipmanı","Mal",39315000,null,null,"Kanalizasyon işleri ekipmanı"]
[null,null,null,null,null,null,null,4896,39360000,{"$f":"IF(K4900=1,COUNTIF($K$5:K4900,1),\"\")","v":4896},{"$f":"IF(ISNUMBER(SEARCH('Bilgi Girişi'!$E$4,KalemAdı,1))=TRUE,1,0)","v":1},"İzolasyon ekipmanı","Mal",39360000,null,null,"Battaniyeler ve seyahat battaniyeleri"]
[null,null,null,null,null,null,null,4899,39510000,{"$f":"IF(K4903=1,COUNTIF($K$5:K4903,1),\"\")","v":4899},{"$f":"IF(ISNUMBER(SEARCH('Bilgi Girişi'!$E$4,KalemAdı,1))=TRUE,1,0)","v":1},"Dokuma ev eşyaları","Mal",39510000,null,null,"Yatak takımları"]
[null,null,null,null,null,null,null,4901,39511100,{"$f":"IF(K4905=1,COUNTIF($K$5:K4905,1),\"\")","v":4901},{"$f":"IF(ISNUMBER(SEARCH('Bilgi Girişi'!$E$4,KalemAdı,1))=TRUE,1,0)","v":1},"Battaniyeler","Mal",39511100,null,null,"Yatak pikeleri"]
[null,null,null,null,null,null,null,4906,39512300,{"$f":"IF(K4910=1,COUNTIF($K$5:K4910,1),\"\")","v":4906},{"$f":"IF(ISNUMBER(SEARCH('Bilgi Girişi'!$E$4,KalemAdı,1))=TRUE,1,0)","v":1},"Döşek kılıfları","Mal",39512300,null,null,"Masa örtüleri"]
[null,null,null,null,null,null,null,4911,39513100,{"$f":"IF(K4915=1,COUNTIF($K$5:K4915,1),\"\")","v":4911},{"$f":"IF(ISNUMBER(SEARCH('Bilgi Girişi'!$E$4,KalemAdı,1))=TRUE,1,0)","v":1},"Sofra örtüleri","Mal",39513100,null,null,"Kurulama bezleri"]
[null,null,null,null,null,null,null,4915,39514200,{"$f":"IF(K4919=1,COUNTIF($K$5:K4919,1),\"\")","v":4915},{"$f":"IF(ISNUMBER(SEARCH('Bilgi Girişi'!$E$4,KalemAdı,1))=TRUE,1,0)","v":1},"Kurulama bezleri","Mal",39514200,null,null,"Perdeler, dökümlü örtüler, saçaklar ve kumaş panjurlar"]
[null,null,null,null,null,null,null,4916,39514300,{"$f":"IF(K4920=1,COUNTIF($K$5:K4920,1),\"\")","v":4916},{"$f":"IF(ISNUMBER(SEARCH('Bilgi Girişi'!$E$4,KalemAdı,1))=TRUE,1,0)","v":1},"Rulo havlular","Mal",39514300,null,null,"Perdeler"]
[null,null,null,null,null,null,null,4920,39515100,{"$f":"IF(K4924=1,COUNTIF($K$5:K4924,1),\"\")","v":4920},{"$f":"IF(ISNUMBER(SEARCH('Bilgi Girişi'!$E$4,KalemAdı,1))=TRUE,1,0)","v":1},"Perdeler","Mal",39515100,null,null,"Panjurlar"]
[null,null,null,null,null,null,null,4924,39515400,{"$f":"IF(K4928=1,COUNTIF($K$5:K4928,1),\"\")","v":4924},{"$f":"IF(ISNUMBER(SEARCH('Bilgi Girişi'!$E$4,KalemAdı,1))=TRUE,1,0)","v":1},"Panjurlar","Mal",39515400,null,null,"Dikey panjurlar"]
[null,null,null,null,null,null,null,4929,39516000,{"$f":"IF(K4933=1,COUNTIF($K$5:K4933,1),\"\")","v":4929},{"$f":"IF(ISNUMBER(SEARCH('Bilgi Girişi'!$E$4,KalemAdı,1))=TRUE,1,0)","v":1},"Mefruşat malzemeleri","Mal",39516000,null,null,"Hastane örtüleri"]
[null,null,null,null,null,null,null,4931,39516110,{"$f":"IF(K4935=1,COUNTIF($K$5:K4935,1),\"\")","v":4931},{"$f":"IF(ISNUMBER(SEARCH('Bilgi Girişi'!$E$4,KalemAdı,1))=TRUE,1,0)","v":1},"Minderler","Mal",39516110,null,null,"Ameliyathane çarşafları"]
[null,null,null,null,null,null,null,4934,39518100,{"$f":"IF(K4938=1,COUNTIF($K$5:K4938,1),\"\")","v":4934},{"$f":"IF(ISNUMBER(SEARCH('Bilgi Girişi'!$E$4,KalemAdı,1))=TRUE,1,0)","v":1},"Ameliyathane örtüleri","Mal",39518100,null,null,"Muşambalar, tenteler ve güneşlikler"]
[null,null,null,null,null,null,null,4939,39522110,{"$f":"IF(K4943=1,COUNTIF($K$5:K4943,1),\"\")","v":4939},{"$f":"IF(ISNUMBER(SEARCH('Bilgi Girişi'!$E$4,KalemAdı,1))=TRUE,1,0)","v":1},"Muşambalar","Mal",39522110,null,null,"Yelkenler"]
[null,null,null,null,null,null,null,4941,39522130,{"$f":"IF(K4945=1,COUNTIF($K$5:K4945,1),\"\")","v":4941},{"$f":"IF(ISNUMBER(SEARCH('Bilgi Girişi'!$E$4,KalemAdı,1))=TRUE,1,0)","v":1},"Güneşlikler","Mal",39522130,null,null,"Şişme yataklar"]
[null,null,null,null,null,null,null,4944,39522500,{"$f":"IF(K4948=1,COUNTIF($K$5:K4948,1),\"\")","v":4944},{"$f":"IF(ISNUMBER(SEARCH('Bilgi Girişi'!$E$4,KalemAdı,1))=TRUE,1,0)","v":1},"Dokuma kamp malzemeleri","Mal",39522500,null,null,"Uyku tulumları"]
[null,null,null,null,null,null,null,4948,39522540,{"$f":"IF(K4952=1,COUNTIF($K$5:K4952,1),\"\")","v":4948},{"$f":"IF(ISNUMBER(SEARCH('Bilgi Girişi'!$E$4,KalemAdı,1))=TRUE,1,0)","v":1},"Uyku tulumları","Mal",39522540,null,null,"Klasik paraşütler"]
[null,null,null,null,null,null,null,4953,39525000,{"$f":"IF(K4957=1,COUNTIF($K$5:K4957,1),\"\")","v":4953},{"$f":"IF(ISNUMBER(SEARCH('Bilgi Girişi'!$E$4,KalemAdı,1))=TRUE,1,0)","v":1},"Diğer dokuma mamulleri","Mal",39525000,null,null,"Yanmaz / ateşe dayanıklı battaniyeler"]
[null,null,null,null,null,null,null,4956,39525300,{"$f":"IF(K4960=1,COUNTIF($K$5:K4960,1),\"\")","v":4956},{"$f":"IF(ISNUMBER(SEARCH('Bilgi Girişi'!$E$4,KalemAdı,1))=TRUE,1,0)","v":1},"Can yelekleri","Mal",39525300,null,null,"Cankurtaran kemerleri"]
[null,null,null,null,null,null,null,4958,39525500,{"$f":"IF(K4962=1,COUNTIF($K$5:K4962,1),\"\")","v":4958},{"$f":"IF(ISNUMBER(SEARCH('Bilgi Girişi'!$E$4,KalemAdı,1))=TRUE,1,0)","v":1},"Cibinlikler","Mal",39525500,null,null,"Parlatma bezleri"]
[null,null,null,null,null,null,null,4964,39531000,{"$f":"IF(K4968=1,COUNTIF($K$5:K4968,1),\"\")","v":4964},{"$f":"IF(ISNUMBER(SEARCH('Bilgi Girişi'!$E$4,KalemAdı,1))=TRUE,1,0)","v":1},"Halılar","Mal",39531000,null,null,"Halı karolar"]
[null,null,null,null,null,null,null,4967,39531300,{"$f":"IF(K4971=1,COUNTIF($K$5:K4971,1),\"\")","v":4967},{"$f":"IF(ISNUMBER(SEARCH('Bilgi Girişi'!$E$4,KalemAdı,1))=TRUE,1,0)","v":1},"Saçaklı halılar","Mal",39531300,null,null,"Kilimler"]
[null,null,null,null,null,null,null,4969,39531400,{"$f":"IF(K4973=1,COUNTIF($K$5:K4973,1),\"\")","v":4969},{"$f":"IF(ISNUMBER(SEARCH('Bilgi Girişi'!$E$4,KalemAdı,1))=TRUE,1,0)","v":1},"Halı döşeme","Mal",39531400,null,null,"Muhtelif şerit, halat, sicim ve ağlar"]
[null,null,null,null,null,null,null,4972,39534000,{"$f":"IF(K4976=1,COUNTIF($K$5:K4976,1),\"\")","v":4972},{"$f":"IF(ISNUMBER(SEARCH('Bilgi Girişi'!$E$4,KalemAdı,1))=TRUE,1,0)","v":1},"Endüstriyel döşemeler","Mal",39534000,null,null,"Halat"]
[null,null,null,null,null,null,null,4977,39541120,{"$f":"IF(K4981=1,COUNTIF($K$5:K4981,1),\"\")","v":4977},{"$f":"IF(ISNUMBER(SEARCH('Bilgi Girişi'!$E$4,KalemAdı,1))=TRUE,1,0)","v":1},"Şerit","Mal",39541120,null,null,"Düğümlü ağlar"]
[null,null,null,null,null,null,null,4981,39541210,{"$f":"IF(K4985=1,COUNTIF($K$5:K4985,1),\"\")","v":4981},{"$f":"IF(ISNUMBER(SEARCH('Bilgi Girişi'!$E$4,KalemAdı,1))=TRUE,1,0)","v":1},"Düğümlü ağlar","Mal",39541210,null,null,"Diğer dokuma ürünleri"]
[null,null,null,null,null,null,null,4986,39561000,{"$f":"IF(K4990=1,COUNTIF($K$5:K4990,1),\"\")","v":4986},{"$f":"IF(ISNUMBER(SEARCH('Bilgi Girişi'!$E$4,KalemAdı,1))=TRUE,1,0)","v":1},"Tül dantel, dar dokuma kumaşlar, nakış ve kenar süsleri","Mal",39561000,null,null,"Dokuma etiket ve işaretleri"]
[null,null,null,null,null,null,null,4988,39561110,{"$f":"IF(K4992=1,COUNTIF($K$5:K4992,1),\"\")","v":4988},{"$f":"IF(ISNUMBER(SEARCH('Bilgi Girişi'!$E$4,KalemAdı,1))=TRUE,1,0)","v":1},"Kurdeleler","Mal",39561110,null,null,"Dokuma işaretleri"]
[null,null,null,null,null,null,null,4991,39561131,{"$f":"IF(K4995=1,COUNTIF($K$5:K4995,1),\"\")","v":4991},{"$f":"IF(ISNUMBER(SEARCH('Bilgi Girişi'!$E$4,KalemAdı,1))=TRUE,1,0)","v":1},"Dokuma etiketleri","Mal",39561131,null,null,"Kordonlar"]
[null,null,null,null,null,null,null,4996,39561142,{"$f":"IF(K5000=1,COUNTIF($K$5:K5000,1),\"\")","v":4996},{"$f":"IF(ISNUMBER(SEARCH('Bilgi Girişi'!$E$4,KalemAdı,1))=TRUE,1,0)","v":1},"Apoletler","Mal",39561142,null,null,"Dokuma tamponlar"]
[null,null,null,null,null,null,null,5000,39563100,{"$f":"IF(K5004=1,COUNTIF($K$5:K5004,1),\"\")","v":5000},{"$f":"IF(ISNUMBER(SEARCH('Bilgi Girişi'!$E$4,KalemAdı,1))=TRUE,1,0)","v":1},"Dokuma tamponlar","Mal",39563100,null,null,"Teknik kullanım amaçlı dokuma eşyalar"]
[null,null,null,null,null,null,null,5001,39563200,{"$f":"IF(K5005=1,COUNTIF($K$5:K5005,1),\"\")","v":5001},{"$f":"IF(ISNUMBER(SEARCH('Bilgi Girişi'!$E$4,KalemAdı,1))=TRUE,1,0)","v":1},"Metalize iplik","Mal",39563200,null,null,"Dokuma hortumlar"]
[null,null,null,null,null,null,null,5005,39563510,{"$f":"IF(K5009=1,COUNTIF($K$5:K5009,1),\"\")","v":5005},{"$f":"IF(ISNUMBER(SEARCH('Bilgi Girişi'!$E$4,KalemAdı,1))=TRUE,1,0)","v":1},"Dokuma hortumlar","Mal",39563510,null,null,"Ev eşyaları"]
[null,null,null,null,null,null,null,5009,39700000,{"$f":"IF(K5013=1,COUNTIF($K$5:K5013,1),\"\")","v":5009},{"$f":"IF(ISNUMBER(SEARCH('Bilgi Girişi'!$E$4,KalemAdı,1))=TRUE,1,0)","v":1},"Ev eşyaları","Mal",39700000,null,null,"Donduruculu buzdolapları"]
[null,null,null,null,null,null,null,5014,39711120,{"$f":"IF(K5018=1,COUNTIF($K$5:K5018,1),\"\")","v":5014},{"$f":"IF(ISNUMBER(SEARCH('Bilgi Girişi'!$E$4,KalemAdı,1))=TRUE,1,0)","v":1},"Dondurucular","Mal",39711120,null,null,"Sanayi tipi dondurucular"]
[null,null,null,null,null,null,null,5015,39711121,{"$f":"IF(K5019=1,COUNTIF($K$5:K5019,1),\"\")","v":5015},{"$f":"IF(ISNUMBER(SEARCH('Bilgi Girişi'!$E$4,KalemAdı,1))=TRUE,1,0)","v":1},"Sandık tipi dondurucular","Mal",39711121,null,null,"Buzdolapları"]
[null,null,null,null,null,null,null,5021,39711210,{"$f":"IF(K5025=1,COUNTIF($K$5:K5025,1),\"\")","v":5021},{"$f":"IF(ISNUMBER(SEARCH('Bilgi Girişi'!$E$4,KalemAdı,1))=TRUE,1,0)","v":1},"Yiyecek blenderleri","Mal",39711210,null,null,"Elektrikli çay makineleri"]
[null,null,null,null,null,null,null,5024,39711310,{"$f":"IF(K5028=1,COUNTIF($K$5:K5028,1),\"\")","v":5024},{"$f":"IF(ISNUMBER(SEARCH('Bilgi Girişi'!$E$4,KalemAdı,1))=TRUE,1,0)","v":1},"Elektrikli kahve makineleri","Mal",39711310,null,null,"Gözleme sacları"]
[null,null,null,null,null,null,null,5026,39711330,{"$f":"IF(K5030=1,COUNTIF($K$5:K5030,1),\"\")","v":5026},{"$f":"IF(ISNUMBER(SEARCH('Bilgi Girişi'!$E$4,KalemAdı,1))=TRUE,1,0)","v":1},"Elektrikli tost makineleri","Mal",39711330,null,null,"Elektrikli fırınlar"]
[null,null,null,null,null,null,null,5029,39711360,{"$f":"IF(K5033=1,COUNTIF($K$5:K5033,1),\"\")","v":5029},{"$f":"IF(ISNUMBER(SEARCH('Bilgi Girişi'!$E$4,KalemAdı,1))=TRUE,1,0)","v":1},"Fırınlar","Mal",39711360,null,null,"Kızartıcılar, piliç çevirme makineleri"]
[null,null,null,null,null,null,null,5033,39711410,{"$f":"IF(K5037=1,COUNTIF($K$5:K5037,1),\"\")","v":5033},{"$f":"IF(ISNUMBER(SEARCH('Bilgi Girişi'!$E$4,KalemAdı,1))=TRUE,1,0)","v":1},"Kızartıcılar, piliç çevirme makineleri","Mal",39711410,null,null,"Konserve açacakları"]
[null,null,null,null,null,null,null,5038,39712000,{"$f":"IF(K5042=1,COUNTIF($K$5:K5042,1),\"\")","v":5038},{"$f":"IF(ISNUMBER(SEARCH('Bilgi Girişi'!$E$4,KalemAdı,1))=TRUE,1,0)","v":1},"İnsan bedeni ile uygulaması olan elektrikli ev aletleri","Mal",39712000,null,null,"El kurutma aparatı"]
[null,null,null,null,null,null,null,5041,39712210,{"$f":"IF(K5045=1,COUNTIF($K$5:K5045,1),\"\")","v":5041},{"$f":"IF(ISNUMBER(SEARCH('Bilgi Girişi'!$E$4,KalemAdı,1))=TRUE,1,0)","v":1},"Saç kurutma makineleri","Mal",39712210,null,null,"Çamaşır yıkama ve kurutma makineleri"]
[null,null,null,null,null,null,null,5043,39713000,{"$f":"IF(K5047=1,COUNTIF($K$5:K5047,1),\"\")","v":5043},{"$f":"IF(ISNUMBER(SEARCH('Bilgi Girişi'!$E$4,KalemAdı,1))=TRUE,1,0)","v":1},"Temizlik işlerinde kullanılan elektrikli ev aletleri; ütüler","Mal",39713000,null,null,"Kurutma ve presleme ünitesi"]
[null,null,null,null,null,null,null,5049,39713400,{"$f":"IF(K5053=1,COUNTIF($K$5:K5053,1),\"\")","v":5049},{"$f":"IF(ISNUMBER(SEARCH('Bilgi Girişi'!$E$4,KalemAdı,1))=TRUE,1,0)","v":1},"Zemin bakım, muhafaza makineleri","Mal",39713400,null,null,"Vakum temizleyicilerin aksam ve parçaları"]
[null,null,null,null,null,null,null,5052,39713430,{"$f":"IF(K5056=1,COUNTIF($K$5:K5056,1),\"\")","v":5052},{"$f":"IF(ISNUMBER(SEARCH('Bilgi Girişi'!$E$4,KalemAdı,1))=TRUE,1,0)","v":1},"Vakum temizleyiciler","Mal",39713430,null,null,"Vantilatör ya da havalandırma davlumbazları"]
[null,null,null,null,null,null,null,5057,39714100,{"$f":"IF(K5061=1,COUNTIF($K$5:K5061,1),\"\")","v":5057},{"$f":"IF(ISNUMBER(SEARCH('Bilgi Girişi'!$E$4,KalemAdı,1))=TRUE,1,0)","v":1},"Vantilatörler","Mal",39714100,null,null,"Isıtma donanımı"]
[null,null,null,null,null,null,null,5058,39714110,{"$f":"IF(K5062=1,COUNTIF($K$5:K5062,1),\"\")","v":5058},{"$f":"IF(ISNUMBER(SEARCH('Bilgi Girişi'!$E$4,KalemAdı,1))=TRUE,1,0)","v":1},"Ocak üstü aspiratörleri","Mal",39714110,null,null,{"$f":"IFERROR(VLOOKUP(ROW($P5062),$J$5:$L$9594,3,FALSE),\"\")","v":"Merkezi ısıtma donanımı"}]
[null,null,null,null,null,null,null,5062,39715210,{"$f":"IF(K5066=1,COUNTIF($K$5:K5066,1),\"\")","v":5062},{"$f":"IF(ISNUMBER(SEARCH('Bilgi Girişi'!$E$4,KalemAdı,1))=TRUE,1,0)","v":1},"Merkezi ısıtma donanımı","Mal",39715210,null,null,"Tesisat donanımı"]
[null,null,null,null,null,null,null,5066,39715300,{"$f":"IF(K5070=1,COUNTIF($K$5:K5070,1),\"\")","v":5066},{"$f":"IF(ISNUMBER(SEARCH('Bilgi Girişi'!$E$4,KalemAdı,1))=TRUE,1,0)","v":1},"Tesisat donanımı","Mal",39715300,null,null,"Klima cihazları"]
[null,null,null,null,null,null,null,5071,39720000,{"$f":"IF(K5075=1,COUNTIF($K$5:K5075,1),\"\")","v":5071},{"$f":"IF(ISNUMBER(SEARCH('Bilgi Girişi'!$E$4,KalemAdı,1))=TRUE,1,0)","v":1},"Elektrikli olmayan ev aletleri","Mal",39720000,null,null,"Elektrikli olmayan hava ısıtıcıları ya da sıcak hava dağıtıcıları"]
[null,null,null,null,null,null,null,5074,39721200,{"$f":"IF(K5078=1,COUNTIF($K$5:K5078,1),\"\")","v":5074},{"$f":"IF(ISNUMBER(SEARCH('Bilgi Girişi'!$E$4,KalemAdı,1))=TRUE,1,0)","v":1},"Gazla çalışan buzdolapları","Mal",39721200,null,null,"Basınçlı havalı kurutucular"]
[null,null,null,null,null,null,null,5076,39721310,{"$f":"IF(K5080=1,COUNTIF($K$5:K5080,1),\"\")","v":5076},{"$f":"IF(ISNUMBER(SEARCH('Bilgi Girişi'!$E$4,KalemAdı,1))=TRUE,1,0)","v":1},"Hava ısıtıcıları","Mal",39721310,null,null,"Gaz yakıtlı ev aletleri"]
[null,null,null,null,null,null,null,5081,39721411,{"$f":"IF(K5085=1,COUNTIF($K$5:K5085,1),\"\")","v":5081},{"$f":"IF(ISNUMBER(SEARCH('Bilgi Girişi'!$E$4,KalemAdı,1))=TRUE,1,0)","v":1},"Gaz yakıtlı ısıtıcılar","Mal",39721411,null,null,"Ocak aksam ve parçaları"]
[null,null,null,null,null,null,null,5085,39722300,{"$f":"IF(K5089=1,COUNTIF($K$5:K5089,1),\"\")","v":5085},{"$f":"IF(ISNUMBER(SEARCH('Bilgi Girişi'!$E$4,KalemAdı,1))=TRUE,1,0)","v":1},"Ocak aksam ve parçaları","Mal",39722300,null,null,"Oda spreyi"]
[null,null,null,null,null,null,null,5086,39800000,{"$f":"IF(K5090=1,COUNTIF($K$5:K5090,1),\"\")","v":5086},{"$f":"IF(ISNUMBER(SEARCH('Bilgi Girişi'!$E$4,KalemAdı,1))=TRUE,1,0)","v":1},"Temizleme ve cilalama için kullanılan ürünler","Mal",39800000,null,null,"Oda spreyi makineleri"]
[null,null,null,null,null,null,null,5090,39811110,{"$f":"IF(K5094=1,COUNTIF($K$5:K5094,1),\"\")","v":5090},{"$f":"IF(ISNUMBER(SEARCH('Bilgi Girişi'!$E$4,KalemAdı,1))=TRUE,1,0)","v":1},"Oda spreyi makineleri","Mal",39811110,null,null,"Döşeme, zemin cilaları"]
[null,null,null,null,null,null,null,5095,39812200,{"$f":"IF(K5099=1,COUNTIF($K$5:K5099,1),\"\")","v":5095},{"$f":"IF(ISNUMBER(SEARCH('Bilgi Girişi'!$E$4,KalemAdı,1))=TRUE,1,0)","v":1},"Ayakkabı cilaları","Mal",39812200,null,null,"Kazıma, ovalama, pas giderme toz ve pastaları"]
[null,null,null,null,null,null,null,5098,39812500,{"$f":"IF(K5102=1,COUNTIF($K$5:K5102,1),\"\")","v":5098},{"$f":"IF(ISNUMBER(SEARCH('Bilgi Girişi'!$E$4,KalemAdı,1))=TRUE,1,0)","v":1},"Dolgu macunları","Mal",39812500,null,null,"Kostik temizleyiciler"]
[null,null,null,null,null,null,null,5100,39820000,{"$f":"IF(K5104=1,COUNTIF($K$5:K5104,1),\"\")","v":5100},{"$f":"IF(ISNUMBER(SEARCH('Bilgi Girişi'!$E$4,KalemAdı,1))=TRUE,1,0)","v":1},"Organiz yüzey aktif maddeler","Mal",39820000,null,null,"deterjanlar ve yıkama müstahzarları"]
[null,null,null,null,null,null,null,5106,39831200,{"$f":"IF(K5110=1,COUNTIF($K$5:K5110,1),\"\")","v":5106},{"$f":"IF(ISNUMBER(SEARCH('Bilgi Girişi'!$E$4,KalemAdı,1))=TRUE,1,0)","v":1},"Deterjanlar","Mal",39831200,null,null,"Temizleme karışımları"]
[null,null,null,null,null,null,null,5109,39831230,{"$f":"IF(K5113=1,COUNTIF($K$5:K5113,1),\"\")","v":5109},{"$f":"IF(ISNUMBER(SEARCH('Bilgi Girişi'!$E$4,KalemAdı,1))=TRUE,1,0)","v":1},"Gres gevşetici maddeler","Mal",39831230,null,null,"Ekran temizleyiciler"]
[null,null,null,null,null,null,null,5111,39831250,{"$f":"IF(K5115=1,COUNTIF($K$5:K5115,1),\"\")","v":5111},{"$f":"IF(ISNUMBER(SEARCH('Bilgi Girişi'!$E$4,KalemAdı,1))=TRUE,1,0)","v":1},"Durulama solüsyonları","Mal",39831250,null,null,"Tuvalet temizleyicileri"]
[null,null,null,null,null,null,null,5114,39831500,{"$f":"IF(K5118=1,COUNTIF($K$5:K5118,1),\"\")","v":5114},{"$f":"IF(ISNUMBER(SEARCH('Bilgi Girişi'!$E$4,KalemAdı,1))=TRUE,1,0)","v":1},"Otomotiv temizleyicileri","Mal",39831500,null,null,"Bulaşık yıkama için toz deterjan"]
[null,null,null,null,null,null,null,5119,39833000,{"$f":"IF(K5123=1,COUNTIF($K$5:K5123,1),\"\")","v":5119},{"$f":"IF(ISNUMBER(SEARCH('Bilgi Girişi'!$E$4,KalemAdı,1))=TRUE,1,0)","v":1},"Tozlanma önleyici ürünler/toz tutmayan ürünler","Mal",39833000,null,null,"İçme suyu"]
[null,null,null,null,null,null,null,5123,41110000,{"$f":"IF(K5127=1,COUNTIF($K$5:K5127,1),\"\")","v":5123},{"$f":"IF(ISNUMBER(SEARCH('Bilgi Girişi'!$E$4,KalemAdı,1))=TRUE,1,0)","v":1},"İçme suyu","Mal",41110000,null,null,"Türbin ve motorlar"]
[null,null,null,null,null,null,null,5128,42111000,{"$f":"IF(K5132=1,COUNTIF($K$5:K5132,1),\"\")","v":5128},{"$f":"IF(ISNUMBER(SEARCH('Bilgi Girişi'!$E$4,KalemAdı,1))=TRUE,1,0)","v":1},"Motorlar","Mal",42111000,null,null,"Hidrolik türbinler"]
[null,null,null,null,null,null,null,5131,42112100,{"$f":"IF(K5135=1,COUNTIF($K$5:K5135,1),\"\")","v":5131},{"$f":"IF(ISNUMBER(SEARCH('Bilgi Girişi'!$E$4,KalemAdı,1))=TRUE,1,0)","v":1},"Su buharı türbinleri","Mal",42112100,null,null,"Türbin donanımı"]
[null,null,null,null,null,null,null,5133,42112210,{"$f":"IF(K5137=1,COUNTIF($K$5:K5137,1),\"\")","v":5133},{"$f":"IF(ISNUMBER(SEARCH('Bilgi Girişi'!$E$4,KalemAdı,1))=TRUE,1,0)","v":1},"Su çarkları","Mal",42112210,null,null,"Türbin aksamı"]
[null,null,null,null,null,null,null,5136,42112410,{"$f":"IF(K5140=1,COUNTIF($K$5:K5140,1),\"\")","v":5136},{"$f":"IF(ISNUMBER(SEARCH('Bilgi Girişi'!$E$4,KalemAdı,1))=TRUE,1,0)","v":1},"Türbin cihazları","Mal",42112410,null,null,"Muhafazalar"]
[null,null,null,null,null,null,null,5142,42113150,{"$f":"IF(K5146=1,COUNTIF($K$5:K5146,1),\"\")","v":5142},{"$f":"IF(ISNUMBER(SEARCH('Bilgi Girişi'!$E$4,KalemAdı,1))=TRUE,1,0)","v":1},"Yağlama sistemleri","Mal",42113150,null,null,"Rotorlar"]
[null,null,null,null,null,null,null,5143,42113160,{"$f":"IF(K5147=1,COUNTIF($K$5:K5147,1),\"\")","v":5143},{"$f":"IF(ISNUMBER(SEARCH('Bilgi Girişi'!$E$4,KalemAdı,1))=TRUE,1,0)","v":1},"Rutubet ayırıcıları","Mal",42113160,null,null,"Pervaneler"]
[null,null,null,null,null,null,null,5147,42113172,{"$f":"IF(K5151=1,COUNTIF($K$5:K5151,1),\"\")","v":5147},{"$f":"IF(ISNUMBER(SEARCH('Bilgi Girişi'!$E$4,KalemAdı,1))=TRUE,1,0)","v":1},"Pervaneler","Mal",42113172,null,null,"Hava giriş sistemleri"]
[null,null,null,null,null,null,null,5151,42113310,{"$f":"IF(K5155=1,COUNTIF($K$5:K5155,1),\"\")","v":5151},{"$f":"IF(ISNUMBER(SEARCH('Bilgi Girişi'!$E$4,KalemAdı,1))=TRUE,1,0)","v":1},"Hava giriş sistemleri","Mal",42113310,null,null,"Pompalar ve kompresörler"]
[null,null,null,null,null,null,null,5156,42121000,{"$f":"IF(K5160=1,COUNTIF($K$5:K5160,1),\"\")","v":5156},{"$f":"IF(ISNUMBER(SEARCH('Bilgi Girişi'!$E$4,KalemAdı,1))=TRUE,1,0)","v":1},"Hidrolik veya pnömatik güç makine ve motorları","Mal",42121000,null,null,"Hidrolik güç motorları"]
[null,null,null,null,null,null,null,5159,42121300,{"$f":"IF(K5163=1,COUNTIF($K$5:K5163,1),\"\")","v":5159},{"$f":"IF(ISNUMBER(SEARCH('Bilgi Girişi'!$E$4,KalemAdı,1))=TRUE,1,0)","v":1},"Pnömatik güç makineleri","Mal",42121300,null,null,"Sıvı pompaları"]
[null,null,null,null,null,null,null,5161,42121500,{"$f":"IF(K5165=1,COUNTIF($K$5:K5165,1),\"\")","v":5161},{"$f":"IF(ISNUMBER(SEARCH('Bilgi Girişi'!$E$4,KalemAdı,1))=TRUE,1,0)","v":1},"Pnömatik güç motorları","Mal",42121500,null,null,"Helikopter yakıt ikmal sistemleri"]
[null,null,null,null,null,null,null,5166,42122130,{"$f":"IF(K5170=1,COUNTIF($K$5:K5170,1),\"\")","v":5166},{"$f":"IF(ISNUMBER(SEARCH('Bilgi Girişi'!$E$4,KalemAdı,1))=TRUE,1,0)","v":1},"Su pompaları","Mal",42122130,null,null,"Yakıt pompaları"]
[null,null,null,null,null,null,null,5168,42122161,{"$f":"IF(K5172=1,COUNTIF($K$5:K5172,1),\"\")","v":5168},{"$f":"IF(ISNUMBER(SEARCH('Bilgi Girişi'!$E$4,KalemAdı,1))=TRUE,1,0)","v":1},"Soğutma suyu pompaları","Mal",42122161,null,null,"Karşılıklı pozitif hareketli ve deplasmanlı sıvı pompalar"]
[null,null,null,null,null,null,null,5171,42122190,{"$f":"IF(K5175=1,COUNTIF($K$5:K5175,1),\"\")","v":5171},{"$f":"IF(ISNUMBER(SEARCH('Bilgi Girişi'!$E$4,KalemAdı,1))=TRUE,1,0)","v":1},"Beton pompaları","Mal",42122190,null,null,"Dozaj pompaları"]
[null,null,null,null,null,null,null,5176,42122300,{"$f":"IF(K5180=1,COUNTIF($K$5:K5180,1),\"\")","v":5176},{"$f":"IF(ISNUMBER(SEARCH('Bilgi Girişi'!$E$4,KalemAdı,1))=TRUE,1,0)","v":1},"Sıvılar için basınç yükselticiler","Mal",42122300,null,null,"Perfüzyon pompaları"]
[null,null,null,null,null,null,null,5180,42122419,{"$f":"IF(K5184=1,COUNTIF($K$5:K5184,1),\"\")","v":5180},{"$f":"IF(ISNUMBER(SEARCH('Bilgi Girişi'!$E$4,KalemAdı,1))=TRUE,1,0)","v":1},"Perfüzyon pompaları","Mal",42122419,null,null,"Vakum pompaları"]
[null,null,null,null,null,null,null,5184,42122450,{"$f":"IF(K5188=1,COUNTIF($K$5:K5188,1),\"\")","v":5184},{"$f":"IF(ISNUMBER(SEARCH('Bilgi Girişi'!$E$4,KalemAdı,1))=TRUE,1,0)","v":1},"Vakum pompaları","Mal",42122450,null,null,"Peristaltik pompalar"]
[null,null,null,null,null,null,null,5185,42122460,{"$f":"IF(K5189=1,COUNTIF($K$5:K5189,1),\"\")","v":5185},{"$f":"IF(ISNUMBER(SEARCH('Bilgi Girişi'!$E$4,KalemAdı,1))=TRUE,1,0)","v":1},"Hava pompaları","Mal",42122460,null,null,"Kompresörler"]
[null,null,null,null,null,null,null,5191,42123200,{"$f":"IF(K5195=1,COUNTIF($K$5:K5195,1),\"\")","v":5191},{"$f":"IF(ISNUMBER(SEARCH('Bilgi Girişi'!$E$4,KalemAdı,1))=TRUE,1,0)","v":1},"Döner hareketli kompresörler","Mal",42123200,null,null,"Turbo kompresörler"]
[null,null,null,null,null,null,null,5194,42123410,{"$f":"IF(K5198=1,COUNTIF($K$5:K5198,1),\"\")","v":5194},{"$f":"IF(ISNUMBER(SEARCH('Bilgi Girişi'!$E$4,KalemAdı,1))=TRUE,1,0)","v":1},"Tekerlekli şasiye monte edilmiş çekilebilen hava kompresörleri","Mal",42123410,null,null,"Santrifüj kompresörleri"]
[null,null,null,null,null,null,null,5196,42123600,{"$f":"IF(K5200=1,COUNTIF($K$5:K5200,1),\"\")","v":5196},{"$f":"IF(ISNUMBER(SEARCH('Bilgi Girişi'!$E$4,KalemAdı,1))=TRUE,1,0)","v":1},"Karşılıklı deplasmanlı kompresörler","Mal",42123600,null,null,"Pompa, kompresör, motor veya makinelerin parça ve aksamlar"]
[null,null,null,null,null,null,null,5199,42123800,{"$f":"IF(K5203=1,COUNTIF($K$5:K5203,1),\"\")","v":5199},{"$f":"IF(ISNUMBER(SEARCH('Bilgi Girişi'!$E$4,KalemAdı,1))=TRUE,1,0)","v":1},"Sivil hava taşıtlarında kullanılan kompresörler","Mal",42123800,null,null,"Hidrolik güç makine ve motorlarına ait aksam ve parçalar"]
[null,null,null,null,null,null,null,5204,42124170,{"$f":"IF(K5208=1,COUNTIF($K$5:K5208,1),\"\")","v":5204},{"$f":"IF(ISNUMBER(SEARCH('Bilgi Girişi'!$E$4,KalemAdı,1))=TRUE,1,0)","v":1},"Tepkili güç sistemlerine ait aksam ve parçalar","Mal",42124170,null,null,"El pompalarına ait aksam ve parçalar"]
[null,null,null,null,null,null,null,5208,42124212,{"$f":"IF(K5212=1,COUNTIF($K$5:K5212,1),\"\")","v":5208},{"$f":"IF(ISNUMBER(SEARCH('Bilgi Girişi'!$E$4,KalemAdı,1))=TRUE,1,0)","v":1},"El pompalarına ait aksam ve parçalar","Mal",42124212,null,null,"Dozaj pompalarının aksam ve parçaları"]
[null,null,null,null,null,null,null,5213,42124230,{"$f":"IF(K5217=1,COUNTIF($K$5:K5217,1),\"\")","v":5213},{"$f":"IF(ISNUMBER(SEARCH('Bilgi Girişi'!$E$4,KalemAdı,1))=TRUE,1,0)","v":1},"Döner hareketli pozitif deplasmanlı pompalara ait parça ve aksamlar","Mal",42124230,null,null,"Vakum pompalarına ait aksam ve parçalar"]
[null,null,null,null,null,null,null,5216,42124310,{"$f":"IF(K5220=1,COUNTIF($K$5:K5220,1),\"\")","v":5216},{"$f":"IF(ISNUMBER(SEARCH('Bilgi Girişi'!$E$4,KalemAdı,1))=TRUE,1,0)","v":1},"Hava pompalarına ait aksam ve parçalar","Mal",42124310,null,null,"Musluklar, ventiller, vanalar ve benzeri aksam"]
[null,null,null,null,null,null,null,5218,42124330,{"$f":"IF(K5222=1,COUNTIF($K$5:K5222,1),\"\")","v":5218},{"$f":"IF(ISNUMBER(SEARCH('Bilgi Girişi'!$E$4,KalemAdı,1))=TRUE,1,0)","v":1},"Hava kompresörlerine ait aksam ve parçalar","Mal",42124330,null,null,"Valfler (görevlerine göre sınıflandırılmış)"]
[null,null,null,null,null,null,null,5221,42131000,{"$f":"IF(K5225=1,COUNTIF($K$5:K5225,1),\"\")","v":5221},{"$f":"IF(ISNUMBER(SEARCH('Bilgi Girişi'!$E$4,KalemAdı,1))=TRUE,1,0)","v":1},"Musluklar, ventiller ve vanalar","Mal",42131000,null,null,"Isı regülatörleri"]
[null,null,null,null,null,null,null,5227,42131141,{"$f":"IF(K5231=1,COUNTIF($K$5:K5231,1),\"\")","v":5227},{"$f":"IF(ISNUMBER(SEARCH('Bilgi Girişi'!$E$4,KalemAdı,1))=TRUE,1,0)","v":1},"Tazyik düşürücü valfler","Mal",42131141,null,null,"Çek valfleri, tahliye subapları"]
[null,null,null,null,null,null,null,5228,42131142,{"$f":"IF(K5232=1,COUNTIF($K$5:K5232,1),\"\")","v":5228},{"$f":"IF(ISNUMBER(SEARCH('Bilgi Girişi'!$E$4,KalemAdı,1))=TRUE,1,0)","v":1},"Kontrol valfleri","Mal",42131142,null,null,"Geri döndürmez valfler"]
[null,null,null,null,null,null,null,5232,42131146,{"$f":"IF(K5236=1,COUNTIF($K$5:K5236,1),\"\")","v":5232},{"$f":"IF(ISNUMBER(SEARCH('Bilgi Girişi'!$E$4,KalemAdı,1))=TRUE,1,0)","v":1},"Geri döndürmez valfler","Mal",42131146,null,null,"Yangın muslukları"]
[null,null,null,null,null,null,null,5236,42131160,{"$f":"IF(K5240=1,COUNTIF($K$5:K5240,1),\"\")","v":5236},{"$f":"IF(ISNUMBER(SEARCH('Bilgi Girişi'!$E$4,KalemAdı,1))=TRUE,1,0)","v":1},"Yangın muslukları","Mal",42131160,null,null,"Cebri boru valfleri"]
[null,null,null,null,null,null,null,5241,42131230,{"$f":"IF(K5245=1,COUNTIF($K$5:K5245,1),\"\")","v":5241},{"$f":"IF(ISNUMBER(SEARCH('Bilgi Girişi'!$E$4,KalemAdı,1))=TRUE,1,0)","v":1},"Kapatma valfleri","Mal",42131230,null,null,"Konik valfler"]
[null,null,null,null,null,null,null,5242,42131240,{"$f":"IF(K5246=1,COUNTIF($K$5:K5246,1),\"\")","v":5242},{"$f":"IF(ISNUMBER(SEARCH('Bilgi Girişi'!$E$4,KalemAdı,1))=TRUE,1,0)","v":1},"Küresel, globe valfler","Mal",42131240,null,null,"Kelebek valfler"]
[null,null,null,null,null,null,null,5248,42131291,{"$f":"IF(K5252=1,COUNTIF($K$5:K5252,1),\"\")","v":5248},{"$f":"IF(ISNUMBER(SEARCH('Bilgi Girişi'!$E$4,KalemAdı,1))=TRUE,1,0)","v":1},"Sürgülü valfler","Mal",42131291,null,null,"Şok manifoldları, giriş manifoldları"]
[null,null,null,null,null,null,null,5251,42131310,{"$f":"IF(K5255=1,COUNTIF($K$5:K5255,1),\"\")","v":5251},{"$f":"IF(ISNUMBER(SEARCH('Bilgi Girişi'!$E$4,KalemAdı,1))=TRUE,1,0)","v":1},"Petrol çıkarma techizatı","Mal",42131310,null,null,"Musluk ve valflere ait aksam ve parçalar"]
[null,null,null,null,null,null,null,5253,42131390,{"$f":"IF(K5257=1,COUNTIF($K$5:K5257,1),\"\")","v":5253},{"$f":"IF(ISNUMBER(SEARCH('Bilgi Girişi'!$E$4,KalemAdı,1))=TRUE,1,0)","v":1},"Toplayıcı valfler","Mal",42131390,null,null,"Elektrikli vana aktüatörleri"]
[null,null,null,null,null,null,null,5256,42132100,{"$f":"IF(K5260=1,COUNTIF($K$5:K5260,1),\"\")","v":5256},{"$f":"IF(ISNUMBER(SEARCH('Bilgi Girişi'!$E$4,KalemAdı,1))=TRUE,1,0)","v":1},"Valf aktüatörleri","Mal",42132100,null,null,"Musluk aksamı"]
[null,null,null,null,null,null,null,5261,42132300,{"$f":"IF(K5265=1,COUNTIF($K$5:K5265,1),\"\")","v":5261},{"$f":"IF(ISNUMBER(SEARCH('Bilgi Girişi'!$E$4,KalemAdı,1))=TRUE,1,0)","v":1},"Valf aksamı","Mal",42132300,null,null,"Transmisyon milleri"]
[null,null,null,null,null,null,null,5265,42141110,{"$f":"IF(K5269=1,COUNTIF($K$5:K5269,1),\"\")","v":5265},{"$f":"IF(ISNUMBER(SEARCH('Bilgi Girişi'!$E$4,KalemAdı,1))=TRUE,1,0)","v":1},"Transmisyon milleri","Mal",42141110,null,null,"Dişliler ve tahrik elemanları"]
[null,null,null,null,null,null,null,5269,42141300,{"$f":"IF(K5273=1,COUNTIF($K$5:K5273,1),\"\")","v":5269},{"$f":"IF(ISNUMBER(SEARCH('Bilgi Girişi'!$E$4,KalemAdı,1))=TRUE,1,0)","v":1},"Dişliler ve tahrik elemanları","Mal",42141300,null,null,"Kasnak blokları"]
[null,null,null,null,null,null,null,5270,42141400,{"$f":"IF(K5274=1,COUNTIF($K$5:K5274,1),\"\")","v":5270},{"$f":"IF(ISNUMBER(SEARCH('Bilgi Girişi'!$E$4,KalemAdı,1))=TRUE,1,0)","v":1},"Volanlar ve kasnaklar","Mal",42141400,null,null,"Mil kuplajları, şaft manşonları"]
[null,null,null,null,null,null,null,5276,42142000,{"$f":"IF(K5280=1,COUNTIF($K$5:K5280,1),\"\")","v":5276},{"$f":"IF(ISNUMBER(SEARCH('Bilgi Girişi'!$E$4,KalemAdı,1))=TRUE,1,0)","v":1},"Çalıştırma ve tahrik elemanlarına ait parça ve aksamlar","Mal",42142000,null,null,"Nükleer reaktörler"]
[null,null,null,null,null,null,null,5279,42150000,{"$f":"IF(K5283=1,COUNTIF($K$5:K5283,1),\"\")","v":5279},{"$f":"IF(ISNUMBER(SEARCH('Bilgi Girişi'!$E$4,KalemAdı,1))=TRUE,1,0)","v":1},"Nükleer reaktörler ve parçaları","Mal",42150000,null,null,"Nükleer reaktörlerin aksamı"]
[null,null,null,null,null,null,null,5284,42160000,{"$f":"IF(K5288=1,COUNTIF($K$5:K5288,1),\"\")","v":5284},{"$f":"IF(ISNUMBER(SEARCH('Bilgi Girişi'!$E$4,KalemAdı,1))=TRUE,1,0)","v":1},"Kazan tesisatları","Mal",42160000,null,null,"Kazanlarla kullanılan yardımcı tesis ve yapılar"]
[null,null,null,null,null,null,null,5286,42162000,{"$f":"IF(K5290=1,COUNTIF($K$5:K5290,1),\"\")","v":5286},{"$f":"IF(ISNUMBER(SEARCH('Bilgi Girişi'!$E$4,KalemAdı,1))=TRUE,1,0)","v":1},"Buhar kazanları","Mal",42162000,null,null,"Gıda, meşrubat, içecek ve tütün işleme amaçlı makineler ve ilgili parçaları"]
[null,null,null,null,null,null,null,5289,42165000,{"$f":"IF(K5293=1,COUNTIF($K$5:K5293,1),\"\")","v":5289},{"$f":"IF(ISNUMBER(SEARCH('Bilgi Girişi'!$E$4,KalemAdı,1))=TRUE,1,0)","v":1},"Buhar kondansatörleri","Mal",42165000,null,null,"Santrifüj krema ayrıştırıcılar"]
[null,null,null,null,null,null,null,5293,42211100,{"$f":"IF(K5297=1,COUNTIF($K$5:K5297,1),\"\")","v":5293},{"$f":"IF(ISNUMBER(SEARCH('Bilgi Girişi'!$E$4,KalemAdı,1))=TRUE,1,0)","v":1},"Santrifüj krema ayrıştırıcılar","Mal",42211100,null,null,"Pişirme fırınları"]
[null,null,null,null,null,null,null,5298,42214110,{"$f":"IF(K5302=1,COUNTIF($K$5:K5302,1),\"\")","v":5298},{"$f":"IF(ISNUMBER(SEARCH('Bilgi Girişi'!$E$4,KalemAdı,1))=TRUE,1,0)","v":1},"Et ızgaraları","Mal",42214110,null,null,"Ekmek dilimleme makineleri"]
[null,null,null,null,null,null,null,5301,42215100,{"$f":"IF(K5305=1,COUNTIF($K$5:K5305,1),\"\")","v":5301},{"$f":"IF(ISNUMBER(SEARCH('Bilgi Girişi'!$E$4,KalemAdı,1))=TRUE,1,0)","v":1},"Yiyecek kesme makineleri","Mal",42215100,null,null,"Makarna ve benzeri ürünleri imal eden makine ve cihazlar"]
[null,null,null,null,null,null,null,5303,42215120,{"$f":"IF(K5307=1,COUNTIF($K$5:K5307,1),\"\")","v":5303},{"$f":"IF(ISNUMBER(SEARCH('Bilgi Girişi'!$E$4,KalemAdı,1))=TRUE,1,0)","v":1},"Et doğrama makineleri","Mal",42215120,null,null,"Gıda, meşrubat, içecek ve tütün işlemeye yönelik makinelerin parçaları"]
[null,null,null,null,null,null,null,5306,42216000,{"$f":"IF(K5310=1,COUNTIF($K$5:K5310,1),\"\")","v":5306},{"$f":"IF(ISNUMBER(SEARCH('Bilgi Girişi'!$E$4,KalemAdı,1))=TRUE,1,0)","v":1},"Tütünün hazırlanması ve işlenmesine yönelik makineler","Mal",42216000,null,null,"Süt sağma makinelerinin aksam ve parçaları"]
[null,null,null,null,null,null,null,5312,42223000,{"$f":"IF(K5316=1,COUNTIF($K$5:K5316,1),\"\")","v":5312},{"$f":"IF(ISNUMBER(SEARCH('Bilgi Girişi'!$E$4,KalemAdı,1))=TRUE,1,0)","v":1},"Tütün işleme makinelerinin aksam ve parçaları","Mal",42223000,null,null,"Maden eritme fırınları"]
[null,null,null,null,null,null,null,5314,42310000,{"$f":"IF(K5318=1,COUNTIF($K$5:K5318,1),\"\")","v":5314},{"$f":"IF(ISNUMBER(SEARCH('Bilgi Girişi'!$E$4,KalemAdı,1))=TRUE,1,0)","v":1},"Ocak ve fırın brülörleri","Mal",42310000,null,null,{"$f":"IFERROR(VLOOKUP(ROW($P5318),$J$5:$L$9594,3,FALSE),\"\")","v":"Ticari ocaklar"}]
[null,null,null,null,null,null,null,5317,42340000,{"$f":"IF(K5321=1,COUNTIF($K$5:K5321,1),\"\")","v":5317},{"$f":"IF(ISNUMBER(SEARCH('Bilgi Girişi'!$E$4,KalemAdı,1))=TRUE,1,0)","v":1},"Mesken dışında kullanılan fırınlar","Mal",42340000,null,null,"Kaldırma ve taşıma ekipmanları ve bunların aksamları"]
[null,null,null,null,null,null,null,5322,42410000,{"$f":"IF(K5326=1,COUNTIF($K$5:K5326,1),\"\")","v":5322},{"$f":"IF(ISNUMBER(SEARCH('Bilgi Girişi'!$E$4,KalemAdı,1))=TRUE,1,0)","v":1},"Kaldırma ve taşıma ekipmanı","Mal",42410000,null,null,"Maden kuyu ağız kulelerinde kullanılan vinçler"]
[null,null,null,null,null,null,null,5326,42412110,{"$f":"IF(K5330=1,COUNTIF($K$5:K5330,1),\"\")","v":5326},{"$f":"IF(ISNUMBER(SEARCH('Bilgi Girişi'!$E$4,KalemAdı,1))=TRUE,1,0)","v":1},"Maden kuyu ağız kulelerinde kullanılan vinçler","Mal",42412110,null,null,"Sabit kriko sistemleri"]
[null,null,null,null,null,null,null,5327,42412120,{"$f":"IF(K5331=1,COUNTIF($K$5:K5331,1),\"\")","v":5327},{"$f":"IF(ISNUMBER(SEARCH('Bilgi Girişi'!$E$4,KalemAdı,1))=TRUE,1,0)","v":1},"Yer altında kullanılmaya mahsus vinçler","Mal",42412120,null,null,"Hidrolik krikolar"]
[null,null,null,null,null,null,null,5331,42413200,{"$f":"IF(K5335=1,COUNTIF($K$5:K5335,1),\"\")","v":5331},{"$f":"IF(ISNUMBER(SEARCH('Bilgi Girişi'!$E$4,KalemAdı,1))=TRUE,1,0)","v":1},"Hidrolik krikolar","Mal",42413200,null,null,"Döner vinçler, mobil kaldırma çerçeveleri ve döner vinç takılmış iş kamyonları"]
[null,null,null,null,null,null,null,5336,42414100,{"$f":"IF(K5340=1,COUNTIF($K$5:K5340,1),\"\")","v":5336},{"$f":"IF(ISNUMBER(SEARCH('Bilgi Girişi'!$E$4,KalemAdı,1))=TRUE,1,0)","v":1},"Döner vinçler","Mal",42414100,null,null,"Konteyner döner vinçleri"]
[null,null,null,null,null,null,null,5338,42414120,{"$f":"IF(K5342=1,COUNTIF($K$5:K5342,1),\"\")","v":5338},{"$f":"IF(ISNUMBER(SEARCH('Bilgi Girişi'!$E$4,KalemAdı,1))=TRUE,1,0)","v":1},"Rıhtım döner vinçleri","Mal",42414120,null,null,"Sabit bir mesnede tespit edilmiş gezer döner vinçler"]
[null,null,null,null,null,null,null,5341,42414150,{"$f":"IF(K5345=1,COUNTIF($K$5:K5345,1),\"\")","v":5341},{"$f":"IF(ISNUMBER(SEARCH('Bilgi Girişi'!$E$4,KalemAdı,1))=TRUE,1,0)","v":1},"Kule döner vinçleri","Mal",42414150,null,null,"Yelken direği döner vinçleri"]
[null,null,null,null,null,null,null,5346,42414310,{"$f":"IF(K5350=1,COUNTIF($K$5:K5350,1),\"\")","v":5346},{"$f":"IF(ISNUMBER(SEARCH('Bilgi Girişi'!$E$4,KalemAdı,1))=TRUE,1,0)","v":1},"Hareket edebilen kaldırma çerçeveleri","Mal",42414310,null,null,"Köprü döner vinçleri"]
[null,null,null,null,null,null,null,5350,42414500,{"$f":"IF(K5354=1,COUNTIF($K$5:K5354,1),\"\")","v":5350},{"$f":"IF(ISNUMBER(SEARCH('Bilgi Girişi'!$E$4,KalemAdı,1))=TRUE,1,0)","v":1},"Köprü döner vinçleri","Mal",42414500,null,null,"İş kamyonları (yük vagonları)"]
[null,null,null,null,null,null,null,5355,42415210,{"$f":"IF(K5359=1,COUNTIF($K$5:K5359,1),\"\")","v":5355},{"$f":"IF(ISNUMBER(SEARCH('Bilgi Girişi'!$E$4,KalemAdı,1))=TRUE,1,0)","v":1},"Kaldırma teçhizatı takılmış iş kamyonları","Mal",42415210,null,null,"Kaldıraçlar, asansörlü ve asansörsüz yük kaldırıcılar, yürüyen merdiven ve"]
[null,null,null,null,null,null,null,5358,42415320,{"$f":"IF(K5362=1,COUNTIF($K$5:K5362,1),\"\")","v":5358},{"$f":"IF(ISNUMBER(SEARCH('Bilgi Girişi'!$E$4,KalemAdı,1))=TRUE,1,0)","v":1},"Ambulans araçları için ekipman","Mal",42415320,null,null,"Yük kaldıraçları"]
[null,null,null,null,null,null,null,5360,42416100,{"$f":"IF(K5364=1,COUNTIF($K$5:K5364,1),\"\")","v":5360},{"$f":"IF(ISNUMBER(SEARCH('Bilgi Girişi'!$E$4,KalemAdı,1))=TRUE,1,0)","v":1},"Kaldıraçlar","Mal",42416100,null,null,"Skipli ağır yük asansörleri"]
[null,null,null,null,null,null,null,5363,42416130,{"$f":"IF(K5367=1,COUNTIF($K$5:K5367,1),\"\")","v":5363},{"$f":"IF(ISNUMBER(SEARCH('Bilgi Girişi'!$E$4,KalemAdı,1))=TRUE,1,0)","v":1},"Mekanik kaldıraçlar","Mal",42416130,null,null,"Yürüyen merdivenler"]
[null,null,null,null,null,null,null,5369,42417000,{"$f":"IF(K5373=1,COUNTIF($K$5:K5373,1),\"\")","v":5369},{"$f":"IF(ISNUMBER(SEARCH('Bilgi Girişi'!$E$4,KalemAdı,1))=TRUE,1,0)","v":1},"Elevatörler ve konveyörler","Mal",42417000,null,null,"Sürekli hareket eden tip bantlı elevatör ve konveyörler"]
[null,null,null,null,null,null,null,5371,42417200,{"$f":"IF(K5375=1,COUNTIF($K$5:K5375,1),\"\")","v":5371},{"$f":"IF(ISNUMBER(SEARCH('Bilgi Girişi'!$E$4,KalemAdı,1))=TRUE,1,0)","v":1},"Konveyörler","Mal",42417200,null,null,"Konveyör ekipmanı"]
[null,null,null,null,null,null,null,5374,42417230,{"$f":"IF(K5378=1,COUNTIF($K$5:K5378,1),\"\")","v":5374},{"$f":"IF(ISNUMBER(SEARCH('Bilgi Girişi'!$E$4,KalemAdı,1))=TRUE,1,0)","v":1},"Madencilikte kullanılan sert maden koruyucu kaplanmış AFCS konveyörleri","Mal",42417230,null,null,"Maden vagon iticileri, lokomotifler ve vagon traversleme araçları"]
[null,null,null,null,null,null,null,5379,42418200,{"$f":"IF(K5383=1,COUNTIF($K$5:K5383,1),\"\")","v":5379},{"$f":"IF(ISNUMBER(SEARCH('Bilgi Girişi'!$E$4,KalemAdı,1))=TRUE,1,0)","v":1},"Tek raylı vagonlar veya kayak lift ekipmanı","Mal",42418200,null,null,"Konik tip kaldırma ekipmanı"]
[null,null,null,null,null,null,null,5383,42418300,{"$f":"IF(K5387=1,COUNTIF($K$5:K5387,1),\"\")","v":5383},{"$f":"IF(ISNUMBER(SEARCH('Bilgi Girişi'!$E$4,KalemAdı,1))=TRUE,1,0)","v":1},"Konik tip kaldırma ekipmanı","Mal",42418300,null,null,"Yükleme ekipmanı"]
[null,null,null,null,null,null,null,5386,42418900,{"$f":"IF(K5390=1,COUNTIF($K$5:K5390,1),\"\")","v":5386},{"$f":"IF(ISNUMBER(SEARCH('Bilgi Girişi'!$E$4,KalemAdı,1))=TRUE,1,0)","v":1},"Yükleme veya boşaltma makineleri","Mal",42418900,null,null,"Konteyner yükleme ekipmanı"]
[null,null,null,null,null,null,null,5388,42418920,{"$f":"IF(K5392=1,COUNTIF($K$5:K5392,1),\"\")","v":5388},{"$f":"IF(ISNUMBER(SEARCH('Bilgi Girişi'!$E$4,KalemAdı,1))=TRUE,1,0)","v":1},"Boşaltma ekipmanı","Mal",42418920,null,null,"Döner vinç aksam ve parçaları"]
[null,null,null,null,null,null,null,5393,42419200,{"$f":"IF(K5397=1,COUNTIF($K$5:K5397,1),\"\")","v":5393},{"$f":"IF(ISNUMBER(SEARCH('Bilgi Girişi'!$E$4,KalemAdı,1))=TRUE,1,0)","v":1},"İş kamyonlarının aksam ve parçaları","Mal",42419200,null,null,"Yürüyen merdivenlerin aksam ve parçaları"]
[null,null,null,null,null,null,null,5395,42419510,{"$f":"IF(K5399=1,COUNTIF($K$5:K5399,1),\"\")","v":5395},{"$f":"IF(ISNUMBER(SEARCH('Bilgi Girişi'!$E$4,KalemAdı,1))=TRUE,1,0)","v":1},"Kaldıraçların aksam ve parçaları","Mal",42419510,null,null,"Konveyörlerin aksam ve parçaları"]
[null,null,null,null,null,null,null,5398,42419540,{"$f":"IF(K5402=1,COUNTIF($K$5:K5402,1),\"\")","v":5398},{"$f":"IF(ISNUMBER(SEARCH('Bilgi Girişi'!$E$4,KalemAdı,1))=TRUE,1,0)","v":1},"Hareketli platformların aksam ve parçaları","Mal",42419540,null,null,"Maden ocağı asansörleri ve diğer kaldırma ve yükleme ekipmanına ait aksam"]
[null,null,null,null,null,null,null,5403,42420000,{"$f":"IF(K5407=1,COUNTIF($K$5:K5407,1),\"\")","v":5403},{"$f":"IF(ISNUMBER(SEARCH('Bilgi Girişi'!$E$4,KalemAdı,1))=TRUE,1,0)","v":1},"Döner vinç ya da ekskavatörlerde (kazı makinesi) kullanılan kova, kürek,","Mal",42420000,null,null,"Isı değiştiriciler"]
[null,null,null,null,null,null,null,5407,42511100,{"$f":"IF(K5411=1,COUNTIF($K$5:K5411,1),\"\")","v":5407},{"$f":"IF(ISNUMBER(SEARCH('Bilgi Girişi'!$E$4,KalemAdı,1))=TRUE,1,0)","v":1},"Isı değiştiriciler","Mal",42511100,null,null,"Pencere tipi klima cihazları"]
[null,null,null,null,null,null,null,5411,42512100,{"$f":"IF(K5415=1,COUNTIF($K$5:K5415,1),\"\")","v":5411},{"$f":"IF(ISNUMBER(SEARCH('Bilgi Girişi'!$E$4,KalemAdı,1))=TRUE,1,0)","v":1},"Pencere tipi klima cihazları","Mal",42512100,null,null,"Klima cihazlarına ait aksam ve parçalar"]
[null,null,null,null,null,null,null,5412,42512200,{"$f":"IF(K5416=1,COUNTIF($K$5:K5416,1),\"\")","v":5412},{"$f":"IF(ISNUMBER(SEARCH('Bilgi Girişi'!$E$4,KalemAdı,1))=TRUE,1,0)","v":1},"Duvar tipi klima cihazları","Mal",42512200,null,null,"Damperler"]
[null,null,null,null,null,null,null,5416,42512510,{"$f":"IF(K5420=1,COUNTIF($K$5:K5420,1),\"\")","v":5416},{"$f":"IF(ISNUMBER(SEARCH('Bilgi Girişi'!$E$4,KalemAdı,1))=TRUE,1,0)","v":1},"Damperler","Mal",42512510,null,null,"Soğutucu cihazlar"]
[null,null,null,null,null,null,null,5421,42513210,{"$f":"IF(K5425=1,COUNTIF($K$5:K5425,1),\"\")","v":5421},{"$f":"IF(ISNUMBER(SEARCH('Bilgi Girişi'!$E$4,KalemAdı,1))=TRUE,1,0)","v":1},"Soğutuculu vitrinler","Mal",42513210,null,null,"Elektrostatik hava ve gaz temizleyiciler"]
[null,null,null,null,null,null,null,5423,42513290,{"$f":"IF(K5427=1,COUNTIF($K$5:K5427,1),\"\")","v":5423},{"$f":"IF(ISNUMBER(SEARCH('Bilgi Girişi'!$E$4,KalemAdı,1))=TRUE,1,0)","v":1},"Ticari tip soğutucu cihazlar","Mal",42513290,null,null,"Hava filtreleri"]
[null,null,null,null,null,null,null,5426,42514300,{"$f":"IF(K5430=1,COUNTIF($K$5:K5430,1),\"\")","v":5426},{"$f":"IF(ISNUMBER(SEARCH('Bilgi Girişi'!$E$4,KalemAdı,1))=TRUE,1,0)","v":1},"Filtreleme aparatları","Mal",42514300,null,null,"Havalandırma ekipmanı"]
[null,null,null,null,null,null,null,5431,42521000,{"$f":"IF(K5435=1,COUNTIF($K$5:K5435,1),\"\")","v":5431},{"$f":"IF(ISNUMBER(SEARCH('Bilgi Girişi'!$E$4,KalemAdı,1))=TRUE,1,0)","v":1},"Duman giderme cihazları","Mal",42521000,null,null,"Soğutma ekipmanına ait aksam ve parçalar"]
[null,null,null,null,null,null,null,5436,42532000,{"$f":"IF(K5440=1,COUNTIF($K$5:K5440,1),\"\")","v":5436},{"$f":"IF(ISNUMBER(SEARCH('Bilgi Girişi'!$E$4,KalemAdı,1))=TRUE,1,0)","v":1},"Dondurucu ekipmana ait aksam ve parçalar","Mal",42532000,null,null,"Özel amaçlı takım tezgahları"]
[null,null,null,null,null,null,null,5440,42611000,{"$f":"IF(K5444=1,COUNTIF($K$5:K5444,1),\"\")","v":5440},{"$f":"IF(ISNUMBER(SEARCH('Bilgi Girişi'!$E$4,KalemAdı,1))=TRUE,1,0)","v":1},"Özel amaçlı takım tezgahları","Mal",42611000,null,null,"Metal tornalamaya, raybalamaya ve frezelemeye yönelik takım tezgahları"]
[null,null,null,null,null,null,null,5443,42612200,{"$f":"IF(K5447=1,COUNTIF($K$5:K5447,1),\"\")","v":5443},{"$f":"IF(ISNUMBER(SEARCH('Bilgi Girişi'!$E$4,KalemAdı,1))=TRUE,1,0)","v":1},"Dikey merkezli torna tezgahları","Mal",42612200,null,null,"Diş açma veya vida yuvası açma tezgahları"]
[null,null,null,null,null,null,null,5445,42621000,{"$f":"IF(K5449=1,COUNTIF($K$5:K5449,1),\"\")","v":5445},{"$f":"IF(ISNUMBER(SEARCH('Bilgi Girişi'!$E$4,KalemAdı,1))=TRUE,1,0)","v":1},"Metal işlemeye yönelik torna tezgahları","Mal",42621000,null,null,"Metal iş makine tezgahları"]
[null,null,null,null,null,null,null,5448,42623000,{"$f":"IF(K5452=1,COUNTIF($K$5:K5452,1),\"\")","v":5448},{"$f":"IF(ISNUMBER(SEARCH('Bilgi Girişi'!$E$4,KalemAdı,1))=TRUE,1,0)","v":1},"Freze tezgahları","Mal",42623000,null,null,"Bükme, katlama, düzeltme veya yassılaştırma amaçlı tezgahlar"]
[null,null,null,null,null,null,null,5454,42635000,{"$f":"IF(K5458=1,COUNTIF($K$5:K5458,1),\"\")","v":5454},{"$f":"IF(ISNUMBER(SEARCH('Bilgi Girişi'!$E$4,KalemAdı,1))=TRUE,1,0)","v":1},"Kalıp basma tezgahları","Mal",42635000,null,null,"Metal delmeye yönelik takım tezgahı"]
[null,null,null,null,null,null,null,5456,42636100,{"$f":"IF(K5460=1,COUNTIF($K$5:K5460,1),\"\")","v":5456},{"$f":"IF(ISNUMBER(SEARCH('Bilgi Girişi'!$E$4,KalemAdı,1))=TRUE,1,0)","v":1},"Hidrolikli presler","Mal",42636100,null,null,"Metalleri frezelemeye yönelik takım tezgahları"]
[null,null,null,null,null,null,null,5459,42637200,{"$f":"IF(K5463=1,COUNTIF($K$5:K5463,1),\"\")","v":5459},{"$f":"IF(ISNUMBER(SEARCH('Bilgi Girişi'!$E$4,KalemAdı,1))=TRUE,1,0)","v":1},"Metalleri raybalamaya yönelik takım tezgahı","Mal",42637200,null,null,"Taş, seramik, beton veya cam işlemeye yönelik takım tezgahları"]
[null,null,null,null,null,null,null,5464,42641100,{"$f":"IF(K5468=1,COUNTIF($K$5:K5468,1),\"\")","v":5464},{"$f":"IF(ISNUMBER(SEARCH('Bilgi Girişi'!$E$4,KalemAdı,1))=TRUE,1,0)","v":1},"Taş işlemeye yönelik makineler","Mal",42641100,null,null,"Ağaç, kemik, mantar, sert kauçuk ve plastik işlemeye yönelik makineler"]
[null,null,null,null,null,null,null,5468,42642000,{"$f":"IF(K5472=1,COUNTIF($K$5:K5472,1),\"\")","v":5468},{"$f":"IF(ISNUMBER(SEARCH('Bilgi Girişi'!$E$4,KalemAdı,1))=TRUE,1,0)","v":1},"Ağaç, kemik, mantar, sert kauçuk ve plastik işlemeye yönelik makineler","Mal",42642000,null,null,"Sert kauçuk işlemeye yönelik makineler"]
[null,null,null,null,null,null,null,5469,42642100,{"$f":"IF(K5473=1,COUNTIF($K$5:K5473,1),\"\")","v":5469},{"$f":"IF(ISNUMBER(SEARCH('Bilgi Girişi'!$E$4,KalemAdı,1))=TRUE,1,0)","v":1},"Ağaç işlemeye yönelik makineler","Mal",42642100,null,null,"Sert plastik işlemeye yönelik makineler"]
[null,null,null,null,null,null,null,5473,42642500,{"$f":"IF(K5477=1,COUNTIF($K$5:K5477,1),\"\")","v":5473},{"$f":"IF(ISNUMBER(SEARCH('Bilgi Girişi'!$E$4,KalemAdı,1))=TRUE,1,0)","v":1},"Sert plastik işlemeye yönelik makineler","Mal",42642500,null,null,"Lehim ve kaynak yapmaya özgü makine ve cihazlar, yüzey sertleştirme ve\nsıcak püskürtme makine ve cihazları"]
[null,null,null,null,null,null,null,5478,42661000,{"$f":"IF(K5482=1,COUNTIF($K$5:K5482,1),\"\")","v":5478},{"$f":"IF(ISNUMBER(SEARCH('Bilgi Girişi'!$E$4,KalemAdı,1))=TRUE,1,0)","v":1},"Lehim ve pirinç kaynağı yapmaya mahsus ekipman","Mal",42661000,null,null,"Elektrikli kaynak ekipmanı"]
[null,null,null,null,null,null,null,5481,42662000,{"$f":"IF(K5485=1,COUNTIF($K$5:K5485,1),\"\")","v":5481},{"$f":"IF(ISNUMBER(SEARCH('Bilgi Girişi'!$E$4,KalemAdı,1))=TRUE,1,0)","v":1},"Kaynak makine ve ekipmanı","Mal",42662000,null,null,"Ergitme kaynağı yapmaya mahsus ekipman"]
[null,null,null,null,null,null,null,5483,42662200,{"$f":"IF(K5487=1,COUNTIF($K$5:K5487,1),\"\")","v":5483},{"$f":"IF(ISNUMBER(SEARCH('Bilgi Girişi'!$E$4,KalemAdı,1))=TRUE,1,0)","v":1},"Mekanik kaynak ekipmanı","Mal",42662200,null,null,"Metal püskürtme makine ve ekipmanı"]
[null,null,null,null,null,null,null,5488,42670000,{"$f":"IF(K5492=1,COUNTIF($K$5:K5492,1),\"\")","v":5488},{"$f":"IF(ISNUMBER(SEARCH('Bilgi Girişi'!$E$4,KalemAdı,1))=TRUE,1,0)","v":1},"Takım tezgahlarına ait aksam ve parçalar","Mal",42670000,null,null,"Tezgah takımları için işlenecek malzeme tutucuları"]
[null,null,null,null,null,null,null,5492,42672000,{"$f":"IF(K5496=1,COUNTIF($K$5:K5496,1),\"\")","v":5492},{"$f":"IF(ISNUMBER(SEARCH('Bilgi Girişi'!$E$4,KalemAdı,1))=TRUE,1,0)","v":1},"Tezgah takımları için işlenecek malzeme tutucuları","Mal",42672000,null,null,"Zincir testere aksam ve parçaları"]
[null,null,null,null,null,null,null,5496,42675100,{"$f":"IF(K5500=1,COUNTIF($K$5:K5500,1),\"\")","v":5496},{"$f":"IF(ISNUMBER(SEARCH('Bilgi Girişi'!$E$4,KalemAdı,1))=TRUE,1,0)","v":1},"Zincir testere aksam ve parçaları","Mal",42675100,null,null,"Tekstil ve giyim eşyası işlemeye yönelik makineler"]
[null,null,null,null,null,null,null,5497,42676000,{"$f":"IF(K5501=1,COUNTIF($K$5:K5501,1),\"\")","v":5497},{"$f":"IF(ISNUMBER(SEARCH('Bilgi Girişi'!$E$4,KalemAdı,1))=TRUE,1,0)","v":1},"El ile kullanılan aletlerin aksam ve parçaları","Mal",42676000,null,null,"Suni kumaşların işlenmesinde kullanılan makineler"]
[null,null,null,null,null,null,null,5501,42711000,{"$f":"IF(K5505=1,COUNTIF($K$5:K5505,1),\"\")","v":5501},{"$f":"IF(ISNUMBER(SEARCH('Bilgi Girişi'!$E$4,KalemAdı,1))=TRUE,1,0)","v":1},"Suni kumaşların işlenmesinde kullanılan makineler","Mal",42711000,null,null,"Dikiş makineleri"]
[null,null,null,null,null,null,null,5506,42716000,{"$f":"IF(K5510=1,COUNTIF($K$5:K5510,1),\"\")","v":5506},{"$f":"IF(ISNUMBER(SEARCH('Bilgi Girişi'!$E$4,KalemAdı,1))=TRUE,1,0)","v":1},"Çamaşırhane tipi yıkama, kuru temizleme ve kurutma makineleri","Mal",42716000,null,null,{"$f":"IFERROR(VLOOKUP(ROW($P5510),$J$5:$L$9594,3,FALSE),\"\")","v":"Kuru temizleme makineleri"}]
[null,null,null,null,null,null,null,5511,42716200,{"$f":"IF(K5515=1,COUNTIF($K$5:K5515,1),\"\")","v":5511},{"$f":"IF(ISNUMBER(SEARCH('Bilgi Girişi'!$E$4,KalemAdı,1))=TRUE,1,0)","v":1},"Kurutma makineleri","Mal",42716200,null,null,"Ütü makineleri"]
[null,null,null,null,null,null,null,5513,42717100,{"$f":"IF(K5517=1,COUNTIF($K$5:K5517,1),\"\")","v":5513},{"$f":"IF(ISNUMBER(SEARCH('Bilgi Girişi'!$E$4,KalemAdı,1))=TRUE,1,0)","v":1},"Çarşaf katlama donanımı","Mal",42717100,null,null,"Tekstil ve hazır giyim üretiminde kullanılan makinelere ait aksam ve parçalar"]
[null,null,null,null,null,null,null,5516,42718200,{"$f":"IF(K5520=1,COUNTIF($K$5:K5520,1),\"\")","v":5516},{"$f":"IF(ISNUMBER(SEARCH('Bilgi Girişi'!$E$4,KalemAdı,1))=TRUE,1,0)","v":1},"Ütü presleri","Mal",42718200,null,null,"Diğer genel ve özel amaçlı makineler"]
[null,null,null,null,null,null,null,5521,42910000,{"$f":"IF(K5525=1,COUNTIF($K$5:K5525,1),\"\")","v":5521},{"$f":"IF(ISNUMBER(SEARCH('Bilgi Girişi'!$E$4,KalemAdı,1))=TRUE,1,0)","v":1},"Damıtma, filtereleme veya rektifiye aparatları","Mal",42910000,null,null,"Hidrosiklon makineleri"]
[null,null,null,null,null,null,null,5525,42912120,{"$f":"IF(K5529=1,COUNTIF($K$5:K5529,1),\"\")","v":5525},{"$f":"IF(ISNUMBER(SEARCH('Bilgi Girişi'!$E$4,KalemAdı,1))=TRUE,1,0)","v":1},"Hidrosiklon makineleri","Mal",42912120,null,null,"Hava giderme aparatları"]
[null,null,null,null,null,null,null,5526,42912130,{"$f":"IF(K5530=1,COUNTIF($K$5:K5530,1),\"\")","v":5526},{"$f":"IF(ISNUMBER(SEARCH('Bilgi Girişi'!$E$4,KalemAdı,1))=TRUE,1,0)","v":1},"Meşrubat (içecek) filtreleme veya arıtma aparatları","Mal",42912130,null,null,"Su arıtma aparatları"]
[null,null,null,null,null,null,null,5530,42912330,{"$f":"IF(K5534=1,COUNTIF($K$5:K5534,1),\"\")","v":5530},{"$f":"IF(ISNUMBER(SEARCH('Bilgi Girişi'!$E$4,KalemAdı,1))=TRUE,1,0)","v":1},"Su arıtma aparatları","Mal",42912330,null,null,"Yağ filtreleri"]
[null,null,null,null,null,null,null,5533,42913000,{"$f":"IF(K5537=1,COUNTIF($K$5:K5537,1),\"\")","v":5533},{"$f":"IF(ISNUMBER(SEARCH('Bilgi Girişi'!$E$4,KalemAdı,1))=TRUE,1,0)","v":1},"Yağ, benzin ve hava filtreleri","Mal",42913000,null,null,"Atık maddeleri yeniden işleme ekipmanı"]
[null,null,null,null,null,null,null,5539,42921000,{"$f":"IF(K5543=1,COUNTIF($K$5:K5543,1),\"\")","v":5539},{"$f":"IF(ISNUMBER(SEARCH('Bilgi Girişi'!$E$4,KalemAdı,1))=TRUE,1,0)","v":1},"Şişeleri veya diğer kapları temizlemek, doldurmak, kapatmak ve\nambalajlamak için kullanılan makineler","Mal",42921000,null,null,"Ambalaj çemberleme makineleri"]
[null,null,null,null,null,null,null,5540,42921100,{"$f":"IF(K5544=1,COUNTIF($K$5:K5544,1),\"\")","v":5540},{"$f":"IF(ISNUMBER(SEARCH('Bilgi Girişi'!$E$4,KalemAdı,1))=TRUE,1,0)","v":1},"Şişeleri ve diğer kapları temizlemek veya kurutmakta kullanılan makineler","Mal",42921100,null,null,"Paketleme makineleri"]
[null,null,null,null,null,null,null,5545,42921330,{"$f":"IF(K5549=1,COUNTIF($K$5:K5549,1),\"\")","v":5545},{"$f":"IF(ISNUMBER(SEARCH('Bilgi Girişi'!$E$4,KalemAdı,1))=TRUE,1,0)","v":1},"Ambalajlama makineleri","Mal",42921330,null,null,"Basküller"]
[null,null,null,null,null,null,null,5549,42923200,{"$f":"IF(K5553=1,COUNTIF($K$5:K5553,1),\"\")","v":5549},{"$f":"IF(ISNUMBER(SEARCH('Bilgi Girişi'!$E$4,KalemAdı,1))=TRUE,1,0)","v":1},"Basküller","Mal",42923200,null,null,"Buhar veya kum püskürtme makineleri"]
[null,null,null,null,null,null,null,5553,42924200,{"$f":"IF(K5557=1,COUNTIF($K$5:K5557,1),\"\")","v":5553},{"$f":"IF(ISNUMBER(SEARCH('Bilgi Girişi'!$E$4,KalemAdı,1))=TRUE,1,0)","v":1},"Buhar veya kum püskürtme makineleri","Mal",42924200,null,null,"Gaz dağıtım aparatları"]
[null,null,null,null,null,null,null,5554,42924300,{"$f":"IF(K5558=1,COUNTIF($K$5:K5558,1),\"\")","v":5554},{"$f":"IF(ISNUMBER(SEARCH('Bilgi Girişi'!$E$4,KalemAdı,1))=TRUE,1,0)","v":1},"Püskürtme ekipmanı","Mal",42924300,null,null,"Dekontaminasyon ekipmanı"]
[null,null,null,null,null,null,null,5558,42924720,{"$f":"IF(K5562=1,COUNTIF($K$5:K5562,1),\"\")","v":5558},{"$f":"IF(ISNUMBER(SEARCH('Bilgi Girişi'!$E$4,KalemAdı,1))=TRUE,1,0)","v":1},"Dekontaminasyon ekipmanı","Mal",42924720,null,null,"Santrifüjler, kalenderler ve diğer hadde makineleri ya da otomatik satış"]
[null,null,null,null,null,null,null,5563,42931000,{"$f":"IF(K5567=1,COUNTIF($K$5:K5567,1),\"\")","v":5563},{"$f":"IF(ISNUMBER(SEARCH('Bilgi Girişi'!$E$4,KalemAdı,1))=TRUE,1,0)","v":1},"Santrifüjler","Mal",42931000,null,null,"Santrifüjler için Uçlar"]
[null,null,null,null,null,null,null,5566,42931120,{"$f":"IF(K5570=1,COUNTIF($K$5:K5570,1),\"\")","v":5566},{"$f":"IF(ISNUMBER(SEARCH('Bilgi Girişi'!$E$4,KalemAdı,1))=TRUE,1,0)","v":1},"Masa santrifüjleri","Mal",42931120,null,null,"Hadde makineleri"]
[null,null,null,null,null,null,null,5568,42931140,{"$f":"IF(K5572=1,COUNTIF($K$5:K5572,1),\"\")","v":5568},{"$f":"IF(ISNUMBER(SEARCH('Bilgi Girişi'!$E$4,KalemAdı,1))=TRUE,1,0)","v":1},"Santrifüjler için rotatif ekipmanlar","Mal",42931140,null,null,"Lavabo ve tuvaletlerde kullanılan otomatik satış ve hizmet makineleri"]
[null,null,null,null,null,null,null,5574,42933300,{"$f":"IF(K5578=1,COUNTIF($K$5:K5578,1),\"\")","v":5574},{"$f":"IF(ISNUMBER(SEARCH('Bilgi Girişi'!$E$4,KalemAdı,1))=TRUE,1,0)","v":1},"Otomatik ürün satış makineleri","Mal",42933300,null,null,"Vakumlu fırınlar"]
[null,null,null,null,null,null,null,5577,42942000,{"$f":"IF(K5581=1,COUNTIF($K$5:K5581,1),\"\")","v":5577},{"$f":"IF(ISNUMBER(SEARCH('Bilgi Girişi'!$E$4,KalemAdı,1))=TRUE,1,0)","v":1},"Fırınlar ve aksesuarları","Mal",42942000,null,null,"Ultrasonik banyolar"]
[null,null,null,null,null,null,null,5582,42943210,{"$f":"IF(K5586=1,COUNTIF($K$5:K5586,1),\"\")","v":5582},{"$f":"IF(ISNUMBER(SEARCH('Bilgi Girişi'!$E$4,KalemAdı,1))=TRUE,1,0)","v":1},"Daldırma termostatlar","Mal",42943210,null,null,"Yüksek sıcaklık sirkülatörleri"]
[null,null,null,null,null,null,null,5583,42943300,{"$f":"IF(K5587=1,COUNTIF($K$5:K5587,1),\"\")","v":5583},{"$f":"IF(ISNUMBER(SEARCH('Bilgi Girişi'!$E$4,KalemAdı,1))=TRUE,1,0)","v":1},"Daldırma soğutucular","Mal",42943300,null,null,"Isıtma sirkülatörleri"]
[null,null,null,null,null,null,null,5587,42943700,{"$f":"IF(K5591=1,COUNTIF($K$5:K5591,1),\"\")","v":5587},{"$f":"IF(ISNUMBER(SEARCH('Bilgi Girişi'!$E$4,KalemAdı,1))=TRUE,1,0)","v":1},"Isıtma sirkülatörleri","Mal",42943700,null,null,"Kalender makinelerinin aksam ve parçaları"]
[null,null,null,null,null,null,null,5590,42952000,{"$f":"IF(K5594=1,COUNTIF($K$5:K5594,1),\"\")","v":5590},{"$f":"IF(ISNUMBER(SEARCH('Bilgi Girişi'!$E$4,KalemAdı,1))=TRUE,1,0)","v":1},"Santrifüj aksam ve parçaları","Mal",42952000,null,null,"Arıtma cihazlarının aksam ve parçaları"]
[null,null,null,null,null,null,null,5596,42958000,{"$f":"IF(K5600=1,COUNTIF($K$5:K5600,1),\"\")","v":5596},{"$f":"IF(ISNUMBER(SEARCH('Bilgi Girişi'!$E$4,KalemAdı,1))=TRUE,1,0)","v":1},"Tartı aletlerinin aksam ve parçaları","Mal",42958000,null,null,"Erişim kontrol sistemi"]
[null,null,null,null,null,null,null,5598,42960000,{"$f":"IF(K5602=1,COUNTIF($K$5:K5602,1),\"\")","v":5598},{"$f":"IF(ISNUMBER(SEARCH('Bilgi Girişi'!$E$4,KalemAdı,1))=TRUE,1,0)","v":1},"Komuta ve kontrol sisteminin, baskı, grafikler, ofis otomasyonu ve bilgi işlem","Mal",42960000,null,null,"Araç tespit sistemi"]
[null,null,null,null,null,null,null,5601,42961200,{"$f":"IF(K5605=1,COUNTIF($K$5:K5605,1),\"\")","v":5601},{"$f":"IF(ISNUMBER(SEARCH('Bilgi Girişi'!$E$4,KalemAdı,1))=TRUE,1,0)","v":1},"SCADA sistemi veya eşdeğeri","Mal",42961200,null,null,"Film baskı sistemleri"]
[null,null,null,null,null,null,null,5606,42962200,{"$f":"IF(K5610=1,COUNTIF($K$5:K5610,1),\"\")","v":5606},{"$f":"IF(ISNUMBER(SEARCH('Bilgi Girişi'!$E$4,KalemAdı,1))=TRUE,1,0)","v":1},"Matbaa makineleri","Mal",42962200,null,null,"Bozuk para basmaya özgü makine ve cihazlar"]
[null,null,null,null,null,null,null,5610,42963000,{"$f":"IF(K5614=1,COUNTIF($K$5:K5614,1),\"\")","v":5610},{"$f":"IF(ISNUMBER(SEARCH('Bilgi Girişi'!$E$4,KalemAdı,1))=TRUE,1,0)","v":1},"Bozuk para basmaya özgü makine ve cihazlar","Mal",42963000,null,null,"Depo sistemi"]
[null,null,null,null,null,null,null,5611,42964000,{"$f":"IF(K5615=1,COUNTIF($K$5:K5615,1),\"\")","v":5611},{"$f":"IF(ISNUMBER(SEARCH('Bilgi Girişi'!$E$4,KalemAdı,1))=TRUE,1,0)","v":1},"Ofis otomasyon donanımı","Mal",42964000,null,null,"Kumanda birimi"]
[null,null,null,null,null,null,null,5615,42967000,{"$f":"IF(K5619=1,COUNTIF($K$5:K5619,1),\"\")","v":5615},{"$f":"IF(ISNUMBER(SEARCH('Bilgi Girişi'!$E$4,KalemAdı,1))=TRUE,1,0)","v":1},"Kumanda birimi","Mal",42967000,null,null,"Sıhhi malzeme tevzi makineleri"]
[null,null,null,null,null,null,null,5620,42968300,{"$f":"IF(K5624=1,COUNTIF($K$5:K5624,1),\"\")","v":5620},{"$f":"IF(ISNUMBER(SEARCH('Bilgi Girişi'!$E$4,KalemAdı,1))=TRUE,1,0)","v":1},"Tuvalet tipi rulolu otomat sistemi","Mal",42968300,null,null,"Dolum makineleri aksam ve parçaları"]
[null,null,null,null,null,null,null,5623,42972000,{"$f":"IF(K5627=1,COUNTIF($K$5:K5627,1),\"\")","v":5623},{"$f":"IF(ISNUMBER(SEARCH('Bilgi Girişi'!$E$4,KalemAdı,1))=TRUE,1,0)","v":1},"Temizleme makineleri parçaları","Mal",42972000,null,null,"Gaz üreteçleri"]
[null,null,null,null,null,null,null,5625,42974000,{"$f":"IF(K5629=1,COUNTIF($K$5:K5629,1),\"\")","v":5625},{"$f":"IF(ISNUMBER(SEARCH('Bilgi Girişi'!$E$4,KalemAdı,1))=TRUE,1,0)","v":1},"Ambalajlama makineleri aksam ve parçaları","Mal",42974000,null,null,"Diğer çeşitli özel amaçlı kullanılan makine ve donanım"]
[null,null,null,null,null,null,null,5631,42991100,{"$f":"IF(K5635=1,COUNTIF($K$5:K5635,1),\"\")","v":5631},{"$f":"IF(ISNUMBER(SEARCH('Bilgi Girişi'!$E$4,KalemAdı,1))=TRUE,1,0)","v":1},"Cilt makineleri","Mal",42991100,null,null,"Tipo baskı makineleri"]
[null,null,null,null,null,null,null,5634,42991210,{"$f":"IF(K5638=1,COUNTIF($K$5:K5638,1),\"\")","v":5634},{"$f":"IF(ISNUMBER(SEARCH('Bilgi Girişi'!$E$4,KalemAdı,1))=TRUE,1,0)","v":1},"Ofset baskı makineleri","Mal",42991210,null,null,{"$f":"IFERROR(VLOOKUP(ROW($P5638),$J$5:$L$9594,3,FALSE),\"\")","v":"Ahşap, kağıt hamuru, kağıt yada kartonlar için kurutucular"}]
[null,null,null,null,null,null,null,5638,42991400,{"$f":"IF(K5642=1,COUNTIF($K$5:K5642,1),\"\")","v":5638},{"$f":"IF(ISNUMBER(SEARCH('Bilgi Girişi'!$E$4,KalemAdı,1))=TRUE,1,0)","v":1},"Ahşap, kağıt hamuru, kağıt yada kartonlar için kurutucular","Mal",42991400,null,null,"Yankı yapmayan odalar"]
[null,null,null,null,null,null,null,5639,42991500,{"$f":"IF(K5643=1,COUNTIF($K$5:K5643,1),\"\")","v":5639},{"$f":"IF(ISNUMBER(SEARCH('Bilgi Girişi'!$E$4,KalemAdı,1))=TRUE,1,0)","v":1},"Baskı ya da ciltleme makinelerinin parçaları","Mal",42991500,null,null,"Elektromanyetik emici maddeler"]
[null,null,null,null,null,null,null,5643,42992300,{"$f":"IF(K5647=1,COUNTIF($K$5:K5647,1),\"\")","v":5643},{"$f":"IF(ISNUMBER(SEARCH('Bilgi Girişi'!$E$4,KalemAdı,1))=TRUE,1,0)","v":1},"Elektromanyetik emici maddeler","Mal",42992300,null,null,"Lastik ya da plastik işleme amaçlı makine ve donanım"]
[null,null,null,null,null,null,null,5648,42994100,{"$f":"IF(K5652=1,COUNTIF($K$5:K5652,1),\"\")","v":5648},{"$f":"IF(ISNUMBER(SEARCH('Bilgi Girişi'!$E$4,KalemAdı,1))=TRUE,1,0)","v":1},"Plastikten mamul pencere ve çerçeve imalatında kullanılan makineler","Mal",42994100,null,null,"Çeşitli temizleme makineleri"]
[null,null,null,null,null,null,null,5651,42994230,{"$f":"IF(K5655=1,COUNTIF($K$5:K5655,1),\"\")","v":5651},{"$f":"IF(ISNUMBER(SEARCH('Bilgi Girişi'!$E$4,KalemAdı,1))=TRUE,1,0)","v":1},"Lamine","Mal",42994230,null,null,"Kanalizasyon arıtma makineleri"]
[null,null,null,null,null,null,null,5653,42995100,{"$f":"IF(K5657=1,COUNTIF($K$5:K5657,1),\"\")","v":5653},{"$f":"IF(ISNUMBER(SEARCH('Bilgi Girişi'!$E$4,KalemAdı,1))=TRUE,1,0)","v":1},"Boru, tünel yıkama aletleri","Mal",42995100,null,null,"Atıksu, lağım arıtımında kullanılan yumuşatıcılar"]
[null,null,null,null,null,null,null,5658,42996200,{"$f":"IF(K5662=1,COUNTIF($K$5:K5662,1),\"\")","v":5658},{"$f":"IF(ISNUMBER(SEARCH('Bilgi Girişi'!$E$4,KalemAdı,1))=TRUE,1,0)","v":1},"Kanalizasyon presleri","Mal",42996200,null,null,"Oksijenleme ekipmanı"]
[null,null,null,null,null,null,null,5663,42996700,{"$f":"IF(K5667=1,COUNTIF($K$5:K5667,1),\"\")","v":5663},{"$f":"IF(ISNUMBER(SEARCH('Bilgi Girişi'!$E$4,KalemAdı,1))=TRUE,1,0)","v":1},"Ön çöktürücüler","Mal",42996700,null,null,"Boru hatlarının iç yüzeylerinin muayenesine yönelik makineler"]
[null,null,null,null,null,null,null,5667,42997100,{"$f":"IF(K5671=1,COUNTIF($K$5:K5671,1),\"\")","v":5667},{"$f":"IF(ISNUMBER(SEARCH('Bilgi Girişi'!$E$4,KalemAdı,1))=TRUE,1,0)","v":1},"Boru hatlarının iç yüzeylerinin muayenesine yönelik makineler","Mal",42997100,null,null,"Paletli erişim sistemi"]
[null,null,null,null,null,null,null,5668,42997200,{"$f":"IF(K5672=1,COUNTIF($K$5:K5672,1),\"\")","v":5668},{"$f":"IF(ISNUMBER(SEARCH('Bilgi Girişi'!$E$4,KalemAdı,1))=TRUE,1,0)","v":1},"Boru hatlarının iç yüzeylerinin temizliğine yönelik makineler","Mal",42997200,null,null,"Evsel kullanımı olmayan vakum temizleyiciler ve satıh cilalayıcılar"]
[null,null,null,null,null,null,null,5672,42999000,{"$f":"IF(K5676=1,COUNTIF($K$5:K5676,1),\"\")","v":5672},{"$f":"IF(ISNUMBER(SEARCH('Bilgi Girişi'!$E$4,KalemAdı,1))=TRUE,1,0)","v":1},"Evsel kullanımı olmayan vakum temizleyiciler ve satıh cilalayıcılar","Mal",42999000,null,null,"Evsel kullanımı olmayan satıh cilalayıcıların parçaları"]
[null,null,null,null,null,null,null,5676,42999400,{"$f":"IF(K5680=1,COUNTIF($K$5:K5680,1),\"\")","v":5676},{"$f":"IF(ISNUMBER(SEARCH('Bilgi Girişi'!$E$4,KalemAdı,1))=TRUE,1,0)","v":1},"Evsel kullanımı olmayan satıh cilalayıcıların parçaları","Mal",42999400,null,null,"Kuyu açma makineleri"]
[null,null,null,null,null,null,null,5681,43121100,{"$f":"IF(K5685=1,COUNTIF($K$5:K5685,1),\"\")","v":5681},{"$f":"IF(ISNUMBER(SEARCH('Bilgi Girişi'!$E$4,KalemAdı,1))=TRUE,1,0)","v":1},"Kuyu ağzına kurulan çalışma ekipman ve avadanlıkları","Mal",43121100,null,null,"Kuyu muayene ekipmanı"]
[null,null,null,null,null,null,null,5683,43121300,{"$f":"IF(K5687=1,COUNTIF($K$5:K5687,1),\"\")","v":5683},{"$f":"IF(ISNUMBER(SEARCH('Bilgi Girişi'!$E$4,KalemAdı,1))=TRUE,1,0)","v":1},"Kuyu ikmal ekipmanı","Mal",43121300,null,null,"Kömür ya da kaya kesme makineleri"]
[null,null,null,null,null,null,null,5686,43121600,{"$f":"IF(K5690=1,COUNTIF($K$5:K5690,1),\"\")","v":5686},{"$f":"IF(ISNUMBER(SEARCH('Bilgi Girişi'!$E$4,KalemAdı,1))=TRUE,1,0)","v":1},"Patlama önleyici aparatlar (BOP)","Mal",43121600,null,null,"Köstebekler"]
[null,null,null,null,null,null,null,5691,43124900,{"$f":"IF(K5695=1,COUNTIF($K$5:K5695,1),\"\")","v":5691},{"$f":"IF(ISNUMBER(SEARCH('Bilgi Girişi'!$E$4,KalemAdı,1))=TRUE,1,0)","v":1},"Kaya sondaj ekipmanı","Mal",43124900,null,null,"Kıyı ötesi ekipmanlar"]
[null,null,null,null,null,null,null,5695,43131100,{"$f":"IF(K5699=1,COUNTIF($K$5:K5699,1),\"\")","v":5695},{"$f":"IF(ISNUMBER(SEARCH('Bilgi Girişi'!$E$4,KalemAdı,1))=TRUE,1,0)","v":1},"Kıyı ötesi ekipmanlar","Mal",43131100,null,null,"Sondaj grubu"]
[null,null,null,null,null,null,null,5696,43131200,{"$f":"IF(K5700=1,COUNTIF($K$5:K5700,1),\"\")","v":5696},{"$f":"IF(ISNUMBER(SEARCH('Bilgi Girişi'!$E$4,KalemAdı,1))=TRUE,1,0)","v":1},"Kıyı ötesi sondaj takımı","Mal",43131200,null,null,"Matkaplar"]
[null,null,null,null,null,null,null,5700,43132300,{"$f":"IF(K5704=1,COUNTIF($K$5:K5704,1),\"\")","v":5700},{"$f":"IF(ISNUMBER(SEARCH('Bilgi Girişi'!$E$4,KalemAdı,1))=TRUE,1,0)","v":1},"Matkaplar","Mal",43132300,null,null,"Kızak üniteleri"]
[null,null,null,null,null,null,null,5705,43133200,{"$f":"IF(K5709=1,COUNTIF($K$5:K5709,1),\"\")","v":5705},{"$f":"IF(ISNUMBER(SEARCH('Bilgi Girişi'!$E$4,KalemAdı,1))=TRUE,1,0)","v":1},"Kızak ünitesine monteli modüller","Mal",43133200,null,null,"Denizaltı kumanda sistemleri"]
[null,null,null,null,null,null,null,5708,43135000,{"$f":"IF(K5712=1,COUNTIF($K$5:K5712,1),\"\")","v":5708},{"$f":"IF(ISNUMBER(SEARCH('Bilgi Girişi'!$E$4,KalemAdı,1))=TRUE,1,0)","v":1},"Deniz altı ekipmanı","Mal",43135000,null,null,"Hafriyat ve toprak kaldırma makineleri ve bunlarla ilgili parçalar"]
[null,null,null,null,null,null,null,5710,43136000,{"$f":"IF(K5714=1,COUNTIF($K$5:K5714,1),\"\")","v":5710},{"$f":"IF(ISNUMBER(SEARCH('Bilgi Girişi'!$E$4,KalemAdı,1))=TRUE,1,0)","v":1},"Sondaj deliği ekipmanı","Mal",43136000,null,null,"Buldozerler"]
[null,null,null,null,null,null,null,5716,43220000,{"$f":"IF(K5720=1,COUNTIF($K$5:K5720,1),\"\")","v":5716},{"$f":"IF(ISNUMBER(SEARCH('Bilgi Girişi'!$E$4,KalemAdı,1))=TRUE,1,0)","v":1},"Greyderler ve tesfiye, düzleme makineleri","Mal",43220000,null,null,"Önden yüklemeli küreyici ve yükleyiciler"]
[null,null,null,null,null,null,null,5719,43240000,{"$f":"IF(K5723=1,COUNTIF($K$5:K5723,1),\"\")","v":5719},{"$f":"IF(ISNUMBER(SEARCH('Bilgi Girişi'!$E$4,KalemAdı,1))=TRUE,1,0)","v":1},"Tokmaklayarak yol sıkıştırma makineleri","Mal",43240000,null,null,"Mekanik küreyiciler, ekskavatörler ve küreyici yükleyiciler ile madencilik"]
[null,null,null,null,null,null,null,5721,43251000,{"$f":"IF(K5725=1,COUNTIF($K$5:K5725,1),\"\")","v":5721},{"$f":"IF(ISNUMBER(SEARCH('Bilgi Girişi'!$E$4,KalemAdı,1))=TRUE,1,0)","v":1},"Bekolu ön-arka kürekli yükleyiciler","Mal",43251000,null,null,"Mekanik kürekli yükleyiciler"]
[null,null,null,null,null,null,null,5724,43261000,{"$f":"IF(K5728=1,COUNTIF($K$5:K5728,1),\"\")","v":5724},{"$f":"IF(ISNUMBER(SEARCH('Bilgi Girişi'!$E$4,KalemAdı,1))=TRUE,1,0)","v":1},"Mekanik kürekler","Mal",43261000,null,null,"İnşaat makine ve ekipmanları"]
[null,null,null,null,null,null,null,5728,43300000,{"$f":"IF(K5732=1,COUNTIF($K$5:K5732,1),\"\")","v":5728},{"$f":"IF(ISNUMBER(SEARCH('Bilgi Girişi'!$E$4,KalemAdı,1))=TRUE,1,0)","v":1},"İnşaat makine ve ekipmanları","Mal",43300000,null,null,"Yol tesfiye makineleri"]
[null,null,null,null,null,null,null,5733,43312200,{"$f":"IF(K5737=1,COUNTIF($K$5:K5737,1),\"\")","v":5733},{"$f":"IF(ISNUMBER(SEARCH('Bilgi Girişi'!$E$4,KalemAdı,1))=TRUE,1,0)","v":1},"Mıcır atma makineleri","Mal",43312200,null,null,"Kar küreyicileri ve kar püskürtücüleri"]
[null,null,null,null,null,null,null,5738,43313100,{"$f":"IF(K5742=1,COUNTIF($K$5:K5742,1),\"\")","v":5738},{"$f":"IF(ISNUMBER(SEARCH('Bilgi Girişi'!$E$4,KalemAdı,1))=TRUE,1,0)","v":1},"Kar küreyicileri","Mal",43313100,null,null,"Kablo döşeme makineleri"]
[null,null,null,null,null,null,null,5740,43314000,{"$f":"IF(K5744=1,COUNTIF($K$5:K5744,1),\"\")","v":5740},{"$f":"IF(ISNUMBER(SEARCH('Bilgi Girişi'!$E$4,KalemAdı,1))=TRUE,1,0)","v":1},"Kazık sökme makineleri","Mal",43314000,null,null,"Köprü askı ekipmanı"]
[null,null,null,null,null,null,null,5743,43320000,{"$f":"IF(K5747=1,COUNTIF($K$5:K5747,1),\"\")","v":5743},{"$f":"IF(ISNUMBER(SEARCH('Bilgi Girişi'!$E$4,KalemAdı,1))=TRUE,1,0)","v":1},"İnşaat ekipmanı","Mal",43320000,null,null,"Drenaj ekipmanı"]
[null,null,null,null,null,null,null,5748,43324100,{"$f":"IF(K5752=1,COUNTIF($K$5:K5752,1),\"\")","v":5748},{"$f":"IF(ISNUMBER(SEARCH('Bilgi Girişi'!$E$4,KalemAdı,1))=TRUE,1,0)","v":1},"Yüzme havuzları için ekipman","Mal",43324100,null,null,"Hidrolikli tesisatlar"]
[null,null,null,null,null,null,null,5752,43328000,{"$f":"IF(K5756=1,COUNTIF($K$5:K5756,1),\"\")","v":5752},{"$f":"IF(ISNUMBER(SEARCH('Bilgi Girişi'!$E$4,KalemAdı,1))=TRUE,1,0)","v":1},"Hidrolikli tesisatlar","Mal",43328000,null,null,"Mineral ve cevher işleme makineleri"]
[null,null,null,null,null,null,null,5753,43328100,{"$f":"IF(K5757=1,COUNTIF($K$5:K5757,1),\"\")","v":5753},{"$f":"IF(ISNUMBER(SEARCH('Bilgi Girişi'!$E$4,KalemAdı,1))=TRUE,1,0)","v":1},"Hidrolik ekipman","Mal",43328100,null,null,"Ayırma ve eleme makineleri"]
[null,null,null,null,null,null,null,5757,43411000,{"$f":"IF(K5761=1,COUNTIF($K$5:K5761,1),\"\")","v":5757},{"$f":"IF(ISNUMBER(SEARCH('Bilgi Girişi'!$E$4,KalemAdı,1))=TRUE,1,0)","v":1},"Ayırma ve eleme makineleri","Mal",43411000,null,null,"Öğütme makineleri, konkasörler"]
[null,null,null,null,null,null,null,5761,43414000,{"$f":"IF(K5765=1,COUNTIF($K$5:K5765,1),\"\")","v":5761},{"$f":"IF(ISNUMBER(SEARCH('Bilgi Girişi'!$E$4,KalemAdı,1))=TRUE,1,0)","v":1},"Öğütme makineleri, konkasörler","Mal",43414000,null,null,"Demiryolu hattı döşeme makineleri"]
[null,null,null,null,null,null,null,5766,43600000,{"$f":"IF(K5770=1,COUNTIF($K$5:K5770,1),\"\")","v":5766},{"$f":"IF(ISNUMBER(SEARCH('Bilgi Girişi'!$E$4,KalemAdı,1))=TRUE,1,0)","v":1},"Madencilik, taş ocağı ve inşaat işlerinde kullanılan makinelere ait parçalar","Mal",43600000,null,null,"Sanayi tipi matkap uçları"]
[null,null,null,null,null,null,null,5767,43610000,{"$f":"IF(K5771=1,COUNTIF($K$5:K5771,1),\"\")","v":5767},{"$f":"IF(ISNUMBER(SEARCH('Bilgi Girişi'!$E$4,KalemAdı,1))=TRUE,1,0)","v":1},"Sondaj makineleri parçaları","Mal",43610000,null,null,"Sondaj kapları"]
[null,null,null,null,null,null,null,5773,43611500,{"$f":"IF(K5777=1,COUNTIF($K$5:K5777,1),\"\")","v":5773},{"$f":"IF(ISNUMBER(SEARCH('Bilgi Girişi'!$E$4,KalemAdı,1))=TRUE,1,0)","v":1},"Döner matkap tablaları","Mal",43611500,null,null,"Muhafaza askıları"]
[null,null,null,null,null,null,null,5776,43612000,{"$f":"IF(K5780=1,COUNTIF($K$5:K5780,1),\"\")","v":5776},{"$f":"IF(ISNUMBER(SEARCH('Bilgi Girişi'!$E$4,KalemAdı,1))=TRUE,1,0)","v":1},"Kuyu açma makinesi parçaları","Mal",43612000,null,null,"Kuyu başına kurulan donanım"]
[null,null,null,null,null,null,null,5778,43612200,{"$f":"IF(K5782=1,COUNTIF($K$5:K5782,1),\"\")","v":5778},{"$f":"IF(ISNUMBER(SEARCH('Bilgi Girişi'!$E$4,KalemAdı,1))=TRUE,1,0)","v":1},"Hat askı donanımı","Mal",43612200,null,null,"Kuyu başı teçhizatı kumanda sistemi"]
[null,null,null,null,null,null,null,5781,43612500,{"$f":"IF(K5785=1,COUNTIF($K$5:K5785,1),\"\")","v":5781},{"$f":"IF(ISNUMBER(SEARCH('Bilgi Girişi'!$E$4,KalemAdı,1))=TRUE,1,0)","v":1},"Ürün çıkarma borusu bağlantı ekipmanları (petrol, gaz)","Mal",43612500,null,null,"Kömür ve taş kesme makineleri aksam ve parçaları"]
[null,null,null,null,null,null,null,5785,43613000,{"$f":"IF(K5789=1,COUNTIF($K$5:K5789,1),\"\")","v":5785},{"$f":"IF(ISNUMBER(SEARCH('Bilgi Girişi'!$E$4,KalemAdı,1))=TRUE,1,0)","v":1},"Kömür ve taş kesme makineleri aksam ve parçaları","Mal",43613000,null,null,"Cevher işleme makineleri aksam ve parçaları"]
[null,null,null,null,null,null,null,5790,43630000,{"$f":"IF(K5794=1,COUNTIF($K$5:K5794,1),\"\")","v":5790},{"$f":"IF(ISNUMBER(SEARCH('Bilgi Girişi'!$E$4,KalemAdı,1))=TRUE,1,0)","v":1},"Oyma makinesi aksam ve parçaları","Mal",43630000,null,null,"Metal haddeleme makinelerinin aksam ve parçaları"]
[null,null,null,null,null,null,null,5793,43710000,{"$f":"IF(K5797=1,COUNTIF($K$5:K5797,1),\"\")","v":5793},{"$f":"IF(ISNUMBER(SEARCH('Bilgi Girişi'!$E$4,KalemAdı,1))=TRUE,1,0)","v":1},"Metal haddeleme makineleri","Mal",43710000,null,null,"Atölye ekipmanı"]
[null,null,null,null,null,null,null,5795,43720000,{"$f":"IF(K5799=1,COUNTIF($K$5:K5799,1),\"\")","v":5795},{"$f":"IF(ISNUMBER(SEARCH('Bilgi Girişi'!$E$4,KalemAdı,1))=TRUE,1,0)","v":1},"Döküm makineleri","Mal",43720000,null,null,"Taşlama tezgahları"]
[null,null,null,null,null,null,null,5801,43820000,{"$f":"IF(K5805=1,COUNTIF($K$5:K5805,1),\"\")","v":5801},{"$f":"IF(ISNUMBER(SEARCH('Bilgi Girişi'!$E$4,KalemAdı,1))=TRUE,1,0)","v":1},"Ayakkabı imalatı ekipmanı","Mal",43820000,null,null,"Yapı malzemeleri ve ilgili malzemeler"]
[null,null,null,null,null,null,null,5804,44000000,{"$f":"IF(K5808=1,COUNTIF($K$5:K5808,1),\"\")","v":5804},{"$f":"IF(ISNUMBER(SEARCH('Bilgi Girişi'!$E$4,KalemAdı,1))=TRUE,1,0)","v":1},"İnşaat yapı ve malzemeleri; inşaatlarda kullanılan yardımcı/destek ürünler","Mal",44000000,null,null,"Tuğlalar"]
[null,null,null,null,null,null,null,5809,44111200,{"$f":"IF(K5813=1,COUNTIF($K$5:K5813,1),\"\")","v":5809},{"$f":"IF(ISNUMBER(SEARCH('Bilgi Girişi'!$E$4,KalemAdı,1))=TRUE,1,0)","v":1},"Çimento","Mal",44111200,null,null,"Yalıtkanlar ve ısı yalıtım parçaları"]
[null,null,null,null,null,null,null,5810,44111210,{"$f":"IF(K5814=1,COUNTIF($K$5:K5814,1),\"\")","v":5810},{"$f":"IF(ISNUMBER(SEARCH('Bilgi Girişi'!$E$4,KalemAdı,1))=TRUE,1,0)","v":1},"Sondaj çimentosu","Mal",44111210,null,null,"Yalıtkanlar"]
[null,null,null,null,null,null,null,5814,44111510,{"$f":"IF(K5818=1,COUNTIF($K$5:K5818,1),\"\")","v":5814},{"$f":"IF(ISNUMBER(SEARCH('Bilgi Girişi'!$E$4,KalemAdı,1))=TRUE,1,0)","v":1},"Yalıtkanlar","Mal",44111510,null,null,"İzolasyon camları"]
[null,null,null,null,null,null,null,5818,44111540,{"$f":"IF(K5822=1,COUNTIF($K$5:K5822,1),\"\")","v":5818},{"$f":"IF(ISNUMBER(SEARCH('Bilgi Girişi'!$E$4,KalemAdı,1))=TRUE,1,0)","v":1},"İzolasyon camları","Mal",44111540,null,null,"Ateşe dayanıklı diğer seramik eşyalar"]
[null,null,null,null,null,null,null,5823,44112000,{"$f":"IF(K5827=1,COUNTIF($K$5:K5827,1),\"\")","v":5823},{"$f":"IF(ISNUMBER(SEARCH('Bilgi Girişi'!$E$4,KalemAdı,1))=TRUE,1,0)","v":1},"Diğer çeşitli bina yapısalları","Mal",44112000,null,null,"Yer döşemeleri, zemin kaplamaları"]
[null,null,null,null,null,null,null,5826,44112120,{"$f":"IF(K5830=1,COUNTIF($K$5:K5830,1),\"\")","v":5826},{"$f":"IF(ISNUMBER(SEARCH('Bilgi Girişi'!$E$4,KalemAdı,1))=TRUE,1,0)","v":1},"Profil kesimleri","Mal",44112120,null,null,{"$f":"IFERROR(VLOOKUP(ROW($P5830),$J$5:$L$9594,3,FALSE),\"\")","v":"Linolyum"}]
[null,null,null,null,null,null,null,5828,44112210,{"$f":"IF(K5832=1,COUNTIF($K$5:K5832,1),\"\")","v":5828},{"$f":"IF(ISNUMBER(SEARCH('Bilgi Girişi'!$E$4,KalemAdı,1))=TRUE,1,0)","v":1},"Masif zemin döşemeleri","Mal",44112210,null,null,"Paneller, bölmeler"]
[null,null,null,null,null,null,null,5833,44112310,{"$f":"IF(K5837=1,COUNTIF($K$5:K5837,1),\"\")","v":5833},{"$f":"IF(ISNUMBER(SEARCH('Bilgi Girişi'!$E$4,KalemAdı,1))=TRUE,1,0)","v":1},"Panel duvarlar","Mal",44112310,null,null,"Çatı kirişleri"]
[null,null,null,null,null,null,null,5837,44112430,{"$f":"IF(K5841=1,COUNTIF($K$5:K5841,1),\"\")","v":5837},{"$f":"IF(ISNUMBER(SEARCH('Bilgi Girişi'!$E$4,KalemAdı,1))=TRUE,1,0)","v":1},"Çatı kirişleri","Mal",44112430,null,null,"Kirişler"]
[null,null,null,null,null,null,null,5838,44112500,{"$f":"IF(K5842=1,COUNTIF($K$5:K5842,1),\"\")","v":5838},{"$f":"IF(ISNUMBER(SEARCH('Bilgi Girişi'!$E$4,KalemAdı,1))=TRUE,1,0)","v":1},"Çatı örtü malzemeleri","Mal",44112500,null,null,"Yol yapım malzemeleri"]
[null,null,null,null,null,null,null,5842,44113000,{"$f":"IF(K5846=1,COUNTIF($K$5:K5846,1),\"\")","v":5842},{"$f":"IF(ISNUMBER(SEARCH('Bilgi Girişi'!$E$4,KalemAdı,1))=TRUE,1,0)","v":1},"Yol yapım malzemeleri","Mal",44113000,null,null,"Yol taşları"]
[null,null,null,null,null,null,null,5847,44113200,{"$f":"IF(K5851=1,COUNTIF($K$5:K5851,1),\"\")","v":5847},{"$f":"IF(ISNUMBER(SEARCH('Bilgi Girişi'!$E$4,KalemAdı,1))=TRUE,1,0)","v":1},"Büyük ve yassı kaldırım taşları","Mal",44113200,null,null,"Kaplama malzemeleri"]
[null,null,null,null,null,null,null,5850,44113320,{"$f":"IF(K5854=1,COUNTIF($K$5:K5854,1),\"\")","v":5850},{"$f":"IF(ISNUMBER(SEARCH('Bilgi Girişi'!$E$4,KalemAdı,1))=TRUE,1,0)","v":1},"Kaplanmış yol taşları","Mal",44113320,null,null,"Zift (bitüm)"]
[null,null,null,null,null,null,null,5852,44113500,{"$f":"IF(K5856=1,COUNTIF($K$5:K5856,1),\"\")","v":5852},{"$f":"IF(ISNUMBER(SEARCH('Bilgi Girişi'!$E$4,KalemAdı,1))=TRUE,1,0)","v":1},"Cam boncuklar","Mal",44113500,null,null,"Yol onarım malzemeleri"]
[null,null,null,null,null,null,null,5858,44113810,{"$f":"IF(K5862=1,COUNTIF($K$5:K5862,1),\"\")","v":5858},{"$f":"IF(ISNUMBER(SEARCH('Bilgi Girişi'!$E$4,KalemAdı,1))=TRUE,1,0)","v":1},"Yüzey düzleme malzemeleri","Mal",44113810,null,null,"Hazır beton"]
[null,null,null,null,null,null,null,5861,44114000,{"$f":"IF(K5865=1,COUNTIF($K$5:K5865,1),\"\")","v":5861},{"$f":"IF(ISNUMBER(SEARCH('Bilgi Girişi'!$E$4,KalemAdı,1))=TRUE,1,0)","v":1},"Beton","Mal",44114000,null,null,"Beton borular ve bağlantı elemanları"]
[null,null,null,null,null,null,null,5863,44114200,{"$f":"IF(K5867=1,COUNTIF($K$5:K5867,1),\"\")","v":5863},{"$f":"IF(ISNUMBER(SEARCH('Bilgi Girişi'!$E$4,KalemAdı,1))=TRUE,1,0)","v":1},"Beton ürünleri","Mal",44114200,null,null,"Bina tesisat malzemeleri"]
[null,null,null,null,null,null,null,5866,44114250,{"$f":"IF(K5870=1,COUNTIF($K$5:K5870,1),\"\")","v":5866},{"$f":"IF(ISNUMBER(SEARCH('Bilgi Girişi'!$E$4,KalemAdı,1))=TRUE,1,0)","v":1},"Beton bloklar","Mal",44114250,null,null,"Sıhhi tesisat sistemi malzemeleri"]
[null,null,null,null,null,null,null,5871,44115220,{"$f":"IF(K5875=1,COUNTIF($K$5:K5875,1),\"\")","v":5871},{"$f":"IF(ISNUMBER(SEARCH('Bilgi Girişi'!$E$4,KalemAdı,1))=TRUE,1,0)","v":1},"Kalorifer sistemi malzemeleri","Mal",44115220,null,null,"Yürüyen platformlar"]
[null,null,null,null,null,null,null,5875,44115600,{"$f":"IF(K5879=1,COUNTIF($K$5:K5879,1),\"\")","v":5875},{"$f":"IF(ISNUMBER(SEARCH('Bilgi Girişi'!$E$4,KalemAdı,1))=TRUE,1,0)","v":1},"Yürüyen platformlar","Mal",44115600,null,null,"Perde korniş ve saçakları"]
[null,null,null,null,null,null,null,5878,44115800,{"$f":"IF(K5882=1,COUNTIF($K$5:K5882,1),\"\")","v":5878},{"$f":"IF(ISNUMBER(SEARCH('Bilgi Girişi'!$E$4,KalemAdı,1))=TRUE,1,0)","v":1},"Bina içine takılan malzemeler","Mal",44115800,null,null,"Lağım boruları"]
[null,null,null,null,null,null,null,5880,44115811,{"$f":"IF(K5884=1,COUNTIF($K$5:K5884,1),\"\")","v":5880},{"$f":"IF(ISNUMBER(SEARCH('Bilgi Girişi'!$E$4,KalemAdı,1))=TRUE,1,0)","v":1},"Kornişler","Mal",44115811,null,null,"Ark, su yolu yapmada kullanılan elemanlar"]
[null,null,null,null,null,null,null,5885,44133000,{"$f":"IF(K5889=1,COUNTIF($K$5:K5889,1),\"\")","v":5885},{"$f":"IF(ISNUMBER(SEARCH('Bilgi Girişi'!$E$4,KalemAdı,1))=TRUE,1,0)","v":1},"Daktil-demir boru uc kapakları","Mal",44133000,null,null,"Elektrik borusu"]
[null,null,null,null,null,null,null,5888,44141000,{"$f":"IF(K5892=1,COUNTIF($K$5:K5892,1),\"\")","v":5888},{"$f":"IF(ISNUMBER(SEARCH('Bilgi Girişi'!$E$4,KalemAdı,1))=TRUE,1,0)","v":1},"Kablo borusu","Mal",44141000,null,null,"Mesajlar"]
[null,null,null,null,null,null,null,5894,44161000,{"$f":"IF(K5898=1,COUNTIF($K$5:K5898,1),\"\")","v":5894},{"$f":"IF(ISNUMBER(SEARCH('Bilgi Girişi'!$E$4,KalemAdı,1))=TRUE,1,0)","v":1},"Boru hatları","Mal",44161000,null,null,"Su altı boru hattı"]
[null,null,null,null,null,null,null,5895,44161100,{"$f":"IF(K5899=1,COUNTIF($K$5:K5899,1),\"\")","v":5895},{"$f":"IF(ISNUMBER(SEARCH('Bilgi Girişi'!$E$4,KalemAdı,1))=TRUE,1,0)","v":1},"Gaz boru hatları","Mal",44161100,null,null,"Deniz altı boru hattı"]
[null,null,null,null,null,null,null,5899,44161410,{"$f":"IF(K5903=1,COUNTIF($K$5:K5903,1),\"\")","v":5899},{"$f":"IF(ISNUMBER(SEARCH('Bilgi Girişi'!$E$4,KalemAdı,1))=TRUE,1,0)","v":1},"Deniz altı boru hattı","Mal",44161410,null,null,"Boru hattı pik lançerleri"]
[null,null,null,null,null,null,null,5903,44161710,{"$f":"IF(K5907=1,COUNTIF($K$5:K5907,1),\"\")","v":5903},{"$f":"IF(ISNUMBER(SEARCH('Bilgi Girişi'!$E$4,KalemAdı,1))=TRUE,1,0)","v":1},"Boru hattı pik lançerleri","Mal",44161710,null,null,"Boru malzemeleri, boru tesisat malzemeleri"]
[null,null,null,null,null,null,null,5908,44162200,{"$f":"IF(K5912=1,COUNTIF($K$5:K5912,1),\"\")","v":5908},{"$f":"IF(ISNUMBER(SEARCH('Bilgi Girişi'!$E$4,KalemAdı,1))=TRUE,1,0)","v":1},"Dağıtım amaçlı boru hattı ve tesisatı","Mal",44162200,null,null,"Borular ve bağlantı elemanları"]
[null,null,null,null,null,null,null,5911,44162500,{"$f":"IF(K5915=1,COUNTIF($K$5:K5915,1),\"\")","v":5911},{"$f":"IF(ISNUMBER(SEARCH('Bilgi Girişi'!$E$4,KalemAdı,1))=TRUE,1,0)","v":1},"İçme suyu boru hattı","Mal",44162500,null,null,"Künk borular"]
[null,null,null,null,null,null,null,5913,44163100,{"$f":"IF(K5917=1,COUNTIF($K$5:K5917,1),\"\")","v":5913},{"$f":"IF(ISNUMBER(SEARCH('Bilgi Girişi'!$E$4,KalemAdı,1))=TRUE,1,0)","v":1},"Borular","Mal",44163100,null,null,"Uzaktan ısıtma sistemi boruları"]
[null,null,null,null,null,null,null,5916,44163112,{"$f":"IF(K5920=1,COUNTIF($K$5:K5920,1),\"\")","v":5916},{"$f":"IF(ISNUMBER(SEARCH('Bilgi Girişi'!$E$4,KalemAdı,1))=TRUE,1,0)","v":1},"Drenaj sistemi","Mal",44163112,null,null,"Buhar ve su boruları"]
[null,null,null,null,null,null,null,5922,44163160,{"$f":"IF(K5926=1,COUNTIF($K$5:K5926,1),\"\")","v":5922},{"$f":"IF(ISNUMBER(SEARCH('Bilgi Girişi'!$E$4,KalemAdı,1))=TRUE,1,0)","v":1},"Dağıtım amaçlı kullanılan borular ve aksesuarları","Mal",44163160,null,null,"Boru ekleme parçaları"]
[null,null,null,null,null,null,null,5923,44163200,{"$f":"IF(K5927=1,COUNTIF($K$5:K5927,1),\"\")","v":5923},{"$f":"IF(ISNUMBER(SEARCH('Bilgi Girişi'!$E$4,KalemAdı,1))=TRUE,1,0)","v":1},"Boru montaj parçaları","Mal",44163200,null,null,"Yalıtılmış boru eklemleri"]
[null,null,null,null,null,null,null,5928,44164000,{"$f":"IF(K5932=1,COUNTIF($K$5:K5932,1),\"\")","v":5928},{"$f":"IF(ISNUMBER(SEARCH('Bilgi Girişi'!$E$4,KalemAdı,1))=TRUE,1,0)","v":1},"Koruyucu kaplamalar ve tüpler","Mal",44164000,null,null,"Tüpler, borular ve bağlantı parçaları"]
[null,null,null,null,null,null,null,5932,44164310,{"$f":"IF(K5936=1,COUNTIF($K$5:K5936,1),\"\")","v":5932},{"$f":"IF(ISNUMBER(SEARCH('Bilgi Girişi'!$E$4,KalemAdı,1))=TRUE,1,0)","v":1},"Tüpler, borular ve bağlantı parçaları","Mal",44164310,null,null,"Riserlar"]
[null,null,null,null,null,null,null,5935,44165110,{"$f":"IF(K5939=1,COUNTIF($K$5:K5939,1),\"\")","v":5935},{"$f":"IF(ISNUMBER(SEARCH('Bilgi Girişi'!$E$4,KalemAdı,1))=TRUE,1,0)","v":1},"Sondaj hortumları","Mal",44165110,null,null,"Petrol sahalarında kullanılan boru türü malzemeler"]
[null,null,null,null,null,null,null,5937,44165210,{"$f":"IF(K5941=1,COUNTIF($K$5:K5941,1),\"\")","v":5937},{"$f":"IF(ISNUMBER(SEARCH('Bilgi Girişi'!$E$4,KalemAdı,1))=TRUE,1,0)","v":1},"Esnek takozlar","Mal",44165210,null,null,"Manşonlar"]
[null,null,null,null,null,null,null,5943,44167111,{"$f":"IF(K5947=1,COUNTIF($K$5:K5947,1),\"\")","v":5943},{"$f":"IF(ISNUMBER(SEARCH('Bilgi Girişi'!$E$4,KalemAdı,1))=TRUE,1,0)","v":1},"Flanş adaptörleri","Mal",44167111,null,null,"İnşaat malzemeleri ile ilgili levhalar, levha, şerit ve folyolar"]
[null,null,null,null,null,null,null,5946,44167400,{"$f":"IF(K5950=1,COUNTIF($K$5:K5950,1),\"\")","v":5946},{"$f":"IF(ISNUMBER(SEARCH('Bilgi Girişi'!$E$4,KalemAdı,1))=TRUE,1,0)","v":1},"Dirsekler [boru]","Mal",44167400,null,null,"Şerit"]
[null,null,null,null,null,null,null,5948,44171000,{"$f":"IF(K5952=1,COUNTIF($K$5:K5952,1),\"\")","v":5948},{"$f":"IF(ISNUMBER(SEARCH('Bilgi Girişi'!$E$4,KalemAdı,1))=TRUE,1,0)","v":1},"Levhalar (inşaat)","Mal",44171000,null,null,"Ahşap paneller"]
[null,null,null,null,null,null,null,5951,44174000,{"$f":"IF(K5955=1,COUNTIF($K$5:K5955,1),\"\")","v":5951},{"$f":"IF(ISNUMBER(SEARCH('Bilgi Girişi'!$E$4,KalemAdı,1))=TRUE,1,0)","v":1},"Folyo","Mal",44174000,null,null,"Çeşitli ahşap inşaat malzemeleri"]
[null,null,null,null,null,null,null,5956,44191100,{"$f":"IF(K5960=1,COUNTIF($K$5:K5960,1),\"\")","v":5956},{"$f":"IF(ISNUMBER(SEARCH('Bilgi Girişi'!$E$4,KalemAdı,1))=TRUE,1,0)","v":1},"Kontrplak","Mal",44191100,null,null,"Preslenmiş ahşap"]
[null,null,null,null,null,null,null,5960,44191500,{"$f":"IF(K5964=1,COUNTIF($K$5:K5964,1),\"\")","v":5960},{"$f":"IF(ISNUMBER(SEARCH('Bilgi Girişi'!$E$4,KalemAdı,1))=TRUE,1,0)","v":1},"Preslenmiş ahşap","Mal",44191500,null,null,"Çiviler"]
[null,null,null,null,null,null,null,5965,44200000,{"$f":"IF(K5969=1,COUNTIF($K$5:K5969,1),\"\")","v":5965},{"$f":"IF(ISNUMBER(SEARCH('Bilgi Girişi'!$E$4,KalemAdı,1))=TRUE,1,0)","v":1},"Yapısal ürünler","Mal",44200000,null,null,"Kulübeler"]
[null,null,null,null,null,null,null,5968,44211100,{"$f":"IF(K5972=1,COUNTIF($K$5:K5972,1),\"\")","v":5968},{"$f":"IF(ISNUMBER(SEARCH('Bilgi Girişi'!$E$4,KalemAdı,1))=TRUE,1,0)","v":1},"Modüler ve taşınabilir binalar","Mal",44211100,null,null,"Sahra mutfakları"]
[null,null,null,null,null,null,null,5970,44211200,{"$f":"IF(K5974=1,COUNTIF($K$5:K5974,1),\"\")","v":5970},{"$f":"IF(ISNUMBER(SEARCH('Bilgi Girişi'!$E$4,KalemAdı,1))=TRUE,1,0)","v":1},"Hücreler","Mal",44211200,null,null,"Prefabrik yapılar hariç yapısal ürünler ve parçalar"]
[null,null,null,null,null,null,null,5973,44211500,{"$f":"IF(K5977=1,COUNTIF($K$5:K5977,1),\"\")","v":5973},{"$f":"IF(ISNUMBER(SEARCH('Bilgi Girişi'!$E$4,KalemAdı,1))=TRUE,1,0)","v":1},"Seralar","Mal",44211500,null,null,"Köprü yapıları"]
[null,null,null,null,null,null,null,5979,44212210,{"$f":"IF(K5983=1,COUNTIF($K$5:K5983,1),\"\")","v":5979},{"$f":"IF(ISNUMBER(SEARCH('Bilgi Girişi'!$E$4,KalemAdı,1))=TRUE,1,0)","v":1},"Vinç kuleleri","Mal",44212210,null,null,"Çelik kuleler"]
[null,null,null,null,null,null,null,5980,44212211,{"$f":"IF(K5984=1,COUNTIF($K$5:K5984,1),\"\")","v":5980},{"$f":"IF(ISNUMBER(SEARCH('Bilgi Girişi'!$E$4,KalemAdı,1))=TRUE,1,0)","v":1},"Sondaj kuleleri","Mal",44212211,null,null,"Enerji nakil direkleri"]
[null,null,null,null,null,null,null,5984,44212222,{"$f":"IF(K5988=1,COUNTIF($K$5:K5988,1),\"\")","v":5984},{"$f":"IF(ISNUMBER(SEARCH('Bilgi Girişi'!$E$4,KalemAdı,1))=TRUE,1,0)","v":1},"Enerji nakil direkleri","Mal",44212222,null,null,"Elektrik direkleri"]
[null,null,null,null,null,null,null,5988,44212226,{"$f":"IF(K5992=1,COUNTIF($K$5:K5992,1),\"\")","v":5988},{"$f":"IF(ISNUMBER(SEARCH('Bilgi Girişi'!$E$4,KalemAdı,1))=TRUE,1,0)","v":1},"Elektrik direkleri","Mal",44212226,null,null,"Kirişler"]
[null,null,null,null,null,null,null,5993,44212250,{"$f":"IF(K5997=1,COUNTIF($K$5:K5997,1),\"\")","v":5993},{"$f":"IF(ISNUMBER(SEARCH('Bilgi Girişi'!$E$4,KalemAdı,1))=TRUE,1,0)","v":1},"Gemi direkleri","Mal",44212250,null,null,"Kafes yapılı direkler"]
[null,null,null,null,null,null,null,5994,44212260,{"$f":"IF(K5998=1,COUNTIF($K$5:K5998,1),\"\")","v":5994},{"$f":"IF(ISNUMBER(SEARCH('Bilgi Girişi'!$E$4,KalemAdı,1))=TRUE,1,0)","v":1},"Radyo veya televizyon yayınları için anten direkleri","Mal",44212260,null,null,"Yapılar ve parçaları"]
[null,null,null,null,null,null,null,6000,44212311,{"$f":"IF(K6004=1,COUNTIF($K$5:K6004,1),\"\")","v":6000},{"$f":"IF(ISNUMBER(SEARCH('Bilgi Girişi'!$E$4,KalemAdı,1))=TRUE,1,0)","v":1},"Açılı istinat kemerleri","Mal",44212311,null,null,"Yapı iskelesi teçhizatı"]
[null,null,null,null,null,null,null,6003,44212314,{"$f":"IF(K6007=1,COUNTIF($K$5:K6007,1),\"\")","v":6003},{"$f":"IF(ISNUMBER(SEARCH('Bilgi Girişi'!$E$4,KalemAdı,1))=TRUE,1,0)","v":1},"Soru asma kelepçeleri","Mal",44212314,null,null,"Boru hattı destekleri"]
[null,null,null,null,null,null,null,6005,44212316,{"$f":"IF(K6009=1,COUNTIF($K$5:K6009,1),\"\")","v":6005},{"$f":"IF(ISNUMBER(SEARCH('Bilgi Girişi'!$E$4,KalemAdı,1))=TRUE,1,0)","v":1},"Açılı makas yapılar","Mal",44212316,null,null,"Otobüs durakları"]
[null,null,null,null,null,null,null,6008,44212320,{"$f":"IF(K6012=1,COUNTIF($K$5:K6012,1),\"\")","v":6008},{"$f":"IF(ISNUMBER(SEARCH('Bilgi Girişi'!$E$4,KalemAdı,1))=TRUE,1,0)","v":1},"Çeşitli yapılar","Mal",44212320,null,null,"Yapıların parçaları"]
[null,null,null,null,null,null,null,6013,44212381,{"$f":"IF(K6017=1,COUNTIF($K$5:K6017,1),\"\")","v":6013},{"$f":"IF(ISNUMBER(SEARCH('Bilgi Girişi'!$E$4,KalemAdı,1))=TRUE,1,0)","v":1},"Kaplama malzemeleri","Mal",44212381,null,null,"Savak kapakları"]
[null,null,null,null,null,null,null,6017,44212391,{"$f":"IF(K6021=1,COUNTIF($K$5:K6021,1),\"\")","v":6017},{"$f":"IF(ISNUMBER(SEARCH('Bilgi Girişi'!$E$4,KalemAdı,1))=TRUE,1,0)","v":1},"Savak kapakları","Mal",44212391,null,null,"Köşebentler"]
[null,null,null,null,null,null,null,6021,44212510,{"$f":"IF(K6025=1,COUNTIF($K$5:K6025,1),\"\")","v":6021},{"$f":"IF(ISNUMBER(SEARCH('Bilgi Girişi'!$E$4,KalemAdı,1))=TRUE,1,0)","v":1},"Köşebentler","Mal",44212510,null,null,"Pencereler"]
[null,null,null,null,null,null,null,6022,44212520,{"$f":"IF(K6026=1,COUNTIF($K$5:K6026,1),\"\")","v":6022},{"$f":"IF(ISNUMBER(SEARCH('Bilgi Girişi'!$E$4,KalemAdı,1))=TRUE,1,0)","v":1},"Bölümler","Mal",44212520,null,null,"Pencere çerçeveleri"]
[null,null,null,null,null,null,null,6028,44221120,{"$f":"IF(K6032=1,COUNTIF($K$5:K6032,1),\"\")","v":6028},{"$f":"IF(ISNUMBER(SEARCH('Bilgi Girişi'!$E$4,KalemAdı,1))=TRUE,1,0)","v":1},"Ahşap çift kanatlı camlı balkon pencereleri","Mal",44221120,null,null,"Kapı kanatları"]
[null,null,null,null,null,null,null,6031,44221211,{"$f":"IF(K6035=1,COUNTIF($K$5:K6035,1),\"\")","v":6031},{"$f":"IF(ISNUMBER(SEARCH('Bilgi Girişi'!$E$4,KalemAdı,1))=TRUE,1,0)","v":1},"Kapı kasaları","Mal",44221211,null,null,"Kayan kapılar"]
[null,null,null,null,null,null,null,6036,44221240,{"$f":"IF(K6040=1,COUNTIF($K$5:K6040,1),\"\")","v":6036},{"$f":"IF(ISNUMBER(SEARCH('Bilgi Girişi'!$E$4,KalemAdı,1))=TRUE,1,0)","v":1},"Garaj kapıları","Mal",44221240,null,null,"Eşikler"]
[null,null,null,null,null,null,null,6038,44221310,{"$f":"IF(K6042=1,COUNTIF($K$5:K6042,1),\"\")","v":6038},{"$f":"IF(ISNUMBER(SEARCH('Bilgi Girişi'!$E$4,KalemAdı,1))=TRUE,1,0)","v":1},"Giriş kapıları","Mal",44221310,null,null,"Hazır tahta perde panelleri"]
[null,null,null,null,null,null,null,6041,44230000,{"$f":"IF(K6045=1,COUNTIF($K$5:K6045,1),\"\")","v":6041},{"$f":"IF(ISNUMBER(SEARCH('Bilgi Girişi'!$E$4,KalemAdı,1))=TRUE,1,0)","v":1},"İnşaatçıların marangozluk işleri","Mal",44230000,null,null,"Kablo, tel ve ilgili mamuller"]
[null,null,null,null,null,null,null,6045,44300000,{"$f":"IF(K6049=1,COUNTIF($K$5:K6049,1),\"\")","v":6045},{"$f":"IF(ISNUMBER(SEARCH('Bilgi Girişi'!$E$4,KalemAdı,1))=TRUE,1,0)","v":1},"Kablo, tel ve ilgili mamuller","Mal",44300000,null,null,"Dikenli tel"]
[null,null,null,null,null,null,null,6050,44313000,{"$f":"IF(K6054=1,COUNTIF($K$5:K6054,1),\"\")","v":6050},{"$f":"IF(ISNUMBER(SEARCH('Bilgi Girişi'!$E$4,KalemAdı,1))=TRUE,1,0)","v":1},"Metal ağlar","Mal",44313000,null,null,"Kaynak aksesuarları"]
[null,null,null,null,null,null,null,6053,44315000,{"$f":"IF(K6057=1,COUNTIF($K$5:K6057,1),\"\")","v":6053},{"$f":"IF(ISNUMBER(SEARCH('Bilgi Girişi'!$E$4,KalemAdı,1))=TRUE,1,0)","v":1},"Filmaşinler, demir teller","Mal",44315000,null,null,"Lehim malzemeleri"]
[null,null,null,null,null,null,null,6055,44315200,{"$f":"IF(K6059=1,COUNTIF($K$5:K6059,1),\"\")","v":6055},{"$f":"IF(ISNUMBER(SEARCH('Bilgi Girişi'!$E$4,KalemAdı,1))=TRUE,1,0)","v":1},"Kaynak malzemeleri","Mal",44315200,null,null,"Demircilik malzemeleri"]
[null,null,null,null,null,null,null,6058,44315320,{"$f":"IF(K6062=1,COUNTIF($K$5:K6062,1),\"\")","v":6058},{"$f":"IF(ISNUMBER(SEARCH('Bilgi Girişi'!$E$4,KalemAdı,1))=TRUE,1,0)","v":1},"Pirinç kaynağı malzemeleri","Mal",44315320,null,null,"Izgaralar"]
[null,null,null,null,null,null,null,6064,44316500,{"$f":"IF(K6068=1,COUNTIF($K$5:K6068,1),\"\")","v":6064},{"$f":"IF(ISNUMBER(SEARCH('Bilgi Girişi'!$E$4,KalemAdı,1))=TRUE,1,0)","v":1},"Nalbantlık malzemeleri","Mal",44316500,null,null,"Kablolar ve ilgili mamuller"]
[null,null,null,null,null,null,null,6066,44317000,{"$f":"IF(K6070=1,COUNTIF($K$5:K6070,1),\"\")","v":6066},{"$f":"IF(ISNUMBER(SEARCH('Bilgi Girişi'!$E$4,KalemAdı,1))=TRUE,1,0)","v":1},"Demir veya çelik sapanlar, izbirolar","Mal",44317000,null,null,"Kablo aksesuarları"]
[null,null,null,null,null,null,null,6069,44321000,{"$f":"IF(K6073=1,COUNTIF($K$5:K6073,1),\"\")","v":6069},{"$f":"IF(ISNUMBER(SEARCH('Bilgi Girişi'!$E$4,KalemAdı,1))=TRUE,1,0)","v":1},"Kablolar","Mal",44321000,null,null,"Kablo kılıfları"]
[null,null,null,null,null,null,null,6074,44322400,{"$f":"IF(K6078=1,COUNTIF($K$5:K6078,1),\"\")","v":6074},{"$f":"IF(ISNUMBER(SEARCH('Bilgi Girişi'!$E$4,KalemAdı,1))=TRUE,1,0)","v":1},"Kablo toplama bilezikleri","Mal",44322400,null,null,"Tel"]
[null,null,null,null,null,null,null,6078,44333000,{"$f":"IF(K6082=1,COUNTIF($K$5:K6082,1),\"\")","v":6078},{"$f":"IF(ISNUMBER(SEARCH('Bilgi Girişi'!$E$4,KalemAdı,1))=TRUE,1,0)","v":1},"Tel","Mal",44333000,null,null,"Banyo malzemeleri"]
[null,null,null,null,null,null,null,6079,44334000,{"$f":"IF(K6083=1,COUNTIF($K$5:K6083,1),\"\")","v":6079},{"$f":"IF(ISNUMBER(SEARCH('Bilgi Girişi'!$E$4,KalemAdı,1))=TRUE,1,0)","v":1},"Profiller","Mal",44334000,null,null,"Musluklar"]
[null,null,null,null,null,null,null,6083,44411100,{"$f":"IF(K6087=1,COUNTIF($K$5:K6087,1),\"\")","v":6083},{"$f":"IF(ISNUMBER(SEARCH('Bilgi Girişi'!$E$4,KalemAdı,1))=TRUE,1,0)","v":1},"Musluklar","Mal",44411100,null,null,"Seramik bideler, taharet klozetleri"]
[null,null,null,null,null,null,null,6088,44411700,{"$f":"IF(K6092=1,COUNTIF($K$5:K6092,1),\"\")","v":6088},{"$f":"IF(ISNUMBER(SEARCH('Bilgi Girişi'!$E$4,KalemAdı,1))=TRUE,1,0)","v":1},"Klozet kapakları, örtüleri, klozetler ve rezervuarlar","Mal",44411700,null,null,"Seramik rezervuarlar"]
[null,null,null,null,null,null,null,6090,44411720,{"$f":"IF(K6094=1,COUNTIF($K$5:K6094,1),\"\")","v":6090},{"$f":"IF(ISNUMBER(SEARCH('Bilgi Girişi'!$E$4,KalemAdı,1))=TRUE,1,0)","v":1},"Klozet kapağı örtüleri","Mal",44411720,null,null,"Yapım işlerinde kullanılan mallar"]
[null,null,null,null,null,null,null,6093,44411800,{"$f":"IF(K6097=1,COUNTIF($K$5:K6097,1),\"\")","v":6093},{"$f":"IF(ISNUMBER(SEARCH('Bilgi Girişi'!$E$4,KalemAdı,1))=TRUE,1,0)","v":1},"Seramik pisuarlar","Mal",44411800,null,null,"Zırhlı veya takviyeli kapılar"]
[null,null,null,null,null,null,null,6098,44421600,{"$f":"IF(K6102=1,COUNTIF($K$5:K6102,1),\"\")","v":6098},{"$f":"IF(ISNUMBER(SEARCH('Bilgi Girişi'!$E$4,KalemAdı,1))=TRUE,1,0)","v":1},"Emanetçi dolapları","Mal",44421600,null,null,"Kiralık kasa kutuları"]
[null,null,null,null,null,null,null,6102,44421721,{"$f":"IF(K6106=1,COUNTIF($K$5:K6106,1),\"\")","v":6102},{"$f":"IF(ISNUMBER(SEARCH('Bilgi Girişi'!$E$4,KalemAdı,1))=TRUE,1,0)","v":1},"Kiralık kasa kutuları","Mal",44421721,null,null,"Posta kutuları"]
[null,null,null,null,null,null,null,6106,44422000,{"$f":"IF(K6110=1,COUNTIF($K$5:K6110,1),\"\")","v":6106},{"$f":"IF(ISNUMBER(SEARCH('Bilgi Girişi'!$E$4,KalemAdı,1))=TRUE,1,0)","v":1},"Posta kutuları","Mal",44422000,null,null,"Katlanabilir merdivenler"]
[null,null,null,null,null,null,null,6107,44423000,{"$f":"IF(K6111=1,COUNTIF($K$5:K6111,1),\"\")","v":6107},{"$f":"IF(ISNUMBER(SEARCH('Bilgi Girişi'!$E$4,KalemAdı,1))=TRUE,1,0)","v":1},"Çeşitli maddeler","Mal",44423000,null,null,"Basamaklı tabureler"]
[null,null,null,null,null,null,null,6112,44423300,{"$f":"IF(K6116=1,COUNTIF($K$5:K6116,1),\"\")","v":6112},{"$f":"IF(ISNUMBER(SEARCH('Bilgi Girişi'!$E$4,KalemAdı,1))=TRUE,1,0)","v":1},"Eşya taşıma ekipmanı","Mal",44423300,null,null,"İsim tabela ve plaketleri"]
[null,null,null,null,null,null,null,6115,44423400,{"$f":"IF(K6119=1,COUNTIF($K$5:K6119,1),\"\")","v":6115},{"$f":"IF(ISNUMBER(SEARCH('Bilgi Girişi'!$E$4,KalemAdı,1))=TRUE,1,0)","v":1},"İşaret levhaları ve ilgili malzemeler","Mal",44423400,null,null,"Yüzey kutuları"]
[null,null,null,null,null,null,null,6121,44423730,{"$f":"IF(K6125=1,COUNTIF($K$5:K6125,1),\"\")","v":6121},{"$f":"IF(ISNUMBER(SEARCH('Bilgi Girişi'!$E$4,KalemAdı,1))=TRUE,1,0)","v":1},"Rögar çerçeveleri","Mal",44423730,null,null,"Demir rögar merdivenleri"]
[null,null,null,null,null,null,null,6123,44423750,{"$f":"IF(K6127=1,COUNTIF($K$5:K6127,1),\"\")","v":6123},{"$f":"IF(ISNUMBER(SEARCH('Bilgi Girişi'!$E$4,KalemAdı,1))=TRUE,1,0)","v":1},"Drenaj kapakları","Mal",44423750,null,null,"Kauçuk damgalar"]
[null,null,null,null,null,null,null,6126,44423800,{"$f":"IF(K6130=1,COUNTIF($K$5:K6130,1),\"\")","v":6126},{"$f":"IF(ISNUMBER(SEARCH('Bilgi Girişi'!$E$4,KalemAdı,1))=TRUE,1,0)","v":1},"Preslenmiş metal levhalar","Mal",44423800,null,null,"Sayaç kutuları ve şeritleri"]
[null,null,null,null,null,null,null,6130,44424000,{"$f":"IF(K6134=1,COUNTIF($K$5:K6134,1),\"\")","v":6130},{"$f":"IF(ISNUMBER(SEARCH('Bilgi Girişi'!$E$4,KalemAdı,1))=TRUE,1,0)","v":1},"Sayaç kutuları ve şeritleri","Mal",44424000,null,null,"Yüzük, mühür, bantlar, yapışkanlar ve derz paketleyiciler"]
[null,null,null,null,null,null,null,6135,44425100,{"$f":"IF(K6139=1,COUNTIF($K$5:K6139,1),\"\")","v":6135},{"$f":"IF(ISNUMBER(SEARCH('Bilgi Girişi'!$E$4,KalemAdı,1))=TRUE,1,0)","v":1},"Esnek halkalar","Mal",44425100,null,null,"Gıda paketlemekte kullanılan ürünler"]
[null,null,null,null,null,null,null,6138,44425300,{"$f":"IF(K6142=1,COUNTIF($K$5:K6142,1),\"\")","v":6138},{"$f":"IF(ISNUMBER(SEARCH('Bilgi Girişi'!$E$4,KalemAdı,1))=TRUE,1,0)","v":1},"Kauçuk bantlar","Mal",44425300,null,null,"Kaplama plakaları"]
[null,null,null,null,null,null,null,6140,44425500,{"$f":"IF(K6144=1,COUNTIF($K$5:K6144,1),\"\")","v":6140},{"$f":"IF(ISNUMBER(SEARCH('Bilgi Girişi'!$E$4,KalemAdı,1))=TRUE,1,0)","v":1},"Plastik çubuklar","Mal",44425500,null,null,"Mikro bilyalar"]
[null,null,null,null,null,null,null,6143,44440000,{"$f":"IF(K6147=1,COUNTIF($K$5:K6147,1),\"\")","v":6143},{"$f":"IF(ISNUMBER(SEARCH('Bilgi Girişi'!$E$4,KalemAdı,1))=TRUE,1,0)","v":1},"Bilyeli ve makaralı rulmanlar","Mal",44440000,null,null,"Jeton kutuları"]
[null,null,null,null,null,null,null,6149,44460000,{"$f":"IF(K6153=1,COUNTIF($K$5:K6153,1),\"\")","v":6149},{"$f":"IF(ISNUMBER(SEARCH('Bilgi Girişi'!$E$4,KalemAdı,1))=TRUE,1,0)","v":1},"Payanda ve maden istinat kuşakları","Mal",44460000,null,null,"Paletli kamyonlar"]
[null,null,null,null,null,null,null,6150,44461000,{"$f":"IF(K6154=1,COUNTIF($K$5:K6154,1),\"\")","v":6150},{"$f":"IF(ISNUMBER(SEARCH('Bilgi Girişi'!$E$4,KalemAdı,1))=TRUE,1,0)","v":1},"Payandalar","Mal",44461000,null,null,"Demir döküm ürünler"]
[null,null,null,null,null,null,null,6155,44480000,{"$f":"IF(K6159=1,COUNTIF($K$5:K6159,1),\"\")","v":6155},{"$f":"IF(ISNUMBER(SEARCH('Bilgi Girişi'!$E$4,KalemAdı,1))=TRUE,1,0)","v":1},"Çeşitli yangından korunma ekipmanları","Mal",44480000,null,null,"Yangın hortumları"]
[null,null,null,null,null,null,null,6159,44482100,{"$f":"IF(K6163=1,COUNTIF($K$5:K6163,1),\"\")","v":6159},{"$f":"IF(ISNUMBER(SEARCH('Bilgi Girişi'!$E$4,KalemAdı,1))=TRUE,1,0)","v":1},"Yangın hortumları","Mal",44482100,null,null,"Tarım veya ormancılıkta kullanılan el aletleri"]
[null,null,null,null,null,null,null,6163,44511000,{"$f":"IF(K6167=1,COUNTIF($K$5:K6167,1),\"\")","v":6163},{"$f":"IF(ISNUMBER(SEARCH('Bilgi Girişi'!$E$4,KalemAdı,1))=TRUE,1,0)","v":1},"Tarım veya ormancılıkta kullanılan el aletleri","Mal",44511000,null,null,"Bahçıvan belleri"]
[null,null,null,null,null,null,null,6164,44511100,{"$f":"IF(K6168=1,COUNTIF($K$5:K6168,1),\"\")","v":6164},{"$f":"IF(ISNUMBER(SEARCH('Bilgi Girişi'!$E$4,KalemAdı,1))=TRUE,1,0)","v":1},"Kürekler ve beller","Mal",44511100,null,null,"Kazmalar, külünkler, çapalar, tırmıklar ve plaj tırmıkları"]
[null,null,null,null,null,null,null,6168,44511300,{"$f":"IF(K6172=1,COUNTIF($K$5:K6172,1),\"\")","v":6168},{"$f":"IF(ISNUMBER(SEARCH('Bilgi Girişi'!$E$4,KalemAdı,1))=TRUE,1,0)","v":1},"Kazmalar, külünkler, çapalar, tırmıklar ve plaj tırmıkları","Mal",44511300,null,null,"Tırmıklar"]
[null,null,null,null,null,null,null,6173,44511341,{"$f":"IF(K6177=1,COUNTIF($K$5:K6177,1),\"\")","v":6173},{"$f":"IF(ISNUMBER(SEARCH('Bilgi Girişi'!$E$4,KalemAdı,1))=TRUE,1,0)","v":1},"Plaj tırmıkları","Mal",44511341,null,null,"Diğer çeşitli el aletleri"]
[null,null,null,null,null,null,null,6175,44511500,{"$f":"IF(K6179=1,COUNTIF($K$5:K6179,1),\"\")","v":6175},{"$f":"IF(ISNUMBER(SEARCH('Bilgi Girişi'!$E$4,KalemAdı,1))=TRUE,1,0)","v":1},"El testereleri","Mal",44511500,null,null,"Penseler"]
[null,null,null,null,null,null,null,6178,44512100,{"$f":"IF(K6182=1,COUNTIF($K$5:K6182,1),\"\")","v":6178},{"$f":"IF(ISNUMBER(SEARCH('Bilgi Girişi'!$E$4,KalemAdı,1))=TRUE,1,0)","v":1},"Keskiler","Mal",44512100,null,null,"Tel keskileri"]
[null,null,null,null,null,null,null,6183,44512500,{"$f":"IF(K6187=1,COUNTIF($K$5:K6187,1),\"\")","v":6183},{"$f":"IF(ISNUMBER(SEARCH('Bilgi Girişi'!$E$4,KalemAdı,1))=TRUE,1,0)","v":1},"İngiliz anahtarı, iki ağızlı anahtarlar","Mal",44512500,null,null,"Tornavidalar"]
[null,null,null,null,null,null,null,6188,44512900,{"$f":"IF(K6192=1,COUNTIF($K$5:K6192,1),\"\")","v":6188},{"$f":"IF(ISNUMBER(SEARCH('Bilgi Girişi'!$E$4,KalemAdı,1))=TRUE,1,0)","v":1},"Matkap ucu, tornavida uçları ve diğer aksamlar","Mal",44512900,null,null,"Takım çantaları, Alet takımları"]
[null,null,null,null,null,null,null,6192,44512940,{"$f":"IF(K6196=1,COUNTIF($K$5:K6196,1),\"\")","v":6192},{"$f":"IF(ISNUMBER(SEARCH('Bilgi Girişi'!$E$4,KalemAdı,1))=TRUE,1,0)","v":1},"Takım çantaları, Alet takımları","Mal",44512940,null,null,"Alet parçaları"]
[null,null,null,null,null,null,null,6195,44514100,{"$f":"IF(K6199=1,COUNTIF($K$5:K6199,1),\"\")","v":6195},{"$f":"IF(ISNUMBER(SEARCH('Bilgi Girişi'!$E$4,KalemAdı,1))=TRUE,1,0)","v":1},"Alet sapları","Mal",44514100,null,null,"Kilitler"]
[null,null,null,null,null,null,null,6197,44520000,{"$f":"IF(K6201=1,COUNTIF($K$5:K6201,1),\"\")","v":6197},{"$f":"IF(ISNUMBER(SEARCH('Bilgi Girişi'!$E$4,KalemAdı,1))=TRUE,1,0)","v":1},"Kilitler, anahtarlar ve menteşeler","Mal",44520000,null,null,"Elektronik güvenlik kilidi"]
[null,null,null,null,null,null,null,6200,44521110,{"$f":"IF(K6204=1,COUNTIF($K$5:K6204,1),\"\")","v":6200},{"$f":"IF(ISNUMBER(SEARCH('Bilgi Girişi'!$E$4,KalemAdı,1))=TRUE,1,0)","v":1},"Kapı kilitleri","Mal",44521110,null,null,"Asma kilitler ve zincirler"]
[null,null,null,null,null,null,null,6206,44522000,{"$f":"IF(K6210=1,COUNTIF($K$5:K6210,1),\"\")","v":6206},{"$f":"IF(ISNUMBER(SEARCH('Bilgi Girişi'!$E$4,KalemAdı,1))=TRUE,1,0)","v":1},"Geçme sustalar, kilit aksamları ve anahtarlar","Mal",44522000,null,null,"Kilit aksamı"]
[null,null,null,null,null,null,null,6208,44522200,{"$f":"IF(K6212=1,COUNTIF($K$5:K6212,1),\"\")","v":6208},{"$f":"IF(ISNUMBER(SEARCH('Bilgi Girişi'!$E$4,KalemAdı,1))=TRUE,1,0)","v":1},"Anahtarlar","Mal",44522200,null,null,"Menteşeler"]
[null,null,null,null,null,null,null,6211,44523000,{"$f":"IF(K6215=1,COUNTIF($K$5:K6215,1),\"\")","v":6211},{"$f":"IF(ISNUMBER(SEARCH('Bilgi Girişi'!$E$4,KalemAdı,1))=TRUE,1,0)","v":1},"Menteşeler, mesnetler ve montaj teçhizatı","Mal",44523000,null,null,"Çıt çıt ve kopçalar"]
[null,null,null,null,null,null,null,6216,44531000,{"$f":"IF(K6220=1,COUNTIF($K$5:K6220,1),\"\")","v":6216},{"$f":"IF(ISNUMBER(SEARCH('Bilgi Girişi'!$E$4,KalemAdı,1))=TRUE,1,0)","v":1},"Diş açılmış bağlantı elemanları","Mal",44531000,null,null,"Civatalar"]
[null,null,null,null,null,null,null,6220,44531400,{"$f":"IF(K6224=1,COUNTIF($K$5:K6224,1),\"\")","v":6220},{"$f":"IF(ISNUMBER(SEARCH('Bilgi Girişi'!$E$4,KalemAdı,1))=TRUE,1,0)","v":1},"Civatalar","Mal",44531400,null,null,"Somunlar"]
[null,null,null,null,null,null,null,6221,44531500,{"$f":"IF(K6225=1,COUNTIF($K$5:K6225,1),\"\")","v":6221},{"$f":"IF(ISNUMBER(SEARCH('Bilgi Girişi'!$E$4,KalemAdı,1))=TRUE,1,0)","v":1},"Flanşlı eklem setleri","Mal",44531500,null,null,"Demir veya çelikten mamul diş açılmış malzemeler"]
[null,null,null,null,null,null,null,6225,44531700,{"$f":"IF(K6229=1,COUNTIF($K$5:K6229,1),\"\")","v":6225},{"$f":"IF(ISNUMBER(SEARCH('Bilgi Girişi'!$E$4,KalemAdı,1))=TRUE,1,0)","v":1},"Demir veya çelikten mamul diş açılmış malzemeler","Mal",44531700,null,null,"Maşalı pimler, kopilyalar"]
[null,null,null,null,null,null,null,6230,44532400,{"$f":"IF(K6234=1,COUNTIF($K$5:K6234,1),\"\")","v":6230},{"$f":"IF(ISNUMBER(SEARCH('Bilgi Girişi'!$E$4,KalemAdı,1))=TRUE,1,0)","v":1},"Çelik bağlantı veya takviye parçaları","Mal",44532400,null,null,"Zincir parçaları"]
[null,null,null,null,null,null,null,6233,44541000,{"$f":"IF(K6237=1,COUNTIF($K$5:K6237,1),\"\")","v":6233},{"$f":"IF(ISNUMBER(SEARCH('Bilgi Girişi'!$E$4,KalemAdı,1))=TRUE,1,0)","v":1},"Mafsallı zincir","Mal",44541000,null,null,"Depolar, rezervuarlar, kaplar ve basınçlı kaplar"]
[null,null,null,null,null,null,null,6235,44550000,{"$f":"IF(K6239=1,COUNTIF($K$5:K6239,1),\"\")","v":6235},{"$f":"IF(ISNUMBER(SEARCH('Bilgi Girişi'!$E$4,KalemAdı,1))=TRUE,1,0)","v":1},"Yaylar ve yay yaprakları","Mal",44550000,null,null,"Hava tüpleri"]
[null,null,null,null,null,null,null,6240,44611110,{"$f":"IF(K6244=1,COUNTIF($K$5:K6244,1),\"\")","v":6240},{"$f":"IF(ISNUMBER(SEARCH('Bilgi Girişi'!$E$4,KalemAdı,1))=TRUE,1,0)","v":1},"Sıkıştırılmış hava tüpleri","Mal",44611110,null,null,"Çamur depolama tankları"]
[null,null,null,null,null,null,null,6244,44611420,{"$f":"IF(K6248=1,COUNTIF($K$5:K6248,1),\"\")","v":6244},{"$f":"IF(ISNUMBER(SEARCH('Bilgi Girişi'!$E$4,KalemAdı,1))=TRUE,1,0)","v":1},"Çamur depolama tankları","Mal",44611420,null,null,"Gaz tüpleri"]
[null,null,null,null,null,null,null,6248,44612100,{"$f":"IF(K6252=1,COUNTIF($K$5:K6252,1),\"\")","v":6248},{"$f":"IF(ISNUMBER(SEARCH('Bilgi Girişi'!$E$4,KalemAdı,1))=TRUE,1,0)","v":1},"Gaz tüpleri","Mal",44612100,null,null,"Soğutmalı muhafaza kapları"]
[null,null,null,null,null,null,null,6249,44612200,{"$f":"IF(K6253=1,COUNTIF($K$5:K6253,1),\"\")","v":6249},{"$f":"IF(ISNUMBER(SEARCH('Bilgi Girişi'!$E$4,KalemAdı,1))=TRUE,1,0)","v":1},"Gaz tankları","Mal",44612200,null,null,"Su kamaraları"]
[null,null,null,null,null,null,null,6253,44613210,{"$f":"IF(K6257=1,COUNTIF($K$5:K6257,1),\"\")","v":6253},{"$f":"IF(ISNUMBER(SEARCH('Bilgi Girişi'!$E$4,KalemAdı,1))=TRUE,1,0)","v":1},"Su kamaraları","Mal",44613210,null,null,"Tekerlekli konteynerler"]
[null,null,null,null,null,null,null,6258,44613700,{"$f":"IF(K6262=1,COUNTIF($K$5:K6262,1),\"\")","v":6258},{"$f":"IF(ISNUMBER(SEARCH('Bilgi Girişi'!$E$4,KalemAdı,1))=TRUE,1,0)","v":1},"Atık arabası","Mal",44613700,null,null,"Konteyner depolanma sistemi"]
[null,null,null,null,null,null,null,6263,44614310,{"$f":"IF(K6267=1,COUNTIF($K$5:K6267,1),\"\")","v":6263},{"$f":"IF(ISNUMBER(SEARCH('Bilgi Girişi'!$E$4,KalemAdı,1))=TRUE,1,0)","v":1},"İstifleme makineleri ve sistemleri","Mal",44614310,null,null,"Çöp varilleri"]
[null,null,null,null,null,null,null,6265,44615100,{"$f":"IF(K6269=1,COUNTIF($K$5:K6269,1),\"\")","v":6265},{"$f":"IF(ISNUMBER(SEARCH('Bilgi Girişi'!$E$4,KalemAdı,1))=TRUE,1,0)","v":1},"Çelikten mamul tazyik kazanları","Mal",44615100,null,null,"Kartonlar/mukavva kutular"]
[null,null,null,null,null,null,null,6268,44617000,{"$f":"IF(K6272=1,COUNTIF($K$5:K6272,1),\"\")","v":6268},{"$f":"IF(ISNUMBER(SEARCH('Bilgi Girişi'!$E$4,KalemAdı,1))=TRUE,1,0)","v":1},"Kutular","Mal",44617000,null,null,"Hafif kaplar, mantarlar, konteynerlar için kapaklar, fıçılar ve kapaklar"]
[null,null,null,null,null,null,null,6273,44618100,{"$f":"IF(K6277=1,COUNTIF($K$5:K6277,1),\"\")","v":6273},{"$f":"IF(ISNUMBER(SEARCH('Bilgi Girişi'!$E$4,KalemAdı,1))=TRUE,1,0)","v":1},"Hafif kaplar","Mal",44618100,null,null,"Ambalaj kutu kapakları"]
[null,null,null,null,null,null,null,6277,44618330,{"$f":"IF(K6281=1,COUNTIF($K$5:K6281,1),\"\")","v":6277},{"$f":"IF(ISNUMBER(SEARCH('Bilgi Girişi'!$E$4,KalemAdı,1))=TRUE,1,0)","v":1},"Ambalaj kutu kapakları","Mal",44618330,null,null,"Yiyecek konserve kutuları"]
[null,null,null,null,null,null,null,6278,44618340,{"$f":"IF(K6282=1,COUNTIF($K$5:K6282,1),\"\")","v":6278},{"$f":"IF(ISNUMBER(SEARCH('Bilgi Girişi'!$E$4,KalemAdı,1))=TRUE,1,0)","v":1},"Kapaklar","Mal",44618340,null,null,"Büyük fıçılar"]
[null,null,null,null,null,null,null,6282,44618500,{"$f":"IF(K6286=1,COUNTIF($K$5:K6286,1),\"\")","v":6282},{"$f":"IF(ISNUMBER(SEARCH('Bilgi Girişi'!$E$4,KalemAdı,1))=TRUE,1,0)","v":1},"Büyük fıçılar","Mal",44618500,null,null,"Sandıklar/kafesler"]
[null,null,null,null,null,null,null,6285,44619200,{"$f":"IF(K6289=1,COUNTIF($K$5:K6289,1),\"\")","v":6285},{"$f":"IF(ISNUMBER(SEARCH('Bilgi Girişi'!$E$4,KalemAdı,1))=TRUE,1,0)","v":1},"Ahşap büyük kablo makaraları","Mal",44619200,null,null,"Merkezi ısıtma radyatörleri, kazanları ve parçaları"]
[null,null,null,null,null,null,null,6291,44621100,{"$f":"IF(K6295=1,COUNTIF($K$5:K6295,1),\"\")","v":6291},{"$f":"IF(ISNUMBER(SEARCH('Bilgi Girişi'!$E$4,KalemAdı,1))=TRUE,1,0)","v":1},"Radyatörler","Mal",44621100,null,null,"Kazanlar"]
[null,null,null,null,null,null,null,6293,44621111,{"$f":"IF(K6297=1,COUNTIF($K$5:K6297,1),\"\")","v":6293},{"$f":"IF(ISNUMBER(SEARCH('Bilgi Girişi'!$E$4,KalemAdı,1))=TRUE,1,0)","v":1},"Elektrik ile ısıtılmayan merkezi ısıtma radyatörleri","Mal",44621111,null,null,"Merkezi ısıtma kazanları"]
[null,null,null,null,null,null,null,6296,44621210,{"$f":"IF(K6300=1,COUNTIF($K$5:K6300,1),\"\")","v":6296},{"$f":"IF(ISNUMBER(SEARCH('Bilgi Girişi'!$E$4,KalemAdı,1))=TRUE,1,0)","v":1},"Su kazanları","Mal",44621210,null,null,"Isı koruma ekipmanları"]
[null,null,null,null,null,null,null,6301,44800000,{"$f":"IF(K6305=1,COUNTIF($K$5:K6305,1),\"\")","v":6301},{"$f":"IF(ISNUMBER(SEARCH('Bilgi Girişi'!$E$4,KalemAdı,1))=TRUE,1,0)","v":1},"Boyalar, vernikler ve macunlar","Mal",44800000,null,null,"Emaye ve seramik sırları"]
[null,null,null,null,null,null,null,6305,44812100,{"$f":"IF(K6309=1,COUNTIF($K$5:K6309,1),\"\")","v":6305},{"$f":"IF(ISNUMBER(SEARCH('Bilgi Girişi'!$E$4,KalemAdı,1))=TRUE,1,0)","v":1},"Emaye ve seramik sırları","Mal",44812100,null,null,"Öğrenci boyaları"]
[null,null,null,null,null,null,null,6306,44812200,{"$f":"IF(K6310=1,COUNTIF($K$5:K6310,1),\"\")","v":6306},{"$f":"IF(ISNUMBER(SEARCH('Bilgi Girişi'!$E$4,KalemAdı,1))=TRUE,1,0)","v":1},"Yağlı ve sulu boyalar","Mal",44812200,null,null,"Boya setleri"]
[null,null,null,null,null,null,null,6310,44812310,{"$f":"IF(K6314=1,COUNTIF($K$5:K6314,1),\"\")","v":6310},{"$f":"IF(ISNUMBER(SEARCH('Bilgi Girişi'!$E$4,KalemAdı,1))=TRUE,1,0)","v":1},"Boya setleri","Mal",44812310,null,null,"Mastikalar, dolgular, macun ve çözücüler"]
[null,null,null,null,null,null,null,6315,44831000,{"$f":"IF(K6319=1,COUNTIF($K$5:K6319,1),\"\")","v":6315},{"$f":"IF(ISNUMBER(SEARCH('Bilgi Girişi'!$E$4,KalemAdı,1))=TRUE,1,0)","v":1},"Boya macunları, dolgu maddeleri, camcı macunları","Mal",44831000,null,null,"Harç"]
[null,null,null,null,null,null,null,6318,44831300,{"$f":"IF(K6322=1,COUNTIF($K$5:K6322,1),\"\")","v":6318},{"$f":"IF(ISNUMBER(SEARCH('Bilgi Girişi'!$E$4,KalemAdı,1))=TRUE,1,0)","v":1},"Camcı macunu","Mal",44831300,null,null,"Boya incelticiler, tinerler"]
[null,null,null,null,null,null,null,6320,44832000,{"$f":"IF(K6324=1,COUNTIF($K$5:K6324,1),\"\")","v":6320},{"$f":"IF(ISNUMBER(SEARCH('Bilgi Girişi'!$E$4,KalemAdı,1))=TRUE,1,0)","v":1},"Solventler, çözücüler","Mal",44832000,null,null,"İnşaat için taşlar"]
[null,null,null,null,null,null,null,6325,44911000,{"$f":"IF(K6329=1,COUNTIF($K$5:K6329,1),\"\")","v":6325},{"$f":"IF(ISNUMBER(SEARCH('Bilgi Girişi'!$E$4,KalemAdı,1))=TRUE,1,0)","v":1},"Mermer ve kalkerli bina taşları","Mal",44911000,null,null,"Granit"]
[null,null,null,null,null,null,null,6329,44912100,{"$f":"IF(K6333=1,COUNTIF($K$5:K6333,1),\"\")","v":6329},{"$f":"IF(ISNUMBER(SEARCH('Bilgi Girişi'!$E$4,KalemAdı,1))=TRUE,1,0)","v":1},"Granit","Mal",44912100,null,null,"Kireçtaşı, alçıtaşı ve tebeşir"]
[null,null,null,null,null,null,null,6333,44920000,{"$f":"IF(K6337=1,COUNTIF($K$5:K6337,1),\"\")","v":6333},{"$f":"IF(ISNUMBER(SEARCH('Bilgi Girişi'!$E$4,KalemAdı,1))=TRUE,1,0)","v":1},"Kireçtaşı, alçıtaşı ve tebeşir","Mal",44920000,null,null,"Kireç tozu"]
[null,null,null,null,null,null,null,6334,44921000,{"$f":"IF(K6338=1,COUNTIF($K$5:K6338,1),\"\")","v":6334},{"$f":"IF(ISNUMBER(SEARCH('Bilgi Girişi'!$E$4,KalemAdı,1))=TRUE,1,0)","v":1},"Kireçtaşı ve alçıtaşı","Mal",44921000,null,null,"Kireç taşı"]
[null,null,null,null,null,null,null,6339,44922000,{"$f":"IF(K6343=1,COUNTIF($K$5:K6343,1),\"\")","v":6339},{"$f":"IF(ISNUMBER(SEARCH('Bilgi Girişi'!$E$4,KalemAdı,1))=TRUE,1,0)","v":1},"Tebeşir ve dolomit","Mal",44922000,null,null,"Yazılım paketi ve bilgi sistemleri"]
[null,null,null,null,null,null,null,6342,44930000,{"$f":"IF(K6346=1,COUNTIF($K$5:K6346,1),\"\")","v":6342},{"$f":"IF(ISNUMBER(SEARCH('Bilgi Girişi'!$E$4,KalemAdı,1))=TRUE,1,0)","v":1},"Arduvaz","Mal",44930000,null,null,"Uçuş kontrol yazılım paketi"]
[null,null,null,null,null,null,null,6348,48130000,{"$f":"IF(K6352=1,COUNTIF($K$5:K6352,1),\"\")","v":6348},{"$f":"IF(ISNUMBER(SEARCH('Bilgi Girişi'!$E$4,KalemAdı,1))=TRUE,1,0)","v":1},"Havacılık yer destek ve test yazılımı paketi","Mal",48130000,null,null,"Endüstriyel kontrol yazılım paketi"]
[null,null,null,null,null,null,null,6350,48132000,{"$f":"IF(K6354=1,COUNTIF($K$5:K6354,1),\"\")","v":6350},{"$f":"IF(ISNUMBER(SEARCH('Bilgi Girişi'!$E$4,KalemAdı,1))=TRUE,1,0)","v":1},"Havacılık test yazılımı paketi","Mal",48132000,null,null,"Kütüphane yazılım paketi"]
[null,null,null,null,null,null,null,6353,48151000,{"$f":"IF(K6357=1,COUNTIF($K$5:K6357,1),\"\")","v":6353},{"$f":"IF(ISNUMBER(SEARCH('Bilgi Girişi'!$E$4,KalemAdı,1))=TRUE,1,0)","v":1},"Bilgisayar denetim sistemi","Mal",48151000,null,null,"Tıbbi yazılım paketi"]
[null,null,null,null,null,null,null,6358,48190000,{"$f":"IF(K6362=1,COUNTIF($K$5:K6362,1),\"\")","v":6358},{"$f":"IF(ISNUMBER(SEARCH('Bilgi Girişi'!$E$4,KalemAdı,1))=TRUE,1,0)","v":1},"Eğitim yazılım paketi","Mal",48190000,null,null,"Optik jukebox sunucu yazılım paketi"]
[null,null,null,null,null,null,null,6362,48212000,{"$f":"IF(K6366=1,COUNTIF($K$5:K6366,1),\"\")","v":6362},{"$f":"IF(ISNUMBER(SEARCH('Bilgi Girişi'!$E$4,KalemAdı,1))=TRUE,1,0)","v":1},"Optik jukebox sunucu yazılım paketi","Mal",48212000,null,null,"Ağ bağlantısı uçbirim öykünmesi yazılım paketi"]
[null,null,null,null,null,null,null,6363,48213000,{"$f":"IF(K6367=1,COUNTIF($K$5:K6367,1),\"\")","v":6363},{"$f":"IF(ISNUMBER(SEARCH('Bilgi Girişi'!$E$4,KalemAdı,1))=TRUE,1,0)","v":1},"İşletim sistemi geliştirme yazılım paketi","Mal",48213000,null,null,"Hareket işleme yazılım paketi işleme"]
[null,null,null,null,null,null,null,6367,48217000,{"$f":"IF(K6371=1,COUNTIF($K$5:K6371,1),\"\")","v":6367},{"$f":"IF(ISNUMBER(SEARCH('Bilgi Girişi'!$E$4,KalemAdı,1))=TRUE,1,0)","v":1},"Hareket işleme yazılım paketi işleme","Mal",48217000,null,null,"Lisans yönetimi yazılım paketi"]
[null,null,null,null,null,null,null,6370,48217300,{"$f":"IF(K6374=1,COUNTIF($K$5:K6374,1),\"\")","v":6370},{"$f":"IF(ISNUMBER(SEARCH('Bilgi Girişi'!$E$4,KalemAdı,1))=TRUE,1,0)","v":1},"Mikrobilgisayar işletim sistemi paketi","Mal",48217300,null,null,"Kompakt disk (CD) sunucu yazılım paketi"]
[null,null,null,null,null,null,null,6376,48219400,{"$f":"IF(K6380=1,COUNTIF($K$5:K6380,1),\"\")","v":6376},{"$f":"IF(ISNUMBER(SEARCH('Bilgi Girişi'!$E$4,KalemAdı,1))=TRUE,1,0)","v":1},"İşlem sunucu yazılım paketi","Mal",48219400,null,null,"Köprüleme Yazılım Paketi"]
[null,null,null,null,null,null,null,6377,48219500,{"$f":"IF(K6381=1,COUNTIF($K$5:K6381,1),\"\")","v":6377},{"$f":"IF(ISNUMBER(SEARCH('Bilgi Girişi'!$E$4,KalemAdı,1))=TRUE,1,0)","v":1},"Anahtar veya yönlendirici yazılım paketi","Mal",48219500,null,null,"İnternet ve intranet yazılım paketi"]
[null,null,null,null,null,null,null,6383,48222000,{"$f":"IF(K6387=1,COUNTIF($K$5:K6387,1),\"\")","v":6383},{"$f":"IF(ISNUMBER(SEARCH('Bilgi Girişi'!$E$4,KalemAdı,1))=TRUE,1,0)","v":1},"Web sunucu yazılım paketi","Mal",48222000,null,null,"Doküman oluşturma yazılım paketi"]
[null,null,null,null,null,null,null,6386,48300000,{"$f":"IF(K6390=1,COUNTIF($K$5:K6390,1),\"\")","v":6386},{"$f":"IF(ISNUMBER(SEARCH('Bilgi Girişi'!$E$4,KalemAdı,1))=TRUE,1,0)","v":1},"Doküman oluşturma, çizim, görüntüleme, planlama ve verimlilik yazılım","Mal",48300000,null,null,"Elektronik yayıncılık yazılımı paketi"]
[null,null,null,null,null,null,null,6390,48312000,{"$f":"IF(K6394=1,COUNTIF($K$5:K6394,1),\"\")","v":6390},{"$f":"IF(ISNUMBER(SEARCH('Bilgi Girişi'!$E$4,KalemAdı,1))=TRUE,1,0)","v":1},"Elektronik yayıncılık yazılımı paketi","Mal",48312000,null,null,"Masaüstü yayıncılık yazılımı paketi"]
[null,null,null,null,null,null,null,6391,48313000,{"$f":"IF(K6395=1,COUNTIF($K$5:K6395,1),\"\")","v":6391},{"$f":"IF(ISNUMBER(SEARCH('Bilgi Girişi'!$E$4,KalemAdı,1))=TRUE,1,0)","v":1},"Optik karakter tanıma (OCR) yazılım paketi","Mal",48313000,null,null,"Sunum yazılım paketi"]
[null,null,null,null,null,null,null,6395,48316000,{"$f":"IF(K6399=1,COUNTIF($K$5:K6399,1),\"\")","v":6395},{"$f":"IF(ISNUMBER(SEARCH('Bilgi Girişi'!$E$4,KalemAdı,1))=TRUE,1,0)","v":1},"Sunum yazılım paketi","Mal",48316000,null,null,"Çizim ve görüntüleme yazılımı paketi"]
[null,null,null,null,null,null,null,6400,48321000,{"$f":"IF(K6404=1,COUNTIF($K$5:K6404,1),\"\")","v":6400},{"$f":"IF(ISNUMBER(SEARCH('Bilgi Girişi'!$E$4,KalemAdı,1))=TRUE,1,0)","v":1},"Bilgisayar destekli tasarım (CAD) yazılım paketi","Mal",48321000,null,null,"Grafik yazılım paketi"]
[null,null,null,null,null,null,null,6403,48323000,{"$f":"IF(K6407=1,COUNTIF($K$5:K6407,1),\"\")","v":6403},{"$f":"IF(ISNUMBER(SEARCH('Bilgi Girişi'!$E$4,KalemAdı,1))=TRUE,1,0)","v":1},"Bilgisayar destekli üretim (CAM) yazılım paketi","Mal",48323000,null,null,"Sayısal harita sistemi"]
[null,null,null,null,null,null,null,6405,48325000,{"$f":"IF(K6409=1,COUNTIF($K$5:K6409,1),\"\")","v":6405},{"$f":"IF(ISNUMBER(SEARCH('Bilgi Girişi'!$E$4,KalemAdı,1))=TRUE,1,0)","v":1},"Form oluşturma yazılım paketi","Mal",48325000,null,null,"Görüntü işleme yazılım paketi"]
[null,null,null,null,null,null,null,6410,48329000,{"$f":"IF(K6414=1,COUNTIF($K$5:K6414,1),\"\")","v":6410},{"$f":"IF(ISNUMBER(SEARCH('Bilgi Girişi'!$E$4,KalemAdı,1))=TRUE,1,0)","v":1},"Görüntüleme ve arşivleme sistemi","Mal",48329000,null,null,"İletişim yönetimi yazılım paketi"]
[null,null,null,null,null,null,null,6415,48400000,{"$f":"IF(K6419=1,COUNTIF($K$5:K6419,1),\"\")","v":6415},{"$f":"IF(ISNUMBER(SEARCH('Bilgi Girişi'!$E$4,KalemAdı,1))=TRUE,1,0)","v":1},"Ticari işlemler ve şahsi işler için yazılım paketleri","Mal",48400000,null,null,"Tesis yönetimi yazılım paketi ve yazılım seti"]
[null,null,null,null,null,null,null,6419,48420000,{"$f":"IF(K6423=1,COUNTIF($K$5:K6423,1),\"\")","v":6419},{"$f":"IF(ISNUMBER(SEARCH('Bilgi Girişi'!$E$4,KalemAdı,1))=TRUE,1,0)","v":1},"Tesis yönetimi yazılım paketi ve yazılım seti","Mal",48420000,null,null,"Mali analiz ve muhasebe yazılım paketi"]
[null,null,null,null,null,null,null,6420,48421000,{"$f":"IF(K6424=1,COUNTIF($K$5:K6424,1),\"\")","v":6420},{"$f":"IF(ISNUMBER(SEARCH('Bilgi Girişi'!$E$4,KalemAdı,1))=TRUE,1,0)","v":1},"Tesis yönetimi yazılım paketi","Mal",48421000,null,null,"Finansal analiz yazılım paketi"]
[null,null,null,null,null,null,null,6424,48441000,{"$f":"IF(K6428=1,COUNTIF($K$5:K6428,1),\"\")","v":6424},{"$f":"IF(ISNUMBER(SEARCH('Bilgi Girişi'!$E$4,KalemAdı,1))=TRUE,1,0)","v":1},"Finansal analiz yazılım paketi","Mal",48441000,null,null,"Fatura hesaplama ve basma sistemleri"]
[null,null,null,null,null,null,null,6428,48444100,{"$f":"IF(K6432=1,COUNTIF($K$5:K6432,1),\"\")","v":6428},{"$f":"IF(ISNUMBER(SEARCH('Bilgi Girişi'!$E$4,KalemAdı,1))=TRUE,1,0)","v":1},"Fatura hesaplama ve basma sistemleri","Mal",48444100,null,null,"Analitik, bilimsel, matematiksel veya tahmin yazılım paketi"]
[null,null,null,null,null,null,null,6433,48461000,{"$f":"IF(K6437=1,COUNTIF($K$5:K6437,1),\"\")","v":6433},{"$f":"IF(ISNUMBER(SEARCH('Bilgi Girişi'!$E$4,KalemAdı,1))=TRUE,1,0)","v":1},"Analitik yada bilimsel yazılım paketi","Mal",48461000,null,null,"Satış, pazarlama ve iş zekası yazılım paketi"]
[null,null,null,null,null,null,null,6435,48463000,{"$f":"IF(K6439=1,COUNTIF($K$5:K6439,1),\"\")","v":6435},{"$f":"IF(ISNUMBER(SEARCH('Bilgi Girişi'!$E$4,KalemAdı,1))=TRUE,1,0)","v":1},"İstatistiki yazılım paketi","Mal",48463000,null,null,"İş zekası yazılım paketi"]
[null,null,null,null,null,null,null,6438,48481000,{"$f":"IF(K6442=1,COUNTIF($K$5:K6442,1),\"\")","v":6438},{"$f":"IF(ISNUMBER(SEARCH('Bilgi Girişi'!$E$4,KalemAdı,1))=TRUE,1,0)","v":1},"Satış veya pazarlama yazılım paketi","Mal",48481000,null,null,"İletişim yazılım paketi"]
[null,null,null,null,null,null,null,6443,48511000,{"$f":"IF(K6447=1,COUNTIF($K$5:K6447,1),\"\")","v":6443},{"$f":"IF(ISNUMBER(SEARCH('Bilgi Girişi'!$E$4,KalemAdı,1))=TRUE,1,0)","v":1},"Masaüstü haberleşme yazılım paketi","Mal",48511000,null,null,"Video konferans yazılım paketi"]
[null,null,null,null,null,null,null,6447,48515000,{"$f":"IF(K6451=1,COUNTIF($K$5:K6451,1),\"\")","v":6447},{"$f":"IF(ISNUMBER(SEARCH('Bilgi Girişi'!$E$4,KalemAdı,1))=TRUE,1,0)","v":1},"Video konferans yazılım paketi","Mal",48515000,null,null,"Bellek yönetimi yazılım paketi"]
[null,null,null,null,null,null,null,6448,48516000,{"$f":"IF(K6452=1,COUNTIF($K$5:K6452,1),\"\")","v":6448},{"$f":"IF(ISNUMBER(SEARCH('Bilgi Girişi'!$E$4,KalemAdı,1))=TRUE,1,0)","v":1},"Haberleşme yazılım paketi","Mal",48516000,null,null,"Multimedya yazılım paketi"]
[null,null,null,null,null,null,null,6452,48520000,{"$f":"IF(K6456=1,COUNTIF($K$5:K6456,1),\"\")","v":6452},{"$f":"IF(ISNUMBER(SEARCH('Bilgi Girişi'!$E$4,KalemAdı,1))=TRUE,1,0)","v":1},"Multimedya yazılım paketi","Mal",48520000,null,null,"Veritabanı sistemleri"]
[null,null,null,null,null,null,null,6457,48611000,{"$f":"IF(K6461=1,COUNTIF($K$5:K6461,1),\"\")","v":6457},{"$f":"IF(ISNUMBER(SEARCH('Bilgi Girişi'!$E$4,KalemAdı,1))=TRUE,1,0)","v":1},"Veritabanı yazılımı paketi","Mal",48611000,null,null,"İşletim sistemleri"]
[null,null,null,null,null,null,null,6460,48614000,{"$f":"IF(K6464=1,COUNTIF($K$5:K6464,1),\"\")","v":6460},{"$f":"IF(ISNUMBER(SEARCH('Bilgi Girişi'!$E$4,KalemAdı,1))=TRUE,1,0)","v":1},"Veri toplama sistemi","Mal",48614000,null,null,"Mikrobilgisayar işletim sistemi yazılım paketi"]
[null,null,null,null,null,null,null,6462,48621000,{"$f":"IF(K6466=1,COUNTIF($K$5:K6466,1),\"\")","v":6462},{"$f":"IF(ISNUMBER(SEARCH('Bilgi Girişi'!$E$4,KalemAdı,1))=TRUE,1,0)","v":1},"Ana bilgisayar işletim sistemi yazılım paketi","Mal",48621000,null,null,"Açık sistemler işletim sistemleri"]
[null,null,null,null,null,null,null,6468,48627000,{"$f":"IF(K6472=1,COUNTIF($K$5:K6472,1),\"\")","v":6468},{"$f":"IF(ISNUMBER(SEARCH('Bilgi Girişi'!$E$4,KalemAdı,1))=TRUE,1,0)","v":1},"Gerçek zamanlı işletim sistemi yazılım paketi","Mal",48627000,null,null,"Barkod yazılım paketi"]
[null,null,null,null,null,null,null,6471,48710000,{"$f":"IF(K6475=1,COUNTIF($K$5:K6475,1),\"\")","v":6471},{"$f":"IF(ISNUMBER(SEARCH('Bilgi Girişi'!$E$4,KalemAdı,1))=TRUE,1,0)","v":1},"Yedekleme veya kurtarma yazılım paketi","Mal",48710000,null,null,"Veri güvenliği yazılım paketi"]
[null,null,null,null,null,null,null,6473,48730000,{"$f":"IF(K6477=1,COUNTIF($K$5:K6477,1),\"\")","v":6473},{"$f":"IF(ISNUMBER(SEARCH('Bilgi Girişi'!$E$4,KalemAdı,1))=TRUE,1,0)","v":1},"Güvenlik yazılım paketi","Mal",48730000,null,null,"Depolama medya yükleme yazılım paketi"]
[null,null,null,null,null,null,null,6476,48740000,{"$f":"IF(K6480=1,COUNTIF($K$5:K6480,1),\"\")","v":6476},{"$f":"IF(ISNUMBER(SEARCH('Bilgi Girişi'!$E$4,KalemAdı,1))=TRUE,1,0)","v":1},"Yabancı dil çeviri yazılımı paketi","Mal",48740000,null,null,"Genel, sıkıştırma ve baskı yardımcı yazılım paketi"]
[null,null,null,null,null,null,null,6480,48770000,{"$f":"IF(K6484=1,COUNTIF($K$5:K6484,1),\"\")","v":6480},{"$f":"IF(ISNUMBER(SEARCH('Bilgi Girişi'!$E$4,KalemAdı,1))=TRUE,1,0)","v":1},"Genel, sıkıştırma ve baskı yardımcı yazılım paketi","Mal",48770000,null,null,"Baskı biriktirme yazılım paketi"]
[null,null,null,null,null,null,null,6485,48780000,{"$f":"IF(K6489=1,COUNTIF($K$5:K6489,1),\"\")","v":6485},{"$f":"IF(ISNUMBER(SEARCH('Bilgi Girişi'!$E$4,KalemAdı,1))=TRUE,1,0)","v":1},"Sistem, depolama ve içerik yönetimi yazılım paketi","Mal",48780000,null,null,"Sürüm denetimi yazılım paketi"]
[null,null,null,null,null,null,null,6490,48800000,{"$f":"IF(K6494=1,COUNTIF($K$5:K6494,1),\"\")","v":6490},{"$f":"IF(ISNUMBER(SEARCH('Bilgi Girişi'!$E$4,KalemAdı,1))=TRUE,1,0)","v":1},"Bilgi sistemleri ve sunucuları","Mal",48800000,null,null,"Yolcu bilgileri sistemleri"]
[null,null,null,null,null,null,null,6492,48811000,{"$f":"IF(K6496=1,COUNTIF($K$5:K6496,1),\"\")","v":6492},{"$f":"IF(ISNUMBER(SEARCH('Bilgi Girişi'!$E$4,KalemAdı,1))=TRUE,1,0)","v":1},"Elektronik posta sistemleri","Mal",48811000,null,null,"Gerçek zamanlı yolcu bilgi sistemi"]
[null,null,null,null,null,null,null,6495,48813100,{"$f":"IF(K6499=1,COUNTIF($K$5:K6499,1),\"\")","v":6495},{"$f":"IF(ISNUMBER(SEARCH('Bilgi Girişi'!$E$4,KalemAdı,1))=TRUE,1,0)","v":1},"Elektronik panolar","Mal",48813100,null,null,"Hasta yönetim sistemi"]
[null,null,null,null,null,null,null,6500,48814300,{"$f":"IF(K6504=1,COUNTIF($K$5:K6504,1),\"\")","v":6500},{"$f":"IF(ISNUMBER(SEARCH('Bilgi Girişi'!$E$4,KalemAdı,1))=TRUE,1,0)","v":1},"Ameliyathane yazılım paketi","Mal",48814300,null,null,"Ağ sunucuları"]
[null,null,null,null,null,null,null,6504,48821000,{"$f":"IF(K6508=1,COUNTIF($K$5:K6508,1),\"\")","v":6504},{"$f":"IF(ISNUMBER(SEARCH('Bilgi Girişi'!$E$4,KalemAdı,1))=TRUE,1,0)","v":1},"Ağ sunucuları","Mal",48821000,null,null,"Web sunucuları"]
[null,null,null,null,null,null,null,6505,48822000,{"$f":"IF(K6509=1,COUNTIF($K$5:K6509,1),\"\")","v":6505},{"$f":"IF(ISNUMBER(SEARCH('Bilgi Girişi'!$E$4,KalemAdı,1))=TRUE,1,0)","v":1},"Bilgisayar sunucuları","Mal",48822000,null,null,"Çeşitli yazılım paketleri ve bilgisayar sistemleri"]
[null,null,null,null,null,null,null,6509,48900000,{"$f":"IF(K6513=1,COUNTIF($K$5:K6513,1),\"\")","v":6509},{"$f":"IF(ISNUMBER(SEARCH('Bilgi Girişi'!$E$4,KalemAdı,1))=TRUE,1,0)","v":1},"Çeşitli yazılım paketleri ve bilgisayar sistemleri","Mal",48900000,null,null,"Ekran koruyucuları"]
[null,null,null,null,null,null,null,6513,48913000,{"$f":"IF(K6517=1,COUNTIF($K$5:K6517,1),\"\")","v":6513},{"$f":"IF(ISNUMBER(SEARCH('Bilgi Girişi'!$E$4,KalemAdı,1))=TRUE,1,0)","v":1},"Ekran koruyucuları","Mal",48913000,null,null,"Eğitim yazılım paketi"]
[null,null,null,null,null,null,null,6518,48932000,{"$f":"IF(K6522=1,COUNTIF($K$5:K6522,1),\"\")","v":6518},{"$f":"IF(ISNUMBER(SEARCH('Bilgi Girişi'!$E$4,KalemAdı,1))=TRUE,1,0)","v":1},"Eğlence yazılım paketi","Mal",48932000,null,null,"Tekne yer tespit ve adres tespit  sistemleri"]
[null,null,null,null,null,null,null,6521,48942000,{"$f":"IF(K6525=1,COUNTIF($K$5:K6525,1),\"\")","v":6521},{"$f":"IF(ISNUMBER(SEARCH('Bilgi Girişi'!$E$4,KalemAdı,1))=TRUE,1,0)","v":1},"Takvim yazılım paketi","Mal",48942000,null,null,"Sürücüler ve sistem yazılımı paketi"]
[null,null,null,null,null,null,null,6523,48951000,{"$f":"IF(K6527=1,COUNTIF($K$5:K6527,1),\"\")","v":6523},{"$f":"IF(ISNUMBER(SEARCH('Bilgi Girişi'!$E$4,KalemAdı,1))=TRUE,1,0)","v":1},"Tekne yer tespit sistemi","Mal",48951000,null,null,"Grafik kartı sürücüleri"]
[null,null,null,null,null,null,null,6528,48970000,{"$f":"IF(K6532=1,COUNTIF($K$5:K6532,1),\"\")","v":6528},{"$f":"IF(ISNUMBER(SEARCH('Bilgi Girişi'!$E$4,KalemAdı,1))=TRUE,1,0)","v":1},"Matbaa yazılım paketi","Mal",48970000,null,null,"Derleme yazılım paketleri"]
[null,null,null,null,null,null,null,6530,48972000,{"$f":"IF(K6534=1,COUNTIF($K$5:K6534,1),\"\")","v":6530},{"$f":"IF(ISNUMBER(SEARCH('Bilgi Girişi'!$E$4,KalemAdı,1))=TRUE,1,0)","v":1},"Etiket yapma yazılım paketi","Mal",48972000,null,null,{"$f":"IFERROR(VLOOKUP(ROW($P6534),$J$5:$L$9594,3,FALSE),\"\")","v":"Geliştirme yazılım paketi"}]
[null,null,null,null,null,null,null,6533,48982000,{"$f":"IF(K6537=1,COUNTIF($K$5:K6537,1),\"\")","v":6533},{"$f":"IF(ISNUMBER(SEARCH('Bilgi Girişi'!$E$4,KalemAdı,1))=TRUE,1,0)","v":1},"Konfigürasyon yönetimi yazılım paketi","Mal",48982000,null,null,"Program test yazılım paketi"]
[null,null,null,null,null,null,null,6537,48986000,{"$f":"IF(K6541=1,COUNTIF($K$5:K6541,1),\"\")","v":6537},{"$f":"IF(ISNUMBER(SEARCH('Bilgi Girişi'!$E$4,KalemAdı,1))=TRUE,1,0)","v":1},"Program test yazılım paketi","Mal",48986000,null,null,"Sıkıştırılmış doğalgaz (CNG)"]
[null,null,null,null,null,null,null,6542,336000001,{"$f":"IF(K6546=1,COUNTIF($K$5:K6546,1),\"\")","v":6542},{"$f":"IF(ISNUMBER(SEARCH('Bilgi Girişi'!$E$4,KalemAdı,1))=TRUE,1,0)","v":1},"Serumlar","Mal",336000001,null,null,"Olay yeri inceleme malzemeleri"]
[null,null,null,null,null,null,null,6545,156230001,{"$f":"IF(K6549=1,COUNTIF($K$5:K6549,1),\"\")","v":6545},{"$f":"IF(ISNUMBER(SEARCH('Bilgi Girişi'!$E$4,KalemAdı,1))=TRUE,1,0)","v":1},"Dirençli Nişasta","Mal",156230001,null,null,"İnsansız Kara Araçları"]
[null,null,null,null,null,null,null,6547,311221001,{"$f":"IF(K6551=1,COUNTIF($K$5:K6551,1),\"\")","v":6547},{"$f":"IF(ISNUMBER(SEARCH('Bilgi Girişi'!$E$4,KalemAdı,1))=TRUE,1,0)","v":1},"Yakıt Hücreleri Sistemleri","Mal",311221001,null,null,"Araç ve ilgili ekipmanların onarımı, bakımı ve ilgili hizmetleri"]
[null,null,null,null,null,null,null,6553,50111000,{"$f":"IF(K6557=1,COUNTIF($K$5:K6557,1),\"\")","v":6553},{"$f":"IF(ISNUMBER(SEARCH('Bilgi Girişi'!$E$4,KalemAdı,1))=TRUE,1,0)","v":1},"Filo yönetimi, onarım ve bakım hizmetleri","Hizmet",50111000,null,null,"Araba onarım hizmetleri"]
[null,null,null,null,null,null,null,6556,50112000,{"$f":"IF(K6560=1,COUNTIF($K$5:K6560,1),\"\")","v":6556},{"$f":"IF(ISNUMBER(SEARCH('Bilgi Girişi'!$E$4,KalemAdı,1))=TRUE,1,0)","v":1},"Otomobil onarım ve bakım hizmetleri","Hizmet",50112000,null,null,"Ön cam,siperlik değiştirme hizmetleri"]
[null,null,null,null,null,null,null,6558,50112110,{"$f":"IF(K6562=1,COUNTIF($K$5:K6562,1),\"\")","v":6558},{"$f":"IF(ISNUMBER(SEARCH('Bilgi Girişi'!$E$4,KalemAdı,1))=TRUE,1,0)","v":1},"Vasıtalar için kaporta onarım hizmetleri","Hizmet",50112110,null,null,"Araba yıkama ve benzeri hizmetler"]
[null,null,null,null,null,null,null,6561,50112200,{"$f":"IF(K6565=1,COUNTIF($K$5:K6565,1),\"\")","v":6561},{"$f":"IF(ISNUMBER(SEARCH('Bilgi Girişi'!$E$4,KalemAdı,1))=TRUE,1,0)","v":1},"Araba bakım hizmetleri","Hizmet",50112200,null,null,"Otobüs bakım hizmetleri"]
[null,null,null,null,null,null,null,6566,50114000,{"$f":"IF(K6570=1,COUNTIF($K$5:K6570,1),\"\")","v":6566},{"$f":"IF(ISNUMBER(SEARCH('Bilgi Girişi'!$E$4,KalemAdı,1))=TRUE,1,0)","v":1},"Kamyonlar için bakım ve onarım hizmetleri","Hizmet",50114000,null,null,"Motosiklet onarım hizmetleri"]
[null,null,null,null,null,null,null,6570,50115100,{"$f":"IF(K6574=1,COUNTIF($K$5:K6574,1),\"\")","v":6570},{"$f":"IF(ISNUMBER(SEARCH('Bilgi Girişi'!$E$4,KalemAdı,1))=TRUE,1,0)","v":1},"Motosiklet onarım hizmetleri","Hizmet",50115100,null,null,"Araç frenleri ve fren parçaları bakım ve onarım hizmetleri"]
[null,null,null,null,null,null,null,6575,50116300,{"$f":"IF(K6579=1,COUNTIF($K$5:K6579,1),\"\")","v":6575},{"$f":"IF(ISNUMBER(SEARCH('Bilgi Girişi'!$E$4,KalemAdı,1))=TRUE,1,0)","v":1},"Araç şanzımanları bakım ve onarım hizmetleri","Hizmet",50116300,null,null,"Marş motorları onarım ve bakım hizmetleri"]
[null,null,null,null,null,null,null,6578,50116510,{"$f":"IF(K6582=1,COUNTIF($K$5:K6582,1),\"\")","v":6578},{"$f":"IF(ISNUMBER(SEARCH('Bilgi Girişi'!$E$4,KalemAdı,1))=TRUE,1,0)","v":1},"Lastik kaplama hizmetleri","Hizmet",50116510,null,null,"Ambulans dönüştürme hizmetleri"]
[null,null,null,null,null,null,null,6580,50117000,{"$f":"IF(K6584=1,COUNTIF($K$5:K6584,1),\"\")","v":6580},{"$f":"IF(ISNUMBER(SEARCH('Bilgi Girişi'!$E$4,KalemAdı,1))=TRUE,1,0)","v":1},"Araç dönüştürme ve yenileme hizmetleri","Hizmet",50117000,null,null,"Otomobiller için yolda kalma acil durum hizmetleri"]
[null,null,null,null,null,null,null,6585,50118100,{"$f":"IF(K6589=1,COUNTIF($K$5:K6589,1),\"\")","v":6585},{"$f":"IF(ISNUMBER(SEARCH('Bilgi Girişi'!$E$4,KalemAdı,1))=TRUE,1,0)","v":1},"Otomobiller için arıza ve kurtarma hizmetleri","Hizmet",50118100,null,null,"Motorlu araçlar için arıza ve kurtarma hizmetleri"]
[null,null,null,null,null,null,null,6589,50118400,{"$f":"IF(K6593=1,COUNTIF($K$5:K6593,1),\"\")","v":6589},{"$f":"IF(ISNUMBER(SEARCH('Bilgi Girişi'!$E$4,KalemAdı,1))=TRUE,1,0)","v":1},"Motorlu araçlar için arıza ve kurtarma hizmetleri","Hizmet",50118400,null,null,"Hava araçları ve ekipmanları ile ilgili onarım, bakım ve ilgili diğer yan"]
[null,null,null,null,null,null,null,6590,50118500,{"$f":"IF(K6594=1,COUNTIF($K$5:K6594,1),\"\")","v":6590},{"$f":"IF(ISNUMBER(SEARCH('Bilgi Girişi'!$E$4,KalemAdı,1))=TRUE,1,0)","v":1},"Motosikletler için arıza ve kurtarma hizmetleri","Hizmet",50118500,null,null,"Hava araçlarının bakım ve onarım hizmetleri"]
[null,null,null,null,null,null,null,6594,50211000,{"$f":"IF(K6598=1,COUNTIF($K$5:K6598,1),\"\")","v":6594},{"$f":"IF(ISNUMBER(SEARCH('Bilgi Girişi'!$E$4,KalemAdı,1))=TRUE,1,0)","v":1},"Hava araçlarının bakım ve onarım hizmetleri","Hizmet",50211000,null,null,{"$f":"IFERROR(VLOOKUP(ROW($P6598),$J$5:$L$9594,3,FALSE),\"\")","v":"Hava aracı motoru bakım hizmetleri"}]
[null,null,null,null,null,null,null,6599,50211212,{"$f":"IF(K6603=1,COUNTIF($K$5:K6603,1),\"\")","v":6599},{"$f":"IF(ISNUMBER(SEARCH('Bilgi Girişi'!$E$4,KalemAdı,1))=TRUE,1,0)","v":1},"Hava aracı motoru onarım hizmetleri","Hizmet",50211212,null,null,"Demiryolları ve ekipmanlarına ilişkin onarım, bakım ve diğer ilgili hizmetler"]
[null,null,null,null,null,null,null,6602,50212000,{"$f":"IF(K6606=1,COUNTIF($K$5:K6606,1),\"\")","v":6602},{"$f":"IF(ISNUMBER(SEARCH('Bilgi Girişi'!$E$4,KalemAdı,1))=TRUE,1,0)","v":1},"Helikopter bakım ve onarım hizmetleri","Hizmet",50212000,null,null,"Lokomotif şanzımanlarının bakım onarım hizmetleri"]
[null,null,null,null,null,null,null,6604,50221000,{"$f":"IF(K6608=1,COUNTIF($K$5:K6608,1),\"\")","v":6604},{"$f":"IF(ISNUMBER(SEARCH('Bilgi Girişi'!$E$4,KalemAdı,1))=TRUE,1,0)","v":1},"Lokomotiflerin bakım ve onarım hizmetleri","Hizmet",50221000,null,null,"Lokomotif frenleri ve fren parçaları onarım ve bakım hizmetleri"]
[null,null,null,null,null,null,null,6610,50222100,{"$f":"IF(K6614=1,COUNTIF($K$5:K6614,1),\"\")","v":6610},{"$f":"IF(ISNUMBER(SEARCH('Bilgi Girişi'!$E$4,KalemAdı,1))=TRUE,1,0)","v":1},"Amortisörlerin bakım ve onarım hizmetleri","Hizmet",50222100,null,null,"Yolcu otobüslerinin yenileme hizmetleri"]
[null,null,null,null,null,null,null,6613,50224100,{"$f":"IF(K6617=1,COUNTIF($K$5:K6617,1),\"\")","v":6613},{"$f":"IF(ISNUMBER(SEARCH('Bilgi Girişi'!$E$4,KalemAdı,1))=TRUE,1,0)","v":1},"Vagon koltuklarının yenileme hizmetleri","Hizmet",50224100,null,null,"Yol ve diğer ekipmanlara ilişkin bakım, onarım ve ilgili diğer hizmetler"]
[null,null,null,null,null,null,null,6615,50225000,{"$f":"IF(K6619=1,COUNTIF($K$5:K6619,1),\"\")","v":6615},{"$f":"IF(ISNUMBER(SEARCH('Bilgi Girişi'!$E$4,KalemAdı,1))=TRUE,1,0)","v":1},"Demiryolu hattı bakım hizmetleri","Hizmet",50225000,null,null,"Sokak aydınlatma lambaları bakım hizmetleri"]
[null,null,null,null,null,null,null,6618,50232000,{"$f":"IF(K6622=1,COUNTIF($K$5:K6622,1),\"\")","v":6618},{"$f":"IF(ISNUMBER(SEARCH('Bilgi Girişi'!$E$4,KalemAdı,1))=TRUE,1,0)","v":1},"Çevre ve genel aydınlatma tesisatları ile trafik ışıklarının bakım hizmetleri","Hizmet",50232000,null,null,"Denizcilik ve diğer ekipmanlara ilişkin bakım, onarım ve diğer yan hizmetler"]
[null,null,null,null,null,null,null,6623,50241000,{"$f":"IF(K6627=1,COUNTIF($K$5:K6627,1),\"\")","v":6623},{"$f":"IF(ISNUMBER(SEARCH('Bilgi Girişi'!$E$4,KalemAdı,1))=TRUE,1,0)","v":1},"Gemi bakım ve onarım hizmetleri","Hizmet",50241000,null,null,"Gemilerin enkazını parçalama hizmetleri"]
[null,null,null,null,null,null,null,6627,50243000,{"$f":"IF(K6631=1,COUNTIF($K$5:K6631,1),\"\")","v":6627},{"$f":"IF(ISNUMBER(SEARCH('Bilgi Girişi'!$E$4,KalemAdı,1))=TRUE,1,0)","v":1},"Gemilerin enkazını parçalama hizmetleri","Hizmet",50243000,null,null,"Kuru doklama hizmetleri"]
[null,null,null,null,null,null,null,6630,50246000,{"$f":"IF(K6634=1,COUNTIF($K$5:K6634,1),\"\")","v":6630},{"$f":"IF(ISNUMBER(SEARCH('Bilgi Girişi'!$E$4,KalemAdı,1))=TRUE,1,0)","v":1},"Liman ekipmanları bakım hizmetleri","Hizmet",50246000,null,null,"Yüzer platformların onarım ve bakım hizmetleri"]
[null,null,null,null,null,null,null,6632,50246200,{"$f":"IF(K6636=1,COUNTIF($K$5:K6636,1),\"\")","v":6632},{"$f":"IF(ISNUMBER(SEARCH('Bilgi Girişi'!$E$4,KalemAdı,1))=TRUE,1,0)","v":1},"Şamandıra bakım hizmetleri","Hizmet",50246200,null,null,"Büro makinelerinin bakım ve onarımı"]
[null,null,null,null,null,null,null,6637,50311000,{"$f":"IF(K6641=1,COUNTIF($K$5:K6641,1),\"\")","v":6637},{"$f":"IF(ISNUMBER(SEARCH('Bilgi Girişi'!$E$4,KalemAdı,1))=TRUE,1,0)","v":1},"Büro muhasebe makinelerinin bakım ve onarımı","Hizmet",50311000,null,null,"Ana bilgisayarların bakım işleri"]
[null,null,null,null,null,null,null,6642,50312120,{"$f":"IF(K6646=1,COUNTIF($K$5:K6646,1),\"\")","v":6642},{"$f":"IF(ISNUMBER(SEARCH('Bilgi Girişi'!$E$4,KalemAdı,1))=TRUE,1,0)","v":1},"Ana bilgisayarların onarım hizmetleri","Hizmet",50312120,null,null,"Veri ağı donanımının onarımı ve bakımı hizmetleri"]
[null,null,null,null,null,null,null,6646,50312300,{"$f":"IF(K6650=1,COUNTIF($K$5:K6650,1),\"\")","v":6646},{"$f":"IF(ISNUMBER(SEARCH('Bilgi Girişi'!$E$4,KalemAdı,1))=TRUE,1,0)","v":1},"Veri ağı donanımının onarımı ve bakımı hizmetleri","Hizmet",50312300,null,null,"Mikrobilgisayarların bakımı hizmetleri"]
[null,null,null,null,null,null,null,6647,50312310,{"$f":"IF(K6651=1,COUNTIF($K$5:K6651,1),\"\")","v":6647},{"$f":"IF(ISNUMBER(SEARCH('Bilgi Girişi'!$E$4,KalemAdı,1))=TRUE,1,0)","v":1},"Veri ağ donanımının bakım hizmetleri","Hizmet",50312310,null,null,"Mikrobilgisayarların onarımı hizmetleri"]
[null,null,null,null,null,null,null,6651,50312420,{"$f":"IF(K6655=1,COUNTIF($K$5:K6655,1),\"\")","v":6651},{"$f":"IF(ISNUMBER(SEARCH('Bilgi Girişi'!$E$4,KalemAdı,1))=TRUE,1,0)","v":1},"Mikrobilgisayarların onarımı hizmetleri","Hizmet",50312420,null,null,"Grafiksel yöntemle çoğaltma yapan makine ve ekipmanın bakım ve onarım"]
[null,null,null,null,null,null,null,6655,50313000,{"$f":"IF(K6659=1,COUNTIF($K$5:K6659,1),\"\")","v":6655},{"$f":"IF(ISNUMBER(SEARCH('Bilgi Girişi'!$E$4,KalemAdı,1))=TRUE,1,0)","v":1},"Grafiksel yöntemle çoğaltma yapan makine ve ekipmanın bakım ve onarım","Hizmet",50313000,null,null,"Telefon yanıtlama (telesekreter) makinelerinin onarım ve bakım hizmetleri"]
[null,null,null,null,null,null,null,6660,50316000,{"$f":"IF(K6664=1,COUNTIF($K$5:K6664,1),\"\")","v":6660},{"$f":"IF(ISNUMBER(SEARCH('Bilgi Girişi'!$E$4,KalemAdı,1))=TRUE,1,0)","v":1},"Bilet basma makinelerinin bakım ve onarım hizmetleri","Hizmet",50316000,null,null,"Kişisel bilgisayarların bakım hizmetleri"]
[null,null,null,null,null,null,null,6663,50321000,{"$f":"IF(K6667=1,COUNTIF($K$5:K6667,1),\"\")","v":6663},{"$f":"IF(ISNUMBER(SEARCH('Bilgi Girişi'!$E$4,KalemAdı,1))=TRUE,1,0)","v":1},"Kişisel bilgisayarların onarım hizmetleri","Hizmet",50321000,null,null,"Bilgisayar çevre birimlerinin onarımı hizmetleri"]
[null,null,null,null,null,null,null,6665,50323000,{"$f":"IF(K6669=1,COUNTIF($K$5:K6669,1),\"\")","v":6665},{"$f":"IF(ISNUMBER(SEARCH('Bilgi Girişi'!$E$4,KalemAdı,1))=TRUE,1,0)","v":1},"Bilgisayar çevre birimlerinin bakım ve onarım hizmetleri","Hizmet",50323000,null,null,"Sistem bakım hizmetleri"]
[null,null,null,null,null,null,null,6668,50324000,{"$f":"IF(K6672=1,COUNTIF($K$5:K6672,1),\"\")","v":6668},{"$f":"IF(ISNUMBER(SEARCH('Bilgi Girişi'!$E$4,KalemAdı,1))=TRUE,1,0)","v":1},"Kişisel bilgisayar için destek hizmetleri","Hizmet",50324000,null,null,"Telekomünikasyon hatlarının onarım ve bakım hizmetleri"]
[null,null,null,null,null,null,null,6674,50333000,{"$f":"IF(K6678=1,COUNTIF($K$5:K6678,1),\"\")","v":6674},{"$f":"IF(ISNUMBER(SEARCH('Bilgi Girişi'!$E$4,KalemAdı,1))=TRUE,1,0)","v":1},"Radyo iletişim donanımının bakım hizmetleri","Hizmet",50333000,null,null,"Hatta bağlı telefon ekipmanının bakım ve onarım hizmetleri"]
[null,null,null,null,null,null,null,6675,50333100,{"$f":"IF(K6679=1,COUNTIF($K$5:K6679,1),\"\")","v":6675},{"$f":"IF(ISNUMBER(SEARCH('Bilgi Girişi'!$E$4,KalemAdı,1))=TRUE,1,0)","v":1},"Radyo vericisinin onarım ve bakım hizmetleri","Hizmet",50333100,null,null,"Telefon şebekesinin bakım hizmetleri"]
[null,null,null,null,null,null,null,6680,50334120,{"$f":"IF(K6684=1,COUNTIF($K$5:K6684,1),\"\")","v":6680},{"$f":"IF(ISNUMBER(SEARCH('Bilgi Girişi'!$E$4,KalemAdı,1))=TRUE,1,0)","v":1},"Telefon anahtarlama ekipmanların bakım ve onarım hizmetleri","Hizmet",50334120,null,null,"Hatta bağlı teleks ekipmanların bakım ve onarım hizmetleri"]
[null,null,null,null,null,null,null,6684,50334300,{"$f":"IF(K6688=1,COUNTIF($K$5:K6688,1),\"\")","v":6684},{"$f":"IF(ISNUMBER(SEARCH('Bilgi Girişi'!$E$4,KalemAdı,1))=TRUE,1,0)","v":1},"Hatta bağlı teleks ekipmanların bakım ve onarım hizmetleri","Hizmet",50334300,null,null,"Videotext ekipmanlarının bakım ve onarım hizmetleri"]
[null,null,null,null,null,null,null,6687,50341000,{"$f":"IF(K6691=1,COUNTIF($K$5:K6691,1),\"\")","v":6687},{"$f":"IF(ISNUMBER(SEARCH('Bilgi Girişi'!$E$4,KalemAdı,1))=TRUE,1,0)","v":1},"Televizyon ekipmanlarının bakım ve onarım hizmetleri","Hizmet",50341000,null,null,"Video ekipmanlarının bakım ve onarım hizmetleri"]
[null,null,null,null,null,null,null,6689,50341200,{"$f":"IF(K6693=1,COUNTIF($K$5:K6693,1),\"\")","v":6689},{"$f":"IF(ISNUMBER(SEARCH('Bilgi Girişi'!$E$4,KalemAdı,1))=TRUE,1,0)","v":1},"Televizyon vericilerinin bakım ve onarım hizmetleri","Hizmet",50341200,null,null,"Fotoğraf ekipmanının bakım ve onarım hizmetleri"]
[null,null,null,null,null,null,null,6695,50400000,{"$f":"IF(K6699=1,COUNTIF($K$5:K6699,1),\"\")","v":6695},{"$f":"IF(ISNUMBER(SEARCH('Bilgi Girişi'!$E$4,KalemAdı,1))=TRUE,1,0)","v":1},"Tıbbi ve hassas ekipmanların bakım ve onarım hizmetleri","Hizmet",50400000,null,null,"Gaz sayaçlarının bakım ve onarım hizmetleri"]
[null,null,null,null,null,null,null,6698,50411100,{"$f":"IF(K6702=1,COUNTIF($K$5:K6702,1),\"\")","v":6698},{"$f":"IF(ISNUMBER(SEARCH('Bilgi Girişi'!$E$4,KalemAdı,1))=TRUE,1,0)","v":1},"Su sayaçlarının bakım ve onarım hizmetleri","Hizmet",50411100,null,null,"Endüstriyel amaçlı zaman ölçüm ekipmanlarının bakım ve onarım hizmetleri"]
[null,null,null,null,null,null,null,6700,50411300,{"$f":"IF(K6704=1,COUNTIF($K$5:K6704,1),\"\")","v":6700},{"$f":"IF(ISNUMBER(SEARCH('Bilgi Girişi'!$E$4,KalemAdı,1))=TRUE,1,0)","v":1},"Elektrik sayaçlarının bakım ve onarım hizmetleri","Hizmet",50411300,null,null,"Kontrol düzeneklerinin bakım ve onarım hizmetleri"]
[null,null,null,null,null,null,null,6703,50412000,{"$f":"IF(K6707=1,COUNTIF($K$5:K6707,1),\"\")","v":6703},{"$f":"IF(ISNUMBER(SEARCH('Bilgi Girişi'!$E$4,KalemAdı,1))=TRUE,1,0)","v":1},"Test düzeneklerinin bakım ve onarım hizmetleri","Hizmet",50412000,null,null,"Tıbbi ve cerrahi araç ve gereçlerin bakım ve onarım hizmetleri"]
[null,null,null,null,null,null,null,6708,50421000,{"$f":"IF(K6712=1,COUNTIF($K$5:K6712,1),\"\")","v":6708},{"$f":"IF(ISNUMBER(SEARCH('Bilgi Girişi'!$E$4,KalemAdı,1))=TRUE,1,0)","v":1},"Tıbbi ekipmanların bakım ve onarım hizmetleri","Hizmet",50421000,null,null,"Hassas ekipmanların bakım ve onarım hizmetleri"]
[null,null,null,null,null,null,null,6712,50430000,{"$f":"IF(K6716=1,COUNTIF($K$5:K6716,1),\"\")","v":6712},{"$f":"IF(ISNUMBER(SEARCH('Bilgi Girişi'!$E$4,KalemAdı,1))=TRUE,1,0)","v":1},"Hassas ekipmanların bakım ve onarım hizmetleri","Hizmet",50430000,null,null,"Pompalar, vanalar, musluklar ve metal kaplar ve makinelerin onarım ve"]
[null,null,null,null,null,null,null,6717,50510000,{"$f":"IF(K6721=1,COUNTIF($K$5:K6721,1),\"\")","v":6717},{"$f":"IF(ISNUMBER(SEARCH('Bilgi Girişi'!$E$4,KalemAdı,1))=TRUE,1,0)","v":1},"Pompa, vana, musluk ve metal konteyner için bakım ve onarım hizmetleri","Hizmet",50510000,null,null,"Vanaların bakım ve onarım hizmetleri"]
[null,null,null,null,null,null,null,6720,50511200,{"$f":"IF(K6724=1,COUNTIF($K$5:K6724,1),\"\")","v":6720},{"$f":"IF(ISNUMBER(SEARCH('Bilgi Girişi'!$E$4,KalemAdı,1))=TRUE,1,0)","v":1},"Gaz pompaların bakım ve onarım hizmetleri","Hizmet",50511200,null,null,"Tank ve depoların bakım ve onarım hizmetleri"]
[null,null,null,null,null,null,null,6722,50513000,{"$f":"IF(K6726=1,COUNTIF($K$5:K6726,1),\"\")","v":6722},{"$f":"IF(ISNUMBER(SEARCH('Bilgi Girişi'!$E$4,KalemAdı,1))=TRUE,1,0)","v":1},"Muslukların bakım ve onarım hizmetleri","Hizmet",50513000,null,null,{"$f":"IFERROR(VLOOKUP(ROW($P6726),$J$5:$L$9594,3,FALSE),\"\")","v":"Kol takma, zıvanalama hizmetleri"}]
[null,null,null,null,null,null,null,6725,50514200,{"$f":"IF(K6729=1,COUNTIF($K$5:K6729,1),\"\")","v":6725},{"$f":"IF(ISNUMBER(SEARCH('Bilgi Girişi'!$E$4,KalemAdı,1))=TRUE,1,0)","v":1},"Sarnıçların bakım ve onarım hizmetleri","Hizmet",50514200,null,null,"Kazanların onarım ve bakım hizmetleri"]
[null,null,null,null,null,null,null,6731,50531300,{"$f":"IF(K6735=1,COUNTIF($K$5:K6735,1),\"\")","v":6731},{"$f":"IF(ISNUMBER(SEARCH('Bilgi Girişi'!$E$4,KalemAdı,1))=TRUE,1,0)","v":1},"Kompresörlerin bakım ve onarım hizmetleri","Hizmet",50531300,null,null,"Elektrikli makine, tesis ve düzenler ile bunlarla ilgili ekipmanlara ait bakım ve"]
[null,null,null,null,null,null,null,6732,50531400,{"$f":"IF(K6736=1,COUNTIF($K$5:K6736,1),\"\")","v":6732},{"$f":"IF(ISNUMBER(SEARCH('Bilgi Girişi'!$E$4,KalemAdı,1))=TRUE,1,0)","v":1},"Döner vinçlerin bakım ve onarım hizmetleri","Hizmet",50531400,null,null,"Elektrik motorların bakım ve onarım hizmetleri"]
[null,null,null,null,null,null,null,6736,50532100,{"$f":"IF(K6740=1,COUNTIF($K$5:K6740,1),\"\")","v":6736},{"$f":"IF(ISNUMBER(SEARCH('Bilgi Girişi'!$E$4,KalemAdı,1))=TRUE,1,0)","v":1},"Elektrik motorların bakım ve onarım hizmetleri","Hizmet",50532100,null,null,"Güvenlik ve savunma malzemelerinin onarım ve bakım hizmetleri"]
[null,null,null,null,null,null,null,6740,50600000,{"$f":"IF(K6744=1,COUNTIF($K$5:K6744,1),\"\")","v":6740},{"$f":"IF(ISNUMBER(SEARCH('Bilgi Girişi'!$E$4,KalemAdı,1))=TRUE,1,0)","v":1},"Güvenlik ve savunma malzemelerinin onarım ve bakım hizmetleri","Hizmet",50600000,null,null,"Savaş gemilerinin onarım ve bakım hizmetleri"]
[null,null,null,null,null,null,null,6745,50650000,{"$f":"IF(K6749=1,COUNTIF($K$5:K6749,1),\"\")","v":6745},{"$f":"IF(ISNUMBER(SEARCH('Bilgi Girişi'!$E$4,KalemAdı,1))=TRUE,1,0)","v":1},"Askeri uçakların, füzelerin ve uzayaraçlarının onarım ve bakım hizmetleri","Hizmet",50650000,null,null,"Binaların elektrik tesisatlarının onarım ve bakım hizmetleri"]
[null,null,null,null,null,null,null,6748,50710000,{"$f":"IF(K6752=1,COUNTIF($K$5:K6752,1),\"\")","v":6748},{"$f":"IF(ISNUMBER(SEARCH('Bilgi Girişi'!$E$4,KalemAdı,1))=TRUE,1,0)","v":1},"Binaların elektrikli ve mekanik tesisatlarının onarım ve bakım hizmetleri","Hizmet",50710000,null,null,"Isıtma tesisatı devreye alınması"]
[null,null,null,null,null,null,null,6750,50712000,{"$f":"IF(K6754=1,COUNTIF($K$5:K6754,1),\"\")","v":6750},{"$f":"IF(ISNUMBER(SEARCH('Bilgi Girişi'!$E$4,KalemAdı,1))=TRUE,1,0)","v":1},"Binaların mekanik tesisatlarının onarım ve bakım hizmetleri","Hizmet",50712000,null,null,"Yürüyen merdivenlerin bakım ve onarım hizmetleri"]
[null,null,null,null,null,null,null,6755,50750000,{"$f":"IF(K6759=1,COUNTIF($K$5:K6759,1),\"\")","v":6755},{"$f":"IF(ISNUMBER(SEARCH('Bilgi Girişi'!$E$4,KalemAdı,1))=TRUE,1,0)","v":1},"Asansörlerin bakım hizmetleri","Hizmet",50750000,null,null,"Deriden mamul kişisel eşyalar için onarım hizmetleri"]
[null,null,null,null,null,null,null,6757,50800000,{"$f":"IF(K6761=1,COUNTIF($K$5:K6761,1),\"\")","v":6757},{"$f":"IF(ISNUMBER(SEARCH('Bilgi Girişi'!$E$4,KalemAdı,1))=TRUE,1,0)","v":1},"Diğer çeşitli bakım ve onarım hizmetleri","Hizmet",50800000,null,null,"Ayakkabılar için onarım hizmetleri"]
[null,null,null,null,null,null,null,6760,50821000,{"$f":"IF(K6764=1,COUNTIF($K$5:K6764,1),\"\")","v":6760},{"$f":"IF(ISNUMBER(SEARCH('Bilgi Girişi'!$E$4,KalemAdı,1))=TRUE,1,0)","v":1},"Bot ve çizmeler için onarım hizmetleri","Hizmet",50821000,null,null,"Silah bakım ve onarım hizmetleri"]
[null,null,null,null,null,null,null,6765,50842000,{"$f":"IF(K6769=1,COUNTIF($K$5:K6769,1),\"\")","v":6765},{"$f":"IF(ISNUMBER(SEARCH('Bilgi Girişi'!$E$4,KalemAdı,1))=TRUE,1,0)","v":1},"Silah sistemleri bakım ve onarım hizmetleri","Hizmet",50842000,null,null,"Otel ve lokanta ekipmanının bakım ve onarım hizmetleri"]
[null,null,null,null,null,null,null,6769,50880000,{"$f":"IF(K6773=1,COUNTIF($K$5:K6773,1),\"\")","v":6769},{"$f":"IF(ISNUMBER(SEARCH('Bilgi Girişi'!$E$4,KalemAdı,1))=TRUE,1,0)","v":1},"Otel ve lokanta ekipmanının bakım ve onarım hizmetleri","Hizmet",50880000,null,null,"Kamp ekipmanı bakım ve onarım hizmetleri"]
[null,null,null,null,null,null,null,6773,50884000,{"$f":"IF(K6777=1,COUNTIF($K$5:K6777,1),\"\")","v":6773},{"$f":"IF(ISNUMBER(SEARCH('Bilgi Girişi'!$E$4,KalemAdı,1))=TRUE,1,0)","v":1},"Kamp ekipmanı bakım ve onarım hizmetleri","Hizmet",50884000,null,null,"Elektrik motorları, üreteç ve trafoların kurulum hizmetleri"]
[null,null,null,null,null,null,null,6774,51000000,{"$f":"IF(K6778=1,COUNTIF($K$5:K6778,1),\"\")","v":6774},{"$f":"IF(ISNUMBER(SEARCH('Bilgi Girişi'!$E$4,KalemAdı,1))=TRUE,1,0)","v":1},"Kurulum hizmetleri  (yazılım hariç)","Hizmet",51000000,null,null,"Elektrik motorlarının kurulum hizmetleri"]
[null,null,null,null,null,null,null,6780,51111300,{"$f":"IF(K6784=1,COUNTIF($K$5:K6784,1),\"\")","v":6780},{"$f":"IF(ISNUMBER(SEARCH('Bilgi Girişi'!$E$4,KalemAdı,1))=TRUE,1,0)","v":1},"Trafoların montaj ve tesis hizmetleri","Hizmet",51111300,null,null,"Mekanik ekipmanların kurulum hizmetleri"]
[null,null,null,null,null,null,null,6783,51112200,{"$f":"IF(K6787=1,COUNTIF($K$5:K6787,1),\"\")","v":6783},{"$f":"IF(ISNUMBER(SEARCH('Bilgi Girişi'!$E$4,KalemAdı,1))=TRUE,1,0)","v":1},"Elektrik kontrol ekipmanlarının kurulum hizmetleri","Hizmet",51112200,null,null,"Buhar jeneratörleri, türbinleri, kompresör ve brülör montajı hizmetleri"]
[null,null,null,null,null,null,null,6785,51121000,{"$f":"IF(K6789=1,COUNTIF($K$5:K6789,1),\"\")","v":6785},{"$f":"IF(ISNUMBER(SEARCH('Bilgi Girişi'!$E$4,KalemAdı,1))=TRUE,1,0)","v":1},"Fitness ekipmanlarının montaj hizmetleri","Hizmet",51121000,null,null,"Türbinlerin kurulum hizmetleri"]
[null,null,null,null,null,null,null,6788,51131000,{"$f":"IF(K6792=1,COUNTIF($K$5:K6792,1),\"\")","v":6788},{"$f":"IF(ISNUMBER(SEARCH('Bilgi Girişi'!$E$4,KalemAdı,1))=TRUE,1,0)","v":1},"Buhar üreteçlerinin kurulum hizmetleri","Hizmet",51131000,null,null,"Fırınların kurulum hizmetleri"]
[null,null,null,null,null,null,null,6793,51135100,{"$f":"IF(K6797=1,COUNTIF($K$5:K6797,1),\"\")","v":6793},{"$f":"IF(ISNUMBER(SEARCH('Bilgi Girişi'!$E$4,KalemAdı,1))=TRUE,1,0)","v":1},"Brülörlerin kurulum ve montaj hizmetleri","Hizmet",51135100,null,null,"Dizel motorların kurulum ve montaj hizmetleri"]
[null,null,null,null,null,null,null,6797,51142000,{"$f":"IF(K6801=1,COUNTIF($K$5:K6801,1),\"\")","v":6797},{"$f":"IF(ISNUMBER(SEARCH('Bilgi Girişi'!$E$4,KalemAdı,1))=TRUE,1,0)","v":1},"Dizel motorların kurulum ve montaj hizmetleri","Hizmet",51142000,null,null,"Hava aracı motorlarının kurulum ve montaj hizmetleri"]
[null,null,null,null,null,null,null,6802,51200000,{"$f":"IF(K6806=1,COUNTIF($K$5:K6806,1),\"\")","v":6802},{"$f":"IF(ISNUMBER(SEARCH('Bilgi Girişi'!$E$4,KalemAdı,1))=TRUE,1,0)","v":1},"Ölçüm, test ve tarama amaçlı ekipmanların montaj ve kurma hizmetleri","Hizmet",51200000,null,null,"Zaman kaydedici ekipmanların montaj hizmetleri"]
[null,null,null,null,null,null,null,6805,51212000,{"$f":"IF(K6809=1,COUNTIF($K$5:K6809,1),\"\")","v":6805},{"$f":"IF(ISNUMBER(SEARCH('Bilgi Girişi'!$E$4,KalemAdı,1))=TRUE,1,0)","v":1},"Zaman kayıt ekipmanların montaj hizmetleri","Hizmet",51212000,null,null,"Jeolojik ekipman montajı hizmetleri"]
[null,null,null,null,null,null,null,6807,51214000,{"$f":"IF(K6811=1,COUNTIF($K$5:K6811,1),\"\")","v":6807},{"$f":"IF(ISNUMBER(SEARCH('Bilgi Girişi'!$E$4,KalemAdı,1))=TRUE,1,0)","v":1},"Parkmetre ekipmanlarının montaj hizmetleri","Hizmet",51214000,null,null,"Havaalanı otomatik check in cihazları montaj hizmetleri"]
[null,null,null,null,null,null,null,6810,51220000,{"$f":"IF(K6814=1,COUNTIF($K$5:K6814,1),\"\")","v":6810},{"$f":"IF(ISNUMBER(SEARCH('Bilgi Girişi'!$E$4,KalemAdı,1))=TRUE,1,0)","v":1},"Kontrol ekipmanlarının kurulum ve montaj hizmetleri","Hizmet",51220000,null,null,"Haberleşme ekipmanlarının kurulum ve montaj hizmetleri"]
[null,null,null,null,null,null,null,6816,51311000,{"$f":"IF(K6820=1,COUNTIF($K$5:K6820,1),\"\")","v":6816},{"$f":"IF(ISNUMBER(SEARCH('Bilgi Girişi'!$E$4,KalemAdı,1))=TRUE,1,0)","v":1},"Telsiz ekipmanlarının kurulum ve montaj hizmetleri","Hizmet",51311000,null,null,"Radyo ve televizyon vericilerinin kurulum ve montaj hizmetleri"]
[null,null,null,null,null,null,null,6818,51313000,{"$f":"IF(K6822=1,COUNTIF($K$5:K6822,1),\"\")","v":6818},{"$f":"IF(ISNUMBER(SEARCH('Bilgi Girişi'!$E$4,KalemAdı,1))=TRUE,1,0)","v":1},"Ses ekipmanlarının kurulum ve montaj hizmetleri","Hizmet",51313000,null,null,"Televizyon vericileri montaj hizmetleri"]
[null,null,null,null,null,null,null,6821,51321000,{"$f":"IF(K6825=1,COUNTIF($K$5:K6825,1),\"\")","v":6821},{"$f":"IF(ISNUMBER(SEARCH('Bilgi Girişi'!$E$4,KalemAdı,1))=TRUE,1,0)","v":1},"Radyo vericisinin kurulum ve montaj hizmetleri","Hizmet",51321000,null,null,"Hatta bağlı telgraf ekipmanının kurulum ve montaj hizmetleri"]
[null,null,null,null,null,null,null,6826,51400000,{"$f":"IF(K6830=1,COUNTIF($K$5:K6830,1),\"\")","v":6826},{"$f":"IF(ISNUMBER(SEARCH('Bilgi Girişi'!$E$4,KalemAdı,1))=TRUE,1,0)","v":1},"Tıbbi ve cerrahi amaçlı ekipmanlarının kurulum ve montaj hizmetleri","Hizmet",51400000,null,null,"Radyoterapi ekipmanları montaj hizmetleri"]
[null,null,null,null,null,null,null,6830,51413000,{"$f":"IF(K6834=1,COUNTIF($K$5:K6834,1),\"\")","v":6830},{"$f":"IF(ISNUMBER(SEARCH('Bilgi Girişi'!$E$4,KalemAdı,1))=TRUE,1,0)","v":1},"Radyoterapi ekipmanları montaj hizmetleri","Hizmet",51413000,null,null,"Cerrahi ekipmanların kurulum ve montaj hizmetleri"]
[null,null,null,null,null,null,null,6831,51414000,{"$f":"IF(K6835=1,COUNTIF($K$5:K6835,1),\"\")","v":6831},{"$f":"IF(ISNUMBER(SEARCH('Bilgi Girişi'!$E$4,KalemAdı,1))=TRUE,1,0)","v":1},"Mekanoterapi ekipmanların montaj hizmetleri","Hizmet",51414000,null,null,"Laboratuar ekipmanları montaj hizmetleri"]
[null,null,null,null,null,null,null,6835,51430000,{"$f":"IF(K6839=1,COUNTIF($K$5:K6839,1),\"\")","v":6835},{"$f":"IF(ISNUMBER(SEARCH('Bilgi Girişi'!$E$4,KalemAdı,1))=TRUE,1,0)","v":1},"Laboratuar ekipmanları montaj hizmetleri","Hizmet",51430000,null,null,"Kaldırma ekipmanının kurulum ve montaj hizmetleri"]
[null,null,null,null,null,null,null,6840,51511110,{"$f":"IF(K6844=1,COUNTIF($K$5:K6844,1),\"\")","v":6840},{"$f":"IF(ISNUMBER(SEARCH('Bilgi Girişi'!$E$4,KalemAdı,1))=TRUE,1,0)","v":1},"Döner vinçlerin kurulum ve montaj hizmetleri","Hizmet",51511110,null,null,"Çeşitli genel amaçlı makinelerin montaj hizmetleri"]
[null,null,null,null,null,null,null,6842,51511300,{"$f":"IF(K6846=1,COUNTIF($K$5:K6846,1),\"\")","v":6842},{"$f":"IF(ISNUMBER(SEARCH('Bilgi Girişi'!$E$4,KalemAdı,1))=TRUE,1,0)","v":1},"Askılı erişim ekipmanlarının montaj hizmetleri","Hizmet",51511300,null,null,"Su filtreleme veya temizleme makine ve cihazların montaj hizmetleri"]
[null,null,null,null,null,null,null,6845,51514100,{"$f":"IF(K6849=1,COUNTIF($K$5:K6849,1),\"\")","v":6845},{"$f":"IF(ISNUMBER(SEARCH('Bilgi Girişi'!$E$4,KalemAdı,1))=TRUE,1,0)","v":1},"Sıvı filtreleme veya arındırıcı makine ve cihazlar montaj hizmetleri","Hizmet",51514100,null,null,"Orman makinelerinin kurulum ve montaj hizmetleri"]
[null,null,null,null,null,null,null,6850,51530000,{"$f":"IF(K6854=1,COUNTIF($K$5:K6854,1),\"\")","v":6850},{"$f":"IF(ISNUMBER(SEARCH('Bilgi Girişi'!$E$4,KalemAdı,1))=TRUE,1,0)","v":1},"Makine araç ve gereçlerinin kurulum ve montaj hizmetleri","Hizmet",51530000,null,null,{"$f":"IFERROR(VLOOKUP(ROW($P6854),$J$5:$L$9594,3,FALSE),\"\")","v":"Taş ocağı makinelerinin kurulum ve montaj hizmetleri"}]
[null,null,null,null,null,null,null,6854,51541200,{"$f":"IF(K6858=1,COUNTIF($K$5:K6858,1),\"\")","v":6854},{"$f":"IF(ISNUMBER(SEARCH('Bilgi Girişi'!$E$4,KalemAdı,1))=TRUE,1,0)","v":1},"Taş ocağı makinelerinin kurulum ve montaj hizmetleri","Hizmet",51541200,null,null,"Gıda işleme makinelerinin kurulum ve montaj hizmetleri"]
[null,null,null,null,null,null,null,6858,51542100,{"$f":"IF(K6862=1,COUNTIF($K$5:K6862,1),\"\")","v":6858},{"$f":"IF(ISNUMBER(SEARCH('Bilgi Girişi'!$E$4,KalemAdı,1))=TRUE,1,0)","v":1},"Gıda işleme makinelerinin kurulum ve montaj hizmetleri","Hizmet",51542100,null,null,"Tekstil ürünleri imalat makinelerinin kurulum ve montaj hizmetleri"]
[null,null,null,null,null,null,null,6859,51542200,{"$f":"IF(K6863=1,COUNTIF($K$5:K6863,1),\"\")","v":6859},{"$f":"IF(ISNUMBER(SEARCH('Bilgi Girişi'!$E$4,KalemAdı,1))=TRUE,1,0)","v":1},"İçecek işleme makinelerinin kurulum ve montaj hizmetleri","Hizmet",51542200,null,null,"Giyim ürünleri imalat makinelerinin kurulum ve montaj hizmetleri"]
[null,null,null,null,null,null,null,6864,51543300,{"$f":"IF(K6868=1,COUNTIF($K$5:K6868,1),\"\")","v":6864},{"$f":"IF(ISNUMBER(SEARCH('Bilgi Girişi'!$E$4,KalemAdı,1))=TRUE,1,0)","v":1},"Deri ürünleri imalat makinelerinin kurulum ve montaj hizmetleri","Hizmet",51543300,null,null,"Mukavva ve karton imalat makinelerinin kurulum ve montaj hizmetleri"]
[null,null,null,null,null,null,null,6867,51544100,{"$f":"IF(K6871=1,COUNTIF($K$5:K6871,1),\"\")","v":6867},{"$f":"IF(ISNUMBER(SEARCH('Bilgi Girişi'!$E$4,KalemAdı,1))=TRUE,1,0)","v":1},"Kağıt imalat makinelerinin kurulum ve montaj hizmetleri","Hizmet",51544100,null,null,"Bilgisayar ve büro ekipmanlarının kurulum ve montaj hizmetleri"]
[null,null,null,null,null,null,null,6873,51611000,{"$f":"IF(K6877=1,COUNTIF($K$5:K6877,1),\"\")","v":6873},{"$f":"IF(ISNUMBER(SEARCH('Bilgi Girişi'!$E$4,KalemAdı,1))=TRUE,1,0)","v":1},"Bilgisayarların kurulum ve montaj hizmetleri","Hizmet",51611000,null,null,"Bilgi işlem donanımının kurulum hizmetleri"]
[null,null,null,null,null,null,null,6875,51611110,{"$f":"IF(K6879=1,COUNTIF($K$5:K6879,1),\"\")","v":6875},{"$f":"IF(ISNUMBER(SEARCH('Bilgi Girişi'!$E$4,KalemAdı,1))=TRUE,1,0)","v":1},"Havalimanı gerçek zamanlı kalkış ve varışları gösteren ekranlar veya panolar","Hizmet",51611110,null,null,"Yangından korunma ekipmanları montaj hizmetleri"]
[null,null,null,null,null,null,null,6878,51620000,{"$f":"IF(K6882=1,COUNTIF($K$5:K6882,1),\"\")","v":6878},{"$f":"IF(ISNUMBER(SEARCH('Bilgi Girişi'!$E$4,KalemAdı,1))=TRUE,1,0)","v":1},"Büro donanımının kurulum hizmetleri","Hizmet",51620000,null,null,"Rezervuar montaj hizmetleri"]
[null,null,null,null,null,null,null,6882,51820000,{"$f":"IF(K6886=1,COUNTIF($K$5:K6886,1),\"\")","v":6882},{"$f":"IF(ISNUMBER(SEARCH('Bilgi Girişi'!$E$4,KalemAdı,1))=TRUE,1,0)","v":1},"Rezervuar montaj hizmetleri","Hizmet",51820000,null,null,"Otel konaklama hizmetleri"]
[null,null,null,null,null,null,null,6887,55120000,{"$f":"IF(K6891=1,COUNTIF($K$5:K6891,1),\"\")","v":6887},{"$f":"IF(ISNUMBER(SEARCH('Bilgi Girişi'!$E$4,KalemAdı,1))=TRUE,1,0)","v":1},"Otel toplantı ve konferans hizmetleri","Hizmet",55120000,null,null,"Kamp alanı hizmetleri"]
[null,null,null,null,null,null,null,6890,55210000,{"$f":"IF(K6894=1,COUNTIF($K$5:K6894,1),\"\")","v":6890},{"$f":"IF(ISNUMBER(SEARCH('Bilgi Girişi'!$E$4,KalemAdı,1))=TRUE,1,0)","v":1},"Gençler için konaklama hizmetleri","Hizmet",55210000,null,null,"Tatil merkezi hizmetleri"]
[null,null,null,null,null,null,null,6892,55221000,{"$f":"IF(K6896=1,COUNTIF($K$5:K6896,1),\"\")","v":6892},{"$f":"IF(ISNUMBER(SEARCH('Bilgi Girişi'!$E$4,KalemAdı,1))=TRUE,1,0)","v":1},"Karavan park alanı hizmetleri","Hizmet",55221000,null,null,"Çocuk tatil kampı hizmetleri"]
[null,null,null,null,null,null,null,6895,55242000,{"$f":"IF(K6899=1,COUNTIF($K$5:K6899,1),\"\")","v":6895},{"$f":"IF(ISNUMBER(SEARCH('Bilgi Girişi'!$E$4,KalemAdı,1))=TRUE,1,0)","v":1},"Tatil evleri hizmetleri","Hizmet",55242000,null,null,"Yatak ve kahvaltı sağlayan konaklama yerleri tarafından temin edilen"]
[null,null,null,null,null,null,null,6901,55310000,{"$f":"IF(K6905=1,COUNTIF($K$5:K6905,1),\"\")","v":6901},{"$f":"IF(ISNUMBER(SEARCH('Bilgi Girişi'!$E$4,KalemAdı,1))=TRUE,1,0)","v":1},"Lokanta garsoniye hizmetleri","Hizmet",55310000,null,null,"Yemek hazırlama hizmetleri"]
[null,null,null,null,null,null,null,6902,55311000,{"$f":"IF(K6906=1,COUNTIF($K$5:K6906,1),\"\")","v":6902},{"$f":"IF(ISNUMBER(SEARCH('Bilgi Girişi'!$E$4,KalemAdı,1))=TRUE,1,0)","v":1},"Müşterisi sınırlı lokanta garsoniye hizmetleri","Hizmet",55311000,null,null,"Yemek pişirme hizmetleri"]
[null,null,null,null,null,null,null,6907,55330000,{"$f":"IF(K6911=1,COUNTIF($K$5:K6911,1),\"\")","v":6907},{"$f":"IF(ISNUMBER(SEARCH('Bilgi Girişi'!$E$4,KalemAdı,1))=TRUE,1,0)","v":1},"Kafeterya hizmetleri","Hizmet",55330000,null,null,"Kantin hizmetleri"]
[null,null,null,null,null,null,null,6911,55510000,{"$f":"IF(K6915=1,COUNTIF($K$5:K6915,1),\"\")","v":6911},{"$f":"IF(ISNUMBER(SEARCH('Bilgi Girişi'!$E$4,KalemAdı,1))=TRUE,1,0)","v":1},"Kantin hizmetleri","Hizmet",55510000,null,null,"Evlere yemek servisi hizmetleri"]
[null,null,null,null,null,null,null,6915,55521000,{"$f":"IF(K6919=1,COUNTIF($K$5:K6919,1),\"\")","v":6915},{"$f":"IF(ISNUMBER(SEARCH('Bilgi Girişi'!$E$4,KalemAdı,1))=TRUE,1,0)","v":1},"Evlere yemek servisi hizmetleri","Hizmet",55521000,null,null,"Diğer şirket veya kurumlara sunulan yemek servisi hizmetleri"]
[null,null,null,null,null,null,null,6916,55521100,{"$f":"IF(K6920=1,COUNTIF($K$5:K6920,1),\"\")","v":6916},{"$f":"IF(ISNUMBER(SEARCH('Bilgi Girişi'!$E$4,KalemAdı,1))=TRUE,1,0)","v":1},"Tekerlekli sehpalar üzerinde yemek servisleri","Hizmet",55521100,null,null,"Okullarda kahvaltı ve öğlen yemeği hizmetleri"]
[null,null,null,null,null,null,null,6920,55523100,{"$f":"IF(K6924=1,COUNTIF($K$5:K6924,1),\"\")","v":6920},{"$f":"IF(ISNUMBER(SEARCH('Bilgi Girişi'!$E$4,KalemAdı,1))=TRUE,1,0)","v":1},"Okullarda kahvaltı ve öğlen yemeği hizmetleri","Hizmet",55523100,null,null,"Karayolu taşıma hizmetleri"]
[null,null,null,null,null,null,null,6925,60112000,{"$f":"IF(K6929=1,COUNTIF($K$5:K6929,1),\"\")","v":6925},{"$f":"IF(ISNUMBER(SEARCH('Bilgi Girişi'!$E$4,KalemAdı,1))=TRUE,1,0)","v":1},"Karayolu toplu taşıma hizmetleri","Hizmet",60112000,null,null,"At arabası, fayton ile yolcu taşıma hizmetleri"]
[null,null,null,null,null,null,null,6927,60130000,{"$f":"IF(K6931=1,COUNTIF($K$5:K6931,1),\"\")","v":6927},{"$f":"IF(ISNUMBER(SEARCH('Bilgi Girişi'!$E$4,KalemAdı,1))=TRUE,1,0)","v":1},"Özel amaçlı karayolu yolcu taşıma hizmetleri","Hizmet",60130000,null,null,"Paket ulaştırmacılık hizmetleri"]
[null,null,null,null,null,null,null,6930,60160000,{"$f":"IF(K6934=1,COUNTIF($K$5:K6934,1),\"\")","v":6930},{"$f":"IF(ISNUMBER(SEARCH('Bilgi Girişi'!$E$4,KalemAdı,1))=TRUE,1,0)","v":1},"Karayolu ile posta","Hizmet",60160000,null,null,"Otobüs ve yolcu vagonlarının sürücüsü ile kiralanması"]
[null,null,null,null,null,null,null,6935,60180000,{"$f":"IF(K6939=1,COUNTIF($K$5:K6939,1),\"\")","v":6935},{"$f":"IF(ISNUMBER(SEARCH('Bilgi Girişi'!$E$4,KalemAdı,1))=TRUE,1,0)","v":1},"Mal nakliye araçlarının sürücüsü ile kiralanması","Hizmet",60180000,null,null,"Demiryolu nakliye hizmetleri"]
[null,null,null,null,null,null,null,6939,60200000,{"$f":"IF(K6943=1,COUNTIF($K$5:K6943,1),\"\")","v":6939},{"$f":"IF(ISNUMBER(SEARCH('Bilgi Girişi'!$E$4,KalemAdı,1))=TRUE,1,0)","v":1},"Demiryolu nakliye hizmetleri","Hizmet",60200000,null,null,"Havayolu ile taşımacılık hizmetleri"]
[null,null,null,null,null,null,null,6944,60410000,{"$f":"IF(K6948=1,COUNTIF($K$5:K6948,1),\"\")","v":6944},{"$f":"IF(ISNUMBER(SEARCH('Bilgi Girişi'!$E$4,KalemAdı,1))=TRUE,1,0)","v":1},"Tarifeli havayolu taşımacılığı hizmetleri","Hizmet",60410000,null,null,"Havayolu ile charter seferleri, tarifesiz sefer hizmetleri"]
[null,null,null,null,null,null,null,6947,60421000,{"$f":"IF(K6951=1,COUNTIF($K$5:K6951,1),\"\")","v":6947},{"$f":"IF(ISNUMBER(SEARCH('Bilgi Girişi'!$E$4,KalemAdı,1))=TRUE,1,0)","v":1},"Tarifesiz havayolu posta taşımacılığı hizmetleri","Hizmet",60421000,null,null,"Sabit kanatlı uçakların mürettebat ile kiralanması"]
[null,null,null,null,null,null,null,6949,60424000,{"$f":"IF(K6953=1,COUNTIF($K$5:K6953,1),\"\")","v":6949},{"$f":"IF(ISNUMBER(SEARCH('Bilgi Girişi'!$E$4,KalemAdı,1))=TRUE,1,0)","v":1},"Hava ulaşım araçlarının mürettebatı ile kiralanması","Hizmet",60424000,null,null,"Havacılık hizmetleri"]
[null,null,null,null,null,null,null,6952,60424120,{"$f":"IF(K6956=1,COUNTIF($K$5:K6956,1),\"\")","v":6952},{"$f":"IF(ISNUMBER(SEARCH('Bilgi Girişi'!$E$4,KalemAdı,1))=TRUE,1,0)","v":1},"Helikopterlerin mürettebatı ile kiralanması","Hizmet",60424120,null,null,"Hava kurtarma hizmetleri"]
[null,null,null,null,null,null,null,6958,60444000,{"$f":"IF(K6962=1,COUNTIF($K$5:K6962,1),\"\")","v":6958},{"$f":"IF(ISNUMBER(SEARCH('Bilgi Girişi'!$E$4,KalemAdı,1))=TRUE,1,0)","v":1},"Hava aracı işletmeciliği hizmetleri","Hizmet",60444000,null,null,"Uydu fırlatma hizmetleri"]
[null,null,null,null,null,null,null,6960,60445000,{"$f":"IF(K6964=1,COUNTIF($K$5:K6964,1),\"\")","v":6960},{"$f":"IF(ISNUMBER(SEARCH('Bilgi Girişi'!$E$4,KalemAdı,1))=TRUE,1,0)","v":1},"Hava aracı işletim hizmetleri","Hizmet",60445000,null,null,"Suyolu taşımacılık hizmetleri"]
[null,null,null,null,null,null,null,6963,60520000,{"$f":"IF(K6967=1,COUNTIF($K$5:K6967,1),\"\")","v":6963},{"$f":"IF(ISNUMBER(SEARCH('Bilgi Girişi'!$E$4,KalemAdı,1))=TRUE,1,0)","v":1},"Deneysel yük hizmetleri","Hizmet",60520000,null,null,"Gemilere verilen itme çekme hizmetleri"]
[null,null,null,null,null,null,null,6968,60640000,{"$f":"IF(K6972=1,COUNTIF($K$5:K6972,1),\"\")","v":6968},{"$f":"IF(ISNUMBER(SEARCH('Bilgi Girişi'!$E$4,KalemAdı,1))=TRUE,1,0)","v":1},"Gemi işletmeciliği hizmetleri","Hizmet",60640000,null,null,"İç su gemilerinin mürettebatı ile kiralanması"]
[null,null,null,null,null,null,null,6972,60651200,{"$f":"IF(K6976=1,COUNTIF($K$5:K6976,1),\"\")","v":6972},{"$f":"IF(ISNUMBER(SEARCH('Bilgi Girişi'!$E$4,KalemAdı,1))=TRUE,1,0)","v":1},"İç su gemilerinin mürettebatı ile kiralanması","Hizmet",60651200,null,null,"Kıyı ötesi mal sevkiyatı amaçlı gemi kiralama hizmetleri"]
[null,null,null,null,null,null,null,6975,60651500,{"$f":"IF(K6979=1,COUNTIF($K$5:K6979,1),\"\")","v":6975},{"$f":"IF(ISNUMBER(SEARCH('Bilgi Girişi'!$E$4,KalemAdı,1))=TRUE,1,0)","v":1},"Yedek gemi kiralama hizmetleri","Hizmet",60651500,null,null,"Kargo taşıma ve depolama hizmetleri"]
[null,null,null,null,null,null,null,6977,60653000,{"$f":"IF(K6981=1,COUNTIF($K$5:K6981,1),\"\")","v":6977},{"$f":"IF(ISNUMBER(SEARCH('Bilgi Girişi'!$E$4,KalemAdı,1))=TRUE,1,0)","v":1},"Teknelerin mürettebatı ile kiralanması","Hizmet",60653000,null,null,"Konteyner taşımacılığı hizmetleri"]
[null,null,null,null,null,null,null,6982,63112000,{"$f":"IF(K6986=1,COUNTIF($K$5:K6986,1),\"\")","v":6982},{"$f":"IF(ISNUMBER(SEARCH('Bilgi Girişi'!$E$4,KalemAdı,1))=TRUE,1,0)","v":1},"Bagaj taşımacılığı hizmetleri","Hizmet",63112000,null,null,"Depolama ve emanetçilik hizmetleri"]
[null,null,null,null,null,null,null,6985,63120000,{"$f":"IF(K6989=1,COUNTIF($K$5:K6989,1),\"\")","v":6985},{"$f":"IF(ISNUMBER(SEARCH('Bilgi Girişi'!$E$4,KalemAdı,1))=TRUE,1,0)","v":1},"Depolama ve ambar hizmetleri","Hizmet",63120000,null,null,"Ambar hizmetleri"]
[null,null,null,null,null,null,null,6987,63121100,{"$f":"IF(K6991=1,COUNTIF($K$5:K6991,1),\"\")","v":6987},{"$f":"IF(ISNUMBER(SEARCH('Bilgi Girişi'!$E$4,KalemAdı,1))=TRUE,1,0)","v":1},"Depolama hizmetleri","Hizmet",63121100,null,null,"Seyahat acentası ve benzeri hizmetler"]
[null,null,null,null,null,null,null,6992,63511000,{"$f":"IF(K6996=1,COUNTIF($K$5:K6996,1),\"\")","v":6992},{"$f":"IF(ISNUMBER(SEARCH('Bilgi Girişi'!$E$4,KalemAdı,1))=TRUE,1,0)","v":1},"Paket tur organizasyonu","Hizmet",63511000,null,null,"Gezi hizmetleri"]
[null,null,null,null,null,null,null,6996,63515000,{"$f":"IF(K7000=1,COUNTIF($K$5:K7000,1),\"\")","v":6996},{"$f":"IF(ISNUMBER(SEARCH('Bilgi Girişi'!$E$4,KalemAdı,1))=TRUE,1,0)","v":1},"Gezi hizmetleri","Hizmet",63515000,null,null,"Gemi komisyonculuk, simsariye hizmetleri"]
[null,null,null,null,null,null,null,7000,63522000,{"$f":"IF(K7004=1,COUNTIF($K$5:K7004,1),\"\")","v":7000},{"$f":"IF(ISNUMBER(SEARCH('Bilgi Girişi'!$E$4,KalemAdı,1))=TRUE,1,0)","v":1},"Gemi komisyonculuk, simsariye hizmetleri","Hizmet",63522000,null,null,"Karayolu taşımacılığı için destek hizmetleri"]
[null,null,null,null,null,null,null,7001,63523000,{"$f":"IF(K7005=1,COUNTIF($K$5:K7005,1),\"\")","v":7001},{"$f":"IF(ISNUMBER(SEARCH('Bilgi Girişi'!$E$4,KalemAdı,1))=TRUE,1,0)","v":1},"Liman ve nakliye acentalık hizmetleri","Hizmet",63523000,null,null,"Demiryolu taşımacılığı destek hizmetleri"]
[null,null,null,null,null,null,null,7005,63711000,{"$f":"IF(K7009=1,COUNTIF($K$5:K7009,1),\"\")","v":7005},{"$f":"IF(ISNUMBER(SEARCH('Bilgi Girişi'!$E$4,KalemAdı,1))=TRUE,1,0)","v":1},"Demiryolu taşımacılığı destek hizmetleri","Hizmet",63711000,null,null,"Otobüs terminali hizmetleri"]
[null,null,null,null,null,null,null,7010,63712200,{"$f":"IF(K7014=1,COUNTIF($K$5:K7014,1),\"\")","v":7010},{"$f":"IF(ISNUMBER(SEARCH('Bilgi Girişi'!$E$4,KalemAdı,1))=TRUE,1,0)","v":1},"Otoyol işletmeciliği hizmetleri","Hizmet",63712200,null,null,"Köprü geçiş ücret toplama hizmetleri"]
[null,null,null,null,null,null,null,7015,63712320,{"$f":"IF(K7019=1,COUNTIF($K$5:K7019,1),\"\")","v":7015},{"$f":"IF(ISNUMBER(SEARCH('Bilgi Girişi'!$E$4,KalemAdı,1))=TRUE,1,0)","v":1},"Tünel işletmeciliği hizmetleri","Hizmet",63712320,null,null,"Araç yakıt ikmal hizmetleri"]
[null,null,null,null,null,null,null,7017,63712400,{"$f":"IF(K7021=1,COUNTIF($K$5:K7021,1),\"\")","v":7017},{"$f":"IF(ISNUMBER(SEARCH('Bilgi Girişi'!$E$4,KalemAdı,1))=TRUE,1,0)","v":1},"Otopark işletmeciliği hizmetleri","Hizmet",63712400,null,null,"Trafik izleme hizmetleri"]
[null,null,null,null,null,null,null,7020,63712700,{"$f":"IF(K7024=1,COUNTIF($K$5:K7024,1),\"\")","v":7020},{"$f":"IF(ISNUMBER(SEARCH('Bilgi Girişi'!$E$4,KalemAdı,1))=TRUE,1,0)","v":1},"Trafik kontrol hizmetleri","Hizmet",63712700,null,null,"Gemilere kömür ikmal hizmetleri"]
[null,null,null,null,null,null,null,7025,63721200,{"$f":"IF(K7029=1,COUNTIF($K$5:K7029,1),\"\")","v":7025},{"$f":"IF(ISNUMBER(SEARCH('Bilgi Girişi'!$E$4,KalemAdı,1))=TRUE,1,0)","v":1},"Liman işletmeciliği hizmetleri","Hizmet",63721200,null,null,"Gemi kılavuz kaptanlık hizmetleri"]
[null,null,null,null,null,null,null,7029,63722000,{"$f":"IF(K7033=1,COUNTIF($K$5:K7033,1),\"\")","v":7029},{"$f":"IF(ISNUMBER(SEARCH('Bilgi Girişi'!$E$4,KalemAdı,1))=TRUE,1,0)","v":1},"Gemi kılavuz kaptanlık hizmetleri","Hizmet",63722000,null,null,"İkaz ışığı taşıyan bot/şamandıra tespit hizmetleri"]
[null,null,null,null,null,null,null,7030,63723000,{"$f":"IF(K7034=1,COUNTIF($K$5:K7034,1),\"\")","v":7030},{"$f":"IF(ISNUMBER(SEARCH('Bilgi Girişi'!$E$4,KalemAdı,1))=TRUE,1,0)","v":1},"İç sularda gemileri rıhtıma çekme hizmetleri","Hizmet",63723000,null,null,"İkaz ışığı taşıyan bot ve tekne hizmetleri"]
[null,null,null,null,null,null,null,7034,63724200,{"$f":"IF(K7038=1,COUNTIF($K$5:K7038,1),\"\")","v":7034},{"$f":"IF(ISNUMBER(SEARCH('Bilgi Girişi'!$E$4,KalemAdı,1))=TRUE,1,0)","v":1},"İkaz ışığı taşıyan bot ve tekne hizmetleri","Hizmet",63724200,null,null,"Gemi kurtarma ve yüzdürme hizmetleri"]
[null,null,null,null,null,null,null,7037,63724400,{"$f":"IF(K7041=1,COUNTIF($K$5:K7041,1),\"\")","v":7037},{"$f":"IF(ISNUMBER(SEARCH('Bilgi Girişi'!$E$4,KalemAdı,1))=TRUE,1,0)","v":1},"Deniz feneri hizmetleri","Hizmet",63724400,null,null,"Gemiyi yeniden yüzdürme hizmetleri"]
[null,null,null,null,null,null,null,7043,63726100,{"$f":"IF(K7047=1,COUNTIF($K$5:K7047,1),\"\")","v":7043},{"$f":"IF(ISNUMBER(SEARCH('Bilgi Girişi'!$E$4,KalemAdı,1))=TRUE,1,0)","v":1},"Gemi tescil hizmetleri","Hizmet",63726100,null,null,"Gemi yükleme hizmetleri"]
[null,null,null,null,null,null,null,7045,63726300,{"$f":"IF(K7049=1,COUNTIF($K$5:K7049,1),\"\")","v":7045},{"$f":"IF(ISNUMBER(SEARCH('Bilgi Girişi'!$E$4,KalemAdı,1))=TRUE,1,0)","v":1},"Gemi saklama, barındırma hizmetleri","Hizmet",63726300,null,null,"Gemileri denize indirme hizmetleri"]
[null,null,null,null,null,null,null,7048,63726600,{"$f":"IF(K7052=1,COUNTIF($K$5:K7052,1),\"\")","v":7048},{"$f":"IF(ISNUMBER(SEARCH('Bilgi Girişi'!$E$4,KalemAdı,1))=TRUE,1,0)","v":1},"Gemi işletme hizmetleri","Hizmet",63726600,null,null,"Araştırma gemisi hizmetleri"]
[null,null,null,null,null,null,null,7053,63726900,{"$f":"IF(K7057=1,COUNTIF($K$5:K7057,1),\"\")","v":7053},{"$f":"IF(ISNUMBER(SEARCH('Bilgi Girişi'!$E$4,KalemAdı,1))=TRUE,1,0)","v":1},"Çapa atma ve çekme hizmetleri","Hizmet",63726900,null,null,"Havayolu taşımacılığı destek hizmetleri"]
[null,null,null,null,null,null,null,7057,63730000,{"$f":"IF(K7061=1,COUNTIF($K$5:K7061,1),\"\")","v":7057},{"$f":"IF(ISNUMBER(SEARCH('Bilgi Girişi'!$E$4,KalemAdı,1))=TRUE,1,0)","v":1},"Havayolu taşımacılığı destek hizmetleri","Hizmet",63730000,null,null,"Uçak yakıt ikmal hizmetleri"]
[null,null,null,null,null,null,null,7058,63731000,{"$f":"IF(K7062=1,COUNTIF($K$5:K7062,1),\"\")","v":7058},{"$f":"IF(ISNUMBER(SEARCH('Bilgi Girişi'!$E$4,KalemAdı,1))=TRUE,1,0)","v":1},"Havalimanı işletmeciliği hizmetleri","Hizmet",63731000,null,null,"Hangar hizmetleri"]
[null,null,null,null,null,null,null,7062,63734000,{"$f":"IF(K7066=1,COUNTIF($K$5:K7066,1),\"\")","v":7062},{"$f":"IF(ISNUMBER(SEARCH('Bilgi Girişi'!$E$4,KalemAdı,1))=TRUE,1,0)","v":1},"Hangar hizmetleri","Hizmet",63734000,null,null,"Gazete ve süreli yayınlarla ilgili posta hizmetleri"]
[null,null,null,null,null,null,null,7067,64112000,{"$f":"IF(K7071=1,COUNTIF($K$5:K7071,1),\"\")","v":7067},{"$f":"IF(ISNUMBER(SEARCH('Bilgi Girişi'!$E$4,KalemAdı,1))=TRUE,1,0)","v":1},"Mektup ve tebligatlarla ilgili posta hizmetleri","Hizmet",64112000,null,null,"İadeli taahhütlü posta hizmetleri"]
[null,null,null,null,null,null,null,7070,64115000,{"$f":"IF(K7074=1,COUNTIF($K$5:K7074,1),\"\")","v":7070},{"$f":"IF(ISNUMBER(SEARCH('Bilgi Girişi'!$E$4,KalemAdı,1))=TRUE,1,0)","v":1},"Posta kutusu kiralama hizmetleri","Hizmet",64115000,null,null,"Posta dağıtım hizmetleri"]
[null,null,null,null,null,null,null,7072,64120000,{"$f":"IF(K7076=1,COUNTIF($K$5:K7076,1),\"\")","v":7072},{"$f":"IF(ISNUMBER(SEARCH('Bilgi Girişi'!$E$4,KalemAdı,1))=TRUE,1,0)","v":1},"Kurye hizmetleri","Hizmet",64120000,null,null,"Ofis içi posta ve kurye hizmetleri"]
[null,null,null,null,null,null,null,7077,64200000,{"$f":"IF(K7081=1,COUNTIF($K$5:K7081,1),\"\")","v":7077},{"$f":"IF(ISNUMBER(SEARCH('Bilgi Girişi'!$E$4,KalemAdı,1))=TRUE,1,0)","v":1},"Telekomünikasyon hizmetleri","Hizmet",64200000,null,null,"Uzun mesafe telefon hizmetleri"]
[null,null,null,null,null,null,null,7081,64211200,{"$f":"IF(K7085=1,COUNTIF($K$5:K7085,1),\"\")","v":7081},{"$f":"IF(ISNUMBER(SEARCH('Bilgi Girişi'!$E$4,KalemAdı,1))=TRUE,1,0)","v":1},"Uzun mesafe telefon hizmetleri","Hizmet",64211200,null,null,"Multimedya Mesaj Servisi (MMS) servisleri"]
[null,null,null,null,null,null,null,7085,64212300,{"$f":"IF(K7089=1,COUNTIF($K$5:K7089,1),\"\")","v":7085},{"$f":"IF(ISNUMBER(SEARCH('Bilgi Girişi'!$E$4,KalemAdı,1))=TRUE,1,0)","v":1},"Multimedya Mesaj Servisi (MMS) servisleri","Hizmet",64212300,null,null,"Evrensel Mobil Telefon Sistemi (UMTS) hizmetleri"]
[null,null,null,null,null,null,null,7086,64212400,{"$f":"IF(K7090=1,COUNTIF($K$5:K7090,1),\"\")","v":7086},{"$f":"IF(ISNUMBER(SEARCH('Bilgi Girişi'!$E$4,KalemAdı,1))=TRUE,1,0)","v":1},"Kablosuz Uygulama Protokolü (WAP) hizmetleri","Hizmet",64212400,null,null,"Ankesörlü telefon hizmetleri sağlayıcıları"]
[null,null,null,null,null,null,null,7091,64212900,{"$f":"IF(K7095=1,COUNTIF($K$5:K7095,1),\"\")","v":7091},{"$f":"IF(ISNUMBER(SEARCH('Bilgi Girişi'!$E$4,KalemAdı,1))=TRUE,1,0)","v":1},"Önceden ödenmiş telefon kartı sağlayıcısı hizmetleri","Hizmet",64212900,null,null,"Telefon santral hizmetleri"]
[null,null,null,null,null,null,null,7094,64214100,{"$f":"IF(K7098=1,COUNTIF($K$5:K7098,1),\"\")","v":7094},{"$f":"IF(ISNUMBER(SEARCH('Bilgi Girişi'!$E$4,KalemAdı,1))=TRUE,1,0)","v":1},"Uydu sistemi kiralama hizmetleri","Hizmet",64214100,null,null,"Elektronik mesaj ve bilgi hizmetleri"]
[null,null,null,null,null,null,null,7100,64216110,{"$f":"IF(K7104=1,COUNTIF($K$5:K7104,1),\"\")","v":7100},{"$f":"IF(ISNUMBER(SEARCH('Bilgi Girişi'!$E$4,KalemAdı,1))=TRUE,1,0)","v":1},"Elektronik veri alışveriş hizmetleri","Hizmet",64216110,null,null,"Elektronik bilgi hizmetleri"]
[null,null,null,null,null,null,null,7102,64216130,{"$f":"IF(K7106=1,COUNTIF($K$5:K7106,1),\"\")","v":7102},{"$f":"IF(ISNUMBER(SEARCH('Bilgi Girişi'!$E$4,KalemAdı,1))=TRUE,1,0)","v":1},"Teleks hizmetleri","Hizmet",64216130,null,null,"Teleteks hizmetleri"]
[null,null,null,null,null,null,null,7105,64216210,{"$f":"IF(K7109=1,COUNTIF($K$5:K7109,1),\"\")","v":7105},{"$f":"IF(ISNUMBER(SEARCH('Bilgi Girişi'!$E$4,KalemAdı,1))=TRUE,1,0)","v":1},"Katma değerli bilgi hizmetleri","Hizmet",64216210,null,null,"Telefonla çalışma hizmetleri"]
[null,null,null,null,null,null,null,7110,64223000,{"$f":"IF(K7114=1,COUNTIF($K$5:K7114,1),\"\")","v":7110},{"$f":"IF(ISNUMBER(SEARCH('Bilgi Girişi'!$E$4,KalemAdı,1))=TRUE,1,0)","v":1},"Anons ve çağrı hizmetleri","Hizmet",64223000,null,null,"Entegre telekomünikasyon hizmetleri"]
[null,null,null,null,null,null,null,7114,64227000,{"$f":"IF(K7118=1,COUNTIF($K$5:K7118,1),\"\")","v":7114},{"$f":"IF(ISNUMBER(SEARCH('Bilgi Girişi'!$E$4,KalemAdı,1))=TRUE,1,0)","v":1},"Entegre telekomünikasyon hizmetleri","Hizmet",64227000,null,null,"Kamu yararına hizmet ve tesisler"]
[null,null,null,null,null,null,null,7115,64228000,{"$f":"IF(K7119=1,COUNTIF($K$5:K7119,1),\"\")","v":7115},{"$f":"IF(ISNUMBER(SEARCH('Bilgi Girişi'!$E$4,KalemAdı,1))=TRUE,1,0)","v":1},"Televizyon ve radyo yayını iletim hizmetleri","Hizmet",64228000,null,null,"Su dağıtım hizmetleri ve ilgili hizmetler"]
[null,null,null,null,null,null,null,7119,65100000,{"$f":"IF(K7123=1,COUNTIF($K$5:K7123,1),\"\")","v":7119},{"$f":"IF(ISNUMBER(SEARCH('Bilgi Girişi'!$E$4,KalemAdı,1))=TRUE,1,0)","v":1},"Su dağıtım hizmetleri ve ilgili hizmetler","Hizmet",65100000,null,null,"Suyun demineralizasyon  hizmetleri"]
[null,null,null,null,null,null,null,7122,65120000,{"$f":"IF(K7126=1,COUNTIF($K$5:K7126,1),\"\")","v":7122},{"$f":"IF(ISNUMBER(SEARCH('Bilgi Girişi'!$E$4,KalemAdı,1))=TRUE,1,0)","v":1},"Su arıtma tesisi işletmeciliği hizmetleri","Hizmet",65120000,null,null,"Su kaynakları işletmeciliği hizmetleri"]
[null,null,null,null,null,null,null,7128,65210000,{"$f":"IF(K7132=1,COUNTIF($K$5:K7132,1),\"\")","v":7128},{"$f":"IF(ISNUMBER(SEARCH('Bilgi Girişi'!$E$4,KalemAdı,1))=TRUE,1,0)","v":1},"Gaz dağıtım hizmetleri","Hizmet",65210000,null,null,"Diğer enerji kaynakları temin ve dağıtım hizmetleri"]
[null,null,null,null,null,null,null,7129,65300000,{"$f":"IF(K7133=1,COUNTIF($K$5:K7133,1),\"\")","v":7129},{"$f":"IF(ISNUMBER(SEARCH('Bilgi Girişi'!$E$4,KalemAdı,1))=TRUE,1,0)","v":1},"Elektrik dağıtım hizmetleri ve ilgili hizmetler","Hizmet",65300000,null,null,"Elektrik santrali işletmeciliği hizmetleri"]
[null,null,null,null,null,null,null,7135,66000000,{"$f":"IF(K7139=1,COUNTIF($K$5:K7139,1),\"\")","v":7135},{"$f":"IF(ISNUMBER(SEARCH('Bilgi Girişi'!$E$4,KalemAdı,1))=TRUE,1,0)","v":1},"Finans ve sigorta hizmetleri","Hizmet",66000000,null,null,"Mevduat hizmetleri"]
[null,null,null,null,null,null,null,7138,66111000,{"$f":"IF(K7142=1,COUNTIF($K$5:K7142,1),\"\")","v":7138},{"$f":"IF(ISNUMBER(SEARCH('Bilgi Girişi'!$E$4,KalemAdı,1))=TRUE,1,0)","v":1},"Merkez Bankası hizmetleri","Hizmet",66111000,null,null,"Finansal kiralama hizmetleri"]
[null,null,null,null,null,null,null,7142,66114000,{"$f":"IF(K7146=1,COUNTIF($K$5:K7146,1),\"\")","v":7142},{"$f":"IF(ISNUMBER(SEARCH('Bilgi Girişi'!$E$4,KalemAdı,1))=TRUE,1,0)","v":1},"Finansal kiralama hizmetleri","Hizmet",66114000,null,null,"Kurumsal finansman ve girişim sermayesi hizmetleri"]
[null,null,null,null,null,null,null,7143,66115000,{"$f":"IF(K7147=1,COUNTIF($K$5:K7147,1),\"\")","v":7143},{"$f":"IF(ISNUMBER(SEARCH('Bilgi Girişi'!$E$4,KalemAdı,1))=TRUE,1,0)","v":1},"Uluslararası ödeme transfer hizmetleri","Hizmet",66115000,null,null,"Komisyonculuk ve ilgili menkul kıymetler ve emtia hizmetleri"]
[null,null,null,null,null,null,null,7147,66130000,{"$f":"IF(K7151=1,COUNTIF($K$5:K7151,1),\"\")","v":7147},{"$f":"IF(ISNUMBER(SEARCH('Bilgi Girişi'!$E$4,KalemAdı,1))=TRUE,1,0)","v":1},"Komisyonculuk ve ilgili menkul kıymetler ve emtia hizmetleri","Hizmet",66130000,null,null,"İşlem ve takas hizmetleri"]
[null,null,null,null,null,null,null,7152,66140000,{"$f":"IF(K7156=1,COUNTIF($K$5:K7156,1),\"\")","v":7152},{"$f":"IF(ISNUMBER(SEARCH('Bilgi Girişi'!$E$4,KalemAdı,1))=TRUE,1,0)","v":1},"Portföy yönetimi hizmetleri","Hizmet",66140000,null,null,"E-pazar perakendecilik hizmetleri"]
[null,null,null,null,null,null,null,7155,66151000,{"$f":"IF(K7159=1,COUNTIF($K$5:K7159,1),\"\")","v":7155},{"$f":"IF(ISNUMBER(SEARCH('Bilgi Girişi'!$E$4,KalemAdı,1))=TRUE,1,0)","v":1},"Finansal pazar operasyonel hizmetler","Hizmet",66151000,null,null,"Emanet hizmetleri"]
[null,null,null,null,null,null,null,7157,66152000,{"$f":"IF(K7161=1,COUNTIF($K$5:K7161,1),\"\")","v":7157},{"$f":"IF(ISNUMBER(SEARCH('Bilgi Girişi'!$E$4,KalemAdı,1))=TRUE,1,0)","v":1},"Mali piyasa düzenleyici hizmetler","Hizmet",66152000,null,null,"Mali danışmanlık, finansal işlem süreçleri ve takas-kurumu hizmetleri"]
[null,null,null,null,null,null,null,7163,66172000,{"$f":"IF(K7167=1,COUNTIF($K$5:K7167,1),\"\")","v":7163},{"$f":"IF(ISNUMBER(SEARCH('Bilgi Girişi'!$E$4,KalemAdı,1))=TRUE,1,0)","v":1},"Finansal işlem süreçleri ve takas-kurumu hizmetleri","Hizmet",66172000,null,null,"Sigorta hizmetleri"]
[null,null,null,null,null,null,null,7166,66500000,{"$f":"IF(K7170=1,COUNTIF($K$5:K7170,1),\"\")","v":7166},{"$f":"IF(ISNUMBER(SEARCH('Bilgi Girişi'!$E$4,KalemAdı,1))=TRUE,1,0)","v":1},"Sigorta ve emeklilik hizmetleri","Hizmet",66500000,null,null,"Kaza sigortası hizmetleri"]
[null,null,null,null,null,null,null,7171,66512200,{"$f":"IF(K7175=1,COUNTIF($K$5:K7175,1),\"\")","v":7171},{"$f":"IF(ISNUMBER(SEARCH('Bilgi Girişi'!$E$4,KalemAdı,1))=TRUE,1,0)","v":1},"Sağlık sigortası hizmetleri","Hizmet",66512200,null,null,"Hukuki harcama sigorta hizmetleri"]
[null,null,null,null,null,null,null,7172,66512210,{"$f":"IF(K7176=1,COUNTIF($K$5:K7176,1),\"\")","v":7172},{"$f":"IF(ISNUMBER(SEARCH('Bilgi Girişi'!$E$4,KalemAdı,1))=TRUE,1,0)","v":1},"Gönüllü sağlık sigortası hizmetleri","Hizmet",66512210,null,null,"Müteahhitlere verilen tüm riskleri kapsayan sigorta hizmetleri"]
[null,null,null,null,null,null,null,7176,66513200,{"$f":"IF(K7180=1,COUNTIF($K$5:K7180,1),\"\")","v":7176},{"$f":"IF(ISNUMBER(SEARCH('Bilgi Girişi'!$E$4,KalemAdı,1))=TRUE,1,0)","v":1},"Müteahhitlere verilen tüm riskleri kapsayan sigorta hizmetleri","Hizmet",66513200,null,null,"Deniz, hava ve diğer ulaşım sigorta hizmetleri"]
[null,null,null,null,null,null,null,7180,66514120,{"$f":"IF(K7184=1,COUNTIF($K$5:K7184,1),\"\")","v":7180},{"$f":"IF(ISNUMBER(SEARCH('Bilgi Girişi'!$E$4,KalemAdı,1))=TRUE,1,0)","v":1},"Deniz, hava ve diğer ulaşım sigorta hizmetleri","Hizmet",66514120,null,null,"Navlun sigorta hizmetleri"]
[null,null,null,null,null,null,null,7185,66515000,{"$f":"IF(K7189=1,COUNTIF($K$5:K7189,1),\"\")","v":7185},{"$f":"IF(ISNUMBER(SEARCH('Bilgi Girişi'!$E$4,KalemAdı,1))=TRUE,1,0)","v":1},"Zarar ve ziyan sigortacılığı hizmetleri","Hizmet",66515000,null,null,"Hava muhalefeti ile ilgili sigortacılık hizmetleri"]
[null,null,null,null,null,null,null,7187,66515200,{"$f":"IF(K7191=1,COUNTIF($K$5:K7191,1),\"\")","v":7187},{"$f":"IF(ISNUMBER(SEARCH('Bilgi Girişi'!$E$4,KalemAdı,1))=TRUE,1,0)","v":1},"Emlak sigortacılığı hizmetleri","Hizmet",66515200,null,null,"Nakdi zarar sigortası hizmetleri"]
[null,null,null,null,null,null,null,7190,66515410,{"$f":"IF(K7194=1,COUNTIF($K$5:K7194,1),\"\")","v":7190},{"$f":"IF(ISNUMBER(SEARCH('Bilgi Girişi'!$E$4,KalemAdı,1))=TRUE,1,0)","v":1},"Mali zarar sigortacılığı hizmetleri","Hizmet",66515410,null,null,"Hava aracı sorumluluk sigortası hizmetleri"]
[null,null,null,null,null,null,null,7195,66516300,{"$f":"IF(K7199=1,COUNTIF($K$5:K7199,1),\"\")","v":7195},{"$f":"IF(ISNUMBER(SEARCH('Bilgi Girişi'!$E$4,KalemAdı,1))=TRUE,1,0)","v":1},"Gemi sorumluluk sigortası hizmetleri","Hizmet",66516300,null,null,"Kredi sigorta hizmetleri"]
[null,null,null,null,null,null,null,7199,66517100,{"$f":"IF(K7203=1,COUNTIF($K$5:K7203,1),\"\")","v":7199},{"$f":"IF(ISNUMBER(SEARCH('Bilgi Girişi'!$E$4,KalemAdı,1))=TRUE,1,0)","v":1},"Kredi sigorta hizmetleri","Hizmet",66517100,null,null,"Sigorta brokeraj/komisyonculuk hizmetleri"]
[null,null,null,null,null,null,null,7200,66517200,{"$f":"IF(K7204=1,COUNTIF($K$5:K7204,1),\"\")","v":7200},{"$f":"IF(ISNUMBER(SEARCH('Bilgi Girişi'!$E$4,KalemAdı,1))=TRUE,1,0)","v":1},"Kefalet sigorta hizmetleri","Hizmet",66517200,null,null,"Sigorta acentalığı hizmetleri"]
[null,null,null,null,null,null,null,7204,66518200,{"$f":"IF(K7208=1,COUNTIF($K$5:K7208,1),\"\")","v":7204},{"$f":"IF(ISNUMBER(SEARCH('Bilgi Girişi'!$E$4,KalemAdı,1))=TRUE,1,0)","v":1},"Sigorta acentalığı hizmetleri","Hizmet",66518200,null,null,"Mühendislik sigortacılığı hizmetleri"]
[null,null,null,null,null,null,null,7209,66519300,{"$f":"IF(K7213=1,COUNTIF($K$5:K7213,1),\"\")","v":7209},{"$f":"IF(ISNUMBER(SEARCH('Bilgi Girişi'!$E$4,KalemAdı,1))=TRUE,1,0)","v":1},"Yardımcı sigorta hizmetleri","Hizmet",66519300,null,null,"Sigorta uzmanlığı hizmetleri"]
[null,null,null,null,null,null,null,7212,66519500,{"$f":"IF(K7216=1,COUNTIF($K$5:K7216,1),\"\")","v":7212},{"$f":"IF(ISNUMBER(SEARCH('Bilgi Girişi'!$E$4,KalemAdı,1))=TRUE,1,0)","v":1},"Zarar tazmin hizmetleri","Hizmet",66519500,null,null,"Bireysel emeklilik hizmetleri"]
[null,null,null,null,null,null,null,7214,66519700,{"$f":"IF(K7218=1,COUNTIF($K$5:K7218,1),\"\")","v":7214},{"$f":"IF(ISNUMBER(SEARCH('Bilgi Girişi'!$E$4,KalemAdı,1))=TRUE,1,0)","v":1},"Kurtarma yönetimi hizmetleri","Hizmet",66519700,null,null,"Emekli sandığı fonları danışmanlığı hizmetleri"]
[null,null,null,null,null,null,null,7220,66600000,{"$f":"IF(K7224=1,COUNTIF($K$5:K7224,1),\"\")","v":7220},{"$f":"IF(ISNUMBER(SEARCH('Bilgi Girişi'!$E$4,KalemAdı,1))=TRUE,1,0)","v":1},"Hazine hizmetleri","Hizmet",66600000,null,null,"Emlakçılık hizmetleri"]
[null,null,null,null,null,null,null,7223,66720000,{"$f":"IF(K7227=1,COUNTIF($K$5:K7227,1),\"\")","v":7223},{"$f":"IF(ISNUMBER(SEARCH('Bilgi Girişi'!$E$4,KalemAdı,1))=TRUE,1,0)","v":1},"Kaza ve sağlık reasürans hizmetleri","Hizmet",66720000,null,null,"Mesken amaçlı gayrimenkul inkişaf işleri"]
[null,null,null,null,null,null,null,7225,70100000,{"$f":"IF(K7229=1,COUNTIF($K$5:K7229,1),\"\")","v":7225},{"$f":"IF(ISNUMBER(SEARCH('Bilgi Girişi'!$E$4,KalemAdı,1))=TRUE,1,0)","v":1},"Kendine ait gayrimenkul ile emlakçılık hizmetleri","Hizmet",70100000,null,null,"Gayrimenkul alım satım işleri"]
[null,null,null,null,null,null,null,7228,70112000,{"$f":"IF(K7232=1,COUNTIF($K$5:K7232,1),\"\")","v":7228},{"$f":"IF(ISNUMBER(SEARCH('Bilgi Girişi'!$E$4,KalemAdı,1))=TRUE,1,0)","v":1},"Mesken amaçlı olmayan gayrimenkul inkişaf işleri","Hizmet",70112000,null,null,"Bina alım hizmetleri"]
[null,null,null,null,null,null,null,7232,70121200,{"$f":"IF(K7236=1,COUNTIF($K$5:K7236,1),\"\")","v":7232},{"$f":"IF(ISNUMBER(SEARCH('Bilgi Girişi'!$E$4,KalemAdı,1))=TRUE,1,0)","v":1},"Bina alım hizmetleri","Hizmet",70121200,null,null,"Arsa alım hizmetleri"]
[null,null,null,null,null,null,null,7237,70122210,{"$f":"IF(K7241=1,COUNTIF($K$5:K7241,1),\"\")","v":7237},{"$f":"IF(ISNUMBER(SEARCH('Bilgi Girişi'!$E$4,KalemAdı,1))=TRUE,1,0)","v":1},"Boş arsa alım hizmetleri","Hizmet",70122210,null,null,"Kişisel mülk kiralama hizmetleri"]
[null,null,null,null,null,null,null,7242,70200000,{"$f":"IF(K7246=1,COUNTIF($K$5:K7246,1),\"\")","v":7242},{"$f":"IF(ISNUMBER(SEARCH('Bilgi Girişi'!$E$4,KalemAdı,1))=TRUE,1,0)","v":1},"Kişisel mülkiyeti kiralama veya finansal kiralama hizmetleri","Hizmet",70200000,null,null,"Bina kiralama ya da satış hizmetleri"]
[null,null,null,null,null,null,null,7244,70220000,{"$f":"IF(K7248=1,COUNTIF($K$5:K7248,1),\"\")","v":7244},{"$f":"IF(ISNUMBER(SEARCH('Bilgi Girişi'!$E$4,KalemAdı,1))=TRUE,1,0)","v":1},"Mesken amaçlı olmayan emlak kiralama ya da finansal kiralama hizmetleri","Hizmet",70220000,null,null,"Arsa kiralama ya da satış hizmetleri"]
[null,null,null,null,null,null,null,7247,70311000,{"$f":"IF(K7251=1,COUNTIF($K$5:K7251,1),\"\")","v":7247},{"$f":"IF(ISNUMBER(SEARCH('Bilgi Girişi'!$E$4,KalemAdı,1))=TRUE,1,0)","v":1},"Mesken amaçlı bina kiralama ya da satış hizmetleri","Hizmet",70311000,null,null,"Komisyon ya da kontrat esasına göre verilen emlak yönetim hizmetleri"]
[null,null,null,null,null,null,null,7252,70331000,{"$f":"IF(K7256=1,COUNTIF($K$5:K7256,1),\"\")","v":7252},{"$f":"IF(ISNUMBER(SEARCH('Bilgi Girişi'!$E$4,KalemAdı,1))=TRUE,1,0)","v":1},"Mesken amaçlı emlak hizmetleri","Hizmet",70331000,null,null,"Ticari emlak yönetim hizmetleri"]
[null,null,null,null,null,null,null,7256,70332200,{"$f":"IF(K7260=1,COUNTIF($K$5:K7260,1),\"\")","v":7256},{"$f":"IF(ISNUMBER(SEARCH('Bilgi Girişi'!$E$4,KalemAdı,1))=TRUE,1,0)","v":1},"Ticari emlak yönetim hizmetleri","Hizmet",70332200,null,null,"Mimarlık, inşaat, mühendislik ve teftiş hizmetleri"]
[null,null,null,null,null,null,null,7257,70332300,{"$f":"IF(K7261=1,COUNTIF($K$5:K7261,1),\"\")","v":7257},{"$f":"IF(ISNUMBER(SEARCH('Bilgi Girişi'!$E$4,KalemAdı,1))=TRUE,1,0)","v":1},"Endüstriyel emlak yönetim hizmetleri","Hizmet",70332300,null,null,"Mimarlık ve ilgili hizmetler"]
[null,null,null,null,null,null,null,7261,71200000,{"$f":"IF(K7265=1,COUNTIF($K$5:K7265,1),\"\")","v":7261},{"$f":"IF(ISNUMBER(SEARCH('Bilgi Girişi'!$E$4,KalemAdı,1))=TRUE,1,0)","v":1},"Mimarlık ve ilgili hizmetler","Hizmet",71200000,null,null,"Dış mekanlar için mimarlık hizmetleri"]
[null,null,null,null,null,null,null,7265,71222000,{"$f":"IF(K7269=1,COUNTIF($K$5:K7269,1),\"\")","v":7265},{"$f":"IF(ISNUMBER(SEARCH('Bilgi Girişi'!$E$4,KalemAdı,1))=TRUE,1,0)","v":1},"Dış mekanlar için mimarlık hizmetleri","Hizmet",71222000,null,null,"Mimari tasarım yarışmaları organizasyonu"]
[null,null,null,null,null,null,null,7270,71240000,{"$f":"IF(K7274=1,COUNTIF($K$5:K7274,1),\"\")","v":7270},{"$f":"IF(ISNUMBER(SEARCH('Bilgi Girişi'!$E$4,KalemAdı,1))=TRUE,1,0)","v":1},"Mimarlık, mühendislik ve planlama hizmetleri","Hizmet",71240000,null,null,"Maliyetlerin hesaplanması, maliyetlerin izlenmesi"]
[null,null,null,null,null,null,null,7272,71242000,{"$f":"IF(K7276=1,COUNTIF($K$5:K7276,1),\"\")","v":7272},{"$f":"IF(ISNUMBER(SEARCH('Bilgi Girişi'!$E$4,KalemAdı,1))=TRUE,1,0)","v":1},"Proje ve tasarım hazırlama, maliyet tahmini","Hizmet",71242000,null,null,"İnşaat işinde kullanılacak miktarları belirlenmesi ve listelenmesi"]
[null,null,null,null,null,null,null,7275,71245000,{"$f":"IF(K7279=1,COUNTIF($K$5:K7279,1),\"\")","v":7275},{"$f":"IF(ISNUMBER(SEARCH('Bilgi Girişi'!$E$4,KalemAdı,1))=TRUE,1,0)","v":1},"Kabul planları, projeler ve şartnameler","Hizmet",71245000,null,null,"Mimarlık, mühendislik ve etüt hazırlama hizmetleri"]
[null,null,null,null,null,null,null,7280,71251000,{"$f":"IF(K7284=1,COUNTIF($K$5:K7284,1),\"\")","v":7280},{"$f":"IF(ISNUMBER(SEARCH('Bilgi Girişi'!$E$4,KalemAdı,1))=TRUE,1,0)","v":1},"Mimarlık ve inşaat proje etüt işleri","Hizmet",71251000,null,null,"İnşaat mühendisliği destek hizmetleri"]
[null,null,null,null,null,null,null,7282,71310000,{"$f":"IF(K7286=1,COUNTIF($K$5:K7286,1),\"\")","v":7282},{"$f":"IF(ISNUMBER(SEARCH('Bilgi Girişi'!$E$4,KalemAdı,1))=TRUE,1,0)","v":1},"Danışmanlık mahiyetinde mühendislik ve inşaat hizmetleri","Hizmet",71310000,null,null,"Karayolları konusunda danışmanlık hizmetleri"]
[null,null,null,null,null,null,null,7285,71311200,{"$f":"IF(K7289=1,COUNTIF($K$5:K7289,1),\"\")","v":7285},{"$f":"IF(ISNUMBER(SEARCH('Bilgi Girişi'!$E$4,KalemAdı,1))=TRUE,1,0)","v":1},"Nakliye sistemleri danışmanlık hizmetleri","Hizmet",71311200,null,null,"Havalimanı mühendislik hizmetleri"]
[null,null,null,null,null,null,null,7289,71311240,{"$f":"IF(K7293=1,COUNTIF($K$5:K7293,1),\"\")","v":7289},{"$f":"IF(ISNUMBER(SEARCH('Bilgi Girişi'!$E$4,KalemAdı,1))=TRUE,1,0)","v":1},"Havalimanı mühendislik hizmetleri","Hizmet",71311240,null,null,"Gürültü kontrolü konusunda danışmanlık hizmetleri"]
[null,null,null,null,null,null,null,7294,71313200,{"$f":"IF(K7298=1,COUNTIF($K$5:K7298,1),\"\")","v":7294},{"$f":"IF(ISNUMBER(SEARCH('Bilgi Girişi'!$E$4,KalemAdı,1))=TRUE,1,0)","v":1},"Ses yalıtımı ve oda akustik danışmanlık hizmetleri","Hizmet",71313200,null,null,"İnşaat  için çevre göstergeleri analizi"]
[null,null,null,null,null,null,null,7297,71313420,{"$f":"IF(K7301=1,COUNTIF($K$5:K7301,1),\"\")","v":7297},{"$f":"IF(ISNUMBER(SEARCH('Bilgi Girişi'!$E$4,KalemAdı,1))=TRUE,1,0)","v":1},"İnşaat için çevre standartları","Hizmet",71313420,null,null,"Enerji ve ilgili hizmetler"]
[null,null,null,null,null,null,null,7299,71313440,{"$f":"IF(K7303=1,COUNTIF($K$5:K7303,1),\"\")","v":7299},{"$f":"IF(ISNUMBER(SEARCH('Bilgi Girişi'!$E$4,KalemAdı,1))=TRUE,1,0)","v":1},"İnşaat için Çevresel Etki Değerlendirmesi (ÇED) hizmetleri","Hizmet",71313440,null,null,"Enerji yönetim hizmetleri"]
[null,null,null,null,null,null,null,7305,71314310,{"$f":"IF(K7309=1,COUNTIF($K$5:K7309,1),\"\")","v":7305},{"$f":"IF(ISNUMBER(SEARCH('Bilgi Girişi'!$E$4,KalemAdı,1))=TRUE,1,0)","v":1},"Binalar için ısıtma mühendislik hizmetleri","Hizmet",71314310,null,null,"Bina hizmetleri konusunda danışmanlık hizmetleri"]
[null,null,null,null,null,null,null,7308,71315200,{"$f":"IF(K7312=1,COUNTIF($K$5:K7312,1),\"\")","v":7308},{"$f":"IF(ISNUMBER(SEARCH('Bilgi Girişi'!$E$4,KalemAdı,1))=TRUE,1,0)","v":1},"Bina konusunda danışmanlık hizmetleri","Hizmet",71315200,null,null,"Havalandırma sistemi denetimi"]
[null,null,null,null,null,null,null,7310,71315300,{"$f":"IF(K7314=1,COUNTIF($K$5:K7314,1),\"\")","v":7310},{"$f":"IF(ISNUMBER(SEARCH('Bilgi Girişi'!$E$4,KalemAdı,1))=TRUE,1,0)","v":1},"Bina etüt ve araştırma hizmetleri","Hizmet",71315300,null,null,"Tehlikeden korunma ve kontrol konusunda danışmanlık hizmetleri"]
[null,null,null,null,null,null,null,7313,71316000,{"$f":"IF(K7317=1,COUNTIF($K$5:K7317,1),\"\")","v":7313},{"$f":"IF(ISNUMBER(SEARCH('Bilgi Girişi'!$E$4,KalemAdı,1))=TRUE,1,0)","v":1},"Telekomünikasyon konusunda danışmanlık hizmetleri","Hizmet",71316000,null,null,"Sağlık ve güvenlik konusunda danışmanlık hizmetleri"]
[null,null,null,null,null,null,null,7318,71318000,{"$f":"IF(K7322=1,COUNTIF($K$5:K7322,1),\"\")","v":7318},{"$f":"IF(ISNUMBER(SEARCH('Bilgi Girişi'!$E$4,KalemAdı,1))=TRUE,1,0)","v":1},"Müşavirlik ve danışmanlık mahiyetinde mühendislik hizmetleri","Hizmet",71318000,null,null,"Binalar için mekanik ve elektrik sistemleri için mühendislik projesi hizmetleri"]
[null,null,null,null,null,null,null,7322,71321000,{"$f":"IF(K7326=1,COUNTIF($K$5:K7326,1),\"\")","v":7322},{"$f":"IF(ISNUMBER(SEARCH('Bilgi Girişi'!$E$4,KalemAdı,1))=TRUE,1,0)","v":1},"Binalar için mekanik ve elektrik sistemleri için mühendislik projesi hizmetleri","Hizmet",71321000,null,null,"Havalandırma danışmanlık hizmetleri"]
[null,null,null,null,null,null,null,7327,71322000,{"$f":"IF(K7331=1,COUNTIF($K$5:K7331,1),\"\")","v":7327},{"$f":"IF(ISNUMBER(SEARCH('Bilgi Girişi'!$E$4,KalemAdı,1))=TRUE,1,0)","v":1},"İnşaat yapı ve tesislerinin yapımına ilişkin mühendislik projesi hizmetleri","Hizmet",71322000,null,null,"Baraj projelendirme hizmetleri"]
[null,null,null,null,null,null,null,7330,71322300,{"$f":"IF(K7334=1,COUNTIF($K$5:K7334,1),\"\")","v":7330},{"$f":"IF(ISNUMBER(SEARCH('Bilgi Girişi'!$E$4,KalemAdı,1))=TRUE,1,0)","v":1},"Köprü projelendirme hizmetleri","Hizmet",71322300,null,null,"Elektrikli güç sistemleri proje ve tasarım hizmetleri"]
[null,null,null,null,null,null,null,7332,71322500,{"$f":"IF(K7336=1,COUNTIF($K$5:K7336,1),\"\")","v":7332},{"$f":"IF(ISNUMBER(SEARCH('Bilgi Girişi'!$E$4,KalemAdı,1))=TRUE,1,0)","v":1},"Trafik tesisleri için mühendislik-tasarım hizmetleri","Hizmet",71322500,null,null,"Miktar etüdü hazırlama işleri"]
[null,null,null,null,null,null,null,7337,71325000,{"$f":"IF(K7341=1,COUNTIF($K$5:K7341,1),\"\")","v":7337},{"$f":"IF(ISNUMBER(SEARCH('Bilgi Girişi'!$E$4,KalemAdı,1))=TRUE,1,0)","v":1},"Altyapı-tasarım hizmetleri","Hizmet",71325000,null,null,"Diğer çeşitli mühendislik hizmetleri"]
[null,null,null,null,null,null,null,7341,71330000,{"$f":"IF(K7345=1,COUNTIF($K$5:K7345,1),\"\")","v":7341},{"$f":"IF(ISNUMBER(SEARCH('Bilgi Girişi'!$E$4,KalemAdı,1))=TRUE,1,0)","v":1},"Diğer çeşitli mühendislik hizmetleri","Hizmet",71330000,null,null,"Makine ve elektrik mühendisliği proje ve etüt işleri"]
[null,null,null,null,null,null,null,7342,71331000,{"$f":"IF(K7346=1,COUNTIF($K$5:K7346,1),\"\")","v":7342},{"$f":"IF(ISNUMBER(SEARCH('Bilgi Girişi'!$E$4,KalemAdı,1))=TRUE,1,0)","v":1},"Sondaj çamuru mühendislik hizmetleri","Hizmet",71331000,null,null,"Mühendislik etütleri"]
[null,null,null,null,null,null,null,7346,71335000,{"$f":"IF(K7350=1,COUNTIF($K$5:K7350,1),\"\")","v":7346},{"$f":"IF(ISNUMBER(SEARCH('Bilgi Girişi'!$E$4,KalemAdı,1))=TRUE,1,0)","v":1},"Mühendislik etütleri","Hizmet",71335000,null,null,"Projeyle ilgili fenni ve teknik hizmetler"]
[null,null,null,null,null,null,null,7350,71350000,{"$f":"IF(K7354=1,COUNTIF($K$5:K7354,1),\"\")","v":7350},{"$f":"IF(ISNUMBER(SEARCH('Bilgi Girişi'!$E$4,KalemAdı,1))=TRUE,1,0)","v":1},"Projeyle ilgili fenni ve teknik hizmetler","Hizmet",71350000,null,null,"Jeofizik danışmanlık hizmetleri"]
[null,null,null,null,null,null,null,7355,71351220,{"$f":"IF(K7359=1,COUNTIF($K$5:K7359,1),\"\")","v":7355},{"$f":"IF(ISNUMBER(SEARCH('Bilgi Girişi'!$E$4,KalemAdı,1))=TRUE,1,0)","v":1},"Jeoloji danışmanlık hizmetleri","Hizmet",71351220,null,null,"Hava tahmin hizmetleri"]
[null,null,null,null,null,null,null,7356,71351300,{"$f":"IF(K7360=1,COUNTIF($K$5:K7360,1),\"\")","v":7356},{"$f":"IF(ISNUMBER(SEARCH('Bilgi Girişi'!$E$4,KalemAdı,1))=TRUE,1,0)","v":1},"Mikropaleontolojik analiz hizmetleri","Hizmet",71351300,null,null,"Meteoroloji servisleri"]
[null,null,null,null,null,null,null,7362,71351612,{"$f":"IF(K7366=1,COUNTIF($K$5:K7366,1),\"\")","v":7362},{"$f":"IF(ISNUMBER(SEARCH('Bilgi Girişi'!$E$4,KalemAdı,1))=TRUE,1,0)","v":1},"Hidrometeoroloji hizmetleri","Hizmet",71351612,null,null,{"$f":"IFERROR(VLOOKUP(ROW($P7366),$J$5:$L$9594,3,FALSE),\"\")","v":"Jeoloji araştırma hizmetleri"}]
[null,null,null,null,null,null,null,7365,71351720,{"$f":"IF(K7369=1,COUNTIF($K$5:K7369,1),\"\")","v":7365},{"$f":"IF(ISNUMBER(SEARCH('Bilgi Girişi'!$E$4,KalemAdı,1))=TRUE,1,0)","v":1},"Arkeolojik  alanların jeofizik etütleri","Hizmet",71351720,null,null,"Arkeolojik sahaların topografik etütleri"]
[null,null,null,null,null,null,null,7367,71351800,{"$f":"IF(K7371=1,COUNTIF($K$5:K7371,1),\"\")","v":7367},{"$f":"IF(ISNUMBER(SEARCH('Bilgi Girişi'!$E$4,KalemAdı,1))=TRUE,1,0)","v":1},"Topografik ve su arama hizmetleri","Hizmet",71351800,null,null,"Jeoloji, oşinografi ve hidroloji hizmetleri"]
[null,null,null,null,null,null,null,7370,71351820,{"$f":"IF(K7374=1,COUNTIF($K$5:K7374,1),\"\")","v":7370},{"$f":"IF(ISNUMBER(SEARCH('Bilgi Girişi'!$E$4,KalemAdı,1))=TRUE,1,0)","v":1},"Su bulma hizmetleri","Hizmet",71351820,null,null,"Stratigrafik jeoloji hizmetleri"]
[null,null,null,null,null,null,null,7375,71351913,{"$f":"IF(K7379=1,COUNTIF($K$5:K7379,1),\"\")","v":7375},{"$f":"IF(ISNUMBER(SEARCH('Bilgi Girişi'!$E$4,KalemAdı,1))=TRUE,1,0)","v":1},"Jeolojik araştırma hizmetleri","Hizmet",71351913,null,null,"Fiziksel Oşinografi hizmetleri"]
[null,null,null,null,null,null,null,7379,71351922,{"$f":"IF(K7383=1,COUNTIF($K$5:K7383,1),\"\")","v":7379},{"$f":"IF(ISNUMBER(SEARCH('Bilgi Girişi'!$E$4,KalemAdı,1))=TRUE,1,0)","v":1},"Fiziksel Oşinografi hizmetleri","Hizmet",71351922,null,null,"Sismik hizmetler"]
[null,null,null,null,null,null,null,7382,71352000,{"$f":"IF(K7386=1,COUNTIF($K$5:K7386,1),\"\")","v":7382},{"$f":"IF(ISNUMBER(SEARCH('Bilgi Girişi'!$E$4,KalemAdı,1))=TRUE,1,0)","v":1},"Yeraltı etüdü hazırlama hizmetleri","Hizmet",71352000,null,null,"Sismik veri toplama hizmetleri"]
[null,null,null,null,null,null,null,7384,71352110,{"$f":"IF(K7388=1,COUNTIF($K$5:K7388,1),\"\")","v":7384},{"$f":"IF(ISNUMBER(SEARCH('Bilgi Girişi'!$E$4,KalemAdı,1))=TRUE,1,0)","v":1},"Sismografik etüt hazırlama hizmetleri","Hizmet",71352110,null,null,"Manyetik ölçüm hizmetleri"]
[null,null,null,null,null,null,null,7390,71353100,{"$f":"IF(K7394=1,COUNTIF($K$5:K7394,1),\"\")","v":7390},{"$f":"IF(ISNUMBER(SEARCH('Bilgi Girişi'!$E$4,KalemAdı,1))=TRUE,1,0)","v":1},"Hidrografik inceleme hizmetleri","Hizmet",71353100,null,null,"Hava haritası hazırlama hizmetleri"]
[null,null,null,null,null,null,null,7393,71354100,{"$f":"IF(K7397=1,COUNTIF($K$5:K7397,1),\"\")","v":7393},{"$f":"IF(ISNUMBER(SEARCH('Bilgi Girişi'!$E$4,KalemAdı,1))=TRUE,1,0)","v":1},"Sayısal harita yapım hizmetleri","Hizmet",71354100,null,null,"Deniz inceleme hizmetleri"]
[null,null,null,null,null,null,null,7398,71355000,{"$f":"IF(K7402=1,COUNTIF($K$5:K7402,1),\"\")","v":7398},{"$f":"IF(ISNUMBER(SEARCH('Bilgi Girişi'!$E$4,KalemAdı,1))=TRUE,1,0)","v":1},"Etüt hazırlama, inceleme hizmetleri","Hizmet",71355000,null,null,"Teknik kontrollük hizmetleri"]
[null,null,null,null,null,null,null,7399,71355100,{"$f":"IF(K7403=1,COUNTIF($K$5:K7403,1),\"\")","v":7399},{"$f":"IF(ISNUMBER(SEARCH('Bilgi Girişi'!$E$4,KalemAdı,1))=TRUE,1,0)","v":1},"Fotogrametri hizmetleri","Hizmet",71355100,null,null,"Teknik yardım hizmetleri"]
[null,null,null,null,null,null,null,7403,71356200,{"$f":"IF(K7407=1,COUNTIF($K$5:K7407,1),\"\")","v":7403},{"$f":"IF(ISNUMBER(SEARCH('Bilgi Girişi'!$E$4,KalemAdı,1))=TRUE,1,0)","v":1},"Teknik yardım hizmetleri","Hizmet",71356200,null,null,"Şehir planlama hizmetleri"]
[null,null,null,null,null,null,null,7407,71410000,{"$f":"IF(K7411=1,COUNTIF($K$5:K7411,1),\"\")","v":7407},{"$f":"IF(ISNUMBER(SEARCH('Bilgi Girişi'!$E$4,KalemAdı,1))=TRUE,1,0)","v":1},"Şehir planlama hizmetleri","Hizmet",71410000,null,null,"Şantiye teftiş hizmetleri"]
[null,null,null,null,null,null,null,7412,71520000,{"$f":"IF(K7416=1,COUNTIF($K$5:K7416,1),\"\")","v":7412},{"$f":"IF(ISNUMBER(SEARCH('Bilgi Girişi'!$E$4,KalemAdı,1))=TRUE,1,0)","v":1},"İnşaat kontrollük hizmetleri","Hizmet",71520000,null,null,"İnşaat projesi yönetim hizmetleri"]
[null,null,null,null,null,null,null,7415,71540000,{"$f":"IF(K7419=1,COUNTIF($K$5:K7419,1),\"\")","v":7415},{"$f":"IF(ISNUMBER(SEARCH('Bilgi Girişi'!$E$4,KalemAdı,1))=TRUE,1,0)","v":1},"İnşaat işleri yönetim hizmetleri","Hizmet",71540000,null,null,"Kompozisyon ve saflık test ve analiz hizmetleri"]
[null,null,null,null,null,null,null,7417,71550000,{"$f":"IF(K7421=1,COUNTIF($K$5:K7421,1),\"\")","v":7417},{"$f":"IF(ISNUMBER(SEARCH('Bilgi Girişi'!$E$4,KalemAdı,1))=TRUE,1,0)","v":1},"Nalbant hizmetleri","Hizmet",71550000,null,null,"Teknik analiz ve danışmanlık hizmetleri"]
[null,null,null,null,null,null,null,7420,71620000,{"$f":"IF(K7424=1,COUNTIF($K$5:K7424,1),\"\")","v":7420},{"$f":"IF(ISNUMBER(SEARCH('Bilgi Girişi'!$E$4,KalemAdı,1))=TRUE,1,0)","v":1},"Analiz hizmetleri","Hizmet",71620000,null,null,"Makine ve ekipman inceleme hizmetleri"]
[null,null,null,null,null,null,null,7426,71631300,{"$f":"IF(K7430=1,COUNTIF($K$5:K7430,1),\"\")","v":7426},{"$f":"IF(ISNUMBER(SEARCH('Bilgi Girişi'!$E$4,KalemAdı,1))=TRUE,1,0)","v":1},"Bina teknik inceleme hizmetleri","Hizmet",71631300,null,null,{"$f":"IFERROR(VLOOKUP(ROW($P7430),$J$5:$L$9594,3,FALSE),\"\")","v":"Debi ölçüm ve izleme hizmetleri"}]
[null,null,null,null,null,null,null,7427,71631400,{"$f":"IF(K7431=1,COUNTIF($K$5:K7431,1),\"\")","v":7427},{"$f":"IF(ISNUMBER(SEARCH('Bilgi Girişi'!$E$4,KalemAdı,1))=TRUE,1,0)","v":1},"Mühendislik yapıları teknik inceleme hizmetleri","Hizmet",71631400,null,null,"Köprü teftiş ve inceleme hizmetleri"]
[null,null,null,null,null,null,null,7432,71631460,{"$f":"IF(K7436=1,COUNTIF($K$5:K7436,1),\"\")","v":7432},{"$f":"IF(ISNUMBER(SEARCH('Bilgi Girişi'!$E$4,KalemAdı,1))=TRUE,1,0)","v":1},"Baraj teftiş ve inceleme hizmetleri","Hizmet",71631460,null,null,"Teknik test ve inceleme hizmetleri"]
[null,null,null,null,null,null,null,7436,71632000,{"$f":"IF(K7440=1,COUNTIF($K$5:K7440,1),\"\")","v":7436},{"$f":"IF(ISNUMBER(SEARCH('Bilgi Girişi'!$E$4,KalemAdı,1))=TRUE,1,0)","v":1},"Teknik test ve inceleme hizmetleri","Hizmet",71632000,null,null,"Endüstriyel denetim hizmetleri"]
[null,null,null,null,null,null,null,7439,71700000,{"$f":"IF(K7443=1,COUNTIF($K$5:K7443,1),\"\")","v":7439},{"$f":"IF(ISNUMBER(SEARCH('Bilgi Girişi'!$E$4,KalemAdı,1))=TRUE,1,0)","v":1},"İzleme ve kontrol hizmetleri","Hizmet",71700000,null,null,"Laboratuar hizmetleri"]
[null,null,null,null,null,null,null,7441,71731000,{"$f":"IF(K7445=1,COUNTIF($K$5:K7445,1),\"\")","v":7441},{"$f":"IF(ISNUMBER(SEARCH('Bilgi Girişi'!$E$4,KalemAdı,1))=TRUE,1,0)","v":1},"Endüstriyel kalite kontrol hizmetleri","Hizmet",71731000,null,null,"Donanım danışmanlığı hizmetleri"]
[null,null,null,null,null,null,null,7447,72120000,{"$f":"IF(K7451=1,COUNTIF($K$5:K7451,1),\"\")","v":7447},{"$f":"IF(ISNUMBER(SEARCH('Bilgi Girişi'!$E$4,KalemAdı,1))=TRUE,1,0)","v":1},"Donanım sorunlarının giderilmesi konusunda danışmanlık hizmetleri","Hizmet",72120000,null,null,"Yazılım programcılığı ve danışmanlık hizmetleri"]
[null,null,null,null,null,null,null,7450,72150000,{"$f":"IF(K7454=1,COUNTIF($K$5:K7454,1),\"\")","v":7450},{"$f":"IF(ISNUMBER(SEARCH('Bilgi Girişi'!$E$4,KalemAdı,1))=TRUE,1,0)","v":1},"Bilgisayar denetim danışmanlığı ile donanım danışmanlığı hizmetleri","Hizmet",72150000,null,null,"Uygulama yazılımları hazırlama hizmetleri"]
[null,null,null,null,null,null,null,7452,72210000,{"$f":"IF(K7456=1,COUNTIF($K$5:K7456,1),\"\")","v":7452},{"$f":"IF(ISNUMBER(SEARCH('Bilgi Girişi'!$E$4,KalemAdı,1))=TRUE,1,0)","v":1},"Paket program yazılımları hazırlama hizmetleri","Hizmet",72210000,null,null,"Satış Noktası (POS) yazılım geliştirme hizmetleri"]
[null,null,null,null,null,null,null,7455,72212100,{"$f":"IF(K7459=1,COUNTIF($K$5:K7459,1),\"\")","v":7455},{"$f":"IF(ISNUMBER(SEARCH('Bilgi Girişi'!$E$4,KalemAdı,1))=TRUE,1,0)","v":1},"Sanayi özel yazılım geliştirme hizmetleri","Hizmet",72212100,null,null,"Havacılık yer destek ve test yazılımı geliştirme hizmetleri"]
[null,null,null,null,null,null,null,7460,72212131,{"$f":"IF(K7464=1,COUNTIF($K$5:K7464,1),\"\")","v":7460},{"$f":"IF(ISNUMBER(SEARCH('Bilgi Girişi'!$E$4,KalemAdı,1))=TRUE,1,0)","v":1},"Havacılık yer destek yazılımı geliştirme hizmetleri","Hizmet",72212131,null,null,"Kütüphane yazılımları geliştirme hizmetleri"]
[null,null,null,null,null,null,null,7464,72212160,{"$f":"IF(K7468=1,COUNTIF($K$5:K7468,1),\"\")","v":7464},{"$f":"IF(ISNUMBER(SEARCH('Bilgi Girişi'!$E$4,KalemAdı,1))=TRUE,1,0)","v":1},"Kütüphane yazılımları geliştirme hizmetleri","Hizmet",72212160,null,null,"Ağ, internet ve intranet yazılım geliştirme hizmetleri"]
[null,null,null,null,null,null,null,7469,72212210,{"$f":"IF(K7473=1,COUNTIF($K$5:K7473,1),\"\")","v":7469},{"$f":"IF(ISNUMBER(SEARCH('Bilgi Girişi'!$E$4,KalemAdı,1))=TRUE,1,0)","v":1},"Ağ yazılım geliştirme hizmetleri","Hizmet",72212210,null,null,"Ağ işletim sistemi yazılım geliştirme hizmetleri"]
[null,null,null,null,null,null,null,7472,72212213,{"$f":"IF(K7476=1,COUNTIF($K$5:K7476,1),\"\")","v":7472},{"$f":"IF(ISNUMBER(SEARCH('Bilgi Girişi'!$E$4,KalemAdı,1))=TRUE,1,0)","v":1},"İşletim sistemi geliştirme yazılımı geliştirme hizmetleri","Hizmet",72212213,null,null,"Hareket işleme yazılımı geliştirme hizmetleri"]
[null,null,null,null,null,null,null,7474,72212215,{"$f":"IF(K7478=1,COUNTIF($K$5:K7478,1),\"\")","v":7474},{"$f":"IF(ISNUMBER(SEARCH('Bilgi Girişi'!$E$4,KalemAdı,1))=TRUE,1,0)","v":1},"Ağ geliştiricileri yazılım geliştirme hizmetleri","Hizmet",72212215,null,null,"Çeşitli ağ yazılımı geliştirme hizmetleri"]
[null,null,null,null,null,null,null,7477,72212218,{"$f":"IF(K7481=1,COUNTIF($K$5:K7481,1),\"\")","v":7477},{"$f":"IF(ISNUMBER(SEARCH('Bilgi Girişi'!$E$4,KalemAdı,1))=TRUE,1,0)","v":1},"Lisans yönetimi yazılım geliştirme hizmetleri","Hizmet",72212218,null,null,"Web sunucu yazılımı geliştirme hizmetleri"]
[null,null,null,null,null,null,null,7483,72212224,{"$f":"IF(K7487=1,COUNTIF($K$5:K7487,1),\"\")","v":7483},{"$f":"IF(ISNUMBER(SEARCH('Bilgi Girişi'!$E$4,KalemAdı,1))=TRUE,1,0)","v":1},"Web sayfası düzenleme yazılımı geliştirme hizmetleri","Hizmet",72212224,null,null,"Elektronik yayıncılık yazılımı geliştirme hizmetleri"]
[null,null,null,null,null,null,null,7484,72212300,{"$f":"IF(K7488=1,COUNTIF($K$5:K7488,1),\"\")","v":7484},{"$f":"IF(ISNUMBER(SEARCH('Bilgi Girişi'!$E$4,KalemAdı,1))=TRUE,1,0)","v":1},"Belge oluşturma, çizim, görüntüleme, planlama ve verimlilik yazılım","Hizmet",72212300,null,null,"Optik karakter tanıma (OCR) yazılım geliştirme hizmetleri"]
[null,null,null,null,null,null,null,7488,72212313,{"$f":"IF(K7492=1,COUNTIF($K$5:K7492,1),\"\")","v":7488},{"$f":"IF(ISNUMBER(SEARCH('Bilgi Girişi'!$E$4,KalemAdı,1))=TRUE,1,0)","v":1},"Optik karakter tanıma (OCR) yazılım geliştirme hizmetleri","Hizmet",72212313,null,null,"Kelime işlemci yazılım geliştirme hizmetleri"]
[null,null,null,null,null,null,null,7492,72212317,{"$f":"IF(K7496=1,COUNTIF($K$5:K7496,1),\"\")","v":7492},{"$f":"IF(ISNUMBER(SEARCH('Bilgi Girişi'!$E$4,KalemAdı,1))=TRUE,1,0)","v":1},"Kelime işlemci yazılım geliştirme hizmetleri","Hizmet",72212317,null,null,"Grafik yazılımı geliştirme hizmetleri"]
[null,null,null,null,null,null,null,7497,72212323,{"$f":"IF(K7501=1,COUNTIF($K$5:K7501,1),\"\")","v":7497},{"$f":"IF(ISNUMBER(SEARCH('Bilgi Girişi'!$E$4,KalemAdı,1))=TRUE,1,0)","v":1},"Bilgisayar destekli üretim (CAM) yazılım geliştirme hizmetleri","Hizmet",72212323,null,null,"Çizim ve boyama yazılımı geliştirme hizmetleri"]
[null,null,null,null,null,null,null,7500,72212326,{"$f":"IF(K7504=1,COUNTIF($K$5:K7504,1),\"\")","v":7500},{"$f":"IF(ISNUMBER(SEARCH('Bilgi Girişi'!$E$4,KalemAdı,1))=TRUE,1,0)","v":1},"Haritalama yazılım geliştirme hizmetleri","Hizmet",72212326,null,null,"Proje yönetimi yazılım geliştirme hizmetleri"]
[null,null,null,null,null,null,null,7502,72212328,{"$f":"IF(K7506=1,COUNTIF($K$5:K7506,1),\"\")","v":7502},{"$f":"IF(ISNUMBER(SEARCH('Bilgi Girişi'!$E$4,KalemAdı,1))=TRUE,1,0)","v":1},"Görüntü işleme yazılım geliştirme hizmetleri","Hizmet",72212328,null,null,"İletişim yönetimi yazılımı geliştirme hizmetleri"]
[null,null,null,null,null,null,null,7507,72212400,{"$f":"IF(K7511=1,COUNTIF($K$5:K7511,1),\"\")","v":7507},{"$f":"IF(ISNUMBER(SEARCH('Bilgi Girişi'!$E$4,KalemAdı,1))=TRUE,1,0)","v":1},"Ticari işlemler ve şahsi işler için yazılım geliştirme hizmetleri","Hizmet",72212400,null,null,"Tesis yönetimi yazılım geliştirme hizmetleri ve yazılım geliştirme hizmetleri"]
[null,null,null,null,null,null,null,7509,72212411,{"$f":"IF(K7513=1,COUNTIF($K$5:K7513,1),\"\")","v":7509},{"$f":"IF(ISNUMBER(SEARCH('Bilgi Girişi'!$E$4,KalemAdı,1))=TRUE,1,0)","v":1},"Yatırım yönetimi yazılımı geliştirme hizmetleri","Hizmet",72212411,null,null,"Yazılım geliştirme hizmetleri odaları"]
[null,null,null,null,null,null,null,7512,72212421,{"$f":"IF(K7516=1,COUNTIF($K$5:K7516,1),\"\")","v":7512},{"$f":"IF(ISNUMBER(SEARCH('Bilgi Girişi'!$E$4,KalemAdı,1))=TRUE,1,0)","v":1},"Tesis yönetimi yazılım geliştirme hizmetleri","Hizmet",72212421,null,null,"Finansal analiz yazılımı geliştirme hizmetleri"]
[null,null,null,null,null,null,null,7517,72212442,{"$f":"IF(K7521=1,COUNTIF($K$5:K7521,1),\"\")","v":7517},{"$f":"IF(ISNUMBER(SEARCH('Bilgi Girişi'!$E$4,KalemAdı,1))=TRUE,1,0)","v":1},"Finansal sistemleri yazılım geliştirme hizmetleri","Hizmet",72212442,null,null,"Kurumsal kaynak planlama yazılımı geliştirme hizmetleri"]
[null,null,null,null,null,null,null,7521,72212451,{"$f":"IF(K7525=1,COUNTIF($K$5:K7525,1),\"\")","v":7521},{"$f":"IF(ISNUMBER(SEARCH('Bilgi Girişi'!$E$4,KalemAdı,1))=TRUE,1,0)","v":1},"Kurumsal kaynak planlama yazılımı geliştirme hizmetleri","Hizmet",72212451,null,null,"İstatistiksel yazılım geliştirme hizmetleri"]
[null,null,null,null,null,null,null,7525,72212463,{"$f":"IF(K7529=1,COUNTIF($K$5:K7529,1),\"\")","v":7525},{"$f":"IF(ISNUMBER(SEARCH('Bilgi Girişi'!$E$4,KalemAdı,1))=TRUE,1,0)","v":1},"İstatistiksel yazılım geliştirme hizmetleri","Hizmet",72212463,null,null,"İş zekası yazılım geliştirme hizmetleri"]
[null,null,null,null,null,null,null,7526,72212470,{"$f":"IF(K7530=1,COUNTIF($K$5:K7530,1),\"\")","v":7526},{"$f":"IF(ISNUMBER(SEARCH('Bilgi Girişi'!$E$4,KalemAdı,1))=TRUE,1,0)","v":1},"Müzayede yazılımı geliştirme hizmetleri","Hizmet",72212470,null,null,"İhale yazılım geliştirme hizmetleri"]
[null,null,null,null,null,null,null,7532,72212510,{"$f":"IF(K7536=1,COUNTIF($K$5:K7536,1),\"\")","v":7532},{"$f":"IF(ISNUMBER(SEARCH('Bilgi Girişi'!$E$4,KalemAdı,1))=TRUE,1,0)","v":1},"İletişim yazılım geliştirme hizmetleri","Hizmet",72212510,null,null,"Uzaktan erişim yazılım geliştirme hizmetleri"]
[null,null,null,null,null,null,null,7535,72212513,{"$f":"IF(K7539=1,COUNTIF($K$5:K7539,1),\"\")","v":7535},{"$f":"IF(ISNUMBER(SEARCH('Bilgi Girişi'!$E$4,KalemAdı,1))=TRUE,1,0)","v":1},"Modem yazılım geliştirme hizmetleri","Hizmet",72212513,null,null,"IT yazılım geliştirme hizmetleri"]
[null,null,null,null,null,null,null,7537,72212515,{"$f":"IF(K7541=1,COUNTIF($K$5:K7541,1),\"\")","v":7537},{"$f":"IF(ISNUMBER(SEARCH('Bilgi Girişi'!$E$4,KalemAdı,1))=TRUE,1,0)","v":1},"Video konferans yazılım geliştirme hizmetleri","Hizmet",72212515,null,null,"Bellek yönetimi yazılımı geliştirme hizmetleri"]
[null,null,null,null,null,null,null,7540,72212518,{"$f":"IF(K7544=1,COUNTIF($K$5:K7544,1),\"\")","v":7540},{"$f":"IF(ISNUMBER(SEARCH('Bilgi Girişi'!$E$4,KalemAdı,1))=TRUE,1,0)","v":1},"Emülasyon yazılım geliştirme hizmetleri","Hizmet",72212518,null,null,"Sanal klavye yazılım geliştirme hizmetleri"]
[null,null,null,null,null,null,null,7545,72212600,{"$f":"IF(K7549=1,COUNTIF($K$5:K7549,1),\"\")","v":7545},{"$f":"IF(ISNUMBER(SEARCH('Bilgi Girişi'!$E$4,KalemAdı,1))=TRUE,1,0)","v":1},"Veritabanı ve işletim yazılımı geliştirme hizmetleri","Hizmet",72212600,null,null,"Mikrobilgisayar işletim sistemi yazılım geliştirme hizmetleri"]
[null,null,null,null,null,null,null,7549,72212640,{"$f":"IF(K7553=1,COUNTIF($K$5:K7553,1),\"\")","v":7549},{"$f":"IF(ISNUMBER(SEARCH('Bilgi Girişi'!$E$4,KalemAdı,1))=TRUE,1,0)","v":1},"Mikrobilgisayar işletim sistemi yazılım geliştirme hizmetleri","Hizmet",72212640,null,null,"Yazılım geliştirme hizmetleri yardımcı uygulamaları"]
[null,null,null,null,null,null,null,7554,72212710,{"$f":"IF(K7558=1,COUNTIF($K$5:K7558,1),\"\")","v":7554},{"$f":"IF(ISNUMBER(SEARCH('Bilgi Girişi'!$E$4,KalemAdı,1))=TRUE,1,0)","v":1},"Yedekleme veya kurtarma yazılımı geliştirme hizmetleri","Hizmet",72212710,null,null,{"$f":"IFERROR(VLOOKUP(ROW($P7558),$J$5:$L$9594,3,FALSE),\"\")","v":"Veri güvenliği yazılım geliştirme hizmetleri"}]
[null,null,null,null,null,null,null,7557,72212731,{"$f":"IF(K7561=1,COUNTIF($K$5:K7561,1),\"\")","v":7557},{"$f":"IF(ISNUMBER(SEARCH('Bilgi Girişi'!$E$4,KalemAdı,1))=TRUE,1,0)","v":1},"Dosya güvenlik yazılımı geliştirme hizmetleri","Hizmet",72212731,null,null,"Virüs koruma yazılım geliştirme hizmetleri"]
[null,null,null,null,null,null,null,7559,72212740,{"$f":"IF(K7563=1,COUNTIF($K$5:K7563,1),\"\")","v":7559},{"$f":"IF(ISNUMBER(SEARCH('Bilgi Girişi'!$E$4,KalemAdı,1))=TRUE,1,0)","v":1},"Yabancı dil çeviri yazılımı geliştirme hizmetleri","Hizmet",72212740,null,null,"Genel, sıkıştırma ve baskı yardımcı yazılım geliştirme hizmetleri"]
[null,null,null,null,null,null,null,7562,72212761,{"$f":"IF(K7566=1,COUNTIF($K$5:K7566,1),\"\")","v":7562},{"$f":"IF(ISNUMBER(SEARCH('Bilgi Girişi'!$E$4,KalemAdı,1))=TRUE,1,0)","v":1},"Antivirüs yazılımı geliştirme hizmetleri","Hizmet",72212761,null,null,"Sistem, depolama ve içerik yönetimi yazılım geliştirme hizmetleri"]
[null,null,null,null,null,null,null,7568,72212782,{"$f":"IF(K7572=1,COUNTIF($K$5:K7572,1),\"\")","v":7568},{"$f":"IF(ISNUMBER(SEARCH('Bilgi Girişi'!$E$4,KalemAdı,1))=TRUE,1,0)","v":1},"Depolama yönetimi yazılım geliştirme hizmetleri","Hizmet",72212782,null,null,"Bilgisayar oyun yazılım geliştirme hizmetleri, aile oyunları ve ekran"]
[null,null,null,null,null,null,null,7570,72212790,{"$f":"IF(K7574=1,COUNTIF($K$5:K7574,1),\"\")","v":7570},{"$f":"IF(ISNUMBER(SEARCH('Bilgi Girişi'!$E$4,KalemAdı,1))=TRUE,1,0)","v":1},"Sürüm denetimi yazılım geliştirme hizmetleri","Hizmet",72212790,null,null,"Ofis otomasyon yazılım geliştirme hizmetleri"]
[null,null,null,null,null,null,null,7573,72212911,{"$f":"IF(K7577=1,COUNTIF($K$5:K7577,1),\"\")","v":7573},{"$f":"IF(ISNUMBER(SEARCH('Bilgi Girişi'!$E$4,KalemAdı,1))=TRUE,1,0)","v":1},"Bilgisayar oyun yazılım geliştirme hizmetleri","Hizmet",72212911,null,null,"Eğlence yazılımı geliştirme hizmetleri"]
[null,null,null,null,null,null,null,7577,72212932,{"$f":"IF(K7581=1,COUNTIF($K$5:K7581,1),\"\")","v":7577},{"$f":"IF(ISNUMBER(SEARCH('Bilgi Girişi'!$E$4,KalemAdı,1))=TRUE,1,0)","v":1},"Eğlence yazılımı geliştirme hizmetleri","Hizmet",72212932,null,null,"Sürücüler ve sistem yazılımı geliştirme hizmetleri"]
[null,null,null,null,null,null,null,7582,72212970,{"$f":"IF(K7586=1,COUNTIF($K$5:K7586,1),\"\")","v":7582},{"$f":"IF(ISNUMBER(SEARCH('Bilgi Girişi'!$E$4,KalemAdı,1))=TRUE,1,0)","v":1},"Matbaa yazılım geliştirme hizmetleri","Hizmet",72212970,null,null,"Derleme yazılım geliştirme hizmetleri"]
[null,null,null,null,null,null,null,7583,72212971,{"$f":"IF(K7587=1,COUNTIF($K$5:K7587,1),\"\")","v":7583},{"$f":"IF(ISNUMBER(SEARCH('Bilgi Girişi'!$E$4,KalemAdı,1))=TRUE,1,0)","v":1},"Adres defteri yapımı yazılım geliştirme hizmetleri","Hizmet",72212971,null,null,"Konfigürasyon yönetimi yazılımı geliştirme hizmetleri"]
[null,null,null,null,null,null,null,7589,72212984,{"$f":"IF(K7593=1,COUNTIF($K$5:K7593,1),\"\")","v":7589},{"$f":"IF(ISNUMBER(SEARCH('Bilgi Girişi'!$E$4,KalemAdı,1))=TRUE,1,0)","v":1},"Program test yazılımı geliştirme hizmetleri","Hizmet",72212984,null,null,"Sistemler ve teknik konularda danışmanlık hizmetleri"]
[null,null,null,null,null,null,null,7592,72212991,{"$f":"IF(K7596=1,COUNTIF($K$5:K7596,1),\"\")","v":7592},{"$f":"IF(ISNUMBER(SEARCH('Bilgi Girişi'!$E$4,KalemAdı,1))=TRUE,1,0)","v":1},"Hesap tablosu yazılımı geliştirme hizmetleri","Hizmet",72212991,null,null,"Bilgi sistemleri veya teknoloji stratejik değerlendirme hizmetleri"]
[null,null,null,null,null,null,null,7594,72221000,{"$f":"IF(K7598=1,COUNTIF($K$5:K7598,1),\"\")","v":7594},{"$f":"IF(ISNUMBER(SEARCH('Bilgi Girişi'!$E$4,KalemAdı,1))=TRUE,1,0)","v":1},"İş analizi konusunda danışmanlık hizmetleri","Hizmet",72221000,null,null,"Bilgi teknolojisi hizmetleri"]
[null,null,null,null,null,null,null,7597,72222200,{"$f":"IF(K7601=1,COUNTIF($K$5:K7601,1),\"\")","v":7597},{"$f":"IF(ISNUMBER(SEARCH('Bilgi Girişi'!$E$4,KalemAdı,1))=TRUE,1,0)","v":1},"Bilgi sistemleri veya teknoloji planlama hizmetleri","Hizmet",72222200,null,null,"Sistem uygulama planlama hizmetleri"]
[null,null,null,null,null,null,null,7602,72224200,{"$f":"IF(K7606=1,COUNTIF($K$5:K7606,1),\"\")","v":7602},{"$f":"IF(ISNUMBER(SEARCH('Bilgi Girişi'!$E$4,KalemAdı,1))=TRUE,1,0)","v":1},"Sistem kalite güvence planlama hizmetleri","Hizmet",72224200,null,null,"Donanım entegrasyonu konusunda danışmanlık hizmetleri"]
[null,null,null,null,null,null,null,7606,72228000,{"$f":"IF(K7610=1,COUNTIF($K$5:K7610,1),\"\")","v":7606},{"$f":"IF(ISNUMBER(SEARCH('Bilgi Girişi'!$E$4,KalemAdı,1))=TRUE,1,0)","v":1},"Donanım entegrasyonu konusunda danışmanlık hizmetleri","Hizmet",72228000,null,null,"Sistem analiz ve programlama hizmetleri"]
[null,null,null,null,null,null,null,7610,72240000,{"$f":"IF(K7614=1,COUNTIF($K$5:K7614,1),\"\")","v":7610},{"$f":"IF(ISNUMBER(SEARCH('Bilgi Girişi'!$E$4,KalemAdı,1))=TRUE,1,0)","v":1},"Sistem analiz ve programlama hizmetleri","Hizmet",72240000,null,null,"Prototip hazırlama hizmetleri"]
[null,null,null,null,null,null,null,7611,72241000,{"$f":"IF(K7615=1,COUNTIF($K$5:K7615,1),\"\")","v":7611},{"$f":"IF(ISNUMBER(SEARCH('Bilgi Girişi'!$E$4,KalemAdı,1))=TRUE,1,0)","v":1},"Kritik tasarım hedef belirleme hizmetleri","Hizmet",72241000,null,null,"Kontrat sistemleri analiz ve programlama hizmetleri"]
[null,null,null,null,null,null,null,7615,72245000,{"$f":"IF(K7619=1,COUNTIF($K$5:K7619,1),\"\")","v":7615},{"$f":"IF(ISNUMBER(SEARCH('Bilgi Girişi'!$E$4,KalemAdı,1))=TRUE,1,0)","v":1},"Kontrat sistemleri analiz ve programlama hizmetleri","Hizmet",72245000,null,null,"Bilgisayar arşivleme hizmetleri"]
[null,null,null,null,null,null,null,7620,72253000,{"$f":"IF(K7624=1,COUNTIF($K$5:K7624,1),\"\")","v":7620},{"$f":"IF(ISNUMBER(SEARCH('Bilgi Girişi'!$E$4,KalemAdı,1))=TRUE,1,0)","v":1},"Yardım masası ve destek hizmetleri","Hizmet",72253000,null,null,"Sistem test ve muayene hizmetleri"]
[null,null,null,null,null,null,null,7625,72260000,{"$f":"IF(K7629=1,COUNTIF($K$5:K7629,1),\"\")","v":7625},{"$f":"IF(ISNUMBER(SEARCH('Bilgi Girişi'!$E$4,KalemAdı,1))=TRUE,1,0)","v":1},"Yazılım ile ilgili hizmetler","Hizmet",72260000,null,null,"Yazılım çoğaltma hizmetleri"]
[null,null,null,null,null,null,null,7627,72262000,{"$f":"IF(K7631=1,COUNTIF($K$5:K7631,1),\"\")","v":7627},{"$f":"IF(ISNUMBER(SEARCH('Bilgi Girişi'!$E$4,KalemAdı,1))=TRUE,1,0)","v":1},"Yazılım geliştirme hizmetleri","Hizmet",72262000,null,null,"Yazılım konusunda danışmanlık hizmetleri"]
[null,null,null,null,null,null,null,7630,72265000,{"$f":"IF(K7634=1,COUNTIF($K$5:K7634,1),\"\")","v":7630},{"$f":"IF(ISNUMBER(SEARCH('Bilgi Girişi'!$E$4,KalemAdı,1))=TRUE,1,0)","v":1},"Yazılım konfigürasyon hizmetleri","Hizmet",72265000,null,null,"Bilgi teknolojisi yazılımlarının onarım hizmetleri"]
[null,null,null,null,null,null,null,7634,72267200,{"$f":"IF(K7638=1,COUNTIF($K$5:K7638,1),\"\")","v":7634},{"$f":"IF(ISNUMBER(SEARCH('Bilgi Girişi'!$E$4,KalemAdı,1))=TRUE,1,0)","v":1},"Bilgi teknolojisi yazılımlarının onarım hizmetleri","Hizmet",72267200,null,null,"Bilgisayarda tablolama hizmetleri"]
[null,null,null,null,null,null,null,7639,72311100,{"$f":"IF(K7643=1,COUNTIF($K$5:K7643,1),\"\")","v":7639},{"$f":"IF(ISNUMBER(SEARCH('Bilgi Girişi'!$E$4,KalemAdı,1))=TRUE,1,0)","v":1},"Veri dönüştürme hizmetleri","Hizmet",72311100,null,null,"Veri hazırlama hizmetleri"]
[null,null,null,null,null,null,null,7642,72312000,{"$f":"IF(K7646=1,COUNTIF($K$5:K7646,1),\"\")","v":7642},{"$f":"IF(ISNUMBER(SEARCH('Bilgi Girişi'!$E$4,KalemAdı,1))=TRUE,1,0)","v":1},"Bilgi giriş hizmetleri","Hizmet",72312000,null,null,"Veri toplama ve karşılaştırma hizmetleri"]
[null,null,null,null,null,null,null,7644,72312200,{"$f":"IF(K7648=1,COUNTIF($K$5:K7648,1),\"\")","v":7644},{"$f":"IF(ISNUMBER(SEARCH('Bilgi Girişi'!$E$4,KalemAdı,1))=TRUE,1,0)","v":1},"Optik karakter tanıma hizmetleri","Hizmet",72312200,null,null,"Veri ağı destek hizmetleri"]
[null,null,null,null,null,null,null,7647,72315000,{"$f":"IF(K7651=1,COUNTIF($K$5:K7651,1),\"\")","v":7647},{"$f":"IF(ISNUMBER(SEARCH('Bilgi Girişi'!$E$4,KalemAdı,1))=TRUE,1,0)","v":1},"Veri ağı yönetim ve destek hizmetleri","Hizmet",72315000,null,null,"Veri saklama hizmetleri"]
[null,null,null,null,null,null,null,7653,72319000,{"$f":"IF(K7657=1,COUNTIF($K$5:K7657,1),\"\")","v":7653},{"$f":"IF(ISNUMBER(SEARCH('Bilgi Girişi'!$E$4,KalemAdı,1))=TRUE,1,0)","v":1},"Veri sağlama hizmetleri","Hizmet",72319000,null,null,"İçerik veya veri standardizasyonu ve sınıflandırma hizmetleri"]
[null,null,null,null,null,null,null,7654,72320000,{"$f":"IF(K7658=1,COUNTIF($K$5:K7658,1),\"\")","v":7654},{"$f":"IF(ISNUMBER(SEARCH('Bilgi Girişi'!$E$4,KalemAdı,1))=TRUE,1,0)","v":1},"Veritabanı hizmetleri","Hizmet",72320000,null,null,"İnternet hizmetleri"]
[null,null,null,null,null,null,null,7659,72410000,{"$f":"IF(K7663=1,COUNTIF($K$5:K7663,1),\"\")","v":7659},{"$f":"IF(ISNUMBER(SEARCH('Bilgi Girişi'!$E$4,KalemAdı,1))=TRUE,1,0)","v":1},"Tedarik hizmetleri","Hizmet",72410000,null,null,"Web arama motoru sağlayıcıları"]
[null,null,null,null,null,null,null,7663,72414000,{"$f":"IF(K7667=1,COUNTIF($K$5:K7667,1),\"\")","v":7663},{"$f":"IF(ISNUMBER(SEARCH('Bilgi Girişi'!$E$4,KalemAdı,1))=TRUE,1,0)","v":1},"Web arama motoru sağlayıcıları","Hizmet",72414000,null,null,"İnternet geliştirme hizmetleri"]
[null,null,null,null,null,null,null,7667,72420000,{"$f":"IF(K7671=1,COUNTIF($K$5:K7671,1),\"\")","v":7667},{"$f":"IF(ISNUMBER(SEARCH('Bilgi Girişi'!$E$4,KalemAdı,1))=TRUE,1,0)","v":1},"İnternet geliştirme hizmetleri","Hizmet",72420000,null,null,"Bilgisayar ile ilgili yönetim hizmetleri"]
[null,null,null,null,null,null,null,7668,72421000,{"$f":"IF(K7672=1,COUNTIF($K$5:K7672,1),\"\")","v":7668},{"$f":"IF(ISNUMBER(SEARCH('Bilgi Girişi'!$E$4,KalemAdı,1))=TRUE,1,0)","v":1},"İnternet veya intranet istemci uygulama geliştirme hizmetleri","Hizmet",72421000,null,null,"Ağ yönetim yazılımı hizmetleri"]
[null,null,null,null,null,null,null,7672,72511000,{"$f":"IF(K7676=1,COUNTIF($K$5:K7676,1),\"\")","v":7672},{"$f":"IF(ISNUMBER(SEARCH('Bilgi Girişi'!$E$4,KalemAdı,1))=TRUE,1,0)","v":1},"Ağ yönetim yazılımı hizmetleri","Hizmet",72511000,null,null,"Bilgisayar işletimi ile ilgili olanakları yönetim hizmetleri"]
[null,null,null,null,null,null,null,7677,72514200,{"$f":"IF(K7681=1,COUNTIF($K$5:K7681,1),\"\")","v":7677},{"$f":"IF(ISNUMBER(SEARCH('Bilgi Girişi'!$E$4,KalemAdı,1))=TRUE,1,0)","v":1},"Bilgisayar sistemleri geliştirilmesi konusundaki olanakları yönetim hizmetleri","Hizmet",72514200,null,null,"Bellek genişletme hizmetleri"]
[null,null,null,null,null,null,null,7679,72540000,{"$f":"IF(K7683=1,COUNTIF($K$5:K7683,1),\"\")","v":7679},{"$f":"IF(ISNUMBER(SEARCH('Bilgi Girişi'!$E$4,KalemAdı,1))=TRUE,1,0)","v":1},"Bilgisayar yükseltme hizmetleri","Hizmet",72540000,null,null,"Servis düzeyinde sözleşmelerin hazırlanması hizmetleri"]
[null,null,null,null,null,null,null,7682,72590000,{"$f":"IF(K7686=1,COUNTIF($K$5:K7686,1),\"\")","v":7682},{"$f":"IF(ISNUMBER(SEARCH('Bilgi Girişi'!$E$4,KalemAdı,1))=TRUE,1,0)","v":1},"Bilgisayar ile ilgili diğer profesyonel hizmetler","Hizmet",72590000,null,null,{"$f":"IFERROR(VLOOKUP(ROW($P7686),$J$5:$L$9594,3,FALSE),\"\")","v":"Teknik bilgisayar destek hizmetleri"}]
[null,null,null,null,null,null,null,7687,72700000,{"$f":"IF(K7691=1,COUNTIF($K$5:K7691,1),\"\")","v":7687},{"$f":"IF(ISNUMBER(SEARCH('Bilgi Girişi'!$E$4,KalemAdı,1))=TRUE,1,0)","v":1},"Bilgisayar ağı hizmetleri","Hizmet",72700000,null,null,"Bilgisayarlı denetim hizmetleri"]
[null,null,null,null,null,null,null,7691,72810000,{"$f":"IF(K7695=1,COUNTIF($K$5:K7695,1),\"\")","v":7691},{"$f":"IF(ISNUMBER(SEARCH('Bilgi Girişi'!$E$4,KalemAdı,1))=TRUE,1,0)","v":1},"Bilgisayarlı denetim hizmetleri","Hizmet",72810000,null,null,"Bilgisayar katalog dönüştürme hizmetleri"]
[null,null,null,null,null,null,null,7696,73000000,{"$f":"IF(K7700=1,COUNTIF($K$5:K7700,1),\"\")","v":7696},{"$f":"IF(ISNUMBER(SEARCH('Bilgi Girişi'!$E$4,KalemAdı,1))=TRUE,1,0)","v":1},"Araştırma ve geliştirme hizmetleri ve ilgili danışmanlık hizmetleri","Hizmet",73000000,null,null,"Deniz araştırma hizmetleri"]
[null,null,null,null,null,null,null,7699,73111000,{"$f":"IF(K7703=1,COUNTIF($K$5:K7703,1),\"\")","v":7699},{"$f":"IF(ISNUMBER(SEARCH('Bilgi Girişi'!$E$4,KalemAdı,1))=TRUE,1,0)","v":1},"Araştırma laboratuar hizmetleri","Hizmet",73111000,null,null,"Araştırma konusunda danışmanlık hizmetleri"]
[null,null,null,null,null,null,null,7701,73120000,{"$f":"IF(K7705=1,COUNTIF($K$5:K7705,1),\"\")","v":7701},{"$f":"IF(ISNUMBER(SEARCH('Bilgi Girişi'!$E$4,KalemAdı,1))=TRUE,1,0)","v":1},"Deneysel geliştirme hizmetleri","Hizmet",73120000,null,null,"Araştırma ve geliştirme tasarım ve uygulama hizmetleri"]
[null,null,null,null,null,null,null,7704,73220000,{"$f":"IF(K7708=1,COUNTIF($K$5:K7708,1),\"\")","v":7704},{"$f":"IF(ISNUMBER(SEARCH('Bilgi Girişi'!$E$4,KalemAdı,1))=TRUE,1,0)","v":1},"Geliştirme konusunda danışmanlık hizmetleri","Hizmet",73220000,null,null,"Ön-fizibilite çalışması ve teknolojik gösteri"]
[null,null,null,null,null,null,null,7710,73422000,{"$f":"IF(K7714=1,COUNTIF($K$5:K7714,1),\"\")","v":7710},{"$f":"IF(ISNUMBER(SEARCH('Bilgi Girişi'!$E$4,KalemAdı,1))=TRUE,1,0)","v":1},"Ateşli silah ve mühimmatların geliştirilmesi","Hizmet",73422000,null,null,"Askeri elektronik sistemlerin geliştirilmesi"]
[null,null,null,null,null,null,null,7712,73424000,{"$f":"IF(K7716=1,COUNTIF($K$5:K7716,1),\"\")","v":7712},{"$f":"IF(ISNUMBER(SEARCH('Bilgi Girişi'!$E$4,KalemAdı,1))=TRUE,1,0)","v":1},"Savaş gemilerinin geliştirilmesi","Hizmet",73424000,null,null,"Güvenlik ekipmanlarının test ve değerlendirilmesi"]
[null,null,null,null,null,null,null,7715,73430000,{"$f":"IF(K7719=1,COUNTIF($K$5:K7719,1),\"\")","v":7715},{"$f":"IF(ISNUMBER(SEARCH('Bilgi Girişi'!$E$4,KalemAdı,1))=TRUE,1,0)","v":1},"Test ve değerlendirme","Hizmet",73430000,null,null,"Savaş gemilerinin  test ve değerlendirilmesi"]
[null,null,null,null,null,null,null,7720,73435000,{"$f":"IF(K7724=1,COUNTIF($K$5:K7724,1),\"\")","v":7720},{"$f":"IF(ISNUMBER(SEARCH('Bilgi Girişi'!$E$4,KalemAdı,1))=TRUE,1,0)","v":1},"Askeri uçakların, füzelerin ve uzayaraçlarının test ve değerlendirilmesi","Hizmet",73435000,null,null,"Genel kamu hizmetleri"]
[null,null,null,null,null,null,null,7724,75110000,{"$f":"IF(K7728=1,COUNTIF($K$5:K7728,1),\"\")","v":7724},{"$f":"IF(ISNUMBER(SEARCH('Bilgi Girişi'!$E$4,KalemAdı,1))=TRUE,1,0)","v":1},"Genel kamu hizmetleri","Hizmet",75110000,null,null,"Ticari faaliyetlerle ilgili idari hizmetler"]
[null,null,null,null,null,null,null,7727,75111200,{"$f":"IF(K7731=1,COUNTIF($K$5:K7731,1),\"\")","v":7727},{"$f":"IF(ISNUMBER(SEARCH('Bilgi Girişi'!$E$4,KalemAdı,1))=TRUE,1,0)","v":1},"Yasama hizmetleri","Hizmet",75111200,null,null,"Okulların idaresi hizmetleri"]
[null,null,null,null,null,null,null,7729,75112100,{"$f":"IF(K7733=1,COUNTIF($K$5:K7733,1),\"\")","v":7729},{"$f":"IF(ISNUMBER(SEARCH('Bilgi Girişi'!$E$4,KalemAdı,1))=TRUE,1,0)","v":1},"İdari gelişim projeleri hazırlama hizmetleri","Hizmet",75112100,null,null,"İmar iskan idaresi hizmetleri"]
[null,null,null,null,null,null,null,7734,75124000,{"$f":"IF(K7738=1,COUNTIF($K$5:K7738,1),\"\")","v":7734},{"$f":"IF(ISNUMBER(SEARCH('Bilgi Girişi'!$E$4,KalemAdı,1))=TRUE,1,0)","v":1},"Kültürel ve dini faaliyetlerin idaresi hizmetleri","Hizmet",75124000,null,null,"Hükümet adına yapılan genel personel hizmetleri"]
[null,null,null,null,null,null,null,7737,75131000,{"$f":"IF(K7741=1,COUNTIF($K$5:K7741,1),\"\")","v":7737},{"$f":"IF(ISNUMBER(SEARCH('Bilgi Girişi'!$E$4,KalemAdı,1))=TRUE,1,0)","v":1},"Devlet hizmetleri","Hizmet",75131000,null,null,"Dışişleri hizmetleri"]
[null,null,null,null,null,null,null,7739,75200000,{"$f":"IF(K7743=1,COUNTIF($K$5:K7743,1),\"\")","v":7739},{"$f":"IF(ISNUMBER(SEARCH('Bilgi Girişi'!$E$4,KalemAdı,1))=TRUE,1,0)","v":1},"Topluma hizmet götürülmesi","Hizmet",75200000,null,null,"Konsolosluk hizmetleri"]
[null,null,null,null,null,null,null,7744,75211200,{"$f":"IF(K7748=1,COUNTIF($K$5:K7748,1),\"\")","v":7744},{"$f":"IF(ISNUMBER(SEARCH('Bilgi Girişi'!$E$4,KalemAdı,1))=TRUE,1,0)","v":1},"Dış ekonomik yardımla ilgili hizmetler","Hizmet",75211200,null,null,"Sivil savunma hizmetleri"]
[null,null,null,null,null,null,null,7748,75222000,{"$f":"IF(K7752=1,COUNTIF($K$5:K7752,1),\"\")","v":7748},{"$f":"IF(ISNUMBER(SEARCH('Bilgi Girişi'!$E$4,KalemAdı,1))=TRUE,1,0)","v":1},"Sivil savunma hizmetleri","Hizmet",75222000,null,null,"Suçluların alıkonması ya da rehabilitasyonu ile ilgili hizmetler"]
[null,null,null,null,null,null,null,7752,75231200,{"$f":"IF(K7756=1,COUNTIF($K$5:K7756,1),\"\")","v":7752},{"$f":"IF(ISNUMBER(SEARCH('Bilgi Girişi'!$E$4,KalemAdı,1))=TRUE,1,0)","v":1},"Suçluların alıkonması ya da rehabilitasyonu ile ilgili hizmetler","Hizmet",75231200,null,null,"Şartlı tahliye hizmetleri"]
[null,null,null,null,null,null,null,7753,75231210,{"$f":"IF(K7757=1,COUNTIF($K$5:K7757,1),\"\")","v":7753},{"$f":"IF(ISNUMBER(SEARCH('Bilgi Girişi'!$E$4,KalemAdı,1))=TRUE,1,0)","v":1},"Cezaevi hizmetleri","Hizmet",75231210,null,null,"Kamu güvenliği, yasa ve düzen hizmetleri"]
[null,null,null,null,null,null,null,7757,75240000,{"$f":"IF(K7761=1,COUNTIF($K$5:K7761,1),\"\")","v":7757},{"$f":"IF(ISNUMBER(SEARCH('Bilgi Girişi'!$E$4,KalemAdı,1))=TRUE,1,0)","v":1},"Kamu güvenliği, yasa ve düzen hizmetleri","Hizmet",75240000,null,null,"Kamu nizamı hizmetleri"]
[null,null,null,null,null,null,null,7762,75242110,{"$f":"IF(K7766=1,COUNTIF($K$5:K7766,1),\"\")","v":7762},{"$f":"IF(ISNUMBER(SEARCH('Bilgi Girişi'!$E$4,KalemAdı,1))=TRUE,1,0)","v":1},"İcra hizmetleri","Hizmet",75242110,null,null,"Yangından koruma hizmetleri"]
[null,null,null,null,null,null,null,7765,75251100,{"$f":"IF(K7769=1,COUNTIF($K$5:K7769,1),\"\")","v":7765},{"$f":"IF(ISNUMBER(SEARCH('Bilgi Girişi'!$E$4,KalemAdı,1))=TRUE,1,0)","v":1},"Yangın söndürme hizmetleri","Hizmet",75251100,null,null,"Zorunlu sosyal güvenlik hizmetleri"]
[null,null,null,null,null,null,null,7767,75251120,{"$f":"IF(K7771=1,COUNTIF($K$5:K7771,1),\"\")","v":7767},{"$f":"IF(ISNUMBER(SEARCH('Bilgi Girişi'!$E$4,KalemAdı,1))=TRUE,1,0)","v":1},"Orman yangını söndürme hizmetleri","Hizmet",75251120,null,null,"Hastalık yardımları"]
[null,null,null,null,null,null,null,7772,75312000,{"$f":"IF(K7776=1,COUNTIF($K$5:K7776,1),\"\")","v":7772},{"$f":"IF(ISNUMBER(SEARCH('Bilgi Girişi'!$E$4,KalemAdı,1))=TRUE,1,0)","v":1},"Doğum yardımları","Hizmet",75312000,null,null,"Kamu personeli emeklilik programları"]
[null,null,null,null,null,null,null,7777,75330000,{"$f":"IF(K7781=1,COUNTIF($K$5:K7781,1),\"\")","v":7777},{"$f":"IF(ISNUMBER(SEARCH('Bilgi Girişi'!$E$4,KalemAdı,1))=TRUE,1,0)","v":1},"Aile yardımları","Hizmet",75330000,null,null,"Gaz çıkartılmasına özgü hizmetler"]
[null,null,null,null,null,null,null,7781,76110000,{"$f":"IF(K7785=1,COUNTIF($K$5:K7785,1),\"\")","v":7781},{"$f":"IF(ISNUMBER(SEARCH('Bilgi Girişi'!$E$4,KalemAdı,1))=TRUE,1,0)","v":1},"Gaz çıkartılmasına özgü hizmetler","Hizmet",76110000,null,null,"Petrol sanayisine yönelik profesyonel hizmetler"]
[null,null,null,null,null,null,null,7784,76121000,{"$f":"IF(K7788=1,COUNTIF($K$5:K7788,1),\"\")","v":7784},{"$f":"IF(ISNUMBER(SEARCH('Bilgi Girişi'!$E$4,KalemAdı,1))=TRUE,1,0)","v":1},"Denizdibi dalış hizmetleri","Hizmet",76121000,null,null,"Astarlama, kuşaklama hizmetleri"]
[null,null,null,null,null,null,null,7786,76210000,{"$f":"IF(K7790=1,COUNTIF($K$5:K7790,1),\"\")","v":7786},{"$f":"IF(ISNUMBER(SEARCH('Bilgi Girişi'!$E$4,KalemAdı,1))=TRUE,1,0)","v":1},"Petrol çıkarılmasına ilişkin hizmetler","Hizmet",76210000,null,null,"Kuyu sahası çukur astarlama hizmetleri astar"]
[null,null,null,null,null,null,null,7789,76211110,{"$f":"IF(K7793=1,COUNTIF($K$5:K7793,1),\"\")","v":7789},{"$f":"IF(ISNUMBER(SEARCH('Bilgi Girişi'!$E$4,KalemAdı,1))=TRUE,1,0)","v":1},"Test çukuru astar hizmetleri","Hizmet",76211110,null,null,"Gaz çıkartılmasına ilişkin sondaj hizmetleri"]
[null,null,null,null,null,null,null,7795,76330000,{"$f":"IF(K7799=1,COUNTIF($K$5:K7799,1),\"\")","v":7795},{"$f":"IF(ISNUMBER(SEARCH('Bilgi Girişi'!$E$4,KalemAdı,1))=TRUE,1,0)","v":1},"Türbin sondajlama hizmetleri","Hizmet",76330000,null,null,"Kuyu döşeme ve boru döşeme hizmetleri"]
[null,null,null,null,null,null,null,7797,76340000,{"$f":"IF(K7801=1,COUNTIF($K$5:K7801,1),\"\")","v":7797},{"$f":"IF(ISNUMBER(SEARCH('Bilgi Girişi'!$E$4,KalemAdı,1))=TRUE,1,0)","v":1},"Karotlu sondaj","Hizmet",76340000,null,null,"Kuyu kaplaması personel hizmetleri"]
[null,null,null,null,null,null,null,7800,76411000,{"$f":"IF(K7804=1,COUNTIF($K$5:K7804,1),\"\")","v":7800},{"$f":"IF(ISNUMBER(SEARCH('Bilgi Girişi'!$E$4,KalemAdı,1))=TRUE,1,0)","v":1},"Kuyu döşeme hizmetleri","Hizmet",76411000,null,null,"Kuyu kaplaması tamamlama hizmetleri"]
[null,null,null,null,null,null,null,7805,76420000,{"$f":"IF(K7809=1,COUNTIF($K$5:K7809,1),\"\")","v":7805},{"$f":"IF(ISNUMBER(SEARCH('Bilgi Girişi'!$E$4,KalemAdı,1))=TRUE,1,0)","v":1},"Kuyu çimento dolgulama hizmetleri","Hizmet",76420000,null,null,"Kuyu açma ve üretim hizmetleri"]
[null,null,null,null,null,null,null,7809,76430000,{"$f":"IF(K7813=1,COUNTIF($K$5:K7813,1),\"\")","v":7809},{"$f":"IF(ISNUMBER(SEARCH('Bilgi Girişi'!$E$4,KalemAdı,1))=TRUE,1,0)","v":1},"Kuyu açma ve üretim hizmetleri","Hizmet",76430000,null,null,"Kuyu delme sırasındaki döşeme hizmetleri"]
[null,null,null,null,null,null,null,7810,76431000,{"$f":"IF(K7814=1,COUNTIF($K$5:K7814,1),\"\")","v":7810},{"$f":"IF(ISNUMBER(SEARCH('Bilgi Girişi'!$E$4,KalemAdı,1))=TRUE,1,0)","v":1},"Kuyu açma hizmetleri","Hizmet",76431000,null,null,{"$f":"IFERROR(VLOOKUP(ROW($P7814),$J$5:$L$9594,3,FALSE),\"\")","v":"Rathole sondaj hizmetleri"}]
[null,null,null,null,null,null,null,7814,76431400,{"$f":"IF(K7818=1,COUNTIF($K$5:K7818,1),\"\")","v":7814},{"$f":"IF(ISNUMBER(SEARCH('Bilgi Girişi'!$E$4,KalemAdı,1))=TRUE,1,0)","v":1},"Rathole sondaj hizmetleri","Hizmet",76431400,null,null,"Kaplanmış sondaj kuyusu değelendirme hizmetleri"]
[null,null,null,null,null,null,null,7819,76442000,{"$f":"IF(K7823=1,COUNTIF($K$5:K7823,1),\"\")","v":7819},{"$f":"IF(ISNUMBER(SEARCH('Bilgi Girişi'!$E$4,KalemAdı,1))=TRUE,1,0)","v":1},"Açık delik loglama hizmetleri","Hizmet",76442000,null,null,"Kuyu test ve muayene hizmetleri"]
[null,null,null,null,null,null,null,7822,76460000,{"$f":"IF(K7826=1,COUNTIF($K$5:K7826,1),\"\")","v":7822},{"$f":"IF(ISNUMBER(SEARCH('Bilgi Girişi'!$E$4,KalemAdı,1))=TRUE,1,0)","v":1},"Kuyu destek hizmetleri","Hizmet",76460000,null,null,"Kuyu ekipmanları test etme hizmetleri"]
[null,null,null,null,null,null,null,7824,76471000,{"$f":"IF(K7828=1,COUNTIF($K$5:K7828,1),\"\")","v":7824},{"$f":"IF(ISNUMBER(SEARCH('Bilgi Girişi'!$E$4,KalemAdı,1))=TRUE,1,0)","v":1},"Kuyu kırığı test hizmetleri","Hizmet",76471000,null,null,"Kuyu ikmal işleri"]
[null,null,null,null,null,null,null,7829,76491000,{"$f":"IF(K7833=1,COUNTIF($K$5:K7833,1),\"\")","v":7829},{"$f":"IF(ISNUMBER(SEARCH('Bilgi Girişi'!$E$4,KalemAdı,1))=TRUE,1,0)","v":1},"Kuyu tıkama hizmetleri","Hizmet",76491000,null,null,"Kıyı ötesi hizmetler"]
[null,null,null,null,null,null,null,7833,76520000,{"$f":"IF(K7837=1,COUNTIF($K$5:K7837,1),\"\")","v":7833},{"$f":"IF(ISNUMBER(SEARCH('Bilgi Girişi'!$E$4,KalemAdı,1))=TRUE,1,0)","v":1},"Kıyı ötesi hizmetler","Hizmet",76520000,null,null,"Kuyu dibi tomruklama hizmetleri"]
[null,null,null,null,null,null,null,7837,76531000,{"$f":"IF(K7841=1,COUNTIF($K$5:K7841,1),\"\")","v":7837},{"$f":"IF(ISNUMBER(SEARCH('Bilgi Girişi'!$E$4,KalemAdı,1))=TRUE,1,0)","v":1},"Kuyu dibi tomruklama hizmetleri","Hizmet",76531000,null,null,"Kuyudibi açma hizmetleri"]
[null,null,null,null,null,null,null,7838,76532000,{"$f":"IF(K7842=1,COUNTIF($K$5:K7842,1),\"\")","v":7838},{"$f":"IF(ISNUMBER(SEARCH('Bilgi Girişi'!$E$4,KalemAdı,1))=TRUE,1,0)","v":1},"Kuyudibi pompalama hizmetleri","Hizmet",76532000,null,null,"Kuyudibi titreşim kontrol hizmetleri"]
[null,null,null,null,null,null,null,7843,76537000,{"$f":"IF(K7847=1,COUNTIF($K$5:K7847,1),\"\")","v":7843},{"$f":"IF(ISNUMBER(SEARCH('Bilgi Girişi'!$E$4,KalemAdı,1))=TRUE,1,0)","v":1},"Kuyudibi araç hizmetleri","Hizmet",76537000,null,null,"Tarımsal hizmetler"]
[null,null,null,null,null,null,null,7846,77000000,{"$f":"IF(K7850=1,COUNTIF($K$5:K7850,1),\"\")","v":7846},{"$f":"IF(ISNUMBER(SEARCH('Bilgi Girişi'!$E$4,KalemAdı,1))=TRUE,1,0)","v":1},"Tarım, ormancılık, bahçecilik, su ürünleri yetiştiriciliği ve arıcılık hizmetleri","Hizmet",77000000,null,null,"Biçme makineleri veya tarımsal ekipmanların operatörü ile kiralanması"]
[null,null,null,null,null,null,null,7852,77200000,{"$f":"IF(K7856=1,COUNTIF($K$5:K7856,1),\"\")","v":7852},{"$f":"IF(ISNUMBER(SEARCH('Bilgi Girişi'!$E$4,KalemAdı,1))=TRUE,1,0)","v":1},"Ormancılık hizmetleri","Hizmet",77200000,null,null,"Kütüklerin orman içinde nakliyesi"]
[null,null,null,null,null,null,null,7854,77211000,{"$f":"IF(K7858=1,COUNTIF($K$5:K7858,1),\"\")","v":7854},{"$f":"IF(ISNUMBER(SEARCH('Bilgi Girişi'!$E$4,KalemAdı,1))=TRUE,1,0)","v":1},"Tomruklamaya özel hizmetler","Hizmet",77211000,null,null,"Ağaç kesme hizmetleri"]
[null,null,null,null,null,null,null,7857,77211300,{"$f":"IF(K7861=1,COUNTIF($K$5:K7861,1),\"\")","v":7857},{"$f":"IF(ISNUMBER(SEARCH('Bilgi Girişi'!$E$4,KalemAdı,1))=TRUE,1,0)","v":1},"Ağaç temizleme hizmetleri","Hizmet",77211300,null,null,"Tomruk emprenyeleme hizmetleri"]
[null,null,null,null,null,null,null,7862,77230000,{"$f":"IF(K7866=1,COUNTIF($K$5:K7866,1),\"\")","v":7862},{"$f":"IF(ISNUMBER(SEARCH('Bilgi Girişi'!$E$4,KalemAdı,1))=TRUE,1,0)","v":1},"Ormancılığa özel iş ve hizmetler","Hizmet",77230000,null,null,"Orman yönetim hizmetleri"]
[null,null,null,null,null,null,null,7866,77231300,{"$f":"IF(K7870=1,COUNTIF($K$5:K7870,1),\"\")","v":7866},{"$f":"IF(ISNUMBER(SEARCH('Bilgi Girişi'!$E$4,KalemAdı,1))=TRUE,1,0)","v":1},"Orman yönetim hizmetleri","Hizmet",77231300,null,null,"Ağaçlandırma hizmetleri"]
[null,null,null,null,null,null,null,7867,77231400,{"$f":"IF(K7871=1,COUNTIF($K$5:K7871,1),\"\")","v":7867},{"$f":"IF(ISNUMBER(SEARCH('Bilgi Girişi'!$E$4,KalemAdı,1))=TRUE,1,0)","v":1},"Orman envanter hizmetleri","Hizmet",77231400,null,null,"Orman fidanlık yönetimi hizmetleri"]
[null,null,null,null,null,null,null,7871,77231800,{"$f":"IF(K7875=1,COUNTIF($K$5:K7875,1),\"\")","v":7871},{"$f":"IF(ISNUMBER(SEARCH('Bilgi Girişi'!$E$4,KalemAdı,1))=TRUE,1,0)","v":1},"Orman fidanlık yönetimi hizmetleri","Hizmet",77231800,null,null,"Süs ve zevk bahçelerin bakım hizmetleri"]
[null,null,null,null,null,null,null,7874,77310000,{"$f":"IF(K7878=1,COUNTIF($K$5:K7878,1),\"\")","v":7874},{"$f":"IF(ISNUMBER(SEARCH('Bilgi Girişi'!$E$4,KalemAdı,1))=TRUE,1,0)","v":1},"Yeşil alanların dikim ve bakım hizmetleri","Hizmet",77310000,null,null,{"$f":"IFERROR(VLOOKUP(ROW($P7878),$J$5:$L$9594,3,FALSE),\"\")","v":"Parkların bakım hizmetleri"}]
[null,null,null,null,null,null,null,7880,77314100,{"$f":"IF(K7884=1,COUNTIF($K$5:K7884,1),\"\")","v":7880},{"$f":"IF(ISNUMBER(SEARCH('Bilgi Girişi'!$E$4,KalemAdı,1))=TRUE,1,0)","v":1},"Çimlendirme hizmetleri","Hizmet",77314100,null,null,"Ağaç budama ve çitlerin budanması"]
[null,null,null,null,null,null,null,7881,77315000,{"$f":"IF(K7885=1,COUNTIF($K$5:K7885,1),\"\")","v":7881},{"$f":"IF(ISNUMBER(SEARCH('Bilgi Girişi'!$E$4,KalemAdı,1))=TRUE,1,0)","v":1},"Tohumculuk hizmetleri","Hizmet",77315000,null,null,"Ağaç budama"]
[null,null,null,null,null,null,null,7887,77400000,{"$f":"IF(K7891=1,COUNTIF($K$5:K7891,1),\"\")","v":7887},{"$f":"IF(ISNUMBER(SEARCH('Bilgi Girişi'!$E$4,KalemAdı,1))=TRUE,1,0)","v":1},"Hayvanat bahçesi hizmetleri","Hizmet",77400000,null,null,"Tuzak kurma ve av yakalama hizmetleri"]
[null,null,null,null,null,null,null,7890,77600000,{"$f":"IF(K7894=1,COUNTIF($K$5:K7894,1),\"\")","v":7890},{"$f":"IF(ISNUMBER(SEARCH('Bilgi Girişi'!$E$4,KalemAdı,1))=TRUE,1,0)","v":1},"Av hizmetleri","Hizmet",77600000,null,null,"Deniz tarımı hizmetleri"]
[null,null,null,null,null,null,null,7894,77810000,{"$f":"IF(K7898=1,COUNTIF($K$5:K7898,1),\"\")","v":7894},{"$f":"IF(ISNUMBER(SEARCH('Bilgi Girişi'!$E$4,KalemAdı,1))=TRUE,1,0)","v":1},"Deniz tarımı hizmetleri","Hizmet",77810000,null,null,"Balık yetiştiriciliği hizmetleri"]
[null,null,null,null,null,null,null,7895,77820000,{"$f":"IF(K7899=1,COUNTIF($K$5:K7899,1),\"\")","v":7895},{"$f":"IF(ISNUMBER(SEARCH('Bilgi Girişi'!$E$4,KalemAdı,1))=TRUE,1,0)","v":1},"İstridye çiftlikleri hizmetleri","Hizmet",77820000,null,null,"Arıcılık hizmetleri"]
[null,null,null,null,null,null,null,7899,77900000,{"$f":"IF(K7903=1,COUNTIF($K$5:K7903,1),\"\")","v":7899},{"$f":"IF(ISNUMBER(SEARCH('Bilgi Girişi'!$E$4,KalemAdı,1))=TRUE,1,0)","v":1},"Arıcılık hizmetleri","Hizmet",77900000,null,null,"Hukuk danışmanlığı hizmetleri"]
[null,null,null,null,null,null,null,7904,79112000,{"$f":"IF(K7908=1,COUNTIF($K$5:K7908,1),\"\")","v":7904},{"$f":"IF(ISNUMBER(SEARCH('Bilgi Girişi'!$E$4,KalemAdı,1))=TRUE,1,0)","v":1},"Hukuki vekalet hizmetleri","Hizmet",79112000,null,null,"Yazılım telif hakları konusunda danışmanlık hizmetleri"]
[null,null,null,null,null,null,null,7907,79121000,{"$f":"IF(K7911=1,COUNTIF($K$5:K7911,1),\"\")","v":7907},{"$f":"IF(ISNUMBER(SEARCH('Bilgi Girişi'!$E$4,KalemAdı,1))=TRUE,1,0)","v":1},"Telif hakları konusunda danışmanlık hizmetleri","Hizmet",79121000,null,null,"Evrak tasdik hizmetleri"]
[null,null,null,null,null,null,null,7909,79130000,{"$f":"IF(K7913=1,COUNTIF($K$5:K7913,1),\"\")","v":7909},{"$f":"IF(ISNUMBER(SEARCH('Bilgi Girişi'!$E$4,KalemAdı,1))=TRUE,1,0)","v":1},"Hukuki evrak tanzim ve tasdik hizmetleri","Hizmet",79130000,null,null,"Hukuki danışmanlık ve bilgilendirme hizmetleri"]
[null,null,null,null,null,null,null,7915,79210000,{"$f":"IF(K7919=1,COUNTIF($K$5:K7919,1),\"\")","v":7915},{"$f":"IF(ISNUMBER(SEARCH('Bilgi Girişi'!$E$4,KalemAdı,1))=TRUE,1,0)","v":1},"Muhasebe ve hesap denetim hizmetleri","Hizmet",79210000,null,null,"Satış ve satın alma kayıt hizmetleri"]
[null,null,null,null,null,null,null,7918,79211110,{"$f":"IF(K7922=1,COUNTIF($K$5:K7922,1),\"\")","v":7918},{"$f":"IF(ISNUMBER(SEARCH('Bilgi Girişi'!$E$4,KalemAdı,1))=TRUE,1,0)","v":1},"Bordro yönetim hizmetleri","Hizmet",79211110,null,null,"Mali hesap denetimi hizmetleri"]
[null,null,null,null,null,null,null,7923,79212110,{"$f":"IF(K7927=1,COUNTIF($K$5:K7927,1),\"\")","v":7923},{"$f":"IF(ISNUMBER(SEARCH('Bilgi Girişi'!$E$4,KalemAdı,1))=TRUE,1,0)","v":1},"Kurumsal yönetim derecelendirme hizmetleri","Hizmet",79212110,null,null,"Hesap inceleme hizmetleri"]
[null,null,null,null,null,null,null,7924,79212200,{"$f":"IF(K7928=1,COUNTIF($K$5:K7928,1),\"\")","v":7924},{"$f":"IF(ISNUMBER(SEARCH('Bilgi Girişi'!$E$4,KalemAdı,1))=TRUE,1,0)","v":1},"Kurum içi hesap denetimi hizmetleri","Hizmet",79212200,null,null,"Mali hizmetler"]
[null,null,null,null,null,null,null,7928,79220000,{"$f":"IF(K7932=1,COUNTIF($K$5:K7932,1),\"\")","v":7928},{"$f":"IF(ISNUMBER(SEARCH('Bilgi Girişi'!$E$4,KalemAdı,1))=TRUE,1,0)","v":1},"Mali hizmetler","Hizmet",79220000,null,null,"Pazar ve ekonomik araştırma, yoklama ve istatistikler"]
[null,null,null,null,null,null,null,7932,79300000,{"$f":"IF(K7936=1,COUNTIF($K$5:K7936,1),\"\")","v":7932},{"$f":"IF(ISNUMBER(SEARCH('Bilgi Girişi'!$E$4,KalemAdı,1))=TRUE,1,0)","v":1},"Pazar ve ekonomik araştırma, yoklama ve istatistikler","Hizmet",79300000,null,null,"Etüt gerçekleştirme hizmetleri"]
[null,null,null,null,null,null,null,7937,79311210,{"$f":"IF(K7941=1,COUNTIF($K$5:K7941,1),\"\")","v":7937},{"$f":"IF(ISNUMBER(SEARCH('Bilgi Girişi'!$E$4,KalemAdı,1))=TRUE,1,0)","v":1},"Telefonla anket hizmetleri","Hizmet",79311210,null,null,"Piyasa test ve inceleme hizmetleri"]
[null,null,null,null,null,null,null,7939,79311400,{"$f":"IF(K7943=1,COUNTIF($K$5:K7943,1),\"\")","v":7939},{"$f":"IF(ISNUMBER(SEARCH('Bilgi Girişi'!$E$4,KalemAdı,1))=TRUE,1,0)","v":1},"Ekonomik araştırma hizmetleri","Hizmet",79311400,null,null,"Fizibilite etüdü hazırlama hizmetleri"]
[null,null,null,null,null,null,null,7942,79313000,{"$f":"IF(K7946=1,COUNTIF($K$5:K7946,1),\"\")","v":7942},{"$f":"IF(ISNUMBER(SEARCH('Bilgi Girişi'!$E$4,KalemAdı,1))=TRUE,1,0)","v":1},"Performans değerlendirme hizmetleri","Hizmet",79313000,null,null,"İstatistiksel hizmetler"]
[null,null,null,null,null,null,null,7947,79340000,{"$f":"IF(K7951=1,COUNTIF($K$5:K7951,1),\"\")","v":7947},{"$f":"IF(ISNUMBER(SEARCH('Bilgi Girişi'!$E$4,KalemAdı,1))=TRUE,1,0)","v":1},"Reklam ve pazarlama hizmetleri","Hizmet",79340000,null,null,"Reklam kampanyası hizmetleri"]
[null,null,null,null,null,null,null,7951,79341400,{"$f":"IF(K7955=1,COUNTIF($K$5:K7955,1),\"\")","v":7951},{"$f":"IF(ISNUMBER(SEARCH('Bilgi Girişi'!$E$4,KalemAdı,1))=TRUE,1,0)","v":1},"Reklam kampanyası hizmetleri","Hizmet",79341400,null,null,"Tanıtım ve promosyon hizmetleri"]
[null,null,null,null,null,null,null,7952,79341500,{"$f":"IF(K7956=1,COUNTIF($K$5:K7956,1),\"\")","v":7952},{"$f":"IF(ISNUMBER(SEARCH('Bilgi Girişi'!$E$4,KalemAdı,1))=TRUE,1,0)","v":1},"Havadan reklam verme hizmetleri (ör:uçak kuyruğuna takılan pankartlar)","Hizmet",79341500,null,null,"Müşteri hizmetleri"]
[null,null,null,null,null,null,null,7956,79342300,{"$f":"IF(K7960=1,COUNTIF($K$5:K7960,1),\"\")","v":7956},{"$f":"IF(ISNUMBER(SEARCH('Bilgi Girişi'!$E$4,KalemAdı,1))=TRUE,1,0)","v":1},"Müşteri hizmetleri","Hizmet",79342300,null,null,"Müşteri sadakati programı"]
[null,null,null,null,null,null,null,7961,79342400,{"$f":"IF(K7965=1,COUNTIF($K$5:K7965,1),\"\")","v":7961},{"$f":"IF(ISNUMBER(SEARCH('Bilgi Girişi'!$E$4,KalemAdı,1))=TRUE,1,0)","v":1},"Müzayede hizmetleri","Hizmet",79342400,null,null,"Genel yönetim konusunda danışmanlık hizmetleri"]
[null,null,null,null,null,null,null,7964,79410000,{"$f":"IF(K7968=1,COUNTIF($K$5:K7968,1),\"\")","v":7964},{"$f":"IF(ISNUMBER(SEARCH('Bilgi Girişi'!$E$4,KalemAdı,1))=TRUE,1,0)","v":1},"İşletme ve yönetim konularında danışmanlık hizmetleri","Hizmet",79410000,null,null,"Pazarlama yönetimi konusunda danışmanlık hizmetleri"]
[null,null,null,null,null,null,null,7966,79411100,{"$f":"IF(K7970=1,COUNTIF($K$5:K7970,1),\"\")","v":7966},{"$f":"IF(ISNUMBER(SEARCH('Bilgi Girişi'!$E$4,KalemAdı,1))=TRUE,1,0)","v":1},"İş geliştirme danışmanlık hizmetleri","Hizmet",79411100,null,null,"Üretim yönetimi konusunda danışmanlık hizmetleri"]
[null,null,null,null,null,null,null,7972,79416000,{"$f":"IF(K7976=1,COUNTIF($K$5:K7976,1),\"\")","v":7972},{"$f":"IF(ISNUMBER(SEARCH('Bilgi Girişi'!$E$4,KalemAdı,1))=TRUE,1,0)","v":1},"Halkla ilişkiler hizmetleri","Hizmet",79416000,null,null,"Satın alma konusunda danışmanlık hizmetleri"]
[null,null,null,null,null,null,null,7975,79417000,{"$f":"IF(K7979=1,COUNTIF($K$5:K7979,1),\"\")","v":7975},{"$f":"IF(ISNUMBER(SEARCH('Bilgi Girişi'!$E$4,KalemAdı,1))=TRUE,1,0)","v":1},"Güvenlik konusunda danışmanlık hizmetleri","Hizmet",79417000,null,null,"Yapım işleri dışında proje yönetimi hizmetleri"]
[null,null,null,null,null,null,null,7979,79421000,{"$f":"IF(K7983=1,COUNTIF($K$5:K7983,1),\"\")","v":7979},{"$f":"IF(ISNUMBER(SEARCH('Bilgi Girişi'!$E$4,KalemAdı,1))=TRUE,1,0)","v":1},"Yapım işleri dışında proje yönetimi hizmetleri","Hizmet",79421000,null,null,"Kriz yönetimi hizmetleri"]
[null,null,null,null,null,null,null,7980,79421100,{"$f":"IF(K7984=1,COUNTIF($K$5:K7984,1),\"\")","v":7980},{"$f":"IF(ISNUMBER(SEARCH('Bilgi Girişi'!$E$4,KalemAdı,1))=TRUE,1,0)","v":1},"Yapım işleri dışında proje denetim hizmetleri","Hizmet",79421100,null,null,"Ofis destek hizmetleri"]
[null,null,null,null,null,null,null,7984,79500000,{"$f":"IF(K7988=1,COUNTIF($K$5:K7988,1),\"\")","v":7984},{"$f":"IF(ISNUMBER(SEARCH('Bilgi Girişi'!$E$4,KalemAdı,1))=TRUE,1,0)","v":1},"Ofis destek hizmetleri","Hizmet",79500000,null,null,"Grafiksel yöntemle çoğaltma hizmetleri"]
[null,null,null,null,null,null,null,7989,79521000,{"$f":"IF(K7993=1,COUNTIF($K$5:K7993,1),\"\")","v":7989},{"$f":"IF(ISNUMBER(SEARCH('Bilgi Girişi'!$E$4,KalemAdı,1))=TRUE,1,0)","v":1},"Fotokopi hizmetleri","Hizmet",79521000,null,null,"Daktilo ve yazım hizmetleri"]
[null,null,null,null,null,null,null,7992,79550000,{"$f":"IF(K7996=1,COUNTIF($K$5:K7996,1),\"\")","v":7992},{"$f":"IF(ISNUMBER(SEARCH('Bilgi Girişi'!$E$4,KalemAdı,1))=TRUE,1,0)","v":1},"Daktilo, kelime işlem ve masa üstü yayıncılık hizmetleri","Hizmet",79550000,null,null,"Dosyalama hizmetleri"]
[null,null,null,null,null,null,null,7994,79552000,{"$f":"IF(K7998=1,COUNTIF($K$5:K7998,1),\"\")","v":7994},{"$f":"IF(ISNUMBER(SEARCH('Bilgi Girişi'!$E$4,KalemAdı,1))=TRUE,1,0)","v":1},"Kelime işlem hizmetleri","Hizmet",79552000,null,null,"Postalama hizmetleri"]
[null,null,null,null,null,null,null,7999,79600000,{"$f":"IF(K8003=1,COUNTIF($K$5:K8003,1),\"\")","v":7999},{"$f":"IF(ISNUMBER(SEARCH('Bilgi Girişi'!$E$4,KalemAdı,1))=TRUE,1,0)","v":1},"İşe alma ve istihdam hizmetleri","Hizmet",79600000,null,null,"Personel yer değiştirme hizmetleri"]
[null,null,null,null,null,null,null,8004,79620000,{"$f":"IF(K8008=1,COUNTIF($K$5:K8008,1),\"\")","v":8004},{"$f":"IF(ISNUMBER(SEARCH('Bilgi Girişi'!$E$4,KalemAdı,1))=TRUE,1,0)","v":1},"Geçici personel de dahil olmak üzere personel tedarik hizmetleri","Hizmet",79620000,null,null,"Hemşire tedarik hizmetleri"]
[null,null,null,null,null,null,null,8008,79624000,{"$f":"IF(K8012=1,COUNTIF($K$5:K8012,1),\"\")","v":8008},{"$f":"IF(ISNUMBER(SEARCH('Bilgi Girişi'!$E$4,KalemAdı,1))=TRUE,1,0)","v":1},"Hemşire tedarik hizmetleri","Hizmet",79624000,null,null,"Personel eğitim hizmetleri"]
[null,null,null,null,null,null,null,8009,79625000,{"$f":"IF(K8013=1,COUNTIF($K$5:K8013,1),\"\")","v":8009},{"$f":"IF(ISNUMBER(SEARCH('Bilgi Girişi'!$E$4,KalemAdı,1))=TRUE,1,0)","v":1},"Tıp personeli tedarik hizmetleri","Hizmet",79625000,null,null,"Personel geliştirme hizmetleri"]
[null,null,null,null,null,null,null,8013,79633000,{"$f":"IF(K8017=1,COUNTIF($K$5:K8017,1),\"\")","v":8013},{"$f":"IF(ISNUMBER(SEARCH('Bilgi Girişi'!$E$4,KalemAdı,1))=TRUE,1,0)","v":1},"Personel geliştirme hizmetleri","Hizmet",79633000,null,null,"Güvenlik hizmetleri"]
[null,null,null,null,null,null,null,8017,79710000,{"$f":"IF(K8021=1,COUNTIF($K$5:K8021,1),\"\")","v":8017},{"$f":"IF(ISNUMBER(SEARCH('Bilgi Girişi'!$E$4,KalemAdı,1))=TRUE,1,0)","v":1},"Güvenlik hizmetleri","Hizmet",79710000,null,null,"İzleme sistemi hizmetleri"]
[null,null,null,null,null,null,null,8022,79714110,{"$f":"IF(K8026=1,COUNTIF($K$5:K8026,1),\"\")","v":8022},{"$f":"IF(ISNUMBER(SEARCH('Bilgi Girişi'!$E$4,KalemAdı,1))=TRUE,1,0)","v":1},"Kaçak izleme hizmetleri","Hizmet",79714110,null,null,"Dedektiflik acente hizmetleri"]
[null,null,null,null,null,null,null,8024,79716000,{"$f":"IF(K8028=1,COUNTIF($K$5:K8028,1),\"\")","v":8024},{"$f":"IF(ISNUMBER(SEARCH('Bilgi Girişi'!$E$4,KalemAdı,1))=TRUE,1,0)","v":1},"Kimlik rozeti yayın hizmetleri","Hizmet",79716000,null,null,"Atık analiz hizmetleri"]
[null,null,null,null,null,null,null,8027,79722000,{"$f":"IF(K8031=1,COUNTIF($K$5:K8031,1),\"\")","v":8027},{"$f":"IF(ISNUMBER(SEARCH('Bilgi Girişi'!$E$4,KalemAdı,1))=TRUE,1,0)","v":1},"Grafoloji hizmetleri","Hizmet",79722000,null,null,"Dijital baskı hizmetleri"]
[null,null,null,null,null,null,null,8032,79812000,{"$f":"IF(K8036=1,COUNTIF($K$5:K8036,1),\"\")","v":8032},{"$f":"IF(ISNUMBER(SEARCH('Bilgi Girişi'!$E$4,KalemAdı,1))=TRUE,1,0)","v":1},"Banknot basım hizmetleri","Hizmet",79812000,null,null,"Mürettiplik/dizgicilik hizmetleri"]
[null,null,null,null,null,null,null,8036,79822000,{"$f":"IF(K8040=1,COUNTIF($K$5:K8040,1),\"\")","v":8036},{"$f":"IF(ISNUMBER(SEARCH('Bilgi Girişi'!$E$4,KalemAdı,1))=TRUE,1,0)","v":1},"Mürettiplik/dizgicilik hizmetleri","Hizmet",79822000,null,null,"Litografi hizmetleri"]
[null,null,null,null,null,null,null,8037,79822100,{"$f":"IF(K8041=1,COUNTIF($K$5:K8041,1),\"\")","v":8037},{"$f":"IF(ISNUMBER(SEARCH('Bilgi Girişi'!$E$4,KalemAdı,1))=TRUE,1,0)","v":1},"Baskı plakası klişe hazırlama hizmetleri","Hizmet",79822100,null,null,"Grafik tasarım hizmetleri"]
[null,null,null,null,null,null,null,8041,79822500,{"$f":"IF(K8045=1,COUNTIF($K$5:K8045,1),\"\")","v":8041},{"$f":"IF(ISNUMBER(SEARCH('Bilgi Girişi'!$E$4,KalemAdı,1))=TRUE,1,0)","v":1},"Grafik tasarım hizmetleri","Hizmet",79822500,null,null,"Yönetim holdingleri hizmetleri"]
[null,null,null,null,null,null,null,8046,79920000,{"$f":"IF(K8050=1,COUNTIF($K$5:K8050,1),\"\")","v":8046},{"$f":"IF(ISNUMBER(SEARCH('Bilgi Girişi'!$E$4,KalemAdı,1))=TRUE,1,0)","v":1},"Ambalajlama ve ilgili hizmetler","Hizmet",79920000,null,null,"İç tasarım ve proje hizmetleri"]
[null,null,null,null,null,null,null,8049,79931000,{"$f":"IF(K8053=1,COUNTIF($K$5:K8053,1),\"\")","v":8049},{"$f":"IF(ISNUMBER(SEARCH('Bilgi Girişi'!$E$4,KalemAdı,1))=TRUE,1,0)","v":1},"İç mimari hizmetleri","Hizmet",79931000,null,null,"Toplama acentası hizmetleri"]
[null,null,null,null,null,null,null,8051,79933000,{"$f":"IF(K8055=1,COUNTIF($K$5:K8055,1),\"\")","v":8051},{"$f":"IF(ISNUMBER(SEARCH('Bilgi Girişi'!$E$4,KalemAdı,1))=TRUE,1,0)","v":1},"Tasarım destek hizmetleri","Hizmet",79933000,null,null,"Sergi, fuar ve kongre organizasyon hizmetleri"]
[null,null,null,null,null,null,null,8057,79952000,{"$f":"IF(K8061=1,COUNTIF($K$5:K8061,1),\"\")","v":8057},{"$f":"IF(ISNUMBER(SEARCH('Bilgi Girişi'!$E$4,KalemAdı,1))=TRUE,1,0)","v":1},"Etkinlik hizmetleri","Hizmet",79952000,null,null,"Moda gösterisi organizasyon hizmetleri"]
[null,null,null,null,null,null,null,8060,79954000,{"$f":"IF(K8064=1,COUNTIF($K$5:K8064,1),\"\")","v":8060},{"$f":"IF(ISNUMBER(SEARCH('Bilgi Girişi'!$E$4,KalemAdı,1))=TRUE,1,0)","v":1},"Party organizasyon hizmetleri","Hizmet",79954000,null,null,"Fotoğrafçılık ve yardımcı hizmetler"]
[null,null,null,null,null,null,null,8062,79956000,{"$f":"IF(K8066=1,COUNTIF($K$5:K8066,1),\"\")","v":8062},{"$f":"IF(ISNUMBER(SEARCH('Bilgi Girişi'!$E$4,KalemAdı,1))=TRUE,1,0)","v":1},"Fuar ve sergi organizasyon hizmetleri","Hizmet",79956000,null,null,"Reklam fotoğrafçılığı hizmetleri"]
[null,null,null,null,null,null,null,8065,79961000,{"$f":"IF(K8069=1,COUNTIF($K$5:K8069,1),\"\")","v":8065},{"$f":"IF(ISNUMBER(SEARCH('Bilgi Girişi'!$E$4,KalemAdı,1))=TRUE,1,0)","v":1},"Fotoğrafçılık hizmetleri","Hizmet",79961000,null,null,"Kuyu dibi fotoğrafçılığı hizmetleri"]
[null,null,null,null,null,null,null,8070,79961320,{"$f":"IF(K8074=1,COUNTIF($K$5:K8074,1),\"\")","v":8070},{"$f":"IF(ISNUMBER(SEARCH('Bilgi Girişi'!$E$4,KalemAdı,1))=TRUE,1,0)","v":1},"Sualtı fotoğrafçılığı hizmetleri","Hizmet",79961320,null,null,"Fotoğraf işleme hizmetleri"]
[null,null,null,null,null,null,null,8074,79962000,{"$f":"IF(K8078=1,COUNTIF($K$5:K8078,1),\"\")","v":8074},{"$f":"IF(ISNUMBER(SEARCH('Bilgi Girişi'!$E$4,KalemAdı,1))=TRUE,1,0)","v":1},"Fotoğraf işleme hizmetleri","Hizmet",79962000,null,null,"Kitap kaplama hizmetleri"]
[null,null,null,null,null,null,null,8079,79971200,{"$f":"IF(K8083=1,COUNTIF($K$5:K8083,1),\"\")","v":8079},{"$f":"IF(ISNUMBER(SEARCH('Bilgi Girişi'!$E$4,KalemAdı,1))=TRUE,1,0)","v":1},"Kitap ciltleme hizmetleri","Hizmet",79971200,null,null,"Ticaretle ilgili diğer iş ve hizmetler"]
[null,null,null,null,null,null,null,8082,79980000,{"$f":"IF(K8086=1,COUNTIF($K$5:K8086,1),\"\")","v":8082},{"$f":"IF(ISNUMBER(SEARCH('Bilgi Girişi'!$E$4,KalemAdı,1))=TRUE,1,0)","v":1},"Abonelik hizmetleri","Hizmet",79980000,null,null,"Bina ve tesislerin yönetim hizmetleri"]
[null,null,null,null,null,null,null,8084,79991000,{"$f":"IF(K8088=1,COUNTIF($K$5:K8088,1),\"\")","v":8084},{"$f":"IF(ISNUMBER(SEARCH('Bilgi Girişi'!$E$4,KalemAdı,1))=TRUE,1,0)","v":1},"Stok kontrol hizmetleri","Hizmet",79991000,null,null,"Sözleşme yönetim hizmetleri"]
[null,null,null,null,null,null,null,8089,79995000,{"$f":"IF(K8093=1,COUNTIF($K$5:K8093,1),\"\")","v":8089},{"$f":"IF(ISNUMBER(SEARCH('Bilgi Girişi'!$E$4,KalemAdı,1))=TRUE,1,0)","v":1},"Kütüphane yönetim hizmetleri","Hizmet",79995000,null,null,"Kayıt yönetimi"]
[null,null,null,null,null,null,null,8093,79996100,{"$f":"IF(K8097=1,COUNTIF($K$5:K8097,1),\"\")","v":8093},{"$f":"IF(ISNUMBER(SEARCH('Bilgi Girişi'!$E$4,KalemAdı,1))=TRUE,1,0)","v":1},"Kayıt yönetimi","Hizmet",79996100,null,null,"Tarama hizmetleri"]
[null,null,null,null,null,null,null,8094,79997000,{"$f":"IF(K8098=1,COUNTIF($K$5:K8098,1),\"\")","v":8094},{"$f":"IF(ISNUMBER(SEARCH('Bilgi Girişi'!$E$4,KalemAdı,1))=TRUE,1,0)","v":1},"iş seyahati hizmetleri","Hizmet",79997000,null,null,"Faturalama hizmetleri"]
[null,null,null,null,null,null,null,8098,79999200,{"$f":"IF(K8102=1,COUNTIF($K$5:K8102,1),\"\")","v":8098},{"$f":"IF(ISNUMBER(SEARCH('Bilgi Girişi'!$E$4,KalemAdı,1))=TRUE,1,0)","v":1},"Faturalama hizmetleri","Hizmet",79999200,null,null,"Ortaöğretim hizmetleri"]
[null,null,null,null,null,null,null,8102,80200000,{"$f":"IF(K8106=1,COUNTIF($K$5:K8106,1),\"\")","v":8102},{"$f":"IF(ISNUMBER(SEARCH('Bilgi Girişi'!$E$4,KalemAdı,1))=TRUE,1,0)","v":1},"Ortaöğretim hizmetleri","Hizmet",80200000,null,null,"Yüksek öğretim hizmetleri"]
[null,null,null,null,null,null,null,8107,80310000,{"$f":"IF(K8111=1,COUNTIF($K$5:K8111,1),\"\")","v":8107},{"$f":"IF(ISNUMBER(SEARCH('Bilgi Girişi'!$E$4,KalemAdı,1))=TRUE,1,0)","v":1},"Yaygın gençlik eğitim hizmetleri","Hizmet",80310000,null,null,"Erişkin ve diğer öğretim hizmetleri"]
[null,null,null,null,null,null,null,8108,80320000,{"$f":"IF(K8112=1,COUNTIF($K$5:K8112,1),\"\")","v":8108},{"$f":"IF(ISNUMBER(SEARCH('Bilgi Girişi'!$E$4,KalemAdı,1))=TRUE,1,0)","v":1},"Tıbbi eğitim hizmetleri","Hizmet",80320000,null,null,"Muhtelif okul hizmetleri"]
[null,null,null,null,null,null,null,8114,80411100,{"$f":"IF(K8118=1,COUNTIF($K$5:K8118,1),\"\")","v":8114},{"$f":"IF(ISNUMBER(SEARCH('Bilgi Girişi'!$E$4,KalemAdı,1))=TRUE,1,0)","v":1},"Sürücü testi hizmetleri","Hizmet",80411100,null,null,"Dalgıçlık okulu hizmetleri"]
[null,null,null,null,null,null,null,8117,80413000,{"$f":"IF(K8121=1,COUNTIF($K$5:K8121,1),\"\")","v":8117},{"$f":"IF(ISNUMBER(SEARCH('Bilgi Girişi'!$E$4,KalemAdı,1))=TRUE,1,0)","v":1},"Yelken kursu hizmetleri","Hizmet",80413000,null,null,"Üniversite düzeyinde erişkinlere yönelik öğretim hizmetleri"]
[null,null,null,null,null,null,null,8119,80415000,{"$f":"IF(K8123=1,COUNTIF($K$5:K8123,1),\"\")","v":8119},{"$f":"IF(ISNUMBER(SEARCH('Bilgi Girişi'!$E$4,KalemAdı,1))=TRUE,1,0)","v":1},"Kayak eğitimi hizmetleri","Hizmet",80415000,null,null,"Eğitim hizmetleri"]
[null,null,null,null,null,null,null,8122,80490000,{"$f":"IF(K8126=1,COUNTIF($K$5:K8126,1),\"\")","v":8122},{"$f":"IF(ISNUMBER(SEARCH('Bilgi Girişi'!$E$4,KalemAdı,1))=TRUE,1,0)","v":1},"Eğitim ve öğretim merkezi işletmeciliği hizmetleri","Hizmet",80490000,null,null,"Köpek eğitim hizmetleri"]
[null,null,null,null,null,null,null,8127,80513000,{"$f":"IF(K8131=1,COUNTIF($K$5:K8131,1),\"\")","v":8127},{"$f":"IF(ISNUMBER(SEARCH('Bilgi Girişi'!$E$4,KalemAdı,1))=TRUE,1,0)","v":1},"Binicilik okulu hizmetleri","Hizmet",80513000,null,null,"Mesleki eğitim hizmetleri"]
[null,null,null,null,null,null,null,8131,80530000,{"$f":"IF(K8135=1,COUNTIF($K$5:K8135,1),\"\")","v":8131},{"$f":"IF(ISNUMBER(SEARCH('Bilgi Girişi'!$E$4,KalemAdı,1))=TRUE,1,0)","v":1},"Mesleki eğitim hizmetleri","Hizmet",80530000,null,null,"Yönetim eğitimi hizmetleri"]
[null,null,null,null,null,null,null,8134,80531200,{"$f":"IF(K8138=1,COUNTIF($K$5:K8138,1),\"\")","v":8134},{"$f":"IF(ISNUMBER(SEARCH('Bilgi Girişi'!$E$4,KalemAdı,1))=TRUE,1,0)","v":1},"Teknik eğitim hizmetleri","Hizmet",80531200,null,null,"Bilgisayar kursları"]
[null,null,null,null,null,null,null,8136,80533000,{"$f":"IF(K8140=1,COUNTIF($K$5:K8140,1),\"\")","v":8136},{"$f":"IF(ISNUMBER(SEARCH('Bilgi Girişi'!$E$4,KalemAdı,1))=TRUE,1,0)","v":1},"Bilgisayar kullanıcı alıştırma ve eğitim hizmetleri","Hizmet",80533000,null,null,"Güvenlik eğitimi hizmetleri"]
[null,null,null,null,null,null,null,8142,80561000,{"$f":"IF(K8146=1,COUNTIF($K$5:K8146,1),\"\")","v":8142},{"$f":"IF(ISNUMBER(SEARCH('Bilgi Girişi'!$E$4,KalemAdı,1))=TRUE,1,0)","v":1},"Sağlık eğitim hizmetleri","Hizmet",80561000,null,null,"Özel ders ile ilgili hizmetler hizmetleri"]
[null,null,null,null,null,null,null,8145,80580000,{"$f":"IF(K8149=1,COUNTIF($K$5:K8149,1),\"\")","v":8145},{"$f":"IF(ISNUMBER(SEARCH('Bilgi Girişi'!$E$4,KalemAdı,1))=TRUE,1,0)","v":1},"Lisan kursları hizmetleri","Hizmet",80580000,null,null,"Ateşli silah ve cephane için eğitim ve simülasyon"]
[null,null,null,null,null,null,null,8150,80630000,{"$f":"IF(K8154=1,COUNTIF($K$5:K8154,1),\"\")","v":8150},{"$f":"IF(ISNUMBER(SEARCH('Bilgi Girişi'!$E$4,KalemAdı,1))=TRUE,1,0)","v":1},"Askeri araçlar için eğitim ve simülasyon","Hizmet",80630000,null,null,"Sağlık ve sosyal çalışma hizmetleri"]
[null,null,null,null,null,null,null,8151,80640000,{"$f":"IF(K8155=1,COUNTIF($K$5:K8155,1),\"\")","v":8151},{"$f":"IF(ISNUMBER(SEARCH('Bilgi Girişi'!$E$4,KalemAdı,1))=TRUE,1,0)","v":1},"Savaş gemileri için eğitim ve simülasyon","Hizmet",80640000,null,null,"Sağlık hizmetleri"]
[null,null,null,null,null,null,null,8155,85100000,{"$f":"IF(K8159=1,COUNTIF($K$5:K8159,1),\"\")","v":8155},{"$f":"IF(ISNUMBER(SEARCH('Bilgi Girişi'!$E$4,KalemAdı,1))=TRUE,1,0)","v":1},"Sağlık hizmetleri","Hizmet",85100000,null,null,"Tıbbi muayene hastane hizmetleri"]
[null,null,null,null,null,null,null,8159,85111200,{"$f":"IF(K8163=1,COUNTIF($K$5:K8163,1),\"\")","v":8159},{"$f":"IF(ISNUMBER(SEARCH('Bilgi Girişi'!$E$4,KalemAdı,1))=TRUE,1,0)","v":1},"Tıbbi muayene hastane hizmetleri","Hizmet",85111200,null,null,"Rehabilitasyon hastane hizmetleri"]
[null,null,null,null,null,null,null,8164,85111500,{"$f":"IF(K8168=1,COUNTIF($K$5:K8168,1),\"\")","v":8164},{"$f":"IF(ISNUMBER(SEARCH('Bilgi Girişi'!$E$4,KalemAdı,1))=TRUE,1,0)","v":1},"Psikiyatri hastane hizmetleri","Hizmet",85111500,null,null,"Kan analiz hizmetleri"]
[null,null,null,null,null,null,null,8167,85111800,{"$f":"IF(K8171=1,COUNTIF($K$5:K8171,1),\"\")","v":8167},{"$f":"IF(ISNUMBER(SEARCH('Bilgi Girişi'!$E$4,KalemAdı,1))=TRUE,1,0)","v":1},"Patoloji hizmetleri","Hizmet",85111800,null,null,"Hastane destek hizmetleri"]
[null,null,null,null,null,null,null,8169,85111820,{"$f":"IF(K8173=1,COUNTIF($K$5:K8173,1),\"\")","v":8169},{"$f":"IF(ISNUMBER(SEARCH('Bilgi Girişi'!$E$4,KalemAdı,1))=TRUE,1,0)","v":1},"Bakteriyolojik analiz hizmetleri","Hizmet",85111820,null,null,"Ayakta bakım hizmetleri"]
[null,null,null,null,null,null,null,8172,85112100,{"$f":"IF(K8176=1,COUNTIF($K$5:K8176,1),\"\")","v":8172},{"$f":"IF(ISNUMBER(SEARCH('Bilgi Girişi'!$E$4,KalemAdı,1))=TRUE,1,0)","v":1},"Hastane yatak hizmetleri","Hizmet",85112100,null,null,"Genel pratisyen hizmetleri"]
[null,null,null,null,null,null,null,8178,85121210,{"$f":"IF(K8182=1,COUNTIF($K$5:K8182,1),\"\")","v":8178},{"$f":"IF(ISNUMBER(SEARCH('Bilgi Girişi'!$E$4,KalemAdı,1))=TRUE,1,0)","v":1},"Jinekolojik veya obstetrik hizmetler","Hizmet",85121210,null,null,"Pulmoner uzmanlarının hizmetleri"]
[null,null,null,null,null,null,null,8179,85121220,{"$f":"IF(K8183=1,COUNTIF($K$5:K8183,1),\"\")","v":8179},{"$f":"IF(ISNUMBER(SEARCH('Bilgi Girişi'!$E$4,KalemAdı,1))=TRUE,1,0)","v":1},"Nefroloji veya sinir sistemi uzmanlık hizmetleri","Hizmet",85121220,null,null,"KBB veya audioloji hizmetleri"]
[null,null,null,null,null,null,null,8183,85121240,{"$f":"IF(K8187=1,COUNTIF($K$5:K8187,1),\"\")","v":8183},{"$f":"IF(ISNUMBER(SEARCH('Bilgi Girişi'!$E$4,KalemAdı,1))=TRUE,1,0)","v":1},"KBB veya audioloji hizmetleri","Hizmet",85121240,null,null,"Psikiyatrist ya da psikolog hizmetleri"]
[null,null,null,null,null,null,null,8188,85121271,{"$f":"IF(K8192=1,COUNTIF($K$5:K8192,1),\"\")","v":8188},{"$f":"IF(ISNUMBER(SEARCH('Bilgi Girişi'!$E$4,KalemAdı,1))=TRUE,1,0)","v":1},"Psikolojik rahatsızlığı olanlara hizmet veren evler","Hizmet",85121271,null,null,"Ortopedi hizmetleri"]
[null,null,null,null,null,null,null,8191,85121282,{"$f":"IF(K8195=1,COUNTIF($K$5:K8195,1),\"\")","v":8191},{"$f":"IF(ISNUMBER(SEARCH('Bilgi Girişi'!$E$4,KalemAdı,1))=TRUE,1,0)","v":1},"Dermatoloji hizmetleri","Hizmet",85121282,null,null,"Ürolog hizmetleri"]
[null,null,null,null,null,null,null,8193,85121290,{"$f":"IF(K8197=1,COUNTIF($K$5:K8197,1),\"\")","v":8193},{"$f":"IF(ISNUMBER(SEARCH('Bilgi Girişi'!$E$4,KalemAdı,1))=TRUE,1,0)","v":1},"Pediatri veya ürolog hizmetleri","Hizmet",85121290,null,null,"Diş hekimliği ve ilgili hizmetler"]
[null,null,null,null,null,null,null,8199,85131100,{"$f":"IF(K8203=1,COUNTIF($K$5:K8203,1),\"\")","v":8199},{"$f":"IF(ISNUMBER(SEARCH('Bilgi Girişi'!$E$4,KalemAdı,1))=TRUE,1,0)","v":1},"Ortodonti servisi hizmetleri","Hizmet",85131100,null,null,"Ebeler tarafından sağlanan hizmetler"]
[null,null,null,null,null,null,null,8202,85141000,{"$f":"IF(K8206=1,COUNTIF($K$5:K8206,1),\"\")","v":8202},{"$f":"IF(ISNUMBER(SEARCH('Bilgi Girişi'!$E$4,KalemAdı,1))=TRUE,1,0)","v":1},"Tıp personeli tarafından sağlanan hizmetler","Hizmet",85141000,null,null,"Evde sağlanan diyalizli tıbbi tedavi hizmetleri"]
[null,null,null,null,null,null,null,8204,85141200,{"$f":"IF(K8208=1,COUNTIF($K$5:K8208,1),\"\")","v":8204},{"$f":"IF(ISNUMBER(SEARCH('Bilgi Girişi'!$E$4,KalemAdı,1))=TRUE,1,0)","v":1},"Hemşireler tarafından sağlanan hizmetler","Hizmet",85141200,null,null,"Hekim ve hemşireler dışında kalan hastane personelince sağlanan hizmetler"]
[null,null,null,null,null,null,null,8207,85141220,{"$f":"IF(K8211=1,COUNTIF($K$5:K8211,1),\"\")","v":8207},{"$f":"IF(ISNUMBER(SEARCH('Bilgi Girişi'!$E$4,KalemAdı,1))=TRUE,1,0)","v":1},"Hemşireler tarafından sağlanan tavsiye hizmetleri","Hizmet",85141220,null,null,"Hijyen hizmetleri"]
[null,null,null,null,null,null,null,8212,85142400,{"$f":"IF(K8216=1,COUNTIF($K$5:K8216,1),\"\")","v":8212},{"$f":"IF(ISNUMBER(SEARCH('Bilgi Girişi'!$E$4,KalemAdı,1))=TRUE,1,0)","v":1},"Ördek ve benzeri araç ve gereçlerin evlere teslimatı hizmetleri","Hizmet",85142400,null,null,"Tıbbi laboratuarlar tarafından sağlanan hizmetler"]
[null,null,null,null,null,null,null,8216,85145000,{"$f":"IF(K8220=1,COUNTIF($K$5:K8220,1),\"\")","v":8216},{"$f":"IF(ISNUMBER(SEARCH('Bilgi Girişi'!$E$4,KalemAdı,1))=TRUE,1,0)","v":1},"Tıbbi laboratuarlar tarafından sağlanan hizmetler","Hizmet",85145000,null,null,"Şirket sağlık hizmetleri"]
[null,null,null,null,null,null,null,8219,85146200,{"$f":"IF(K8223=1,COUNTIF($K$5:K8223,1),\"\")","v":8219},{"$f":"IF(ISNUMBER(SEARCH('Bilgi Girişi'!$E$4,KalemAdı,1))=TRUE,1,0)","v":1},"Transplante organ bankası tarafından sağlanan hizmetler","Hizmet",85146200,null,null,"Tıbbi görüntüleme hizmetleri"]
[null,null,null,null,null,null,null,8221,85148000,{"$f":"IF(K8225=1,COUNTIF($K$5:K8225,1),\"\")","v":8221},{"$f":"IF(ISNUMBER(SEARCH('Bilgi Girişi'!$E$4,KalemAdı,1))=TRUE,1,0)","v":1},"Tıbbi analiz hizmetleri","Hizmet",85148000,null,null,"Akapunktur ve kiropraktör hizmetleri"]
[null,null,null,null,null,null,null,8226,85171000,{"$f":"IF(K8230=1,COUNTIF($K$5:K8230,1),\"\")","v":8226},{"$f":"IF(ISNUMBER(SEARCH('Bilgi Girişi'!$E$4,KalemAdı,1))=TRUE,1,0)","v":1},"Akapunktur hizmetleri","Hizmet",85171000,null,null,"Sosyal işler ve bunlarla ilgili hizmetler"]
[null,null,null,null,null,null,null,8229,85210000,{"$f":"IF(K8233=1,COUNTIF($K$5:K8233,1),\"\")","v":8229},{"$f":"IF(ISNUMBER(SEARCH('Bilgi Girişi'!$E$4,KalemAdı,1))=TRUE,1,0)","v":1},"Evcil hayvan bakım evleri","Hizmet",85210000,null,null,"Yaşlılara yönelik sosyal yardım hizmetleri"]
[null,null,null,null,null,null,null,8235,85311300,{"$f":"IF(K8239=1,COUNTIF($K$5:K8239,1),\"\")","v":8235},{"$f":"IF(ISNUMBER(SEARCH('Bilgi Girişi'!$E$4,KalemAdı,1))=TRUE,1,0)","v":1},"Çocuk ve gençler için sosyal yardım hizmetleri","Hizmet",85311300,null,null,"Engelli çocuk ve gençler için gündüz bakım hizmetleri"]
[null,null,null,null,null,null,null,8236,85312000,{"$f":"IF(K8240=1,COUNTIF($K$5:K8240,1),\"\")","v":8236},{"$f":"IF(ISNUMBER(SEARCH('Bilgi Girişi'!$E$4,KalemAdı,1))=TRUE,1,0)","v":1},"Barınmasız sosyal yardım hizmetleri","Hizmet",85312000,null,null,"Evlere teslim erzak/yiyecek"]
[null,null,null,null,null,null,null,8240,85312200,{"$f":"IF(K8244=1,COUNTIF($K$5:K8244,1),\"\")","v":8240},{"$f":"IF(ISNUMBER(SEARCH('Bilgi Girişi'!$E$4,KalemAdı,1))=TRUE,1,0)","v":1},"Evlere teslim erzak/yiyecek","Hizmet",85312200,null,null,"Aile planlaması hizmetleri"]
[null,null,null,null,null,null,null,8244,85312330,{"$f":"IF(K8248=1,COUNTIF($K$5:K8248,1),\"\")","v":8244},{"$f":"IF(ISNUMBER(SEARCH('Bilgi Girişi'!$E$4,KalemAdı,1))=TRUE,1,0)","v":1},"Aile planlaması hizmetleri","Hizmet",85312330,null,null,"Sosyal hizmetler"]
[null,null,null,null,null,null,null,8249,85321000,{"$f":"IF(K8253=1,COUNTIF($K$5:K8253,1),\"\")","v":8249},{"$f":"IF(ISNUMBER(SEARCH('Bilgi Girişi'!$E$4,KalemAdı,1))=TRUE,1,0)","v":1},"İdari sosyal hizmetler","Hizmet",85321000,null,null,"Kanalizasyon hizmetleri"]
[null,null,null,null,null,null,null,8252,90000000,{"$f":"IF(K8256=1,COUNTIF($K$5:K8256,1),\"\")","v":8252},{"$f":"IF(ISNUMBER(SEARCH('Bilgi Girişi'!$E$4,KalemAdı,1))=TRUE,1,0)","v":1},"Kanalizasyon, çöp temizlik ve çevre hizmetleri","Hizmet",90000000,null,null,"Kanalizasyon boşaltma hizmetleri"]
[null,null,null,null,null,null,null,8254,90410000,{"$f":"IF(K8258=1,COUNTIF($K$5:K8258,1),\"\")","v":8254},{"$f":"IF(ISNUMBER(SEARCH('Bilgi Girişi'!$E$4,KalemAdı,1))=TRUE,1,0)","v":1},"Kanalizasyon kaldırma hizmetleri","Hizmet",90410000,null,null,"Foseptik çukuru arıtma hizmetleri"]
[null,null,null,null,null,null,null,8259,90460000,{"$f":"IF(K8263=1,COUNTIF($K$5:K8263,1),\"\")","v":8259},{"$f":"IF(ISNUMBER(SEARCH('Bilgi Girişi'!$E$4,KalemAdı,1))=TRUE,1,0)","v":1},"Çöplük veya foseptik tankı boşaltma hizmetleri","Hizmet",90460000,null,null,"Kanalizasyon araştırması ve kanalizasyon arıtma danışmanlık hizmetleri"]
[null,null,null,null,null,null,null,8261,90480000,{"$f":"IF(K8265=1,COUNTIF($K$5:K8265,1),\"\")","v":8261},{"$f":"IF(ISNUMBER(SEARCH('Bilgi Girişi'!$E$4,KalemAdı,1))=TRUE,1,0)","v":1},"Kanalizasyon yönetimi hizmetleri","Hizmet",90480000,null,null,"Kanalizasyon arıtma danışmanlık hizmetleri"]
[null,null,null,null,null,null,null,8264,90491000,{"$f":"IF(K8268=1,COUNTIF($K$5:K8268,1),\"\")","v":8264},{"$f":"IF(ISNUMBER(SEARCH('Bilgi Girişi'!$E$4,KalemAdı,1))=TRUE,1,0)","v":1},"Kanalizasyon inceleme işleri","Hizmet",90491000,null,null,"Çöp toplama hizmetleri"]
[null,null,null,null,null,null,null,8269,90511100,{"$f":"IF(K8273=1,COUNTIF($K$5:K8273,1),\"\")","v":8269},{"$f":"IF(ISNUMBER(SEARCH('Bilgi Girişi'!$E$4,KalemAdı,1))=TRUE,1,0)","v":1},"Kentin katı atık toplama hizmetleri","Hizmet",90511100,null,null,"Çöp taşıma hizmetleri"]
[null,null,null,null,null,null,null,8273,90512000,{"$f":"IF(K8277=1,COUNTIF($K$5:K8277,1),\"\")","v":8273},{"$f":"IF(ISNUMBER(SEARCH('Bilgi Girişi'!$E$4,KalemAdı,1))=TRUE,1,0)","v":1},"Çöp taşıma hizmetleri","Hizmet",90512000,null,null,"Çöp yakma hizmetleri"]
[null,null,null,null,null,null,null,8277,90513300,{"$f":"IF(K8281=1,COUNTIF($K$5:K8281,1),\"\")","v":8277},{"$f":"IF(ISNUMBER(SEARCH('Bilgi Girişi'!$E$4,KalemAdı,1))=TRUE,1,0)","v":1},"Çöp yakma hizmetleri","Hizmet",90513300,null,null,"Çamur taşıma hizmetleri"]
[null,null,null,null,null,null,null,8278,90513400,{"$f":"IF(K8282=1,COUNTIF($K$5:K8282,1),\"\")","v":8278},{"$f":"IF(ISNUMBER(SEARCH('Bilgi Girişi'!$E$4,KalemAdı,1))=TRUE,1,0)","v":1},"Kül imha hizmetleri","Hizmet",90513400,null,null,"Çamur işleme hizmetleri"]
[null,null,null,null,null,null,null,8284,90514000,{"$f":"IF(K8288=1,COUNTIF($K$5:K8288,1),\"\")","v":8284},{"$f":"IF(ISNUMBER(SEARCH('Bilgi Girişi'!$E$4,KalemAdı,1))=TRUE,1,0)","v":1},"Çöp geri dönüşüm hizmetleri","Hizmet",90514000,null,null,"Radyoaktif atık depolama hizmetleri"]
[null,null,null,null,null,null,null,8287,90521100,{"$f":"IF(K8291=1,COUNTIF($K$5:K8291,1),\"\")","v":8287},{"$f":"IF(ISNUMBER(SEARCH('Bilgi Girişi'!$E$4,KalemAdı,1))=TRUE,1,0)","v":1},"Radyoaktif atık toplama hizmetleri","Hizmet",90521100,null,null,"Düşük düzeyde nükleer atık nakliyesi"]
[null,null,null,null,null,null,null,8289,90521300,{"$f":"IF(K8293=1,COUNTIF($K$5:K8293,1),\"\")","v":8289},{"$f":"IF(ISNUMBER(SEARCH('Bilgi Girişi'!$E$4,KalemAdı,1))=TRUE,1,0)","v":1},"Radyoaktif atık imha hizmetleri","Hizmet",90521300,null,null,"Radyoaktif atık ambalajlaması"]
[null,null,null,null,null,null,null,8292,90521420,{"$f":"IF(K8296=1,COUNTIF($K$5:K8296,1),\"\")","v":8292},{"$f":"IF(ISNUMBER(SEARCH('Bilgi Girişi'!$E$4,KalemAdı,1))=TRUE,1,0)","v":1},"Orta düzeyde nükleer atık nakliyesi","Hizmet",90521420,null,null,"Kirlenmiş toprakla ilgili hizmetler"]
[null,null,null,null,null,null,null,8297,90522100,{"$f":"IF(K8301=1,COUNTIF($K$5:K8301,1),\"\")","v":8297},{"$f":"IF(ISNUMBER(SEARCH('Bilgi Girişi'!$E$4,KalemAdı,1))=TRUE,1,0)","v":1},"Kirlenmiş toprağın kaldırılması hizmetleri","Hizmet",90522100,null,null,"Radyoaktif atık ve kirlenmiş toprak dışında kalan toksik atık imha hizmetleri"]
[null,null,null,null,null,null,null,8301,90523000,{"$f":"IF(K8305=1,COUNTIF($K$5:K8305,1),\"\")","v":8301},{"$f":"IF(ISNUMBER(SEARCH('Bilgi Girişi'!$E$4,KalemAdı,1))=TRUE,1,0)","v":1},"Radyoaktif atık ve kirlenmiş toprak dışında kalan toksik atık imha hizmetleri","Hizmet",90523000,null,null,"Tıbbi atık hizmetleri"]
[null,null,null,null,null,null,null,8306,90524100,{"$f":"IF(K8310=1,COUNTIF($K$5:K8310,1),\"\")","v":8306},{"$f":"IF(ISNUMBER(SEARCH('Bilgi Girişi'!$E$4,KalemAdı,1))=TRUE,1,0)","v":1},"Klinik atık toplama hizmetleri","Hizmet",90524100,null,null,"Katı atık döküm alanı işletmeciliği hizmetleri"]
[null,null,null,null,null,null,null,8309,90524400,{"$f":"IF(K8313=1,COUNTIF($K$5:K8313,1),\"\")","v":8309},{"$f":"IF(ISNUMBER(SEARCH('Bilgi Girişi'!$E$4,KalemAdı,1))=TRUE,1,0)","v":1},"Hastane atıklarının toplanması, nakliyesi ve imhası hizmetleri","Hizmet",90524400,null,null,"Hurdalık yönetim hizmetleri"]
[null,null,null,null,null,null,null,8311,90531000,{"$f":"IF(K8315=1,COUNTIF($K$5:K8315,1),\"\")","v":8311},{"$f":"IF(ISNUMBER(SEARCH('Bilgi Girişi'!$E$4,KalemAdı,1))=TRUE,1,0)","v":1},"Toprak dolgu yönetimi hizmetleri","Hizmet",90531000,null,null,"Sokak temizleme ve süpürme hizmetleri"]
[null,null,null,null,null,null,null,8314,90600000,{"$f":"IF(K8318=1,COUNTIF($K$5:K8318,1),\"\")","v":8314},{"$f":"IF(ISNUMBER(SEARCH('Bilgi Girişi'!$E$4,KalemAdı,1))=TRUE,1,0)","v":1},"Kent ve kırsal alanlarda temizlik  ve sağlık koruma hizmetleri ve ilgili","Hizmet",90600000,null,null,"Kar kaldırma ve temizleme hizmetleri"]
[null,null,null,null,null,null,null,8320,90640000,{"$f":"IF(K8324=1,COUNTIF($K$5:K8324,1),\"\")","v":8320},{"$f":"IF(ISNUMBER(SEARCH('Bilgi Girişi'!$E$4,KalemAdı,1))=TRUE,1,0)","v":1},"Rögar temizleme ve boşaltma hizmetleri","Hizmet",90640000,null,null,"Kurşundan arındırma hizmetleri"]
[null,null,null,null,null,null,null,8322,90642000,{"$f":"IF(K8326=1,COUNTIF($K$5:K8326,1),\"\")","v":8322},{"$f":"IF(ISNUMBER(SEARCH('Bilgi Girişi'!$E$4,KalemAdı,1))=TRUE,1,0)","v":1},"Rögar boşaltma hizmetleri","Hizmet",90642000,null,null,{"$f":"IFERROR(VLOOKUP(ROW($P8326),$J$5:$L$9594,3,FALSE),\"\")","v":"Kumsal ve sahil temizleme hizmetleri"}]
[null,null,null,null,null,null,null,8325,90670000,{"$f":"IF(K8329=1,COUNTIF($K$5:K8329,1),\"\")","v":8325},{"$f":"IF(ISNUMBER(SEARCH('Bilgi Girişi'!$E$4,KalemAdı,1))=TRUE,1,0)","v":1},"Kentsel ve kırsal alanlarda dezenfekte etme ve imha etme hizmetleri","Hizmet",90670000,null,null,"Çevre yönetimi"]
[null,null,null,null,null,null,null,8329,90710000,{"$f":"IF(K8333=1,COUNTIF($K$5:K8333,1),\"\")","v":8329},{"$f":"IF(ISNUMBER(SEARCH('Bilgi Girişi'!$E$4,KalemAdı,1))=TRUE,1,0)","v":1},"Çevre yönetimi","Hizmet",90710000,null,null,"İnşaat dışında işler için çevre göstergeleri analizi"]
[null,null,null,null,null,null,null,8334,90711400,{"$f":"IF(K8338=1,COUNTIF($K$5:K8338,1),\"\")","v":8334},{"$f":"IF(ISNUMBER(SEARCH('Bilgi Girişi'!$E$4,KalemAdı,1))=TRUE,1,0)","v":1},"İnşaat dışında işler için Çevresel Etki Değerlendirmesi (ÇED) hizmetleri","Hizmet",90711400,null,null,"Orman koruma stratejisi planlaması"]
[null,null,null,null,null,null,null,8335,90711500,{"$f":"IF(K8339=1,COUNTIF($K$5:K8339,1),\"\")","v":8335},{"$f":"IF(ISNUMBER(SEARCH('Bilgi Girişi'!$E$4,KalemAdı,1))=TRUE,1,0)","v":1},"İnşaat dışında işler için çevresel izleme","Hizmet",90711500,null,null,"Deniz koruma stratejisi planlaması"]
[null,null,null,null,null,null,null,8341,90712500,{"$f":"IF(K8345=1,COUNTIF($K$5:K8345,1),\"\")","v":8341},{"$f":"IF(ISNUMBER(SEARCH('Bilgi Girişi'!$E$4,KalemAdı,1))=TRUE,1,0)","v":1},"Çevresel kurum oluşturma veya planlama","Hizmet",90712500,null,null,"Çevre bilgi sistemleri"]
[null,null,null,null,null,null,null,8344,90714000,{"$f":"IF(K8348=1,COUNTIF($K$5:K8348,1),\"\")","v":8344},{"$f":"IF(ISNUMBER(SEARCH('Bilgi Girişi'!$E$4,KalemAdı,1))=TRUE,1,0)","v":1},"Çevre  denetimi","Hizmet",90714000,null,null,"Faaliyete özgü çevre denetim hizmetleri"]
[null,null,null,null,null,null,null,8346,90714200,{"$f":"IF(K8350=1,COUNTIF($K$5:K8350,1),\"\")","v":8346},{"$f":"IF(ISNUMBER(SEARCH('Bilgi Girişi'!$E$4,KalemAdı,1))=TRUE,1,0)","v":1},"Kurumsal çevre denetim hizmetleri","Hizmet",90714200,null,null,"Çevresel güvenlik kontrol hizmetleri"]
[null,null,null,null,null,null,null,8349,90714500,{"$f":"IF(K8353=1,COUNTIF($K$5:K8353,1),\"\")","v":8349},{"$f":"IF(ISNUMBER(SEARCH('Bilgi Girişi'!$E$4,KalemAdı,1))=TRUE,1,0)","v":1},"Çevresel kalite kontrol hizmetleri","Hizmet",90714500,null,null,"Havagazı işletmeleri saha incelemeleri"]
[null,null,null,null,null,null,null,8354,90715120,{"$f":"IF(K8358=1,COUNTIF($K$5:K8358,1),\"\")","v":8354},{"$f":"IF(ISNUMBER(SEARCH('Bilgi Girişi'!$E$4,KalemAdı,1))=TRUE,1,0)","v":1},"Kimyasal işlerin veya petrol rafinerilerinin atık depolama alanlarının teftişi","Hizmet",90715120,null,null,"Endüstriyel atık saha incelemesi"]
[null,null,null,null,null,null,null,8358,90715230,{"$f":"IF(K8362=1,COUNTIF($K$5:K8362,1),\"\")","v":8358},{"$f":"IF(ISNUMBER(SEARCH('Bilgi Girişi'!$E$4,KalemAdı,1))=TRUE,1,0)","v":1},"Endüstriyel atık saha incelemesi","Hizmet",90715230,null,null,"Geri dönüşüm tesisi saha incelemesi"]
[null,null,null,null,null,null,null,8362,90715270,{"$f":"IF(K8366=1,COUNTIF($K$5:K8366,1),\"\")","v":8362},{"$f":"IF(ISNUMBER(SEARCH('Bilgi Girişi'!$E$4,KalemAdı,1))=TRUE,1,0)","v":1},"Geri dönüşüm tesisi saha incelemesi","Hizmet",90715270,null,null,"Peyzaj koruma hizmetleri"]
[null,null,null,null,null,null,null,8363,90715280,{"$f":"IF(K8367=1,COUNTIF($K$5:K8367,1),\"\")","v":8363},{"$f":"IF(ISNUMBER(SEARCH('Bilgi Girişi'!$E$4,KalemAdı,1))=TRUE,1,0)","v":1},"Gıda işleme tesisi saha incelemesi","Hizmet",90715280,null,null,"Ozon tabakası koruma hizmetleri"]
[null,null,null,null,null,null,null,8367,90721200,{"$f":"IF(K8371=1,COUNTIF($K$5:K8371,1),\"\")","v":8367},{"$f":"IF(ISNUMBER(SEARCH('Bilgi Girişi'!$E$4,KalemAdı,1))=TRUE,1,0)","v":1},"Ozon tabakası koruma hizmetleri","Hizmet",90721200,null,null,"Radyasyondan koruma hizmetleri"]
[null,null,null,null,null,null,null,8372,90721700,{"$f":"IF(K8376=1,COUNTIF($K$5:K8376,1),\"\")","v":8372},{"$f":"IF(ISNUMBER(SEARCH('Bilgi Girişi'!$E$4,KalemAdı,1))=TRUE,1,0)","v":1},"Tehlikedeki türlerin koruma hizmetleri","Hizmet",90721700,null,null,"Çevre kirliliği giderme hizmetleri"]
[null,null,null,null,null,null,null,8377,90722300,{"$f":"IF(K8381=1,COUNTIF($K$5:K8381,1),\"\")","v":8377},{"$f":"IF(ISNUMBER(SEARCH('Bilgi Girişi'!$E$4,KalemAdı,1))=TRUE,1,0)","v":1},"Arazi ıslah hizmetleri","Hizmet",90722300,null,null,"Sınır ötesi hava kirliliği yönetimi veya kontrol hizmetleri"]
[null,null,null,null,null,null,null,8379,90731000,{"$f":"IF(K8383=1,COUNTIF($K$5:K8383,1),\"\")","v":8379},{"$f":"IF(ISNUMBER(SEARCH('Bilgi Girişi'!$E$4,KalemAdı,1))=TRUE,1,0)","v":1},"Hava kirliliği ile ilgili hizmetler","Hizmet",90731000,null,null,"Hava kirliliğinden koruma hizmetleri"]
[null,null,null,null,null,null,null,8382,90731210,{"$f":"IF(K8386=1,COUNTIF($K$5:K8386,1),\"\")","v":8382},{"$f":"IF(ISNUMBER(SEARCH('Bilgi Girişi'!$E$4,KalemAdı,1))=TRUE,1,0)","v":1},"CO2 emisyon kredisi satın alımı","Hizmet",90731210,null,null,"Metan izleme"]
[null,null,null,null,null,null,null,8386,90731600,{"$f":"IF(K8390=1,COUNTIF($K$5:K8390,1),\"\")","v":8386},{"$f":"IF(ISNUMBER(SEARCH('Bilgi Girişi'!$E$4,KalemAdı,1))=TRUE,1,0)","v":1},"Metan izleme","Hizmet",90731600,null,null,{"$f":"IFERROR(VLOOKUP(ROW($P8390),$J$5:$L$9594,3,FALSE),\"\")","v":"Kirliliği ile ilgili hizmetler"}]
[null,null,null,null,null,null,null,8391,90732100,{"$f":"IF(K8395=1,COUNTIF($K$5:K8395,1),\"\")","v":8391},{"$f":"IF(ISNUMBER(SEARCH('Bilgi Girişi'!$E$4,KalemAdı,1))=TRUE,1,0)","v":1},"Toprak kirliliği koruma hizmetleri","Hizmet",90732100,null,null,"Toprak kirliliği haritalama"]
[null,null,null,null,null,null,null,8394,90732400,{"$f":"IF(K8398=1,COUNTIF($K$5:K8398,1),\"\")","v":8394},{"$f":"IF(ISNUMBER(SEARCH('Bilgi Girişi'!$E$4,KalemAdı,1))=TRUE,1,0)","v":1},"Toprak kirliliği danışmanlık hizmetleri","Hizmet",90732400,null,null,"Pestisitler kirliliği değerlendirmesi"]
[null,null,null,null,null,null,null,8396,90732600,{"$f":"IF(K8400=1,COUNTIF($K$5:K8400,1),\"\")","v":8396},{"$f":"IF(ISNUMBER(SEARCH('Bilgi Girişi'!$E$4,KalemAdı,1))=TRUE,1,0)","v":1},"Toprak kirliliği ölçüm ve izleme","Hizmet",90732600,null,null,"Nitrat kirliliği değerlendirmesi"]
[null,null,null,null,null,null,null,8399,90732900,{"$f":"IF(K8403=1,COUNTIF($K$5:K8403,1),\"\")","v":8399},{"$f":"IF(ISNUMBER(SEARCH('Bilgi Girişi'!$E$4,KalemAdı,1))=TRUE,1,0)","v":1},"Nitrat ve fosfat kirliliği değerlendirmesi","Hizmet",90732900,null,null,"Yüzey suyu kirliliği izleme ve kontrol hizmetleri"]
[null,null,null,null,null,null,null,8405,90733300,{"$f":"IF(K8409=1,COUNTIF($K$5:K8409,1),\"\")","v":8405},{"$f":"IF(ISNUMBER(SEARCH('Bilgi Girişi'!$E$4,KalemAdı,1))=TRUE,1,0)","v":1},"Yüzey suyu kirliliğinden korunma hizmetleri","Hizmet",90733300,null,null,"Yeraltı suyu kirliliği izleme veya kontrol hizmetleri"]
[null,null,null,null,null,null,null,8407,90733500,{"$f":"IF(K8411=1,COUNTIF($K$5:K8411,1),\"\")","v":8407},{"$f":"IF(ISNUMBER(SEARCH('Bilgi Girişi'!$E$4,KalemAdı,1))=TRUE,1,0)","v":1},"Yüzey suyu kirliliği drenaj hizmetleri","Hizmet",90733500,null,null,"Yeraltı suyu kirliliği iyileştirme veya rehabilitasyon"]
[null,null,null,null,null,null,null,8410,90733800,{"$f":"IF(K8414=1,COUNTIF($K$5:K8414,1),\"\")","v":8410},{"$f":"IF(ISNUMBER(SEARCH('Bilgi Girişi'!$E$4,KalemAdı,1))=TRUE,1,0)","v":1},"Yeraltı suyu kirliliği drenaj hizmetleri","Hizmet",90733800,null,null,"Petrol dökülmesi izleme hizmetleri"]
[null,null,null,null,null,null,null,8415,90741200,{"$f":"IF(K8419=1,COUNTIF($K$5:K8419,1),\"\")","v":8415},{"$f":"IF(ISNUMBER(SEARCH('Bilgi Girişi'!$E$4,KalemAdı,1))=TRUE,1,0)","v":1},"Petrol dökülmesi kontrol hizmetleri","Hizmet",90741200,null,null,"Gürültü kirliliğinden korunma hizmetleri"]
[null,null,null,null,null,null,null,8419,90742200,{"$f":"IF(K8423=1,COUNTIF($K$5:K8423,1),\"\")","v":8419},{"$f":"IF(ISNUMBER(SEARCH('Bilgi Girişi'!$E$4,KalemAdı,1))=TRUE,1,0)","v":1},"Gürültü kirliliğinden korunma hizmetleri","Hizmet",90742200,null,null,"Toksik maddeleri izleme hizmetleri"]
[null,null,null,null,null,null,null,8420,90742300,{"$f":"IF(K8424=1,COUNTIF($K$5:K8424,1),\"\")","v":8420},{"$f":"IF(ISNUMBER(SEARCH('Bilgi Girişi'!$E$4,KalemAdı,1))=TRUE,1,0)","v":1},"Gürültü kirliliği izleme hizmetleri","Hizmet",90742300,null,null,"Toksik maddeleri rehabilitasyon hizmetleri"]
[null,null,null,null,null,null,null,8424,90743200,{"$f":"IF(K8428=1,COUNTIF($K$5:K8428,1),\"\")","v":8424},{"$f":"IF(ISNUMBER(SEARCH('Bilgi Girişi'!$E$4,KalemAdı,1))=TRUE,1,0)","v":1},"Toksik maddeleri rehabilitasyon hizmetleri","Hizmet",90743200,null,null,"Mesken temizlik hizmetleri"]
[null,null,null,null,null,null,null,8429,90911200,{"$f":"IF(K8433=1,COUNTIF($K$5:K8433,1),\"\")","v":8429},{"$f":"IF(ISNUMBER(SEARCH('Bilgi Girişi'!$E$4,KalemAdı,1))=TRUE,1,0)","v":1},"Bina temizliği hizmetleri","Hizmet",90911200,null,null,"Depo ve tank temizlik hizmetleri"]
[null,null,null,null,null,null,null,8431,90912000,{"$f":"IF(K8435=1,COUNTIF($K$5:K8435,1),\"\")","v":8431},{"$f":"IF(ISNUMBER(SEARCH('Bilgi Girişi'!$E$4,KalemAdı,1))=TRUE,1,0)","v":1},"Boru strüktürleri için basınçlı temizleme hizmetleri","Hizmet",90912000,null,null,"Otopark temizlik hizmetleri"]
[null,null,null,null,null,null,null,8434,90913200,{"$f":"IF(K8438=1,COUNTIF($K$5:K8438,1),\"\")","v":8434},{"$f":"IF(ISNUMBER(SEARCH('Bilgi Girişi'!$E$4,KalemAdı,1))=TRUE,1,0)","v":1},"Sarnıç temizleme hizmetleri","Hizmet",90913200,null,null,"Ulaştırma ekipmanı temizlik hizmetleri"]
[null,null,null,null,null,null,null,8439,90918000,{"$f":"IF(K8443=1,COUNTIF($K$5:K8443,1),\"\")","v":8439},{"$f":"IF(ISNUMBER(SEARCH('Bilgi Girişi'!$E$4,KalemAdı,1))=TRUE,1,0)","v":1},"Çöp tenekesi temizlik hizmetleri","Hizmet",90918000,null,null,"Okul temizlik hizmetleri"]
[null,null,null,null,null,null,null,8443,90919300,{"$f":"IF(K8447=1,COUNTIF($K$5:K8447,1),\"\")","v":8443},{"$f":"IF(ISNUMBER(SEARCH('Bilgi Girişi'!$E$4,KalemAdı,1))=TRUE,1,0)","v":1},"Okul temizlik hizmetleri","Hizmet",90919300,null,null,"Fare ve sıçanla mücadele hizmetleri"]
[null,null,null,null,null,null,null,8447,90923000,{"$f":"IF(K8451=1,COUNTIF($K$5:K8451,1),\"\")","v":8447},{"$f":"IF(ISNUMBER(SEARCH('Bilgi Girişi'!$E$4,KalemAdı,1))=TRUE,1,0)","v":1},"Fare ve sıçanla mücadele hizmetleri","Hizmet",90923000,null,null,"Hareketli resim ve video kaset üretimi ve ilgili hizmetler"]
[null,null,null,null,null,null,null,8448,90924000,{"$f":"IF(K8452=1,COUNTIF($K$5:K8452,1),\"\")","v":8448},{"$f":"IF(ISNUMBER(SEARCH('Bilgi Girişi'!$E$4,KalemAdı,1))=TRUE,1,0)","v":1},"İlaçlama ve dezenfekte hizmetleri","Hizmet",90924000,null,null,"Sinema ve video üretim hizmetleri"]
[null,null,null,null,null,null,null,8453,92111100,{"$f":"IF(K8457=1,COUNTIF($K$5:K8457,1),\"\")","v":8453},{"$f":"IF(ISNUMBER(SEARCH('Bilgi Girişi'!$E$4,KalemAdı,1))=TRUE,1,0)","v":1},"Eğitici film ve video bant üretimi","Hizmet",92111100,null,null,"Propaganda amaçlı film üretimi hizmetleri"]
[null,null,null,null,null,null,null,8456,92111220,{"$f":"IF(K8460=1,COUNTIF($K$5:K8460,1),\"\")","v":8456},{"$f":"IF(ISNUMBER(SEARCH('Bilgi Girişi'!$E$4,KalemAdı,1))=TRUE,1,0)","v":1},"Reklam amaçlı video bant üretim hizmetleri","Hizmet",92111220,null,null,"Bilgilendirme amaçlı ve belgesel video bant üretimi hizmetleri"]
[null,null,null,null,null,null,null,8462,92111310,{"$f":"IF(K8466=1,COUNTIF($K$5:K8466,1),\"\")","v":8462},{"$f":"IF(ISNUMBER(SEARCH('Bilgi Girişi'!$E$4,KalemAdı,1))=TRUE,1,0)","v":1},"Eğlencelik film üretimi hizmetleri","Hizmet",92111310,null,null,"Video bant dağıtım hizmetleri"]
[null,null,null,null,null,null,null,8464,92112000,{"$f":"IF(K8468=1,COUNTIF($K$5:K8468,1),\"\")","v":8464},{"$f":"IF(ISNUMBER(SEARCH('Bilgi Girişi'!$E$4,KalemAdı,1))=TRUE,1,0)","v":1},"Sinema filmi ve video bant üretimi ile bağlantılı hizmetler","Hizmet",92112000,null,null,"Sinema filmi oynatıcı projeksiyon cihaz temini ve hizmetleri"]
[null,null,null,null,null,null,null,8467,92122000,{"$f":"IF(K8471=1,COUNTIF($K$5:K8471,1),\"\")","v":8467},{"$f":"IF(ISNUMBER(SEARCH('Bilgi Girişi'!$E$4,KalemAdı,1))=TRUE,1,0)","v":1},"Motion Picture dağıtım hizmetleri","Hizmet",92122000,null,null,"Radyo hizmetleri"]
[null,null,null,null,null,null,null,8472,92211000,{"$f":"IF(K8476=1,COUNTIF($K$5:K8476,1),\"\")","v":8472},{"$f":"IF(ISNUMBER(SEARCH('Bilgi Girişi'!$E$4,KalemAdı,1))=TRUE,1,0)","v":1},"Radyo üretim hizmetleri","Hizmet",92211000,null,null,"Aile Radyo Servisi (FRS)"]
[null,null,null,null,null,null,null,8476,92216000,{"$f":"IF(K8480=1,COUNTIF($K$5:K8480,1),\"\")","v":8476},{"$f":"IF(ISNUMBER(SEARCH('Bilgi Girişi'!$E$4,KalemAdı,1))=TRUE,1,0)","v":1},"Aile Radyo Servisi (FRS)","Hizmet",92216000,null,null,"Kapalı devre televizyon hizmetleri"]
[null,null,null,null,null,null,null,8479,92221000,{"$f":"IF(K8483=1,COUNTIF($K$5:K8483,1),\"\")","v":8479},{"$f":"IF(ISNUMBER(SEARCH('Bilgi Girişi'!$E$4,KalemAdı,1))=TRUE,1,0)","v":1},"Televizyon üretim hizmetleri","Hizmet",92221000,null,null,"İsteğe bağlı film gösteren televizyon"]
[null,null,null,null,null,null,null,8481,92224000,{"$f":"IF(K8485=1,COUNTIF($K$5:K8485,1),\"\")","v":8481},{"$f":"IF(ISNUMBER(SEARCH('Bilgi Girişi'!$E$4,KalemAdı,1))=TRUE,1,0)","v":1},"Dijital televizyon","Hizmet",92224000,null,null,"Radyo ve televizyon kablolu yayın hizmetleri"]
[null,null,null,null,null,null,null,8486,92231000,{"$f":"IF(K8490=1,COUNTIF($K$5:K8490,1),\"\")","v":8486},{"$f":"IF(ISNUMBER(SEARCH('Bilgi Girişi'!$E$4,KalemAdı,1))=TRUE,1,0)","v":1},"Uluslararası ikili hizmetler ve uluslararası özel kiralık hatlar","Hizmet",92231000,null,null,"Sanat eserleri"]
[null,null,null,null,null,null,null,8488,92300000,{"$f":"IF(K8492=1,COUNTIF($K$5:K8492,1),\"\")","v":8488},{"$f":"IF(ISNUMBER(SEARCH('Bilgi Girişi'!$E$4,KalemAdı,1))=TRUE,1,0)","v":1},"Eğlence hizmetleri","Hizmet",92300000,null,null,"Tiyatro yapımcıları, müzik grupları, bando ve orkestralar tarafından verilen"]
[null,null,null,null,null,null,null,8491,92312000,{"$f":"IF(K8495=1,COUNTIF($K$5:K8495,1),\"\")","v":8491},{"$f":"IF(ISNUMBER(SEARCH('Bilgi Girişi'!$E$4,KalemAdı,1))=TRUE,1,0)","v":1},"Sanatsal hizmetler","Hizmet",92312000,null,null,"Bando tarafından verilen eğlence hizmetleri"]
[null,null,null,null,null,null,null,8496,92312140,{"$f":"IF(K8500=1,COUNTIF($K$5:K8500,1),\"\")","v":8496},{"$f":"IF(ISNUMBER(SEARCH('Bilgi Girişi'!$E$4,KalemAdı,1))=TRUE,1,0)","v":1},"Orkestralar tarafından verilen eğlence hizmetleri","Hizmet",92312140,null,null,"Eğitim kılavuzlarının hazırlanması ile ilgili hizmetler"]
[null,null,null,null,null,null,null,8500,92312212,{"$f":"IF(K8504=1,COUNTIF($K$5:K8504,1),\"\")","v":8500},{"$f":"IF(ISNUMBER(SEARCH('Bilgi Girişi'!$E$4,KalemAdı,1))=TRUE,1,0)","v":1},"Eğitim kılavuzlarının hazırlanması ile ilgili hizmetler","Hizmet",92312212,null,null,"Komedyenler tarafından sağlanan hizmetler"]
[null,null,null,null,null,null,null,8504,92312240,{"$f":"IF(K8508=1,COUNTIF($K$5:K8508,1),\"\")","v":8504},{"$f":"IF(ISNUMBER(SEARCH('Bilgi Girişi'!$E$4,KalemAdı,1))=TRUE,1,0)","v":1},"Komedyenler tarafından sağlanan hizmetler","Hizmet",92312240,null,null,"Rekreasyon alanı hizmetleri"]
[null,null,null,null,null,null,null,8505,92312250,{"$f":"IF(K8509=1,COUNTIF($K$5:K8509,1),\"\")","v":8505},{"$f":"IF(ISNUMBER(SEARCH('Bilgi Girişi'!$E$4,KalemAdı,1))=TRUE,1,0)","v":1},"Bireysel sanatçılar tarafından temin edilen hizmetler","Hizmet",92312250,null,null,"Fuar ve eğlence parkı hizmetleri"]
[null,null,null,null,null,null,null,8509,92331000,{"$f":"IF(K8513=1,COUNTIF($K$5:K8513,1),\"\")","v":8509},{"$f":"IF(ISNUMBER(SEARCH('Bilgi Girişi'!$E$4,KalemAdı,1))=TRUE,1,0)","v":1},"Fuar ve eğlence parkı hizmetleri","Hizmet",92331000,null,null,"Plaj ve kumsal hizmetleri"]
[null,null,null,null,null,null,null,8514,92340000,{"$f":"IF(K8518=1,COUNTIF($K$5:K8518,1),\"\")","v":8514},{"$f":"IF(ISNUMBER(SEARCH('Bilgi Girişi'!$E$4,KalemAdı,1))=TRUE,1,0)","v":1},"Dans ve gösteri eğlence hizmetleri","Hizmet",92340000,null,null,{"$f":"IFERROR(VLOOKUP(ROW($P8518),$J$5:$L$9594,3,FALSE),\"\")","v":"Diskotek dansları öğretim hizmetleri"}]
[null,null,null,null,null,null,null,8517,92342100,{"$f":"IF(K8521=1,COUNTIF($K$5:K8521,1),\"\")","v":8517},{"$f":"IF(ISNUMBER(SEARCH('Bilgi Girişi'!$E$4,KalemAdı,1))=TRUE,1,0)","v":1},"Oda dansları dersleri ve hizmetleri","Hizmet",92342100,null,null,"Piyango işletmeciliği hizmetleri"]
[null,null,null,null,null,null,null,8519,92350000,{"$f":"IF(K8523=1,COUNTIF($K$5:K8523,1),\"\")","v":8519},{"$f":"IF(ISNUMBER(SEARCH('Bilgi Girişi'!$E$4,KalemAdı,1))=TRUE,1,0)","v":1},"Kumar ve müşterek bahis hizmetleri","Hizmet",92350000,null,null,"Müşterek bahis hizmetleri"]
[null,null,null,null,null,null,null,8524,92352100,{"$f":"IF(K8528=1,COUNTIF($K$5:K8528,1),\"\")","v":8524},{"$f":"IF(ISNUMBER(SEARCH('Bilgi Girişi'!$E$4,KalemAdı,1))=TRUE,1,0)","v":1},"At yarışı vb.  bayi hizmetleri","Hizmet",92352100,null,null,"Haber ajansı hizmetleri"]
[null,null,null,null,null,null,null,8529,92500000,{"$f":"IF(K8533=1,COUNTIF($K$5:K8533,1),\"\")","v":8529},{"$f":"IF(ISNUMBER(SEARCH('Bilgi Girişi'!$E$4,KalemAdı,1))=TRUE,1,0)","v":1},"Kütüphane, arşivler, müzeler ve diğer kültürel hizmetleri","Hizmet",92500000,null,null,"Arşiv imha hizmetleri"]
[null,null,null,null,null,null,null,8533,92512100,{"$f":"IF(K8537=1,COUNTIF($K$5:K8537,1),\"\")","v":8533},{"$f":"IF(ISNUMBER(SEARCH('Bilgi Girişi'!$E$4,KalemAdı,1))=TRUE,1,0)","v":1},"Arşiv imha hizmetleri","Hizmet",92512100,null,null,"Eser ve antikaların korunması hizmetleri"]
[null,null,null,null,null,null,null,8536,92521100,{"$f":"IF(K8540=1,COUNTIF($K$5:K8540,1),\"\")","v":8536},{"$f":"IF(ISNUMBER(SEARCH('Bilgi Girişi'!$E$4,KalemAdı,1))=TRUE,1,0)","v":1},"Müze sergi hizmetleri","Hizmet",92521100,null,null,"Tarihi mekan ve yapıların korunması hizmetleri"]
[null,null,null,null,null,null,null,8538,92521210,{"$f":"IF(K8542=1,COUNTIF($K$5:K8542,1),\"\")","v":8538},{"$f":"IF(ISNUMBER(SEARCH('Bilgi Girişi'!$E$4,KalemAdı,1))=TRUE,1,0)","v":1},"Sergilenecek eserlerin korunması hizmetleri","Hizmet",92521210,null,null,"Tarihi binaların korunması hizmetleri"]
[null,null,null,null,null,null,null,8541,92522100,{"$f":"IF(K8545=1,COUNTIF($K$5:K8545,1),\"\")","v":8541},{"$f":"IF(ISNUMBER(SEARCH('Bilgi Girişi'!$E$4,KalemAdı,1))=TRUE,1,0)","v":1},"Tarihi mekanların korunması hizmetleri","Hizmet",92522100,null,null,"Hayvanat bahçesi hizmetleri"]
[null,null,null,null,null,null,null,8547,92534000,{"$f":"IF(K8551=1,COUNTIF($K$5:K8551,1),\"\")","v":8547},{"$f":"IF(ISNUMBER(SEARCH('Bilgi Girişi'!$E$4,KalemAdı,1))=TRUE,1,0)","v":1},"Vahşi yaşamı koruma hizmetleri","Hizmet",92534000,null,null,"Spor olaylarını tanıtım ve teşvik hizmetleri"]
[null,null,null,null,null,null,null,8549,92610000,{"$f":"IF(K8553=1,COUNTIF($K$5:K8553,1),\"\")","v":8549},{"$f":"IF(ISNUMBER(SEARCH('Bilgi Girişi'!$E$4,KalemAdı,1))=TRUE,1,0)","v":1},"Spor tesisleri işletmeciliği hizmetleri","Hizmet",92610000,null,null,"Siberkafe hizmetleri"]
[null,null,null,null,null,null,null,8552,92622000,{"$f":"IF(K8556=1,COUNTIF($K$5:K8556,1),\"\")","v":8552},{"$f":"IF(ISNUMBER(SEARCH('Bilgi Girişi'!$E$4,KalemAdı,1))=TRUE,1,0)","v":1},"Spor-etkinlik organizasyon hizmetleri","Hizmet",92622000,null,null,"İş, profesyonel ve uzman kuruluşlar tarafından verilen hizmetler"]
[null,null,null,null,null,null,null,8557,98111000,{"$f":"IF(K8561=1,COUNTIF($K$5:K8561,1),\"\")","v":8557},{"$f":"IF(ISNUMBER(SEARCH('Bilgi Girişi'!$E$4,KalemAdı,1))=TRUE,1,0)","v":1},"İş örgütleri tarafından sağlanan hizmetler","Hizmet",98111000,null,null,"Ticari birlikler tarafından temin edilen hizmetler"]
[null,null,null,null,null,null,null,8561,98120000,{"$f":"IF(K8565=1,COUNTIF($K$5:K8565,1),\"\")","v":8561},{"$f":"IF(ISNUMBER(SEARCH('Bilgi Girişi'!$E$4,KalemAdı,1))=TRUE,1,0)","v":1},"Ticari birlikler tarafından temin edilen hizmetler","Hizmet",98120000,null,null,"Sosyal üyelik örgütleri tarafından verilen hizmetler"]
[null,null,null,null,null,null,null,8562,98130000,{"$f":"IF(K8566=1,COUNTIF($K$5:K8566,1),\"\")","v":8562},{"$f":"IF(ISNUMBER(SEARCH('Bilgi Girişi'!$E$4,KalemAdı,1))=TRUE,1,0)","v":1},"Çeşitli üyelik organizasyonları hizmetleri","Hizmet",98130000,null,null,"Toplum düzeyini geliştirme ve toplumsal tesislerin desteklenmesi"]
[null,null,null,null,null,null,null,8566,98133100,{"$f":"IF(K8570=1,COUNTIF($K$5:K8570,1),\"\")","v":8566},{"$f":"IF(ISNUMBER(SEARCH('Bilgi Girişi'!$E$4,KalemAdı,1))=TRUE,1,0)","v":1},"Toplum düzeyini geliştirme ve toplumsal tesislerin desteklenmesi","Hizmet",98133100,null,null,"Yıkama ve kuru temizleme hizmetleri"]
[null,null,null,null,null,null,null,8571,98311000,{"$f":"IF(K8575=1,COUNTIF($K$5:K8575,1),\"\")","v":8571},{"$f":"IF(ISNUMBER(SEARCH('Bilgi Girişi'!$E$4,KalemAdı,1))=TRUE,1,0)","v":1},"Kirli çamaşır toplama hizmetleri","Hizmet",98311000,null,null,"Tekstil-emprenye hizmetleri"]
[null,null,null,null,null,null,null,8574,98312000,{"$f":"IF(K8578=1,COUNTIF($K$5:K8578,1),\"\")","v":8574},{"$f":"IF(ISNUMBER(SEARCH('Bilgi Girişi'!$E$4,KalemAdı,1))=TRUE,1,0)","v":1},"Tekstil ürünleri temizleme hizmetleri","Hizmet",98312000,null,null,"Presleme hizmetleri"]
[null,null,null,null,null,null,null,8576,98313000,{"$f":"IF(K8580=1,COUNTIF($K$5:K8580,1),\"\")","v":8576},{"$f":"IF(ISNUMBER(SEARCH('Bilgi Girişi'!$E$4,KalemAdı,1))=TRUE,1,0)","v":1},"Kürklü ürünleri temizleme hizmetleri","Hizmet",98313000,null,null,"Kuaför ve güzellik salonu hizmetleri"]
[null,null,null,null,null,null,null,8581,98321000,{"$f":"IF(K8585=1,COUNTIF($K$5:K8585,1),\"\")","v":8581},{"$f":"IF(ISNUMBER(SEARCH('Bilgi Girişi'!$E$4,KalemAdı,1))=TRUE,1,0)","v":1},"Saç kesim hizmetleri","Hizmet",98321000,null,null,"Kozmetik ürünler ile sunulan hizmetler"]
[null,null,null,null,null,null,null,8585,98322110,{"$f":"IF(K8589=1,COUNTIF($K$5:K8589,1),\"\")","v":8585},{"$f":"IF(ISNUMBER(SEARCH('Bilgi Girişi'!$E$4,KalemAdı,1))=TRUE,1,0)","v":1},"Kozmetik ürünler ile sunulan hizmetler","Hizmet",98322110,null,null,"Bedensel iyileştirme ve tazelik sağlama amacıyla verilen hizmetler"]
[null,null,null,null,null,null,null,8589,98330000,{"$f":"IF(K8593=1,COUNTIF($K$5:K8593,1),\"\")","v":8589},{"$f":"IF(ISNUMBER(SEARCH('Bilgi Girişi'!$E$4,KalemAdı,1))=TRUE,1,0)","v":1},"Bedensel iyileştirme ve tazelik sağlama amacıyla verilen hizmetler","Hizmet",98330000,null,null,"Sağlık hizmetleri"]
[null,null,null,null,null,null,null,8590,98331000,{"$f":"IF(K8594=1,COUNTIF($K$5:K8594,1),\"\")","v":8590},{"$f":"IF(ISNUMBER(SEARCH('Bilgi Girişi'!$E$4,KalemAdı,1))=TRUE,1,0)","v":1},"Türk hamamı hizmetleri","Hizmet",98331000,null,null,"İdman, egzersiz veya aerobik hizmetleri"]
[null,null,null,null,null,null,null,8594,98336000,{"$f":"IF(K8598=1,COUNTIF($K$5:K8598,1),\"\")","v":8594},{"$f":"IF(ISNUMBER(SEARCH('Bilgi Girişi'!$E$4,KalemAdı,1))=TRUE,1,0)","v":1},"İdman, egzersiz veya aerobik hizmetleri","Hizmet",98336000,null,null,"Derleme, toplama ve genel temizlik hizmetleri"]
[null,null,null,null,null,null,null,8599,98341120,{"$f":"IF(K8603=1,COUNTIF($K$5:K8603,1),\"\")","v":8599},{"$f":"IF(ISNUMBER(SEARCH('Bilgi Girişi'!$E$4,KalemAdı,1))=TRUE,1,0)","v":1},"Hamaliye hizmetleri","Hizmet",98341120,null,null,"Kamu tesisleri ile ilgili hizmetler"]
[null,null,null,null,null,null,null,8604,98351000,{"$f":"IF(K8608=1,COUNTIF($K$5:K8608,1),\"\")","v":8604},{"$f":"IF(ISNUMBER(SEARCH('Bilgi Girişi'!$E$4,KalemAdı,1))=TRUE,1,0)","v":1},"Otopark yönetim hizmetleri","Hizmet",98351000,null,null,"Suda verilen deniz hizmetleri"]
[null,null,null,null,null,null,null,8606,98351110,{"$f":"IF(K8610=1,COUNTIF($K$5:K8610,1),\"\")","v":8606},{"$f":"IF(ISNUMBER(SEARCH('Bilgi Girişi'!$E$4,KalemAdı,1))=TRUE,1,0)","v":1},"Otopark zabıta hizmetleri","Hizmet",98351110,null,null,"Deniz üssü destek hizmetleri"]
[null,null,null,null,null,null,null,8609,98362000,{"$f":"IF(K8613=1,COUNTIF($K$5:K8613,1),\"\")","v":8609},{"$f":"IF(ISNUMBER(SEARCH('Bilgi Girişi'!$E$4,KalemAdı,1))=TRUE,1,0)","v":1},"Liman yönetim hizmetleri","Hizmet",98362000,null,null,"Cenaze hizmetleri"]
[null,null,null,null,null,null,null,8614,98371100,{"$f":"IF(K8618=1,COUNTIF($K$5:K8618,1),\"\")","v":8614},{"$f":"IF(ISNUMBER(SEARCH('Bilgi Girişi'!$E$4,KalemAdı,1))=TRUE,1,0)","v":1},"Defin ve ölü yakma hizmetleri","Hizmet",98371100,null,null,"Taahhüt işleri"]
[null,null,null,null,null,null,null,8618,98371200,{"$f":"IF(K8622=1,COUNTIF($K$5:K8622,1),\"\")","v":8618},{"$f":"IF(ISNUMBER(SEARCH('Bilgi Girişi'!$E$4,KalemAdı,1))=TRUE,1,0)","v":1},"Taahhüt işleri","Hizmet",98371200,null,null,"Başka yere taşıma hizmetleri"]
[null,null,null,null,null,null,null,8619,98380000,{"$f":"IF(K8623=1,COUNTIF($K$5:K8623,1),\"\")","v":8619},{"$f":"IF(ISNUMBER(SEARCH('Bilgi Girişi'!$E$4,KalemAdı,1))=TRUE,1,0)","v":1},"Köpek barınağı hizmetleri","Hizmet",98380000,null,null,"Terzilik hizmetleri"]
[null,null,null,null,null,null,null,8623,98393000,{"$f":"IF(K8627=1,COUNTIF($K$5:K8627,1),\"\")","v":8623},{"$f":"IF(ISNUMBER(SEARCH('Bilgi Girişi'!$E$4,KalemAdı,1))=TRUE,1,0)","v":1},"Terzilik hizmetleri","Hizmet",98393000,null,null,"Özel personeli ile kiraya verilen özel haneler"]
[null,null,null,null,null,null,null,8626,98396000,{"$f":"IF(K8630=1,COUNTIF($K$5:K8630,1),\"\")","v":8626},{"$f":"IF(ISNUMBER(SEARCH('Bilgi Girişi'!$E$4,KalemAdı,1))=TRUE,1,0)","v":1},"Enstrüman ayarlama hizmetleri","Hizmet",98396000,null,null,"Sanayi işçileri tarafından temin edilen hizmetler"]
[null,null,null,null,null,null,null,8632,98513100,{"$f":"IF(K8636=1,COUNTIF($K$5:K8636,1),\"\")","v":8632},{"$f":"IF(ISNUMBER(SEARCH('Bilgi Girişi'!$E$4,KalemAdı,1))=TRUE,1,0)","v":1},"Ev işleri için acentalarca personel bulunması hizmetleri","Hizmet",98513100,null,null,"Evlere yönelik hizmetler"]
[null,null,null,null,null,null,null,8634,98513300,{"$f":"IF(K8638=1,COUNTIF($K$5:K8638,1),\"\")","v":8634},{"$f":"IF(ISNUMBER(SEARCH('Bilgi Girişi'!$E$4,KalemAdı,1))=TRUE,1,0)","v":1},"Meskenler için geçici personel","Hizmet",98513300,null,null,"Uluslararası örgütler ve kurumlara özel hizmetler"]
[null,null,null,null,null,null,null,8637,98900000,{"$f":"IF(K8641=1,COUNTIF($K$5:K8641,1),\"\")","v":8637},{"$f":"IF(ISNUMBER(SEARCH('Bilgi Girişi'!$E$4,KalemAdı,1))=TRUE,1,0)","v":1},"Ülke dışı örgütler ve kurumlar tarafından sağlanan hizmetler","Hizmet",98900000,null,null,"Çöp toplama ve nakli hizmetleri(makine ve ekipman ile araçlar ve/veya\nakaryakıtın idare tarafından karşılandığı)"]
[null,null,null,null,null,null,null,8642,905100002,{"$f":"IF(K8646=1,COUNTIF($K$5:K8646,1),\"\")","v":8642},{"$f":"IF(ISNUMBER(SEARCH('Bilgi Girişi'!$E$4,KalemAdı,1))=TRUE,1,0)","v":1},"Çöp toplama ve nakli hizmetleri(makine ve ekipman ile araçlar ve/veya\nakaryakıtın yüklenici tarafından sağlanacağı)","Hizmet",905100002,null,null,{"$f":"IFERROR(VLOOKUP(ROW($P8646),$J$5:$L$9594,3,FALSE),\"\")","v":"Atıksu tünelleri inşaatı işi"}]
[null,null,null,null,null,null,null,8646,452324111,{"$f":"IF(K8650=1,COUNTIF($K$5:K8650,1),\"\")","v":8646},{"$f":"IF(ISNUMBER(SEARCH('Bilgi Girişi'!$E$4,KalemAdı,1))=TRUE,1,0)","v":1},"Atıksu tünelleri inşaatı işi","Yapım",452324111,null,null,"İçme ve kullanma suyu şebekeleri"]
[null,null,null,null,null,null,null,8647,452212402,{"$f":"IF(K8651=1,COUNTIF($K$5:K8651,1),\"\")","v":8647},{"$f":"IF(ISNUMBER(SEARCH('Bilgi Girişi'!$E$4,KalemAdı,1))=TRUE,1,0)","v":1},"Metro tünelleri inşaatı işi","Yapım",452212402,null,null,"Mikrotünel işleri"]
[null,null,null,null,null,null,null,8651,452321502,{"$f":"IF(K8655=1,COUNTIF($K$5:K8655,1),\"\")","v":8651},{"$f":"IF(ISNUMBER(SEARCH('Bilgi Girişi'!$E$4,KalemAdı,1))=TRUE,1,0)","v":1},"Mikrotünel işleri","Yapım",452321502,null,null,"Raylı  sistemler inşaat işleri"]
[null,null,null,null,null,null,null,8656,452341003,{"$f":"IF(K8660=1,COUNTIF($K$5:K8660,1),\"\")","v":8656},{"$f":"IF(ISNUMBER(SEARCH('Bilgi Girişi'!$E$4,KalemAdı,1))=TRUE,1,0)","v":1},"Füniküler raylı taşıma inşaat işleri","Yapım",452341003,null,null,"Regülatörler, bentler, rezervuarlar"]
[null,null,null,null,null,null,null,8659,452472103,{"$f":"IF(K8663=1,COUNTIF($K$5:K8663,1),\"\")","v":8659},{"$f":"IF(ISNUMBER(SEARCH('Bilgi Girişi'!$E$4,KalemAdı,1))=TRUE,1,0)","v":1},"Kemer barajlar inşaat işleri","Yapım",452472103,null,null,"Taşkın koruma tesisleri işleri"]
[null,null,null,null,null,null,null,8661,452470002,{"$f":"IF(K8665=1,COUNTIF($K$5:K8665,1),\"\")","v":8661},{"$f":"IF(ISNUMBER(SEARCH('Bilgi Girişi'!$E$4,KalemAdı,1))=TRUE,1,0)","v":1},"Akarsu düzenleme işleri","Yapım",452470002,null,null,"Tarla içi geliştirme hizmetlerine ilişkin yapım işleri"]
[null,null,null,null,null,null,null,8667,452440002,{"$f":"IF(K8671=1,COUNTIF($K$5:K8671,1),\"\")","v":8667},{"$f":"IF(ISNUMBER(SEARCH('Bilgi Girişi'!$E$4,KalemAdı,1))=TRUE,1,0)","v":1},"Balıkçı barınakları, çekek yerleri işleri","Yapım",452440002,null,null,"Deniz içi tüp geçitleri işleri"]
[null,null,null,null,null,null,null,8670,452440005,{"$f":"IF(K8674=1,COUNTIF($K$5:K8674,1),\"\")","v":8670},{"$f":"IF(ISNUMBER(SEARCH('Bilgi Girişi'!$E$4,KalemAdı,1))=TRUE,1,0)","v":1},"Deniz altı boru hatları işleri","Yapım",452440005,null,null,"Sıvı yakıt santralleri"]
[null,null,null,null,null,null,null,8675,452511403,{"$f":"IF(K8679=1,COUNTIF($K$5:K8679,1),\"\")","v":8675},{"$f":"IF(ISNUMBER(SEARCH('Bilgi Girişi'!$E$4,KalemAdı,1))=TRUE,1,0)","v":1},"Doğalgaz santralleri","Yapım",452511403,null,null,"Maden çıkarma ile ilgili inşaat işleri"]
[null,null,null,null,null,null,null,8676,452511601,{"$f":"IF(K8680=1,COUNTIF($K$5:K8680,1),\"\")","v":8676},{"$f":"IF(ISNUMBER(SEARCH('Bilgi Girişi'!$E$4,KalemAdı,1))=TRUE,1,0)","v":1},"Rüzgar enerji santralleri işleri","Yapım",452511601,null,null,"Dekapaj işleri"]
[null,null,null,null,null,null,null,8680,452541002,{"$f":"IF(K8684=1,COUNTIF($K$5:K8684,1),\"\")","v":8680},{"$f":"IF(ISNUMBER(SEARCH('Bilgi Girişi'!$E$4,KalemAdı,1))=TRUE,1,0)","v":1},"Dekapaj işleri","Yapım",452541002,null,null,"Taşınmaz kültür varlıklarının  rekonstrüksiyon işleri"]
[null,null,null,null,null,null,null,8684,454531001,{"$f":"IF(K8688=1,COUNTIF($K$5:K8688,1),\"\")","v":8684},{"$f":"IF(ISNUMBER(SEARCH('Bilgi Girişi'!$E$4,KalemAdı,1))=TRUE,1,0)","v":1},"Taşınmaz kültür varlıklarının  rekonstrüksiyon işleri","Yapım",454531001,null,null,"Havaalanı terminal binaları (25.000 m2 ve üstü yapı inşaat alanı)"]
[null,null,null,null,null,null,null,8689,452123601,{"$f":"IF(K8693=1,COUNTIF($K$5:K8693,1),\"\")","v":8689},{"$f":"IF(ISNUMBER(SEARCH('Bilgi Girişi'!$E$4,KalemAdı,1))=TRUE,1,0)","v":1},"İbadethaneler (5.000 m2 ve üstü yapı inşaat alanı)","Yapım",452123601,null,null,"Müze ve konser salonları (20.000 m2 ve üstü yapı inşaat alanı)"]
[null,null,null,null,null,null,null,8691,452122001,{"$f":"IF(K8695=1,COUNTIF($K$5:K8695,1),\"\")","v":8691},{"$f":"IF(ISNUMBER(SEARCH('Bilgi Girişi'!$E$4,KalemAdı,1))=TRUE,1,0)","v":1},"Kapalı spor salonları (5.000 ve üstü seyirci kapasiteli)","Yapım",452122001,null,null,"Ticaret ve alışveriş merkez ve kompleksleri (25.000 m2 ve üstü yapı inşaat"]
[null,null,null,null,null,null,null,8694,452122201,{"$f":"IF(K8698=1,COUNTIF($K$5:K8698,1),\"\")","v":8694},{"$f":"IF(ISNUMBER(SEARCH('Bilgi Girişi'!$E$4,KalemAdı,1))=TRUE,1,0)","v":1},"Stadyum, hipodrom ve veledromlar (en az 20.000’i kapalı olmak üzere\ntoplam 25.000 ve üstü seyirci kapasiteli)","Yapım",452122201,null,null,"Uluslararası fuar merkez ve kompleksleri (en az 20.000 m2 si kapalı sergileme\nalanı olmak üzere toplam yapı inşaat alanı 25.000 m2 ve üstü)"]
[null,null,null,null,null,null,null,8699,452140001,{"$f":"IF(K8703=1,COUNTIF($K$5:K8703,1),\"\")","v":8699},{"$f":"IF(ISNUMBER(SEARCH('Bilgi Girişi'!$E$4,KalemAdı,1))=TRUE,1,0)","v":1},"Üniversite ve eğitim binaları (25.000 m2 ve üstü yapı inşaat alanı)","Yapım",452140001,null,null,"Atıksu tesisat İşleri"]
[null,null,null,null,null,null,null,8703,453323001,{"$f":"IF(K8707=1,COUNTIF($K$5:K8707,1),\"\")","v":8703},{"$f":"IF(ISNUMBER(SEARCH('Bilgi Girişi'!$E$4,KalemAdı,1))=TRUE,1,0)","v":1},"Atıksu tesisat İşleri","Yapım",453323001,null,null,"İklimlendirme  Tesisatı İşleri"]
[null,null,null,null,null,null,null,8704,453432201,{"$f":"IF(K8708=1,COUNTIF($K$5:K8708,1),\"\")","v":8704},{"$f":"IF(ISNUMBER(SEARCH('Bilgi Girişi'!$E$4,KalemAdı,1))=TRUE,1,0)","v":1},"Yangın Söndürme  Tesisatı İşleri","Yapım",453432201,null,null,"Yürüyen  bant işleri"]
[null,null,null,null,null,null,null,8708,453132101,{"$f":"IF(K8712=1,COUNTIF($K$5:K8712,1),\"\")","v":8708},{"$f":"IF(ISNUMBER(SEARCH('Bilgi Girişi'!$E$4,KalemAdı,1))=TRUE,1,0)","v":1},"Yürüyen  bant işleri","Yapım",453132101,null,null,"Enerji  iletim yeraltı kablo işler"]
[null,null,null,null,null,null,null,8713,452322102,{"$f":"IF(K8717=1,COUNTIF($K$5:K8717,1),\"\")","v":8713},{"$f":"IF(ISNUMBER(SEARCH('Bilgi Girişi'!$E$4,KalemAdı,1))=TRUE,1,0)","v":1},"Enerji dağıtım havai hatları","Yapım",452322102,null,null,"Kuvvet dağıtım tesisatı"]
[null,null,null,null,null,null,null,8716,452322104,{"$f":"IF(K8720=1,COUNTIF($K$5:K8720,1),\"\")","v":8716},{"$f":"IF(ISNUMBER(SEARCH('Bilgi Girişi'!$E$4,KalemAdı,1))=TRUE,1,0)","v":1},"Kompanzasyon  tesisleri","Yapım",452322104,null,null,"Kesintisiz güç kaynağı tesisatı"]
[null,null,null,null,null,null,null,8718,453100002,{"$f":"IF(K8722=1,COUNTIF($K$5:K8722,1),\"\")","v":8718},{"$f":"IF(ISNUMBER(SEARCH('Bilgi Girişi'!$E$4,KalemAdı,1))=TRUE,1,0)","v":1},"Topraklama ve koruma sistemleri","Yapım",453100002,null,null,"Yol aydınlatma işleri"]
[null,null,null,null,null,null,null,8724,453160003,{"$f":"IF(K8728=1,COUNTIF($K$5:K8728,1),\"\")","v":8724},{"$f":"IF(ISNUMBER(SEARCH('Bilgi Girişi'!$E$4,KalemAdı,1))=TRUE,1,0)","v":1},"Tarihi mekân aydınlatma işleri","Yapım",453160003,null,null,"Havaalanı pisti aydınlatma işleri"]
[null,null,null,null,null,null,null,8727,453160006,{"$f":"IF(K8731=1,COUNTIF($K$5:K8731,1),\"\")","v":8727},{"$f":"IF(ISNUMBER(SEARCH('Bilgi Girişi'!$E$4,KalemAdı,1))=TRUE,1,0)","v":1},"Tehlikeli alan aydınlatma işleri","Yapım",453160006,null,null,"Lastikli ulaşım araçları elektrifikasyon işleri"]
[null,null,null,null,null,null,null,8731,452300003,{"$f":"IF(K8735=1,COUNTIF($K$5:K8735,1),\"\")","v":8731},{"$f":"IF(ISNUMBER(SEARCH('Bilgi Girişi'!$E$4,KalemAdı,1))=TRUE,1,0)","v":1},"Lastikli ulaşım araçları elektrifikasyon işleri","Yapım",452300003,null,null,"Demiryolu sinyalizasyon işleri"]
[null,null,null,null,null,null,null,8732,452300004,{"$f":"IF(K8736=1,COUNTIF($K$5:K8736,1),\"\")","v":8732},{"$f":"IF(ISNUMBER(SEARCH('Bilgi Girişi'!$E$4,KalemAdı,1))=TRUE,1,0)","v":1},"Kablolu ulaşım araçları elektrifikasyon işleri","Yapım",452300004,null,null,"Otoyollarda elektronik ücret toplama sistemleri"]
[null,null,null,null,null,null,null,8736,453162103,{"$f":"IF(K8740=1,COUNTIF($K$5:K8740,1),\"\")","v":8736},{"$f":"IF(ISNUMBER(SEARCH('Bilgi Girişi'!$E$4,KalemAdı,1))=TRUE,1,0)","v":1},"Otoyollarda elektronik ücret toplama sistemleri","Yapım",453162103,null,null,"Elektrik tüketim izleme ve yönetim sistemleri"]
[null,null,null,null,null,null,null,8741,452200002,{"$f":"IF(K8745=1,COUNTIF($K$5:K8745,1),\"\")","v":8741},{"$f":"IF(ISNUMBER(SEARCH('Bilgi Girişi'!$E$4,KalemAdı,1))=TRUE,1,0)","v":1},"Su tüketim izleme ve yönetim sistemleri","Yapım",452200002,null,null,"UV-A, UV-B, ozon ve yağış asit ölçüm sistemleri"]
[null,null,null,null,null,null,null,8744,452200005,{"$f":"IF(K8748=1,COUNTIF($K$5:K8748,1),\"\")","v":8744},{"$f":"IF(ISNUMBER(SEARCH('Bilgi Girişi'!$E$4,KalemAdı,1))=TRUE,1,0)","v":1},"Meteoroloji otomatik ölçüm ve gözlem sistemleri","Yapım",452200005,null,null,"Güvenlik sistemleri (x-ray, metal arama kapı dedektörü)"]
[null,null,null,null,null,null,null,8746,452200007,{"$f":"IF(K8750=1,COUNTIF($K$5:K8750,1),\"\")","v":8746},{"$f":"IF(ISNUMBER(SEARCH('Bilgi Girişi'!$E$4,KalemAdı,1))=TRUE,1,0)","v":1},"Çevre yönetimi ayrıştırma ve izleme sistemleri","Yapım",452200007,null,null,"Acil anons ve seslendirme sistemleri"]
[null,null,null,null,null,null,null,8751,453121002,{"$f":"IF(K8755=1,COUNTIF($K$5:K8755,1),\"\")","v":8751},{"$f":"IF(ISNUMBER(SEARCH('Bilgi Girişi'!$E$4,KalemAdı,1))=TRUE,1,0)","v":1},"Yangın ihbar ve söndürme sistemleri","Yapım",453121002,null,null,"Telsiz haberleşme sistemleri"]
[null,null,null,null,null,null,null,8756,4522000013,{"$f":"IF(K8760=1,COUNTIF($K$5:K8760,1),\"\")","v":8756},{"$f":"IF(ISNUMBER(SEARCH('Bilgi Girişi'!$E$4,KalemAdı,1))=TRUE,1,0)","v":1},"Kablosuz hücresel iletişim sistemleri (GSM, Wi-Fi, WiMAX)","Yapım",4522000013,null,null,"Fiber optik işleri"]
[null,null,null,null,null,null,null,8760,453140002,{"$f":"IF(K8764=1,COUNTIF($K$5:K8764,1),\"\")","v":8760},{"$f":"IF(ISNUMBER(SEARCH('Bilgi Girişi'!$E$4,KalemAdı,1))=TRUE,1,0)","v":1},"Fiber optik işleri","Yapım",453140002,null,null,"ADSL, VDSL, GSDHL teknolojisi işleri"]
[null,null,null,null,null,null,null,8761,453140003,{"$f":"IF(K8765=1,COUNTIF($K$5:K8765,1),\"\")","v":8761},{"$f":"IF(ISNUMBER(SEARCH('Bilgi Girişi'!$E$4,KalemAdı,1))=TRUE,1,0)","v":1},"Tümleşik haberleşme (ISDN, ATM) sistemleri","Yapım",453140003,null,null,"Dolaba kadar fiber (FTTCa/FTTC) teknolojisi işleri"]
[null,null,null,null,null,null,null,8765,453140007,{"$f":"IF(K8769=1,COUNTIF($K$5:K8769,1),\"\")","v":8765},{"$f":"IF(ISNUMBER(SEARCH('Bilgi Girişi'!$E$4,KalemAdı,1))=TRUE,1,0)","v":1},"Dolaba kadar fiber (FTTCa/FTTC) teknolojisi işleri","Yapım",453140007,null,null,"Gözlemevi, uydu ve yer istasyonları"]
[null,null,null,null,null,null,null,8769,452200008,{"$f":"IF(K8773=1,COUNTIF($K$5:K8773,1),\"\")","v":8769},{"$f":"IF(ISNUMBER(SEARCH('Bilgi Girişi'!$E$4,KalemAdı,1))=TRUE,1,0)","v":1},"Gözlemevi, uydu ve yer istasyonları","Yapım",452200008,null,null,"Bina imha ile enkaz ve toprak kaldırma çalışmaları"]
[null,null,null,null,null,null,null,8774,45111000,{"$f":"IF(K8778=1,COUNTIF($K$5:K8778,1),\"\")","v":8774},{"$f":"IF(ISNUMBER(SEARCH('Bilgi Girişi'!$E$4,KalemAdı,1))=TRUE,1,0)","v":1},"Yıkım, inşaat alanı hazırlama ve temizlik işleri","Yapım",45111000,null,null,"Dinamitleme işleri"]
[null,null,null,null,null,null,null,8776,45111200,{"$f":"IF(K8780=1,COUNTIF($K$5:K8780,1),\"\")","v":8776},{"$f":"IF(ISNUMBER(SEARCH('Bilgi Girişi'!$E$4,KalemAdı,1))=TRUE,1,0)","v":1},"Şantiye hazırlama ve temizlik işleri","Yapım",45111200,null,null,"İnşaat alanı temizlik işleri"]
[null,null,null,null,null,null,null,8779,45111212,{"$f":"IF(K8783=1,COUNTIF($K$5:K8783,1),\"\")","v":8779},{"$f":"IF(ISNUMBER(SEARCH('Bilgi Girişi'!$E$4,KalemAdı,1))=TRUE,1,0)","v":1},"Kaya kaldırma işleri","Yapım",45111212,null,null,"Zemin stabilizasyonu işleri"]
[null,null,null,null,null,null,null,8784,45111240,{"$f":"IF(K8788=1,COUNTIF($K$5:K8788,1),\"\")","v":8784},{"$f":"IF(ISNUMBER(SEARCH('Bilgi Girişi'!$E$4,KalemAdı,1))=TRUE,1,0)","v":1},"Alan drenaj çalışmaları","Yapım",45111240,null,null,"İnşaat alanı düzeltme işleri"]
[null,null,null,null,null,null,null,8788,45111291,{"$f":"IF(K8792=1,COUNTIF($K$5:K8792,1),\"\")","v":8788},{"$f":"IF(ISNUMBER(SEARCH('Bilgi Girişi'!$E$4,KalemAdı,1))=TRUE,1,0)","v":1},"İnşaat alanı düzeltme işleri","Yapım",45111291,null,null,"Hafriyat ve toprak kaldırma işleri"]
[null,null,null,null,null,null,null,8789,45111300,{"$f":"IF(K8793=1,COUNTIF($K$5:K8793,1),\"\")","v":8789},{"$f":"IF(ISNUMBER(SEARCH('Bilgi Girişi'!$E$4,KalemAdı,1))=TRUE,1,0)","v":1},"Sökme işleri","Yapım",45111300,null,null,"Hendek kazma işleri"]
[null,null,null,null,null,null,null,8793,45112100,{"$f":"IF(K8797=1,COUNTIF($K$5:K8797,1),\"\")","v":8793},{"$f":"IF(ISNUMBER(SEARCH('Bilgi Girişi'!$E$4,KalemAdı,1))=TRUE,1,0)","v":1},"Hendek kazma işleri","Yapım",45112100,null,null,"Dolgu işleri"]
[null,null,null,null,null,null,null,8798,45112320,{"$f":"IF(K8802=1,COUNTIF($K$5:K8802,1),\"\")","v":8798},{"$f":"IF(ISNUMBER(SEARCH('Bilgi Girişi'!$E$4,KalemAdı,1))=TRUE,1,0)","v":1},"Arazi kazanımı işleri","Yapım",45112320,null,null,"Arazi rehabilitasyon çalışmaları"]
[null,null,null,null,null,null,null,8801,45112350,{"$f":"IF(K8805=1,COUNTIF($K$5:K8805,1),\"\")","v":8801},{"$f":"IF(ISNUMBER(SEARCH('Bilgi Girişi'!$E$4,KalemAdı,1))=TRUE,1,0)","v":1},"Bataklık kurutma işleri","Yapım",45112350,null,null,"Temel kazısı işleri"]
[null,null,null,null,null,null,null,8803,45112400,{"$f":"IF(K8807=1,COUNTIF($K$5:K8807,1),\"\")","v":8803},{"$f":"IF(ISNUMBER(SEARCH('Bilgi Girişi'!$E$4,KalemAdı,1))=TRUE,1,0)","v":1},"Kazı işleri","Yapım",45112400,null,null,"Teraslama işleri"]
[null,null,null,null,null,null,null,8809,45112500,{"$f":"IF(K8813=1,COUNTIF($K$5:K8813,1),\"\")","v":8809},{"$f":"IF(ISNUMBER(SEARCH('Bilgi Girişi'!$E$4,KalemAdı,1))=TRUE,1,0)","v":1},"Hafriyat işleri","Yapım",45112500,null,null,"Parklar için  peyzaj  çalışmaları"]
[null,null,null,null,null,null,null,8812,45112710,{"$f":"IF(K8816=1,COUNTIF($K$5:K8816,1),\"\")","v":8812},{"$f":"IF(ISNUMBER(SEARCH('Bilgi Girişi'!$E$4,KalemAdı,1))=TRUE,1,0)","v":1},"Yeşil alanlar için peyzaj çalışması","Yapım",45112710,null,null,"Mezarlıklar için peyzaj çalışmaları"]
[null,null,null,null,null,null,null,8814,45112712,{"$f":"IF(K8818=1,COUNTIF($K$5:K8818,1),\"\")","v":8814},{"$f":"IF(ISNUMBER(SEARCH('Bilgi Girişi'!$E$4,KalemAdı,1))=TRUE,1,0)","v":1},"Bahçeler için  peyzaj  çalışmaları","Yapım",45112712,null,null,"Golf sahaları için  peyzaj  çalışmaları"]
[null,null,null,null,null,null,null,8817,45112720,{"$f":"IF(K8821=1,COUNTIF($K$5:K8821,1),\"\")","v":8817},{"$f":"IF(ISNUMBER(SEARCH('Bilgi Girişi'!$E$4,KalemAdı,1))=TRUE,1,0)","v":1},"Spor sahaları ve rekreasyon alanları için  peyzaj  çalışmaları","Yapım",45112720,null,null,"Yollar ve otoyollar için  peyzaj  çalışmaları"]
[null,null,null,null,null,null,null,8821,45112730,{"$f":"IF(K8825=1,COUNTIF($K$5:K8825,1),\"\")","v":8821},{"$f":"IF(ISNUMBER(SEARCH('Bilgi Girişi'!$E$4,KalemAdı,1))=TRUE,1,0)","v":1},"Yollar ve otoyollar için  peyzaj  çalışmaları","Yapım",45112730,null,null,"Test amaçlı sondaj işleri"]
[null,null,null,null,null,null,null,8826,45122000,{"$f":"IF(K8830=1,COUNTIF($K$5:K8830,1),\"\")","v":8826},{"$f":"IF(ISNUMBER(SEARCH('Bilgi Girişi'!$E$4,KalemAdı,1))=TRUE,1,0)","v":1},"Test amaçlı delik delme işleri","Yapım",45122000,null,null,"Konut inşaat işleri"]
[null,null,null,null,null,null,null,8831,45211200,{"$f":"IF(K8835=1,COUNTIF($K$5:K8835,1),\"\")","v":8831},{"$f":"IF(ISNUMBER(SEARCH('Bilgi Girişi'!$E$4,KalemAdı,1))=TRUE,1,0)","v":1},"Yaşlılar/huzur evi inşaat işi","Yapım",45211200,null,null,"Çok daireli binaların inşaat işleri"]
[null,null,null,null,null,null,null,8834,45211320,{"$f":"IF(K8838=1,COUNTIF($K$5:K8838,1),\"\")","v":8834},{"$f":"IF(ISNUMBER(SEARCH('Bilgi Girişi'!$E$4,KalemAdı,1))=TRUE,1,0)","v":1},"Sundurmaların inşaat işleri","Yapım",45211320,null,null,{"$f":"IFERROR(VLOOKUP(ROW($P8838),$J$5:$L$9594,3,FALSE),\"\")","v":"Kentsel gelişim inşaat işleri"}]
[null,null,null,null,null,null,null,8836,45211341,{"$f":"IF(K8840=1,COUNTIF($K$5:K8840,1),\"\")","v":8836},{"$f":"IF(ISNUMBER(SEARCH('Bilgi Girişi'!$E$4,KalemAdı,1))=TRUE,1,0)","v":1},"Apartman binası inşaat işleri","Yapım",45211341,null,null,"Eğlence, spor, kültür, barınma amaçlı yapılar ve lokantalara ilişkin inşaat işleri"]
[null,null,null,null,null,null,null,8841,45212100,{"$f":"IF(K8845=1,COUNTIF($K$5:K8845,1),\"\")","v":8841},{"$f":"IF(ISNUMBER(SEARCH('Bilgi Girişi'!$E$4,KalemAdı,1))=TRUE,1,0)","v":1},"Eğlence tesisleri inşaatı işleri","Yapım",45212100,null,null,"Rekreasyon tesisleri"]
[null,null,null,null,null,null,null,8845,45212140,{"$f":"IF(K8849=1,COUNTIF($K$5:K8849,1),\"\")","v":8845},{"$f":"IF(ISNUMBER(SEARCH('Bilgi Girişi'!$E$4,KalemAdı,1))=TRUE,1,0)","v":1},"Rekreasyon tesisleri","Yapım",45212140,null,null,"Eğlence merkezi inşaatı çalışması"]
[null,null,null,null,null,null,null,8846,45212150,{"$f":"IF(K8850=1,COUNTIF($K$5:K8850,1),\"\")","v":8846},{"$f":"IF(ISNUMBER(SEARCH('Bilgi Girişi'!$E$4,KalemAdı,1))=TRUE,1,0)","v":1},"Sinema inşaat işi","Yapım",45212150,null,null,"Dinlence merkezi inşaatı çalışması"]
[null,null,null,null,null,null,null,8850,45212172,{"$f":"IF(K8854=1,COUNTIF($K$5:K8854,1),\"\")","v":8850},{"$f":"IF(ISNUMBER(SEARCH('Bilgi Girişi'!$E$4,KalemAdı,1))=TRUE,1,0)","v":1},"Dinlence merkezi inşaatı çalışması","Yapım",45212172,null,null,"Tek amaçlı spor tesisleri yapım işi"]
[null,null,null,null,null,null,null,8854,45212210,{"$f":"IF(K8858=1,COUNTIF($K$5:K8858,1),\"\")","v":8854},{"$f":"IF(ISNUMBER(SEARCH('Bilgi Girişi'!$E$4,KalemAdı,1))=TRUE,1,0)","v":1},"Tek amaçlı spor tesisleri yapım işi","Yapım",45212210,null,null,"Çok amaçlı spor tesisleri yapım işi"]
[null,null,null,null,null,null,null,8859,45212221,{"$f":"IF(K8863=1,COUNTIF($K$5:K8863,1),\"\")","v":8859},{"$f":"IF(ISNUMBER(SEARCH('Bilgi Girişi'!$E$4,KalemAdı,1))=TRUE,1,0)","v":1},"Spor sahası yapıları ile ilgili olarak inşaat işi","Yapım",45212221,null,null,"Spor salonu yapım işi"]
[null,null,null,null,null,null,null,8862,45212224,{"$f":"IF(K8866=1,COUNTIF($K$5:K8866,1),\"\")","v":8862},{"$f":"IF(ISNUMBER(SEARCH('Bilgi Girişi'!$E$4,KalemAdı,1))=TRUE,1,0)","v":1},"Stadyum inşaat çalışmaları","Yapım",45212224,null,null,"Kültür ve sanatla ilgili yapılar için inşaat işleri"]
[null,null,null,null,null,null,null,8864,45212230,{"$f":"IF(K8868=1,COUNTIF($K$5:K8868,1),\"\")","v":8864},{"$f":"IF(ISNUMBER(SEARCH('Bilgi Girişi'!$E$4,KalemAdı,1))=TRUE,1,0)","v":1},"Soyunma odalarının kurulumu","Yapım",45212230,null,null,"Sanat galerisi inşaat işi"]
[null,null,null,null,null,null,null,8869,45212312,{"$f":"IF(K8873=1,COUNTIF($K$5:K8873,1),\"\")","v":8869},{"$f":"IF(ISNUMBER(SEARCH('Bilgi Girişi'!$E$4,KalemAdı,1))=TRUE,1,0)","v":1},"Sergi merkezi yapım işi","Yapım",45212312,null,null,"Oditoryum inşaatı işi"]
[null,null,null,null,null,null,null,8871,45212314,{"$f":"IF(K8875=1,COUNTIF($K$5:K8875,1),\"\")","v":8871},{"$f":"IF(ISNUMBER(SEARCH('Bilgi Girişi'!$E$4,KalemAdı,1))=TRUE,1,0)","v":1},"Tarihsel anıt ya da anıt yapım işi","Yapım",45212314,null,null,"Kütüphane inşaat işleri"]
[null,null,null,null,null,null,null,8874,45212322,{"$f":"IF(K8878=1,COUNTIF($K$5:K8878,1),\"\")","v":8874},{"$f":"IF(ISNUMBER(SEARCH('Bilgi Girişi'!$E$4,KalemAdı,1))=TRUE,1,0)","v":1},"Tiyatro inşaat çalışmaları","Yapım",45212322,null,null,"Özel tarihi ya da mimari önemi olan binalar"]
[null,null,null,null,null,null,null,8879,45212351,{"$f":"IF(K8883=1,COUNTIF($K$5:K8883,1),\"\")","v":8879},{"$f":"IF(ISNUMBER(SEARCH('Bilgi Girişi'!$E$4,KalemAdı,1))=TRUE,1,0)","v":1},"Tarih öncesi anıt yapı işleri","Yapım",45212351,null,null,"Dini bina yapım işi"]
[null,null,null,null,null,null,null,8883,45212360,{"$f":"IF(K8887=1,COUNTIF($K$5:K8887,1),\"\")","v":8883},{"$f":"IF(ISNUMBER(SEARCH('Bilgi Girişi'!$E$4,KalemAdı,1))=TRUE,1,0)","v":1},"Dini bina yapım işi","Yapım",45212360,null,null,"Otel inşaatı işi"]
[null,null,null,null,null,null,null,8886,45212410,{"$f":"IF(K8890=1,COUNTIF($K$5:K8890,1),\"\")","v":8886},{"$f":"IF(ISNUMBER(SEARCH('Bilgi Girişi'!$E$4,KalemAdı,1))=TRUE,1,0)","v":1},"Misafirhane binalarıyla ilgili inşaat işleri","Yapım",45212410,null,null,"Lokanta ve benzeri tesis inşaatı işleri"]
[null,null,null,null,null,null,null,8888,45212412,{"$f":"IF(K8892=1,COUNTIF($K$5:K8892,1),\"\")","v":8888},{"$f":"IF(ISNUMBER(SEARCH('Bilgi Girişi'!$E$4,KalemAdı,1))=TRUE,1,0)","v":1},"Pansiyon inşaatı işi","Yapım",45212412,null,null,"Kantin inşaat işleri"]
[null,null,null,null,null,null,null,8894,45212500,{"$f":"IF(K8898=1,COUNTIF($K$5:K8898,1),\"\")","v":8894},{"$f":"IF(ISNUMBER(SEARCH('Bilgi Girişi'!$E$4,KalemAdı,1))=TRUE,1,0)","v":1},"Mutfak veya restoran dönüştürme","Yapım",45212500,null,null,"Mağaza binaları inşaat işleri"]
[null,null,null,null,null,null,null,8897,45213100,{"$f":"IF(K8901=1,COUNTIF($K$5:K8901,1),\"\")","v":8897},{"$f":"IF(ISNUMBER(SEARCH('Bilgi Girişi'!$E$4,KalemAdı,1))=TRUE,1,0)","v":1},"Ticari binaların inşaatı işleri","Yapım",45213100,null,null,"Postane inşaat çalışmaları"]
[null,null,null,null,null,null,null,8902,45213130,{"$f":"IF(K8906=1,COUNTIF($K$5:K8906,1),\"\")","v":8902},{"$f":"IF(ISNUMBER(SEARCH('Bilgi Girişi'!$E$4,KalemAdı,1))=TRUE,1,0)","v":1},"Banka inşaat işleri","Yapım",45213130,null,null,"İşhanı inşaat işi"]
[null,null,null,null,null,null,null,8903,45213140,{"$f":"IF(K8907=1,COUNTIF($K$5:K8907,1),\"\")","v":8903},{"$f":"IF(ISNUMBER(SEARCH('Bilgi Girişi'!$E$4,KalemAdı,1))=TRUE,1,0)","v":1},"Pazar/market yeri inşaat işleri","Yapım",45213140,null,null,"Ambar ve endüstriyel yapı inşaatı işleri"]
[null,null,null,null,null,null,null,8907,45213200,{"$f":"IF(K8911=1,COUNTIF($K$5:K8911,1),\"\")","v":8907},{"$f":"IF(ISNUMBER(SEARCH('Bilgi Girişi'!$E$4,KalemAdı,1))=TRUE,1,0)","v":1},"Ambar ve endüstriyel yapı inşaatı işleri","Yapım",45213200,null,null,"Mezbaha inşaat işleri"]
[null,null,null,null,null,null,null,8911,45213230,{"$f":"IF(K8915=1,COUNTIF($K$5:K8915,1),\"\")","v":8911},{"$f":"IF(ISNUMBER(SEARCH('Bilgi Girişi'!$E$4,KalemAdı,1))=TRUE,1,0)","v":1},"Mezbaha inşaat işleri","Yapım",45213230,null,null,"Endüstriyel yapı inşaatı işleri"]
[null,null,null,null,null,null,null,8916,45213251,{"$f":"IF(K8920=1,COUNTIF($K$5:K8920,1),\"\")","v":8916},{"$f":"IF(ISNUMBER(SEARCH('Bilgi Girişi'!$E$4,KalemAdı,1))=TRUE,1,0)","v":1},"Sanayi birimleri inşaat işi","Yapım",45213251,null,null,"Kompost tesisi için inşaat işleri"]
[null,null,null,null,null,null,null,8919,45213270,{"$f":"IF(K8923=1,COUNTIF($K$5:K8923,1),\"\")","v":8919},{"$f":"IF(ISNUMBER(SEARCH('Bilgi Girişi'!$E$4,KalemAdı,1))=TRUE,1,0)","v":1},"Geri dönüşüm istasyonu için inşaat işleri","Yapım",45213270,null,null,"Otobüs terminali inşaat işleri"]
[null,null,null,null,null,null,null,8921,45213300,{"$f":"IF(K8925=1,COUNTIF($K$5:K8925,1),\"\")","v":8921},{"$f":"IF(ISNUMBER(SEARCH('Bilgi Girişi'!$E$4,KalemAdı,1))=TRUE,1,0)","v":1},"Taşımacılık ile ilgili yapılar","Yapım",45213300,null,null,"Servis alanı binası yapım işi"]
[null,null,null,null,null,null,null,8926,45213314,{"$f":"IF(K8930=1,COUNTIF($K$5:K8930,1),\"\")","v":8926},{"$f":"IF(ISNUMBER(SEARCH('Bilgi Girişi'!$E$4,KalemAdı,1))=TRUE,1,0)","v":1},"Otobüs garajı inşaat işleri","Yapım",45213314,null,null,"Demiryolu istasyonu yapım işi"]
[null,null,null,null,null,null,null,8930,45213321,{"$f":"IF(K8934=1,COUNTIF($K$5:K8934,1),\"\")","v":8930},{"$f":"IF(ISNUMBER(SEARCH('Bilgi Girişi'!$E$4,KalemAdı,1))=TRUE,1,0)","v":1},"Demiryolu istasyonu yapım işi","Yapım",45213321,null,null,"Havalimanı kontrol kulesi inşaat işi"]
[null,null,null,null,null,null,null,8931,45213322,{"$f":"IF(K8935=1,COUNTIF($K$5:K8935,1),\"\")","v":8931},{"$f":"IF(ISNUMBER(SEARCH('Bilgi Girişi'!$E$4,KalemAdı,1))=TRUE,1,0)","v":1},"Ray terminali binası yapım işi","Yapım",45213322,null,null,"Havaalanı check in bankosu montajı işleri"]
[null,null,null,null,null,null,null,8935,45213333,{"$f":"IF(K8939=1,COUNTIF($K$5:K8939,1),\"\")","v":8935},{"$f":"IF(ISNUMBER(SEARCH('Bilgi Girişi'!$E$4,KalemAdı,1))=TRUE,1,0)","v":1},"Havaalanı check in bankosu montajı işleri","Yapım",45213333,null,null,"Diğer çeşitli taşımacılık türlerine ilişkin bina inşaatı işleri"]
[null,null,null,null,null,null,null,8940,45213351,{"$f":"IF(K8944=1,COUNTIF($K$5:K8944,1),\"\")","v":8940},{"$f":"IF(ISNUMBER(SEARCH('Bilgi Girişi'!$E$4,KalemAdı,1))=TRUE,1,0)","v":1},"Bakım hangarı inşaat işleri","Yapım",45213351,null,null,"Öğretim ve araştırma ile ilgili bina inşaatı işleri"]
[null,null,null,null,null,null,null,8943,45213400,{"$f":"IF(K8947=1,COUNTIF($K$5:K8947,1),\"\")","v":8943},{"$f":"IF(ISNUMBER(SEARCH('Bilgi Girişi'!$E$4,KalemAdı,1))=TRUE,1,0)","v":1},"Personel odaları montajı","Yapım",45213400,null,null,"İlkokul inşaat işleri"]
[null,null,null,null,null,null,null,8945,45214100,{"$f":"IF(K8949=1,COUNTIF($K$5:K8949,1),\"\")","v":8945},{"$f":"IF(ISNUMBER(SEARCH('Bilgi Girişi'!$E$4,KalemAdı,1))=TRUE,1,0)","v":1},"Ana okulu binaları inşaatı işleri","Yapım",45214100,null,null,"Özel okul yapım işi"]
[null,null,null,null,null,null,null,8951,45214310,{"$f":"IF(K8955=1,COUNTIF($K$5:K8955,1),\"\")","v":8951},{"$f":"IF(ISNUMBER(SEARCH('Bilgi Girişi'!$E$4,KalemAdı,1))=TRUE,1,0)","v":1},"Meslek yüksek okulu inşaatı işi","Yapım",45214310,null,null,"Amfi inşaat işleri"]
[null,null,null,null,null,null,null,8954,45214410,{"$f":"IF(K8958=1,COUNTIF($K$5:K8958,1),\"\")","v":8954},{"$f":"IF(ISNUMBER(SEARCH('Bilgi Girişi'!$E$4,KalemAdı,1))=TRUE,1,0)","v":1},"Politeknik inşaat çalışmaları","Yapım",45214410,null,null,"Araştırma binaları inşaat işleri"]
[null,null,null,null,null,null,null,8956,45214430,{"$f":"IF(K8960=1,COUNTIF($K$5:K8960,1),\"\")","v":8956},{"$f":"IF(ISNUMBER(SEARCH('Bilgi Girişi'!$E$4,KalemAdı,1))=TRUE,1,0)","v":1},"Dil laboratuarı inşaat işi","Yapım",45214430,null,null,"Araştırma ve test tesisleri inşaat işleri"]
[null,null,null,null,null,null,null,8959,45214610,{"$f":"IF(K8963=1,COUNTIF($K$5:K8963,1),\"\")","v":8959},{"$f":"IF(ISNUMBER(SEARCH('Bilgi Girişi'!$E$4,KalemAdı,1))=TRUE,1,0)","v":1},"Laboratuar binası yapım işi","Yapım",45214610,null,null,"Meteoroloji istasyonu yapım işi"]
[null,null,null,null,null,null,null,8964,45214700,{"$f":"IF(K8968=1,COUNTIF($K$5:K8968,1),\"\")","v":8964},{"$f":"IF(ISNUMBER(SEARCH('Bilgi Girişi'!$E$4,KalemAdı,1))=TRUE,1,0)","v":1},"Sayfiye binaları inşaatı işleri","Yapım",45214700,null,null,"Sağlık hizmetleriyle ilgili bina inşaatı işleri"]
[null,null,null,null,null,null,null,8968,45215100,{"$f":"IF(K8972=1,COUNTIF($K$5:K8972,1),\"\")","v":8968},{"$f":"IF(ISNUMBER(SEARCH('Bilgi Girişi'!$E$4,KalemAdı,1))=TRUE,1,0)","v":1},"Sağlık hizmetleriyle ilgili bina inşaatı işleri","Yapım",45215100,null,null,"Hastane tesisleri inşaat işleri"]
[null,null,null,null,null,null,null,8971,45215130,{"$f":"IF(K8975=1,COUNTIF($K$5:K8975,1),\"\")","v":8971},{"$f":"IF(ISNUMBER(SEARCH('Bilgi Girişi'!$E$4,KalemAdı,1))=TRUE,1,0)","v":1},"Klinik inşaat işi","Yapım",45215130,null,null,"Teşhis tarama odası inşaat işi"]
[null,null,null,null,null,null,null,8973,45215141,{"$f":"IF(K8977=1,COUNTIF($K$5:K8977,1),\"\")","v":8973},{"$f":"IF(ISNUMBER(SEARCH('Bilgi Girişi'!$E$4,KalemAdı,1))=TRUE,1,0)","v":1},"Ameliyathane inşaat işleri","Yapım",45215141,null,null,"Floroskopi odası inşaat işleri"]
[null,null,null,null,null,null,null,8978,45215146,{"$f":"IF(K8982=1,COUNTIF($K$5:K8982,1),\"\")","v":8978},{"$f":"IF(ISNUMBER(SEARCH('Bilgi Girişi'!$E$4,KalemAdı,1))=TRUE,1,0)","v":1},"Patoloji odası inşaat işleri","Yapım",45215146,null,null,"Muhtaç ve düşkünler için toplu konut alanları inşaatı işleri"]
[null,null,null,null,null,null,null,8981,45215200,{"$f":"IF(K8985=1,COUNTIF($K$5:K8985,1),\"\")","v":8981},{"$f":"IF(ISNUMBER(SEARCH('Bilgi Girişi'!$E$4,KalemAdı,1))=TRUE,1,0)","v":1},"Sosyal hizmet binaları inşaatı işleri","Yapım",45215200,null,null,"Konut yapım işi"]
[null,null,null,null,null,null,null,8987,45215220,{"$f":"IF(K8991=1,COUNTIF($K$5:K8991,1),\"\")","v":8987},{"$f":"IF(ISNUMBER(SEARCH('Bilgi Girişi'!$E$4,KalemAdı,1))=TRUE,1,0)","v":1},"Düşkün ve muhtaçlar için toplu konutlar dışında kalan sosyal tesis inşaatı","Yapım",45215220,null,null,"Mezarlık bina ve tesisleri"]
[null,null,null,null,null,null,null,8988,45215221,{"$f":"IF(K8992=1,COUNTIF($K$5:K8992,1),\"\")","v":8988},{"$f":"IF(ISNUMBER(SEARCH('Bilgi Girişi'!$E$4,KalemAdı,1))=TRUE,1,0)","v":1},"Gündüz bakım merkezi yapım işi","Yapım",45215221,null,null,"Kamunun kullanımına yönelik tesisler"]
[null,null,null,null,null,null,null,8992,45215500,{"$f":"IF(K8996=1,COUNTIF($K$5:K8996,1),\"\")","v":8992},{"$f":"IF(ISNUMBER(SEARCH('Bilgi Girişi'!$E$4,KalemAdı,1))=TRUE,1,0)","v":1},"Kamunun kullanımına yönelik tesisler","Yapım",45215500,null,null,"Polis istasyonu yapım işi"]
[null,null,null,null,null,null,null,8996,45216111,{"$f":"IF(K9000=1,COUNTIF($K$5:K9000,1),\"\")","v":8996},{"$f":"IF(ISNUMBER(SEARCH('Bilgi Girişi'!$E$4,KalemAdı,1))=TRUE,1,0)","v":1},"Polis istasyonu yapım işi","Yapım",45216111,null,null,"Acil servis binaları inşaatı işleri"]
[null,null,null,null,null,null,null,9001,45216121,{"$f":"IF(K9005=1,COUNTIF($K$5:K9005,1),\"\")","v":9001},{"$f":"IF(ISNUMBER(SEARCH('Bilgi Girişi'!$E$4,KalemAdı,1))=TRUE,1,0)","v":1},"İtfaiye istasyonu yapım işi","Yapım",45216121,null,null,"Acil servis binası inşaat işi"]
[null,null,null,null,null,null,null,9004,45216124,{"$f":"IF(K9008=1,COUNTIF($K$5:K9008,1),\"\")","v":9004},{"$f":"IF(ISNUMBER(SEARCH('Bilgi Girişi'!$E$4,KalemAdı,1))=TRUE,1,0)","v":1},"Filika istasyonu inşaat işleri","Yapım",45216124,null,null,"Deniz feneri inşaat işleri"]
[null,null,null,null,null,null,null,9006,45216126,{"$f":"IF(K9010=1,COUNTIF($K$5:K9010,1),\"\")","v":9006},{"$f":"IF(ISNUMBER(SEARCH('Bilgi Girişi'!$E$4,KalemAdı,1))=TRUE,1,0)","v":1},"Sahil güvenlik binası yapım işi","Yapım",45216126,null,null,"Askeri bina ve müştemilat inşaatı işleri"]
[null,null,null,null,null,null,null,9009,45216129,{"$f":"IF(K9013=1,COUNTIF($K$5:K9013,1),\"\")","v":9009},{"$f":"IF(ISNUMBER(SEARCH('Bilgi Girişi'!$E$4,KalemAdı,1))=TRUE,1,0)","v":1},"Koruyucu sığınaklar","Yapım",45216129,null,null,"Savunma siperi inşaat çalışmaları"]
[null,null,null,null,null,null,null,9015,45220000,{"$f":"IF(K9019=1,COUNTIF($K$5:K9019,1),\"\")","v":9015},{"$f":"IF(ISNUMBER(SEARCH('Bilgi Girişi'!$E$4,KalemAdı,1))=TRUE,1,0)","v":1},"Mühendislik proje ve inşaat işleri","Yapım",45220000,null,null,"Yol köprü yapım işi"]
[null,null,null,null,null,null,null,9016,45221000,{"$f":"IF(K9020=1,COUNTIF($K$5:K9020,1),\"\")","v":9016},{"$f":"IF(ISNUMBER(SEARCH('Bilgi Girişi'!$E$4,KalemAdı,1))=TRUE,1,0)","v":1},"Köprü, tünel, altgeçit ve metro inşaatı işleri","Yapım",45221000,null,null,"Demiryolu köprüsü yapım işi"]
[null,null,null,null,null,null,null,9021,45221113,{"$f":"IF(K9025=1,COUNTIF($K$5:K9025,1),\"\")","v":9021},{"$f":"IF(ISNUMBER(SEARCH('Bilgi Girişi'!$E$4,KalemAdı,1))=TRUE,1,0)","v":1},"Yaya köprüsü yapım işleri","Yapım",45221113,null,null,"Boru hattı- taşıma köprüsü yapım işi"]
[null,null,null,null,null,null,null,9025,45221118,{"$f":"IF(K9029=1,COUNTIF($K$5:K9029,1),\"\")","v":9025},{"$f":"IF(ISNUMBER(SEARCH('Bilgi Girişi'!$E$4,KalemAdı,1))=TRUE,1,0)","v":1},"Boru hattı- taşıma köprüsü yapım işi","Yapım",45221118,null,null,"Demiryolu viyadük yapım işi"]
[null,null,null,null,null,null,null,9029,45221122,{"$f":"IF(K9033=1,COUNTIF($K$5:K9033,1),\"\")","v":9029},{"$f":"IF(ISNUMBER(SEARCH('Bilgi Girişi'!$E$4,KalemAdı,1))=TRUE,1,0)","v":1},"Demiryolu viyadük yapım işi","Yapım",45221122,null,null,"Kapalı veya kısmen-kapalı demiryolu hafriyat işleri"]
[null,null,null,null,null,null,null,9030,45221200,{"$f":"IF(K9034=1,COUNTIF($K$5:K9034,1),\"\")","v":9030},{"$f":"IF(ISNUMBER(SEARCH('Bilgi Girişi'!$E$4,KalemAdı,1))=TRUE,1,0)","v":1},"Tünel, altgeçit ve metro inşaatı işleri","Yapım",45221200,null,null,"Kapalı veya kısmen-kapalı karayolu hafriyat işleri"]
[null,null,null,null,null,null,null,9036,45221230,{"$f":"IF(K9040=1,COUNTIF($K$5:K9040,1),\"\")","v":9036},{"$f":"IF(ISNUMBER(SEARCH('Bilgi Girişi'!$E$4,KalemAdı,1))=TRUE,1,0)","v":1},"Yeraltı geçitleri, kesonlar","Yapım",45221230,null,null,"Yaya tüneli yapım işleri"]
[null,null,null,null,null,null,null,9039,45221242,{"$f":"IF(K9043=1,COUNTIF($K$5:K9043,1),\"\")","v":9039},{"$f":"IF(ISNUMBER(SEARCH('Bilgi Girişi'!$E$4,KalemAdı,1))=TRUE,1,0)","v":1},"Demiryolu tünel yapım işi","Yapım",45221242,null,null,"Denizaltı tünel inşaat işi"]
[null,null,null,null,null,null,null,9041,45221244,{"$f":"IF(K9045=1,COUNTIF($K$5:K9045,1),\"\")","v":9041},{"$f":"IF(ISNUMBER(SEARCH('Bilgi Girişi'!$E$4,KalemAdı,1))=TRUE,1,0)","v":1},"Kanal tüneli inşaat işleri","Yapım",45221244,null,null,"Tünel astarları inşaat işleri"]
[null,null,null,null,null,null,null,9044,45221247,{"$f":"IF(K9048=1,COUNTIF($K$5:K9048,1),\"\")","v":9044},{"$f":"IF(ISNUMBER(SEARCH('Bilgi Girişi'!$E$4,KalemAdı,1))=TRUE,1,0)","v":1},"Tünel açma işleri","Yapım",45221247,null,null,"Atık işleme tesisi yapım işi"]
[null,null,null,null,null,null,null,9049,45222110,{"$f":"IF(K9053=1,COUNTIF($K$5:K9053,1),\"\")","v":9049},{"$f":"IF(ISNUMBER(SEARCH('Bilgi Girişi'!$E$4,KalemAdı,1))=TRUE,1,0)","v":1},"Atık yokedilmesi alanı yapım işi","Yapım",45222110,null,null,"Metal yapıların montajı"]
[null,null,null,null,null,null,null,9053,45223100,{"$f":"IF(K9057=1,COUNTIF($K$5:K9057,1),\"\")","v":9053},{"$f":"IF(ISNUMBER(SEARCH('Bilgi Girişi'!$E$4,KalemAdı,1))=TRUE,1,0)","v":1},"Metal yapıların montajı","Yapım",45223100,null,null,"Yapısal duvar işleri"]
[null,null,null,null,null,null,null,9058,45223300,{"$f":"IF(K9062=1,COUNTIF($K$5:K9062,1),\"\")","v":9058},{"$f":"IF(ISNUMBER(SEARCH('Bilgi Girişi'!$E$4,KalemAdı,1))=TRUE,1,0)","v":1},"Otopark inşaat işleri","Yapım",45223300,null,null,"Betonarme yapılar, takviyeli beton yapılar"]
[null,null,null,null,null,null,null,9061,45223400,{"$f":"IF(K9065=1,COUNTIF($K$5:K9065,1),\"\")","v":9061},{"$f":"IF(ISNUMBER(SEARCH('Bilgi Girişi'!$E$4,KalemAdı,1))=TRUE,1,0)","v":1},"Radar istasyonu yapım işi","Yapım",45223400,null,null,"Otoyol hizmet alanı yapım işi"]
[null,null,null,null,null,null,null,9063,45223600,{"$f":"IF(K9067=1,COUNTIF($K$5:K9067,1),\"\")","v":9063},{"$f":"IF(ISNUMBER(SEARCH('Bilgi Girişi'!$E$4,KalemAdı,1))=TRUE,1,0)","v":1},"Köpek barınakları inşaat işi","Yapım",45223600,null,null,"Prefabrik yapı montaj ve kurma işleri"]
[null,null,null,null,null,null,null,9066,45223720,{"$f":"IF(K9070=1,COUNTIF($K$5:K9070,1),\"\")","v":9066},{"$f":"IF(ISNUMBER(SEARCH('Bilgi Girişi'!$E$4,KalemAdı,1))=TRUE,1,0)","v":1},"Petrol / gaz istasyonu yapım işi","Yapım",45223720,null,null,"Prefabrik üniteler"]
[null,null,null,null,null,null,null,9072,45230000,{"$f":"IF(K9076=1,COUNTIF($K$5:K9076,1),\"\")","v":9072},{"$f":"IF(ISNUMBER(SEARCH('Bilgi Girişi'!$E$4,KalemAdı,1))=TRUE,1,0)","v":1},"Otoyol, karayolu, havalimanları ve demiryolları ile boru hattı inşaatı işleri;","Yapım",45230000,null,null,"Boru kaldırma ve röleleme"]
[null,null,null,null,null,null,null,9074,45231100,{"$f":"IF(K9078=1,COUNTIF($K$5:K9078,1),\"\")","v":9074},{"$f":"IF(ISNUMBER(SEARCH('Bilgi Girişi'!$E$4,KalemAdı,1))=TRUE,1,0)","v":1},"Boru hatları genel inşaat işleri","Yapım",45231100,null,null,"Boru hattı röleleme işleri"]
[null,null,null,null,null,null,null,9077,45231112,{"$f":"IF(K9081=1,COUNTIF($K$5:K9081,1),\"\")","v":9077},{"$f":"IF(ISNUMBER(SEARCH('Bilgi Girişi'!$E$4,KalemAdı,1))=TRUE,1,0)","v":1},"Boru sistemlerinin tesisi","Yapım",45231112,null,null,"Gaz boru hattları için inşaat işi"]
[null,null,null,null,null,null,null,9081,45231220,{"$f":"IF(K9085=1,COUNTIF($K$5:K9085,1),\"\")","v":9081},{"$f":"IF(ISNUMBER(SEARCH('Bilgi Girişi'!$E$4,KalemAdı,1))=TRUE,1,0)","v":1},"Gaz boru hattları için inşaat işi","Yapım",45231220,null,null,"Su ve kanalizasyon boru hatları inşaatı işleri"]
[null,null,null,null,null,null,null,9086,45231400,{"$f":"IF(K9090=1,COUNTIF($K$5:K9090,1),\"\")","v":9086},{"$f":"IF(ISNUMBER(SEARCH('Bilgi Girişi'!$E$4,KalemAdı,1))=TRUE,1,0)","v":1},"Elektrik güç hatları inşaatı işleri","Yapım",45231400,null,null,"Boru hatları ve kablolarla ilgili yardımcı işler"]
[null,null,null,null,null,null,null,9087,45231500,{"$f":"IF(K9091=1,COUNTIF($K$5:K9091,1),\"\")","v":9087},{"$f":"IF(ISNUMBER(SEARCH('Bilgi Girişi'!$E$4,KalemAdı,1))=TRUE,1,0)","v":1},"Basınçlı hava boru hattı çalışması","Yapım",45231500,null,null,"Su boru hatları ile ilgili ek yapı ve tesisler"]
[null,null,null,null,null,null,null,9091,45232100,{"$f":"IF(K9095=1,COUNTIF($K$5:K9095,1),\"\")","v":9091},{"$f":"IF(ISNUMBER(SEARCH('Bilgi Girişi'!$E$4,KalemAdı,1))=TRUE,1,0)","v":1},"Su boru hatları ile ilgili ek yapı ve tesisler","Yapım",45232100,null,null,"Bölge ısıtma şebekesi inşaat işi"]
[null,null,null,null,null,null,null,9092,45232120,{"$f":"IF(K9096=1,COUNTIF($K$5:K9096,1),\"\")","v":9092},{"$f":"IF(ISNUMBER(SEARCH('Bilgi Girişi'!$E$4,KalemAdı,1))=TRUE,1,0)","v":1},"Sulama tesis ve yapıları","Yapım",45232120,null,null,"Isıtma tesisatları"]
[null,null,null,null,null,null,null,9093,45232121,{"$f":"IF(K9097=1,COUNTIF($K$5:K9097,1),\"\")","v":9093},{"$f":"IF(ISNUMBER(SEARCH('Bilgi Girişi'!$E$4,KalemAdı,1))=TRUE,1,0)","v":1},"Sulama boru hattı inşaat çalışmaları","Yapım",45232121,null,null,"Isı transferi istasyonu yapım işi"]
[null,null,null,null,null,null,null,9094,45232130,{"$f":"IF(K9098=1,COUNTIF($K$5:K9098,1),\"\")","v":9094},{"$f":"IF(ISNUMBER(SEARCH('Bilgi Girişi'!$E$4,KalemAdı,1))=TRUE,1,0)","v":1},"Yağmur suyu boru hattı yapım işi","Yapım",45232130,null,null,"Su dağıtım boru hatları ile ilgili tesis ve yapılar"]
[null,null,null,null,null,null,null,9095,45232140,{"$f":"IF(K9099=1,COUNTIF($K$5:K9099,1),\"\")","v":9095},{"$f":"IF(ISNUMBER(SEARCH('Bilgi Girişi'!$E$4,KalemAdı,1))=TRUE,1,0)","v":1},"Bölge ısıtma şebekesi inşaat işi","Yapım",45232140,null,null,"Su şebekesi yenileme çalışmaları"]
[null,null,null,null,null,null,null,9096,45232141,{"$f":"IF(K9100=1,COUNTIF($K$5:K9100,1),\"\")","v":9096},{"$f":"IF(ISNUMBER(SEARCH('Bilgi Girişi'!$E$4,KalemAdı,1))=TRUE,1,0)","v":1},"Isıtma tesisatları","Yapım",45232141,null,null,"Pompalama istasyonu yapım işi"]
[null,null,null,null,null,null,null,9097,45232142,{"$f":"IF(K9101=1,COUNTIF($K$5:K9101,1),\"\")","v":9097},{"$f":"IF(ISNUMBER(SEARCH('Bilgi Girişi'!$E$4,KalemAdı,1))=TRUE,1,0)","v":1},"Isı transferi istasyonu yapım işi","Yapım",45232142,null,null,"Su kuleleri için inşaat işi"]
[null,null,null,null,null,null,null,9098,45232150,{"$f":"IF(K9102=1,COUNTIF($K$5:K9102,1),\"\")","v":9098},{"$f":"IF(ISNUMBER(SEARCH('Bilgi Girişi'!$E$4,KalemAdı,1))=TRUE,1,0)","v":1},"Su dağıtım boru hatları ile ilgili tesis ve yapılar","Yapım",45232150,null,null,"Ayaklı içme suyu depoları için inşaat işi"]
[null,null,null,null,null,null,null,9099,45232151,{"$f":"IF(K9103=1,COUNTIF($K$5:K9103,1),\"\")","v":9099},{"$f":"IF(ISNUMBER(SEARCH('Bilgi Girişi'!$E$4,KalemAdı,1))=TRUE,1,0)","v":1},"Su şebekesi yenileme çalışmaları","Yapım",45232151,null,null,"Elektrik nakil hatlarına ilişkin ek işler"]
[null,null,null,null,null,null,null,9100,45232152,{"$f":"IF(K9104=1,COUNTIF($K$5:K9104,1),\"\")","v":9100},{"$f":"IF(ISNUMBER(SEARCH('Bilgi Girişi'!$E$4,KalemAdı,1))=TRUE,1,0)","v":1},"Pompalama istasyonu yapım işi","Yapım",45232152,null,null,"Havai hat inşaatları"]
[null,null,null,null,null,null,null,9101,45232153,{"$f":"IF(K9105=1,COUNTIF($K$5:K9105,1),\"\")","v":9101},{"$f":"IF(ISNUMBER(SEARCH('Bilgi Girişi'!$E$4,KalemAdı,1))=TRUE,1,0)","v":1},"Su kuleleri için inşaat işi","Yapım",45232153,null,null,"Trafo Merkezi İnşaatı İşi"]
[null,null,null,null,null,null,null,9102,45232154,{"$f":"IF(K9106=1,COUNTIF($K$5:K9106,1),\"\")","v":9102},{"$f":"IF(ISNUMBER(SEARCH('Bilgi Girişi'!$E$4,KalemAdı,1))=TRUE,1,0)","v":1},"Ayaklı içme suyu depoları için inşaat işi","Yapım",45232154,null,null,"Trafo merkezleri"]
[null,null,null,null,null,null,null,9103,45232200,{"$f":"IF(K9107=1,COUNTIF($K$5:K9107,1),\"\")","v":9103},{"$f":"IF(ISNUMBER(SEARCH('Bilgi Girişi'!$E$4,KalemAdı,1))=TRUE,1,0)","v":1},"Elektrik nakil hatlarına ilişkin ek işler","Yapım",45232200,null,null,"Telefon ve iletişim hatları için inşaat ve ek işler"]
[null,null,null,null,null,null,null,9104,45232210,{"$f":"IF(K9108=1,COUNTIF($K$5:K9108,1),\"\")","v":9104},{"$f":"IF(ISNUMBER(SEARCH('Bilgi Girişi'!$E$4,KalemAdı,1))=TRUE,1,0)","v":1},"Havai hat inşaatları","Yapım",45232210,null,null,"Telefon hatları inşaatı işleri"]
[null,null,null,null,null,null,null,9105,45232220,{"$f":"IF(K9109=1,COUNTIF($K$5:K9109,1),\"\")","v":9105},{"$f":"IF(ISNUMBER(SEARCH('Bilgi Girişi'!$E$4,KalemAdı,1))=TRUE,1,0)","v":1},"Trafo Merkezi İnşaatı İşi","Yapım",45232220,null,null,"Otoyol kenarı acil yardım telefon hatları"]
[null,null,null,null,null,null,null,9106,45232221,{"$f":"IF(K9110=1,COUNTIF($K$5:K9110,1),\"\")","v":9106},{"$f":"IF(ISNUMBER(SEARCH('Bilgi Girişi'!$E$4,KalemAdı,1))=TRUE,1,0)","v":1},"Trafo merkezleri","Yapım",45232221,null,null,"Kablolu yayın hatları"]
[null,null,null,null,null,null,null,9107,45232300,{"$f":"IF(K9111=1,COUNTIF($K$5:K9111,1),\"\")","v":9107},{"$f":"IF(ISNUMBER(SEARCH('Bilgi Girişi'!$E$4,KalemAdı,1))=TRUE,1,0)","v":1},"Telefon ve iletişim hatları için inşaat ve ek işler","Yapım",45232300,null,null,"Anten kurulum işleri"]
[null,null,null,null,null,null,null,9108,45232310,{"$f":"IF(K9112=1,COUNTIF($K$5:K9112,1),\"\")","v":9108},{"$f":"IF(ISNUMBER(SEARCH('Bilgi Girişi'!$E$4,KalemAdı,1))=TRUE,1,0)","v":1},"Telefon hatları inşaatı işleri","Yapım",45232310,null,null,"Yayıncılık ile ilgili ek işler"]
[null,null,null,null,null,null,null,9109,45232311,{"$f":"IF(K9113=1,COUNTIF($K$5:K9113,1),\"\")","v":9109},{"$f":"IF(ISNUMBER(SEARCH('Bilgi Girişi'!$E$4,KalemAdı,1))=TRUE,1,0)","v":1},"Otoyol kenarı acil yardım telefon hatları","Yapım",45232311,null,null,"Telekomünikasyon ek tesis ve yapıları"]
[null,null,null,null,null,null,null,9110,45232320,{"$f":"IF(K9114=1,COUNTIF($K$5:K9114,1),\"\")","v":9110},{"$f":"IF(ISNUMBER(SEARCH('Bilgi Girişi'!$E$4,KalemAdı,1))=TRUE,1,0)","v":1},"Kablolu yayın hatları","Yapım",45232320,null,null,"Mobil telefon baz istasyonları inşaat işleri"]
[null,null,null,null,null,null,null,9111,45232330,{"$f":"IF(K9115=1,COUNTIF($K$5:K9115,1),\"\")","v":9111},{"$f":"IF(ISNUMBER(SEARCH('Bilgi Girişi'!$E$4,KalemAdı,1))=TRUE,1,0)","v":1},"Anten kurulum işleri","Yapım",45232330,null,null,"Kanalizasyon inşaatı işi"]
[null,null,null,null,null,null,null,9112,45232331,{"$f":"IF(K9116=1,COUNTIF($K$5:K9116,1),\"\")","v":9112},{"$f":"IF(ISNUMBER(SEARCH('Bilgi Girişi'!$E$4,KalemAdı,1))=TRUE,1,0)","v":1},"Yayıncılık ile ilgili ek işler","Yapım",45232331,null,null,"Pis su boru hattı yapım işi"]
[null,null,null,null,null,null,null,9113,45232332,{"$f":"IF(K9117=1,COUNTIF($K$5:K9117,1),\"\")","v":9113},{"$f":"IF(ISNUMBER(SEARCH('Bilgi Girişi'!$E$4,KalemAdı,1))=TRUE,1,0)","v":1},"Telekomünikasyon ek tesis ve yapıları","Yapım",45232332,null,null,"Kanalizasyon işleri"]
[null,null,null,null,null,null,null,9114,45232340,{"$f":"IF(K9118=1,COUNTIF($K$5:K9118,1),\"\")","v":9114},{"$f":"IF(ISNUMBER(SEARCH('Bilgi Girişi'!$E$4,KalemAdı,1))=TRUE,1,0)","v":1},"Mobil telefon baz istasyonları inşaat işleri","Yapım",45232340,null,null,"Kanalizasyon atıkları arıtma tesis ve yapıları"]
[null,null,null,null,null,null,null,9115,45232400,{"$f":"IF(K9119=1,COUNTIF($K$5:K9119,1),\"\")","v":9115},{"$f":"IF(ISNUMBER(SEARCH('Bilgi Girişi'!$E$4,KalemAdı,1))=TRUE,1,0)","v":1},"Kanalizasyon inşaatı işi","Yapım",45232400,null,null,"Çamur arıtma tesis ve yapıları"]
[null,null,null,null,null,null,null,9116,45232411,{"$f":"IF(K9120=1,COUNTIF($K$5:K9120,1),\"\")","v":9116},{"$f":"IF(ISNUMBER(SEARCH('Bilgi Girişi'!$E$4,KalemAdı,1))=TRUE,1,0)","v":1},"Pis su boru hattı yapım işi","Yapım",45232411,null,null,"Kanalizasyon pompa istasyonları yapım işi"]
[null,null,null,null,null,null,null,9117,45232420,{"$f":"IF(K9121=1,COUNTIF($K$5:K9121,1),\"\")","v":9117},{"$f":"IF(ISNUMBER(SEARCH('Bilgi Girişi'!$E$4,KalemAdı,1))=TRUE,1,0)","v":1},"Kanalizasyon işleri","Yapım",45232420,null,null,"Kanalizasyon tahliye inşaat işleri"]
[null,null,null,null,null,null,null,9118,45232421,{"$f":"IF(K9122=1,COUNTIF($K$5:K9122,1),\"\")","v":9118},{"$f":"IF(ISNUMBER(SEARCH('Bilgi Girişi'!$E$4,KalemAdı,1))=TRUE,1,0)","v":1},"Kanalizasyon atıkları arıtma tesis ve yapıları","Yapım",45232421,null,null,"Su arıtma işleri"]
[null,null,null,null,null,null,null,9119,45232422,{"$f":"IF(K9123=1,COUNTIF($K$5:K9123,1),\"\")","v":9119},{"$f":"IF(ISNUMBER(SEARCH('Bilgi Girişi'!$E$4,KalemAdı,1))=TRUE,1,0)","v":1},"Çamur arıtma tesis ve yapıları","Yapım",45232422,null,null,"Atık su pompalama istasyonları"]
[null,null,null,null,null,null,null,9120,45232423,{"$f":"IF(K9124=1,COUNTIF($K$5:K9124,1),\"\")","v":9120},{"$f":"IF(ISNUMBER(SEARCH('Bilgi Girişi'!$E$4,KalemAdı,1))=TRUE,1,0)","v":1},"Kanalizasyon pompa istasyonları yapım işi","Yapım",45232423,null,null,"Kanalizasyon boruları ile ilgili inşaat işleri"]
[null,null,null,null,null,null,null,9121,45232424,{"$f":"IF(K9125=1,COUNTIF($K$5:K9125,1),\"\")","v":9121},{"$f":"IF(ISNUMBER(SEARCH('Bilgi Girişi'!$E$4,KalemAdı,1))=TRUE,1,0)","v":1},"Kanalizasyon tahliye inşaat işleri","Yapım",45232424,null,null,"Drenaj inşaat işleri"]
[null,null,null,null,null,null,null,9122,45232430,{"$f":"IF(K9126=1,COUNTIF($K$5:K9126,1),\"\")","v":9122},{"$f":"IF(ISNUMBER(SEARCH('Bilgi Girişi'!$E$4,KalemAdı,1))=TRUE,1,0)","v":1},"Su arıtma işleri","Yapım",45232430,null,null,"Drenaj ve satıh işleri"]
[null,null,null,null,null,null,null,9123,45232431,{"$f":"IF(K9127=1,COUNTIF($K$5:K9127,1),\"\")","v":9123},{"$f":"IF(ISNUMBER(SEARCH('Bilgi Girişi'!$E$4,KalemAdı,1))=TRUE,1,0)","v":1},"Atık su pompalama istasyonları","Yapım",45232431,null,null,"Drenaj işleri"]
[null,null,null,null,null,null,null,9124,45232440,{"$f":"IF(K9128=1,COUNTIF($K$5:K9128,1),\"\")","v":9124},{"$f":"IF(ISNUMBER(SEARCH('Bilgi Girişi'!$E$4,KalemAdı,1))=TRUE,1,0)","v":1},"Kanalizasyon boruları ile ilgili inşaat işleri","Yapım",45232440,null,null,"Kanalizasyon inşaat işi"]
[null,null,null,null,null,null,null,9125,45232450,{"$f":"IF(K9129=1,COUNTIF($K$5:K9129,1),\"\")","v":9125},{"$f":"IF(ISNUMBER(SEARCH('Bilgi Girişi'!$E$4,KalemAdı,1))=TRUE,1,0)","v":1},"Drenaj inşaat işleri","Yapım",45232450,null,null,"Yağmur-su havzası yapım işi"]
[null,null,null,null,null,null,null,9126,45232451,{"$f":"IF(K9130=1,COUNTIF($K$5:K9130,1),\"\")","v":9126},{"$f":"IF(ISNUMBER(SEARCH('Bilgi Girişi'!$E$4,KalemAdı,1))=TRUE,1,0)","v":1},"Drenaj ve satıh işleri","Yapım",45232451,null,null,"Sıhhi tesisat işleri"]
[null,null,null,null,null,null,null,9127,45232452,{"$f":"IF(K9131=1,COUNTIF($K$5:K9131,1),\"\")","v":9127},{"$f":"IF(ISNUMBER(SEARCH('Bilgi Girişi'!$E$4,KalemAdı,1))=TRUE,1,0)","v":1},"Drenaj işleri","Yapım",45232452,null,null,"Atık aktarma istasyonları"]
[null,null,null,null,null,null,null,9128,45232453,{"$f":"IF(K9132=1,COUNTIF($K$5:K9132,1),\"\")","v":9128},{"$f":"IF(ISNUMBER(SEARCH('Bilgi Girişi'!$E$4,KalemAdı,1))=TRUE,1,0)","v":1},"Kanalizasyon inşaat işi","Yapım",45232453,null,null,"Otoyollar ve karayolları için temel ve satıh çalışmaları ve muhtelif inşaat işleri"]
[null,null,null,null,null,null,null,9129,45232454,{"$f":"IF(K9133=1,COUNTIF($K$5:K9133,1),\"\")","v":9129},{"$f":"IF(ISNUMBER(SEARCH('Bilgi Girişi'!$E$4,KalemAdı,1))=TRUE,1,0)","v":1},"Yağmur-su havzası yapım işi","Yapım",45232454,null,null,"Otoyollar ve karayolları için inşaat işleri"]
[null,null,null,null,null,null,null,9130,45232460,{"$f":"IF(K9134=1,COUNTIF($K$5:K9134,1),\"\")","v":9130},{"$f":"IF(ISNUMBER(SEARCH('Bilgi Girişi'!$E$4,KalemAdı,1))=TRUE,1,0)","v":1},"Sıhhi tesisat işleri","Yapım",45232460,null,null,"Otoyol inşaatı işleri"]
[null,null,null,null,null,null,null,9131,45232470,{"$f":"IF(K9135=1,COUNTIF($K$5:K9135,1),\"\")","v":9131},{"$f":"IF(ISNUMBER(SEARCH('Bilgi Girişi'!$E$4,KalemAdı,1))=TRUE,1,0)","v":1},"Atık aktarma istasyonları","Yapım",45232470,null,null,"Yol yapım işleri"]
[null,null,null,null,null,null,null,9132,45233000,{"$f":"IF(K9136=1,COUNTIF($K$5:K9136,1),\"\")","v":9132},{"$f":"IF(ISNUMBER(SEARCH('Bilgi Girişi'!$E$4,KalemAdı,1))=TRUE,1,0)","v":1},"Otoyollar ve karayolları için temel ve satıh çalışmaları ve muhtelif inşaat işleri","Yapım",45233000,null,null,"Anayol yapım işleri"]
[null,null,null,null,null,null,null,9133,45233100,{"$f":"IF(K9137=1,COUNTIF($K$5:K9137,1),\"\")","v":9133},{"$f":"IF(ISNUMBER(SEARCH('Bilgi Girişi'!$E$4,KalemAdı,1))=TRUE,1,0)","v":1},"Otoyollar ve karayolları için inşaat işleri","Yapım",45233100,null,null,"Çevre yolu inşaatı işi"]
[null,null,null,null,null,null,null,9134,45233110,{"$f":"IF(K9138=1,COUNTIF($K$5:K9138,1),\"\")","v":9134},{"$f":"IF(ISNUMBER(SEARCH('Bilgi Girişi'!$E$4,KalemAdı,1))=TRUE,1,0)","v":1},"Otoyol inşaatı işleri","Yapım",45233110,null,null,"Tali yol çalışması"]
[null,null,null,null,null,null,null,9135,45233120,{"$f":"IF(K9139=1,COUNTIF($K$5:K9139,1),\"\")","v":9135},{"$f":"IF(ISNUMBER(SEARCH('Bilgi Girişi'!$E$4,KalemAdı,1))=TRUE,1,0)","v":1},"Yol yapım işleri","Yapım",45233120,null,null,"Ana yol inşaat işi"]
[null,null,null,null,null,null,null,9136,45233121,{"$f":"IF(K9140=1,COUNTIF($K$5:K9140,1),\"\")","v":9136},{"$f":"IF(ISNUMBER(SEARCH('Bilgi Girişi'!$E$4,KalemAdı,1))=TRUE,1,0)","v":1},"Anayol yapım işleri","Yapım",45233121,null,null,"Kavşak yapım işi"]
[null,null,null,null,null,null,null,9137,45233122,{"$f":"IF(K9141=1,COUNTIF($K$5:K9141,1),\"\")","v":9137},{"$f":"IF(ISNUMBER(SEARCH('Bilgi Girişi'!$E$4,KalemAdı,1))=TRUE,1,0)","v":1},"Çevre yolu inşaatı işi","Yapım",45233122,null,null,"Farklı seviyeli kavşak yapım işi"]
[null,null,null,null,null,null,null,9138,45233123,{"$f":"IF(K9142=1,COUNTIF($K$5:K9142,1),\"\")","v":9138},{"$f":"IF(ISNUMBER(SEARCH('Bilgi Girişi'!$E$4,KalemAdı,1))=TRUE,1,0)","v":1},"Tali yol çalışması","Yapım",45233123,null,null,"T-kavşak yapım işi"]
[null,null,null,null,null,null,null,9139,45233124,{"$f":"IF(K9143=1,COUNTIF($K$5:K9143,1),\"\")","v":9139},{"$f":"IF(ISNUMBER(SEARCH('Bilgi Girişi'!$E$4,KalemAdı,1))=TRUE,1,0)","v":1},"Ana yol inşaat işi","Yapım",45233124,null,null,"Döner kavşak inşaat işi"]
[null,null,null,null,null,null,null,9140,45233125,{"$f":"IF(K9144=1,COUNTIF($K$5:K9144,1),\"\")","v":9140},{"$f":"IF(ISNUMBER(SEARCH('Bilgi Girişi'!$E$4,KalemAdı,1))=TRUE,1,0)","v":1},"Kavşak yapım işi","Yapım",45233125,null,null,"Kavşak yapım işi"]
[null,null,null,null,null,null,null,9141,45233126,{"$f":"IF(K9145=1,COUNTIF($K$5:K9145,1),\"\")","v":9141},{"$f":"IF(ISNUMBER(SEARCH('Bilgi Girişi'!$E$4,KalemAdı,1))=TRUE,1,0)","v":1},"Farklı seviyeli kavşak yapım işi","Yapım",45233126,null,null,"Karayolları için inşaat işi"]
[null,null,null,null,null,null,null,9142,45233127,{"$f":"IF(K9146=1,COUNTIF($K$5:K9146,1),\"\")","v":9142},{"$f":"IF(ISNUMBER(SEARCH('Bilgi Girişi'!$E$4,KalemAdı,1))=TRUE,1,0)","v":1},"T-kavşak yapım işi","Yapım",45233127,null,null,"İrtifalı otoyol inşaat işleri"]
[null,null,null,null,null,null,null,9143,45233128,{"$f":"IF(K9147=1,COUNTIF($K$5:K9147,1),\"\")","v":9143},{"$f":"IF(ISNUMBER(SEARCH('Bilgi Girişi'!$E$4,KalemAdı,1))=TRUE,1,0)","v":1},"Döner kavşak inşaat işi","Yapım",45233128,null,null,"Otoyol bakım çalışmaları"]
[null,null,null,null,null,null,null,9144,45233129,{"$f":"IF(K9148=1,COUNTIF($K$5:K9148,1),\"\")","v":9144},{"$f":"IF(ISNUMBER(SEARCH('Bilgi Girişi'!$E$4,KalemAdı,1))=TRUE,1,0)","v":1},"Kavşak yapım işi","Yapım",45233129,null,null,"Yol çalışmaları"]
[null,null,null,null,null,null,null,9145,45233130,{"$f":"IF(K9149=1,COUNTIF($K$5:K9149,1),\"\")","v":9145},{"$f":"IF(ISNUMBER(SEARCH('Bilgi Girişi'!$E$4,KalemAdı,1))=TRUE,1,0)","v":1},"Karayolları için inşaat işi","Yapım",45233130,null,null,"Yol bakım çalışmaları"]
[null,null,null,null,null,null,null,9146,45233131,{"$f":"IF(K9150=1,COUNTIF($K$5:K9150,1),\"\")","v":9146},{"$f":"IF(ISNUMBER(SEARCH('Bilgi Girişi'!$E$4,KalemAdı,1))=TRUE,1,0)","v":1},"İrtifalı otoyol inşaat işleri","Yapım",45233131,null,null,"Yol onarım çalışmaları"]
[null,null,null,null,null,null,null,9147,45233139,{"$f":"IF(K9151=1,COUNTIF($K$5:K9151,1),\"\")","v":9147},{"$f":"IF(ISNUMBER(SEARCH('Bilgi Girişi'!$E$4,KalemAdı,1))=TRUE,1,0)","v":1},"Otoyol bakım çalışmaları","Yapım",45233139,null,null,"Üstgeçit yapım işi"]
[null,null,null,null,null,null,null,9148,45233140,{"$f":"IF(K9152=1,COUNTIF($K$5:K9152,1),\"\")","v":9148},{"$f":"IF(ISNUMBER(SEARCH('Bilgi Girişi'!$E$4,KalemAdı,1))=TRUE,1,0)","v":1},"Yol çalışmaları","Yapım",45233140,null,null,"Trafik düzenleme çalışmaları"]
[null,null,null,null,null,null,null,9149,45233141,{"$f":"IF(K9153=1,COUNTIF($K$5:K9153,1),\"\")","v":9149},{"$f":"IF(ISNUMBER(SEARCH('Bilgi Girişi'!$E$4,KalemAdı,1))=TRUE,1,0)","v":1},"Yol bakım çalışmaları","Yapım",45233141,null,null,"Patika ve diğer metalli yüzeyler"]
[null,null,null,null,null,null,null,9150,45233142,{"$f":"IF(K9154=1,COUNTIF($K$5:K9154,1),\"\")","v":9150},{"$f":"IF(ISNUMBER(SEARCH('Bilgi Girişi'!$E$4,KalemAdı,1))=TRUE,1,0)","v":1},"Yol onarım çalışmaları","Yapım",45233142,null,null,"Patika inşaat işleri"]
[null,null,null,null,null,null,null,9151,45233144,{"$f":"IF(K9155=1,COUNTIF($K$5:K9155,1),\"\")","v":9151},{"$f":"IF(ISNUMBER(SEARCH('Bilgi Girişi'!$E$4,KalemAdı,1))=TRUE,1,0)","v":1},"Üstgeçit yapım işi","Yapım",45233144,null,null,"Bisiklet yolu yapım işi"]
[null,null,null,null,null,null,null,9152,45233150,{"$f":"IF(K9156=1,COUNTIF($K$5:K9156,1),\"\")","v":9152},{"$f":"IF(ISNUMBER(SEARCH('Bilgi Girişi'!$E$4,KalemAdı,1))=TRUE,1,0)","v":1},"Trafik düzenleme çalışmaları","Yapım",45233150,null,null,"Çeşitli yüzey işleri"]
[null,null,null,null,null,null,null,9153,45233160,{"$f":"IF(K9157=1,COUNTIF($K$5:K9157,1),\"\")","v":9153},{"$f":"IF(ISNUMBER(SEARCH('Bilgi Girişi'!$E$4,KalemAdı,1))=TRUE,1,0)","v":1},"Patika ve diğer metalli yüzeyler","Yapım",45233160,null,null,"Otoyol kaplama işleri"]
[null,null,null,null,null,null,null,9154,45233161,{"$f":"IF(K9158=1,COUNTIF($K$5:K9158,1),\"\")","v":9154},{"$f":"IF(ISNUMBER(SEARCH('Bilgi Girişi'!$E$4,KalemAdı,1))=TRUE,1,0)","v":1},"Patika inşaat işleri","Yapım",45233161,null,null,{"$f":"IFERROR(VLOOKUP(ROW($P9158),$J$5:$L$9594,3,FALSE),\"\")","v":"Yol kaplama işleri"}]
[null,null,null,null,null,null,null,9155,45233162,{"$f":"IF(K9159=1,COUNTIF($K$5:K9159,1),\"\")","v":9155},{"$f":"IF(ISNUMBER(SEARCH('Bilgi Girişi'!$E$4,KalemAdı,1))=TRUE,1,0)","v":1},"Bisiklet yolu yapım işi","Yapım",45233162,null,null,"Yol kaplamasının boya işleri"]
[null,null,null,null,null,null,null,9156,45233200,{"$f":"IF(K9160=1,COUNTIF($K$5:K9160,1),\"\")","v":9156},{"$f":"IF(ISNUMBER(SEARCH('Bilgi Girişi'!$E$4,KalemAdı,1))=TRUE,1,0)","v":1},"Çeşitli yüzey işleri","Yapım",45233200,null,null,"Yol döşeme ve asfaltlama işleri"]
[null,null,null,null,null,null,null,9157,45233210,{"$f":"IF(K9161=1,COUNTIF($K$5:K9161,1),\"\")","v":9157},{"$f":"IF(ISNUMBER(SEARCH('Bilgi Girişi'!$E$4,KalemAdı,1))=TRUE,1,0)","v":1},"Otoyol kaplama işleri","Yapım",45233210,null,null,"Yol kaplaması yenileme çalışmaları"]
[null,null,null,null,null,null,null,9158,45233220,{"$f":"IF(K9162=1,COUNTIF($K$5:K9162,1),\"\")","v":9158},{"$f":"IF(ISNUMBER(SEARCH('Bilgi Girişi'!$E$4,KalemAdı,1))=TRUE,1,0)","v":1},"Yol kaplama işleri","Yapım",45233220,null,null,"Bölünmüş yol yapım işi"]
[null,null,null,null,null,null,null,9159,45233221,{"$f":"IF(K9163=1,COUNTIF($K$5:K9163,1),\"\")","v":9159},{"$f":"IF(ISNUMBER(SEARCH('Bilgi Girişi'!$E$4,KalemAdı,1))=TRUE,1,0)","v":1},"Yol kaplamasının boya işleri","Yapım",45233221,null,null,"Tek anayol yapım işi"]
[null,null,null,null,null,null,null,9160,45233222,{"$f":"IF(K9164=1,COUNTIF($K$5:K9164,1),\"\")","v":9160},{"$f":"IF(ISNUMBER(SEARCH('Bilgi Girişi'!$E$4,KalemAdı,1))=TRUE,1,0)","v":1},"Yol döşeme ve asfaltlama işleri","Yapım",45233222,null,null,"Bağlantı yolu inşaat işleri"]
[null,null,null,null,null,null,null,9161,45233223,{"$f":"IF(K9165=1,COUNTIF($K$5:K9165,1),\"\")","v":9161},{"$f":"IF(ISNUMBER(SEARCH('Bilgi Girişi'!$E$4,KalemAdı,1))=TRUE,1,0)","v":1},"Yol kaplaması yenileme çalışmaları","Yapım",45233223,null,null,"Tali yol çalışması"]
[null,null,null,null,null,null,null,9162,45233224,{"$f":"IF(K9166=1,COUNTIF($K$5:K9166,1),\"\")","v":9162},{"$f":"IF(ISNUMBER(SEARCH('Bilgi Girişi'!$E$4,KalemAdı,1))=TRUE,1,0)","v":1},"Bölünmüş yol yapım işi","Yapım",45233224,null,null,"Yüzey kaplama yapım işi"]
[null,null,null,null,null,null,null,9163,45233225,{"$f":"IF(K9167=1,COUNTIF($K$5:K9167,1),\"\")","v":9163},{"$f":"IF(ISNUMBER(SEARCH('Bilgi Girişi'!$E$4,KalemAdı,1))=TRUE,1,0)","v":1},"Tek anayol yapım işi","Yapım",45233225,null,null,"Banket bakım çalışmaları"]
[null,null,null,null,null,null,null,9164,45233226,{"$f":"IF(K9168=1,COUNTIF($K$5:K9168,1),\"\")","v":9164},{"$f":"IF(ISNUMBER(SEARCH('Bilgi Girişi'!$E$4,KalemAdı,1))=TRUE,1,0)","v":1},"Bağlantı yolu inşaat işleri","Yapım",45233226,null,null,"Yollar için olanlar hariç diğer satıh kaplama çalışmaları"]
[null,null,null,null,null,null,null,9165,45233227,{"$f":"IF(K9169=1,COUNTIF($K$5:K9169,1),\"\")","v":9165},{"$f":"IF(ISNUMBER(SEARCH('Bilgi Girişi'!$E$4,KalemAdı,1))=TRUE,1,0)","v":1},"Tali yol çalışması","Yapım",45233227,null,null,"Satıh yenileme işleri"]
[null,null,null,null,null,null,null,9166,45233228,{"$f":"IF(K9170=1,COUNTIF($K$5:K9170,1),\"\")","v":9166},{"$f":"IF(ISNUMBER(SEARCH('Bilgi Girişi'!$E$4,KalemAdı,1))=TRUE,1,0)","v":1},"Yüzey kaplama yapım işi","Yapım",45233228,null,null,"Sokaklar için satıh çalışmaları"]
[null,null,null,null,null,null,null,9167,45233229,{"$f":"IF(K9171=1,COUNTIF($K$5:K9171,1),\"\")","v":9167},{"$f":"IF(ISNUMBER(SEARCH('Bilgi Girişi'!$E$4,KalemAdı,1))=TRUE,1,0)","v":1},"Banket bakım çalışmaları","Yapım",45233229,null,null,"Yaya yolları için satıh çalışmaları"]
[null,null,null,null,null,null,null,9168,45233250,{"$f":"IF(K9172=1,COUNTIF($K$5:K9172,1),\"\")","v":9168},{"$f":"IF(ISNUMBER(SEARCH('Bilgi Girişi'!$E$4,KalemAdı,1))=TRUE,1,0)","v":1},"Yollar için olanlar hariç diğer satıh kaplama çalışmaları","Yapım",45233250,null,null,"Yaya yolu yapım işi"]
[null,null,null,null,null,null,null,9169,45233251,{"$f":"IF(K9173=1,COUNTIF($K$5:K9173,1),\"\")","v":9169},{"$f":"IF(ISNUMBER(SEARCH('Bilgi Girişi'!$E$4,KalemAdı,1))=TRUE,1,0)","v":1},"Satıh yenileme işleri","Yapım",45233251,null,null,"Yaya üst geçidi inşaat işleri"]
[null,null,null,null,null,null,null,9170,45233252,{"$f":"IF(K9174=1,COUNTIF($K$5:K9174,1),\"\")","v":9170},{"$f":"IF(ISNUMBER(SEARCH('Bilgi Girişi'!$E$4,KalemAdı,1))=TRUE,1,0)","v":1},"Sokaklar için satıh çalışmaları","Yapım",45233252,null,null,"Yaya bölgesi inşaat işleri"]
[null,null,null,null,null,null,null,9171,45233253,{"$f":"IF(K9175=1,COUNTIF($K$5:K9175,1),\"\")","v":9171},{"$f":"IF(ISNUMBER(SEARCH('Bilgi Girişi'!$E$4,KalemAdı,1))=TRUE,1,0)","v":1},"Yaya yolları için satıh çalışmaları","Yapım",45233253,null,null,"Otopark satıh boya çalışmaları"]
[null,null,null,null,null,null,null,9172,45233260,{"$f":"IF(K9176=1,COUNTIF($K$5:K9176,1),\"\")","v":9172},{"$f":"IF(ISNUMBER(SEARCH('Bilgi Girişi'!$E$4,KalemAdı,1))=TRUE,1,0)","v":1},"Yaya yolu yapım işi","Yapım",45233260,null,null,"Yol bariyerlerinin kurulması işleri"]
[null,null,null,null,null,null,null,9173,45233261,{"$f":"IF(K9177=1,COUNTIF($K$5:K9177,1),\"\")","v":9173},{"$f":"IF(ISNUMBER(SEARCH('Bilgi Girişi'!$E$4,KalemAdı,1))=TRUE,1,0)","v":1},"Yaya üst geçidi inşaat işleri","Yapım",45233261,null,null,"Yol işaret ve levhalarının montajı işleri"]
[null,null,null,null,null,null,null,9174,45233262,{"$f":"IF(K9178=1,COUNTIF($K$5:K9178,1),\"\")","v":9174},{"$f":"IF(ISNUMBER(SEARCH('Bilgi Girişi'!$E$4,KalemAdı,1))=TRUE,1,0)","v":1},"Yaya bölgesi inşaat işleri","Yapım",45233262,null,null,"Yol ikaz işaretlerinin kurulması işleri"]
[null,null,null,null,null,null,null,9175,45233270,{"$f":"IF(K9179=1,COUNTIF($K$5:K9179,1),\"\")","v":9175},{"$f":"IF(ISNUMBER(SEARCH('Bilgi Girişi'!$E$4,KalemAdı,1))=TRUE,1,0)","v":1},"Otopark satıh boya çalışmaları","Yapım",45233270,null,null,"Emniyet donanımı kurma işlemleri"]
[null,null,null,null,null,null,null,9176,45233280,{"$f":"IF(K9180=1,COUNTIF($K$5:K9180,1),\"\")","v":9176},{"$f":"IF(ISNUMBER(SEARCH('Bilgi Girişi'!$E$4,KalemAdı,1))=TRUE,1,0)","v":1},"Yol bariyerlerinin kurulması işleri","Yapım",45233280,null,null,"Sokak mobilyaları montaj işleri"]
[null,null,null,null,null,null,null,9177,45233290,{"$f":"IF(K9181=1,COUNTIF($K$5:K9181,1),\"\")","v":9177},{"$f":"IF(ISNUMBER(SEARCH('Bilgi Girişi'!$E$4,KalemAdı,1))=TRUE,1,0)","v":1},"Yol işaret ve levhalarının montajı işleri","Yapım",45233290,null,null,"Yol işaretleri tesisi"]
[null,null,null,null,null,null,null,9178,45233291,{"$f":"IF(K9182=1,COUNTIF($K$5:K9182,1),\"\")","v":9178},{"$f":"IF(ISNUMBER(SEARCH('Bilgi Girişi'!$E$4,KalemAdı,1))=TRUE,1,0)","v":1},"Yol ikaz işaretlerinin kurulması işleri","Yapım",45233291,null,null,"Otoyol, yol, sokak ve yaya yolları için temel işleri"]
[null,null,null,null,null,null,null,9179,45233292,{"$f":"IF(K9183=1,COUNTIF($K$5:K9183,1),\"\")","v":9179},{"$f":"IF(ISNUMBER(SEARCH('Bilgi Girişi'!$E$4,KalemAdı,1))=TRUE,1,0)","v":1},"Emniyet donanımı kurma işlemleri","Yapım",45233292,null,null,"Otoyollar için temel işleri"]
[null,null,null,null,null,null,null,9180,45233293,{"$f":"IF(K9184=1,COUNTIF($K$5:K9184,1),\"\")","v":9180},{"$f":"IF(ISNUMBER(SEARCH('Bilgi Girişi'!$E$4,KalemAdı,1))=TRUE,1,0)","v":1},"Sokak mobilyaları montaj işleri","Yapım",45233293,null,null,"Yollar için temel işleri"]
[null,null,null,null,null,null,null,9181,45233294,{"$f":"IF(K9185=1,COUNTIF($K$5:K9185,1),\"\")","v":9181},{"$f":"IF(ISNUMBER(SEARCH('Bilgi Girişi'!$E$4,KalemAdı,1))=TRUE,1,0)","v":1},"Yol işaretleri tesisi","Yapım",45233294,null,null,"Cadde ve sokaklar için temel işleri"]
[null,null,null,null,null,null,null,9182,45233300,{"$f":"IF(K9186=1,COUNTIF($K$5:K9186,1),\"\")","v":9182},{"$f":"IF(ISNUMBER(SEARCH('Bilgi Girişi'!$E$4,KalemAdı,1))=TRUE,1,0)","v":1},"Otoyol, yol, sokak ve yaya yolları için temel işleri","Yapım",45233300,null,null,"Yaya yolu temel işleri"]
[null,null,null,null,null,null,null,9183,45233310,{"$f":"IF(K9187=1,COUNTIF($K$5:K9187,1),\"\")","v":9183},{"$f":"IF(ISNUMBER(SEARCH('Bilgi Girişi'!$E$4,KalemAdı,1))=TRUE,1,0)","v":1},"Otoyollar için temel işleri","Yapım",45233310,null,null,"Demiryolu ve kablolu taşımacılık sistemleri için inşaat işleri"]
[null,null,null,null,null,null,null,9184,45233320,{"$f":"IF(K9188=1,COUNTIF($K$5:K9188,1),\"\")","v":9184},{"$f":"IF(ISNUMBER(SEARCH('Bilgi Girişi'!$E$4,KalemAdı,1))=TRUE,1,0)","v":1},"Yollar için temel işleri","Yapım",45233320,null,null,"Demiryolu inşaatı işleri"]
[null,null,null,null,null,null,null,9185,45233330,{"$f":"IF(K9189=1,COUNTIF($K$5:K9189,1),\"\")","v":9185},{"$f":"IF(ISNUMBER(SEARCH('Bilgi Girişi'!$E$4,KalemAdı,1))=TRUE,1,0)","v":1},"Cadde ve sokaklar için temel işleri","Yapım",45233330,null,null,"Şehirlerarası demiryolu inşaatı işleri"]
[null,null,null,null,null,null,null,9186,45233340,{"$f":"IF(K9190=1,COUNTIF($K$5:K9190,1),\"\")","v":9186},{"$f":"IF(ISNUMBER(SEARCH('Bilgi Girişi'!$E$4,KalemAdı,1))=TRUE,1,0)","v":1},"Yaya yolu temel işleri","Yapım",45233340,null,null,"Şehir demiryolu inşaat işleri"]
[null,null,null,null,null,null,null,9187,45234000,{"$f":"IF(K9191=1,COUNTIF($K$5:K9191,1),\"\")","v":9187},{"$f":"IF(ISNUMBER(SEARCH('Bilgi Girişi'!$E$4,KalemAdı,1))=TRUE,1,0)","v":1},"Demiryolu ve kablolu taşımacılık sistemleri için inşaat işleri","Yapım",45234000,null,null,"Demiryolu deposu yapım işi"]
[null,null,null,null,null,null,null,9188,45234100,{"$f":"IF(K9192=1,COUNTIF($K$5:K9192,1),\"\")","v":9188},{"$f":"IF(ISNUMBER(SEARCH('Bilgi Girişi'!$E$4,KalemAdı,1))=TRUE,1,0)","v":1},"Demiryolu inşaatı işleri","Yapım",45234100,null,null,"Demiryolu hatlarının sökülmesi"]
[null,null,null,null,null,null,null,9189,45234110,{"$f":"IF(K9193=1,COUNTIF($K$5:K9193,1),\"\")","v":9189},{"$f":"IF(ISNUMBER(SEARCH('Bilgi Girişi'!$E$4,KalemAdı,1))=TRUE,1,0)","v":1},"Şehirlerarası demiryolu inşaatı işleri","Yapım",45234110,null,null,"Demiryolu bent yapım işi"]
[null,null,null,null,null,null,null,9190,45234111,{"$f":"IF(K9194=1,COUNTIF($K$5:K9194,1),\"\")","v":9190},{"$f":"IF(ISNUMBER(SEARCH('Bilgi Girişi'!$E$4,KalemAdı,1))=TRUE,1,0)","v":1},"Şehir demiryolu inşaat işleri","Yapım",45234111,null,null,"Demiryolu işaret ve sinyalizasyon çalışmaları"]
[null,null,null,null,null,null,null,9191,45234112,{"$f":"IF(K9195=1,COUNTIF($K$5:K9195,1),\"\")","v":9191},{"$f":"IF(ISNUMBER(SEARCH('Bilgi Girişi'!$E$4,KalemAdı,1))=TRUE,1,0)","v":1},"Demiryolu deposu yapım işi","Yapım",45234112,null,null,"Rayların inşaat işleri"]
[null,null,null,null,null,null,null,9192,45234113,{"$f":"IF(K9196=1,COUNTIF($K$5:K9196,1),\"\")","v":9192},{"$f":"IF(ISNUMBER(SEARCH('Bilgi Girişi'!$E$4,KalemAdı,1))=TRUE,1,0)","v":1},"Demiryolu hatlarının sökülmesi","Yapım",45234113,null,null,"Şehir içi metro hatlarıyla ilgili işler"]
[null,null,null,null,null,null,null,9193,45234114,{"$f":"IF(K9197=1,COUNTIF($K$5:K9197,1),\"\")","v":9193},{"$f":"IF(ISNUMBER(SEARCH('Bilgi Girişi'!$E$4,KalemAdı,1))=TRUE,1,0)","v":1},"Demiryolu bent yapım işi","Yapım",45234114,null,null,"Tramvay işleri"]
[null,null,null,null,null,null,null,9194,45234115,{"$f":"IF(K9198=1,COUNTIF($K$5:K9198,1),\"\")","v":9194},{"$f":"IF(ISNUMBER(SEARCH('Bilgi Girişi'!$E$4,KalemAdı,1))=TRUE,1,0)","v":1},"Demiryolu işaret ve sinyalizasyon çalışmaları","Yapım",45234115,null,null,"Yeraltı demiryolu hat çekme işlemleri"]
[null,null,null,null,null,null,null,9195,45234116,{"$f":"IF(K9199=1,COUNTIF($K$5:K9199,1),\"\")","v":9195},{"$f":"IF(ISNUMBER(SEARCH('Bilgi Girişi'!$E$4,KalemAdı,1))=TRUE,1,0)","v":1},"Rayların inşaat işleri","Yapım",45234116,null,null,"Kısmen yeraltı demiryolu çalışmaları"]
[null,null,null,null,null,null,null,9196,45234120,{"$f":"IF(K9200=1,COUNTIF($K$5:K9200,1),\"\")","v":9196},{"$f":"IF(ISNUMBER(SEARCH('Bilgi Girişi'!$E$4,KalemAdı,1))=TRUE,1,0)","v":1},"Şehir içi metro hatlarıyla ilgili işler","Yapım",45234120,null,null,"Yeraltı yolcu demiryolu taşımacılığı"]
[null,null,null,null,null,null,null,9197,45234121,{"$f":"IF(K9201=1,COUNTIF($K$5:K9201,1),\"\")","v":9197},{"$f":"IF(ISNUMBER(SEARCH('Bilgi Girişi'!$E$4,KalemAdı,1))=TRUE,1,0)","v":1},"Tramvay işleri","Yapım",45234121,null,null,"Metro istasyonları"]
[null,null,null,null,null,null,null,9198,45234122,{"$f":"IF(K9202=1,COUNTIF($K$5:K9202,1),\"\")","v":9198},{"$f":"IF(ISNUMBER(SEARCH('Bilgi Girişi'!$E$4,KalemAdı,1))=TRUE,1,0)","v":1},"Yeraltı demiryolu hat çekme işlemleri","Yapım",45234122,null,null,"Tramvay hattı inşaatı işleri"]
[null,null,null,null,null,null,null,9199,45234123,{"$f":"IF(K9203=1,COUNTIF($K$5:K9203,1),\"\")","v":9199},{"$f":"IF(ISNUMBER(SEARCH('Bilgi Girişi'!$E$4,KalemAdı,1))=TRUE,1,0)","v":1},"Kısmen yeraltı demiryolu çalışmaları","Yapım",45234123,null,null,"Tramvay deposu yapım işi"]
[null,null,null,null,null,null,null,9200,45234124,{"$f":"IF(K9204=1,COUNTIF($K$5:K9204,1),\"\")","v":9200},{"$f":"IF(ISNUMBER(SEARCH('Bilgi Girişi'!$E$4,KalemAdı,1))=TRUE,1,0)","v":1},"Yeraltı yolcu demiryolu taşımacılığı","Yapım",45234124,null,null,"Tramvay platformları inşaat işleri"]
[null,null,null,null,null,null,null,9201,45234125,{"$f":"IF(K9205=1,COUNTIF($K$5:K9205,1),\"\")","v":9201},{"$f":"IF(ISNUMBER(SEARCH('Bilgi Girişi'!$E$4,KalemAdı,1))=TRUE,1,0)","v":1},"Metro istasyonları","Yapım",45234125,null,null,"Şehiriçi metro hatlarının inşaatı işleri"]
[null,null,null,null,null,null,null,9202,45234126,{"$f":"IF(K9206=1,COUNTIF($K$5:K9206,1),\"\")","v":9202},{"$f":"IF(ISNUMBER(SEARCH('Bilgi Girişi'!$E$4,KalemAdı,1))=TRUE,1,0)","v":1},"Tramvay hattı inşaatı işleri","Yapım",45234126,null,null,"Balast yapım işi"]
[null,null,null,null,null,null,null,9203,45234127,{"$f":"IF(K9207=1,COUNTIF($K$5:K9207,1),\"\")","v":9203},{"$f":"IF(ISNUMBER(SEARCH('Bilgi Girişi'!$E$4,KalemAdı,1))=TRUE,1,0)","v":1},"Tramvay deposu yapım işi","Yapım",45234127,null,null,"Hemzemin geçit inşaat işleri"]
[null,null,null,null,null,null,null,9204,45234128,{"$f":"IF(K9208=1,COUNTIF($K$5:K9208,1),\"\")","v":9204},{"$f":"IF(ISNUMBER(SEARCH('Bilgi Girişi'!$E$4,KalemAdı,1))=TRUE,1,0)","v":1},"Tramvay platformları inşaat işleri","Yapım",45234128,null,null,"Katenerin inşaat işleri"]
[null,null,null,null,null,null,null,9205,45234129,{"$f":"IF(K9209=1,COUNTIF($K$5:K9209,1),\"\")","v":9205},{"$f":"IF(ISNUMBER(SEARCH('Bilgi Girişi'!$E$4,KalemAdı,1))=TRUE,1,0)","v":1},"Şehiriçi metro hatlarının inşaatı işleri","Yapım",45234129,null,null,"Lokomotif-altistasyon inşaat işleri"]
[null,null,null,null,null,null,null,9206,45234130,{"$f":"IF(K9210=1,COUNTIF($K$5:K9210,1),\"\")","v":9206},{"$f":"IF(ISNUMBER(SEARCH('Bilgi Girişi'!$E$4,KalemAdı,1))=TRUE,1,0)","v":1},"Balast yapım işi","Yapım",45234130,null,null,"Demiryolları atölyeleri için inşaat işi"]
[null,null,null,null,null,null,null,9207,45234140,{"$f":"IF(K9211=1,COUNTIF($K$5:K9211,1),\"\")","v":9207},{"$f":"IF(ISNUMBER(SEARCH('Bilgi Girişi'!$E$4,KalemAdı,1))=TRUE,1,0)","v":1},"Hemzemin geçit inşaat işleri","Yapım",45234140,null,null,"Demir yolu makas değiştirme sistemi kabinleri için inşaat işi"]
[null,null,null,null,null,null,null,9208,45234160,{"$f":"IF(K9212=1,COUNTIF($K$5:K9212,1),\"\")","v":9208},{"$f":"IF(ISNUMBER(SEARCH('Bilgi Girişi'!$E$4,KalemAdı,1))=TRUE,1,0)","v":1},"Katenerin inşaat işleri","Yapım",45234160,null,null,"Kablo destekli taşıma sistemleri"]
[null,null,null,null,null,null,null,9209,45234170,{"$f":"IF(K9213=1,COUNTIF($K$5:K9213,1),\"\")","v":9209},{"$f":"IF(ISNUMBER(SEARCH('Bilgi Girişi'!$E$4,KalemAdı,1))=TRUE,1,0)","v":1},"Lokomotif-altistasyon inşaat işleri","Yapım",45234170,null,null,"Kabinli kablo destekli taşıma sistemleri"]
[null,null,null,null,null,null,null,9210,45234180,{"$f":"IF(K9214=1,COUNTIF($K$5:K9214,1),\"\")","v":9210},{"$f":"IF(ISNUMBER(SEARCH('Bilgi Girişi'!$E$4,KalemAdı,1))=TRUE,1,0)","v":1},"Demiryolları atölyeleri için inşaat işi","Yapım",45234180,null,null,"Kayak liftleri için inşaat işi"]
[null,null,null,null,null,null,null,9211,45234181,{"$f":"IF(K9215=1,COUNTIF($K$5:K9215,1),\"\")","v":9211},{"$f":"IF(ISNUMBER(SEARCH('Bilgi Girişi'!$E$4,KalemAdı,1))=TRUE,1,0)","v":1},"Demir yolu makas değiştirme sistemi kabinleri için inşaat işi","Yapım",45234181,null,null,"Telesiyejler/teleskiler için inşaat işi"]
[null,null,null,null,null,null,null,9212,45234200,{"$f":"IF(K9216=1,COUNTIF($K$5:K9216,1),\"\")","v":9212},{"$f":"IF(ISNUMBER(SEARCH('Bilgi Girişi'!$E$4,KalemAdı,1))=TRUE,1,0)","v":1},"Kablo destekli taşıma sistemleri","Yapım",45234200,null,null,"Kablolu demiryolu sistemleri"]
[null,null,null,null,null,null,null,9213,45234210,{"$f":"IF(K9217=1,COUNTIF($K$5:K9217,1),\"\")","v":9213},{"$f":"IF(ISNUMBER(SEARCH('Bilgi Girişi'!$E$4,KalemAdı,1))=TRUE,1,0)","v":1},"Kabinli kablo destekli taşıma sistemleri","Yapım",45234210,null,null,"Teleferik inşaat işleri"]
[null,null,null,null,null,null,null,9214,45234220,{"$f":"IF(K9218=1,COUNTIF($K$5:K9218,1),\"\")","v":9214},{"$f":"IF(ISNUMBER(SEARCH('Bilgi Girişi'!$E$4,KalemAdı,1))=TRUE,1,0)","v":1},"Kayak liftleri için inşaat işi","Yapım",45234220,null,null,"Hava limanları, pistler ve manevra alanları inşaat çalışmaları"]
[null,null,null,null,null,null,null,9215,45234230,{"$f":"IF(K9219=1,COUNTIF($K$5:K9219,1),\"\")","v":9215},{"$f":"IF(ISNUMBER(SEARCH('Bilgi Girişi'!$E$4,KalemAdı,1))=TRUE,1,0)","v":1},"Telesiyejler/teleskiler için inşaat işi","Yapım",45234230,null,null,"Hava limanı inşaatı işleri"]
[null,null,null,null,null,null,null,9216,45234240,{"$f":"IF(K9220=1,COUNTIF($K$5:K9220,1),\"\")","v":9216},{"$f":"IF(ISNUMBER(SEARCH('Bilgi Girişi'!$E$4,KalemAdı,1))=TRUE,1,0)","v":1},"Kablolu demiryolu sistemleri","Yapım",45234240,null,null,"Hava alanı inşaatı işleri"]
[null,null,null,null,null,null,null,9217,45234250,{"$f":"IF(K9221=1,COUNTIF($K$5:K9221,1),\"\")","v":9217},{"$f":"IF(ISNUMBER(SEARCH('Bilgi Girişi'!$E$4,KalemAdı,1))=TRUE,1,0)","v":1},"Teleferik inşaat işleri","Yapım",45234250,null,null,"Havaalanı kaplama inşaat işi"]
[null,null,null,null,null,null,null,9218,45235000,{"$f":"IF(K9222=1,COUNTIF($K$5:K9222,1),\"\")","v":9218},{"$f":"IF(ISNUMBER(SEARCH('Bilgi Girişi'!$E$4,KalemAdı,1))=TRUE,1,0)","v":1},"Hava limanları, pistler ve manevra alanları inşaat çalışmaları","Yapım",45235000,null,null,{"$f":"IFERROR(VLOOKUP(ROW($P9222),$J$5:$L$9594,3,FALSE),\"\")","v":"Pist inşaatı işleri"}]
[null,null,null,null,null,null,null,9219,45235100,{"$f":"IF(K9223=1,COUNTIF($K$5:K9223,1),\"\")","v":9219},{"$f":"IF(ISNUMBER(SEARCH('Bilgi Girişi'!$E$4,KalemAdı,1))=TRUE,1,0)","v":1},"Hava limanı inşaatı işleri","Yapım",45235100,null,null,"Pist yüzey yenileme çalışmaları"]
[null,null,null,null,null,null,null,9220,45235110,{"$f":"IF(K9224=1,COUNTIF($K$5:K9224,1),\"\")","v":9220},{"$f":"IF(ISNUMBER(SEARCH('Bilgi Girişi'!$E$4,KalemAdı,1))=TRUE,1,0)","v":1},"Hava alanı inşaatı işleri","Yapım",45235110,null,null,"Uçak manevra alanı inşaatı işleri"]
[null,null,null,null,null,null,null,9221,45235111,{"$f":"IF(K9225=1,COUNTIF($K$5:K9225,1),\"\")","v":9221},{"$f":"IF(ISNUMBER(SEARCH('Bilgi Girişi'!$E$4,KalemAdı,1))=TRUE,1,0)","v":1},"Havaalanı kaplama inşaat işi","Yapım",45235111,null,null,"Hızlanma pisti/taksi yolu inşaat işleri"]
[null,null,null,null,null,null,null,9222,45235200,{"$f":"IF(K9226=1,COUNTIF($K$5:K9226,1),\"\")","v":9222},{"$f":"IF(ISNUMBER(SEARCH('Bilgi Girişi'!$E$4,KalemAdı,1))=TRUE,1,0)","v":1},"Pist inşaatı işleri","Yapım",45235200,null,null,"Hızlanma pisti/taksi yolu asfalt inşaat işi"]
[null,null,null,null,null,null,null,9223,45235210,{"$f":"IF(K9227=1,COUNTIF($K$5:K9227,1),\"\")","v":9223},{"$f":"IF(ISNUMBER(SEARCH('Bilgi Girişi'!$E$4,KalemAdı,1))=TRUE,1,0)","v":1},"Pist yüzey yenileme çalışmaları","Yapım",45235210,null,null,"Uçak apronu inşaatı işleri"]
[null,null,null,null,null,null,null,9224,45235300,{"$f":"IF(K9228=1,COUNTIF($K$5:K9228,1),\"\")","v":9224},{"$f":"IF(ISNUMBER(SEARCH('Bilgi Girişi'!$E$4,KalemAdı,1))=TRUE,1,0)","v":1},"Uçak manevra alanı inşaatı işleri","Yapım",45235300,null,null,"Yüzey ve platformlarla ilgili işler"]
[null,null,null,null,null,null,null,9225,45235310,{"$f":"IF(K9229=1,COUNTIF($K$5:K9229,1),\"\")","v":9225},{"$f":"IF(ISNUMBER(SEARCH('Bilgi Girişi'!$E$4,KalemAdı,1))=TRUE,1,0)","v":1},"Hızlanma pisti/taksi yolu inşaat işleri","Yapım",45235310,null,null,"Diğer spor tesisleri için yüzey işleri"]
[null,null,null,null,null,null,null,9226,45235311,{"$f":"IF(K9230=1,COUNTIF($K$5:K9230,1),\"\")","v":9226},{"$f":"IF(ISNUMBER(SEARCH('Bilgi Girişi'!$E$4,KalemAdı,1))=TRUE,1,0)","v":1},"Hızlanma pisti/taksi yolu asfalt inşaat işi","Yapım",45235311,null,null,"Spor alanları için yüzey çalışmaları"]
[null,null,null,null,null,null,null,9227,45235320,{"$f":"IF(K9231=1,COUNTIF($K$5:K9231,1),\"\")","v":9227},{"$f":"IF(ISNUMBER(SEARCH('Bilgi Girişi'!$E$4,KalemAdı,1))=TRUE,1,0)","v":1},"Uçak apronu inşaatı işleri","Yapım",45235320,null,null,"Golf sahası zemin işleri"]
[null,null,null,null,null,null,null,9228,45236000,{"$f":"IF(K9232=1,COUNTIF($K$5:K9232,1),\"\")","v":9228},{"$f":"IF(ISNUMBER(SEARCH('Bilgi Girişi'!$E$4,KalemAdı,1))=TRUE,1,0)","v":1},"Yüzey ve platformlarla ilgili işler","Yapım",45236000,null,null,"Tenis kortları zemin işleri"]
[null,null,null,null,null,null,null,9229,45236100,{"$f":"IF(K9233=1,COUNTIF($K$5:K9233,1),\"\")","v":9229},{"$f":"IF(ISNUMBER(SEARCH('Bilgi Girişi'!$E$4,KalemAdı,1))=TRUE,1,0)","v":1},"Diğer spor tesisleri için yüzey işleri","Yapım",45236100,null,null,"Yarış pisti zemin işleri"]
[null,null,null,null,null,null,null,9230,45236110,{"$f":"IF(K9234=1,COUNTIF($K$5:K9234,1),\"\")","v":9230},{"$f":"IF(ISNUMBER(SEARCH('Bilgi Girişi'!$E$4,KalemAdı,1))=TRUE,1,0)","v":1},"Spor alanları için yüzey çalışmaları","Yapım",45236110,null,null,"Koşu parkurları için düz yüzey çalışması"]
[null,null,null,null,null,null,null,9231,45236111,{"$f":"IF(K9235=1,COUNTIF($K$5:K9235,1),\"\")","v":9231},{"$f":"IF(ISNUMBER(SEARCH('Bilgi Girişi'!$E$4,KalemAdı,1))=TRUE,1,0)","v":1},"Golf sahası zemin işleri","Yapım",45236111,null,null,"Spor sahalarının onarım çalışmaları"]
[null,null,null,null,null,null,null,9232,45236112,{"$f":"IF(K9236=1,COUNTIF($K$5:K9236,1),\"\")","v":9232},{"$f":"IF(ISNUMBER(SEARCH('Bilgi Girişi'!$E$4,KalemAdı,1))=TRUE,1,0)","v":1},"Tenis kortları zemin işleri","Yapım",45236112,null,null,"Rekreasyon tesisleri zemin işleri"]
[null,null,null,null,null,null,null,9233,45236113,{"$f":"IF(K9237=1,COUNTIF($K$5:K9237,1),\"\")","v":9233},{"$f":"IF(ISNUMBER(SEARCH('Bilgi Girişi'!$E$4,KalemAdı,1))=TRUE,1,0)","v":1},"Yarış pisti zemin işleri","Yapım",45236113,null,null,"Çocuk bahçesi zemin çalışmaları"]
[null,null,null,null,null,null,null,9234,45236114,{"$f":"IF(K9238=1,COUNTIF($K$5:K9238,1),\"\")","v":9234},{"$f":"IF(ISNUMBER(SEARCH('Bilgi Girişi'!$E$4,KalemAdı,1))=TRUE,1,0)","v":1},"Koşu parkurları için düz yüzey çalışması","Yapım",45236114,null,null,"Hayvanat bahçesi zemin çalışmaları"]
[null,null,null,null,null,null,null,9235,45236119,{"$f":"IF(K9239=1,COUNTIF($K$5:K9239,1),\"\")","v":9235},{"$f":"IF(ISNUMBER(SEARCH('Bilgi Girişi'!$E$4,KalemAdı,1))=TRUE,1,0)","v":1},"Spor sahalarının onarım çalışmaları","Yapım",45236119,null,null,"Bahçe zemin çalışmaları"]
[null,null,null,null,null,null,null,9236,45236200,{"$f":"IF(K9240=1,COUNTIF($K$5:K9240,1),\"\")","v":9236},{"$f":"IF(ISNUMBER(SEARCH('Bilgi Girişi'!$E$4,KalemAdı,1))=TRUE,1,0)","v":1},"Rekreasyon tesisleri zemin işleri","Yapım",45236200,null,null,"Park zemin işleri"]
[null,null,null,null,null,null,null,9237,45236210,{"$f":"IF(K9241=1,COUNTIF($K$5:K9241,1),\"\")","v":9237},{"$f":"IF(ISNUMBER(SEARCH('Bilgi Girişi'!$E$4,KalemAdı,1))=TRUE,1,0)","v":1},"Çocuk bahçesi zemin çalışmaları","Yapım",45236210,null,null,"Rekreasyon alanlarının onarım çalışmaları"]
[null,null,null,null,null,null,null,9238,45236220,{"$f":"IF(K9242=1,COUNTIF($K$5:K9242,1),\"\")","v":9238},{"$f":"IF(ISNUMBER(SEARCH('Bilgi Girişi'!$E$4,KalemAdı,1))=TRUE,1,0)","v":1},"Hayvanat bahçesi zemin çalışmaları","Yapım",45236220,null,null,"Mezarlık zemin çalışmaları"]
[null,null,null,null,null,null,null,9239,45236230,{"$f":"IF(K9243=1,COUNTIF($K$5:K9243,1),\"\")","v":9239},{"$f":"IF(ISNUMBER(SEARCH('Bilgi Girişi'!$E$4,KalemAdı,1))=TRUE,1,0)","v":1},"Bahçe zemin çalışmaları","Yapım",45236230,null,null,"Sahne inşaat işleri"]
[null,null,null,null,null,null,null,9240,45236250,{"$f":"IF(K9244=1,COUNTIF($K$5:K9244,1),\"\")","v":9240},{"$f":"IF(ISNUMBER(SEARCH('Bilgi Girişi'!$E$4,KalemAdı,1))=TRUE,1,0)","v":1},"Park zemin işleri","Yapım",45236250,null,null,"Su projeleri ile ilgili inşaat işleri"]
[null,null,null,null,null,null,null,9241,45236290,{"$f":"IF(K9245=1,COUNTIF($K$5:K9245,1),\"\")","v":9241},{"$f":"IF(ISNUMBER(SEARCH('Bilgi Girişi'!$E$4,KalemAdı,1))=TRUE,1,0)","v":1},"Rekreasyon alanlarının onarım çalışmaları","Yapım",45236290,null,null,"Liman inşaatı işleri"]
[null,null,null,null,null,null,null,9242,45236300,{"$f":"IF(K9246=1,COUNTIF($K$5:K9246,1),\"\")","v":9242},{"$f":"IF(ISNUMBER(SEARCH('Bilgi Girişi'!$E$4,KalemAdı,1))=TRUE,1,0)","v":1},"Mezarlık zemin çalışmaları","Yapım",45236300,null,null,"İmar projelerindeki kıyı ötesi terminalleri"]
[null,null,null,null,null,null,null,9243,45237000,{"$f":"IF(K9247=1,COUNTIF($K$5:K9247,1),\"\")","v":9243},{"$f":"IF(ISNUMBER(SEARCH('Bilgi Girişi'!$E$4,KalemAdı,1))=TRUE,1,0)","v":1},"Sahne inşaat işleri","Yapım",45237000,null,null,"Iskele yapım işi"]
[null,null,null,null,null,null,null,9244,45240000,{"$f":"IF(K9248=1,COUNTIF($K$5:K9248,1),\"\")","v":9244},{"$f":"IF(ISNUMBER(SEARCH('Bilgi Girişi'!$E$4,KalemAdı,1))=TRUE,1,0)","v":1},"Su projeleri ile ilgili inşaat işleri","Yapım",45240000,null,null,"İskele inşaatı işi"]
[null,null,null,null,null,null,null,9245,45241000,{"$f":"IF(K9249=1,COUNTIF($K$5:K9249,1),\"\")","v":9245},{"$f":"IF(ISNUMBER(SEARCH('Bilgi Girişi'!$E$4,KalemAdı,1))=TRUE,1,0)","v":1},"Liman inşaatı işleri","Yapım",45241000,null,null,"İskele yapım işi"]
[null,null,null,null,null,null,null,9246,45241200,{"$f":"IF(K9250=1,COUNTIF($K$5:K9250,1),\"\")","v":9246},{"$f":"IF(ISNUMBER(SEARCH('Bilgi Girişi'!$E$4,KalemAdı,1))=TRUE,1,0)","v":1},"İmar projelerindeki kıyı ötesi terminalleri","Yapım",45241200,null,null,"Liman aydınlatma donanımı tesis ve montaj işleri"]
[null,null,null,null,null,null,null,9247,45241300,{"$f":"IF(K9251=1,COUNTIF($K$5:K9251,1),\"\")","v":9247},{"$f":"IF(ISNUMBER(SEARCH('Bilgi Girişi'!$E$4,KalemAdı,1))=TRUE,1,0)","v":1},"Iskele yapım işi","Yapım",45241300,null,null,"Su içi eğlence ve dinlence tesisleri inşaatı işleri"]
[null,null,null,null,null,null,null,9248,45241400,{"$f":"IF(K9252=1,COUNTIF($K$5:K9252,1),\"\")","v":9248},{"$f":"IF(ISNUMBER(SEARCH('Bilgi Girişi'!$E$4,KalemAdı,1))=TRUE,1,0)","v":1},"İskele inşaatı işi","Yapım",45241400,null,null,"Su sporları tesisleri inşaatı işleri"]
[null,null,null,null,null,null,null,9249,45241500,{"$f":"IF(K9253=1,COUNTIF($K$5:K9253,1),\"\")","v":9249},{"$f":"IF(ISNUMBER(SEARCH('Bilgi Girişi'!$E$4,KalemAdı,1))=TRUE,1,0)","v":1},"İskele yapım işi","Yapım",45241500,null,null,"Gemi yüzdürme kızağı inşaatı işleri"]
[null,null,null,null,null,null,null,9250,45241600,{"$f":"IF(K9254=1,COUNTIF($K$5:K9254,1),\"\")","v":9250},{"$f":"IF(ISNUMBER(SEARCH('Bilgi Girişi'!$E$4,KalemAdı,1))=TRUE,1,0)","v":1},"Liman aydınlatma donanımı tesis ve montaj işleri","Yapım",45241600,null,null,"Marina yapım işi"]
[null,null,null,null,null,null,null,9251,45242000,{"$f":"IF(K9255=1,COUNTIF($K$5:K9255,1),\"\")","v":9251},{"$f":"IF(ISNUMBER(SEARCH('Bilgi Girişi'!$E$4,KalemAdı,1))=TRUE,1,0)","v":1},"Su içi eğlence ve dinlence tesisleri inşaatı işleri","Yapım",45242000,null,null,"Yat limanı inşaat çalışmaları"]
[null,null,null,null,null,null,null,9252,45242100,{"$f":"IF(K9256=1,COUNTIF($K$5:K9256,1),\"\")","v":9252},{"$f":"IF(ISNUMBER(SEARCH('Bilgi Girişi'!$E$4,KalemAdı,1))=TRUE,1,0)","v":1},"Su sporları tesisleri inşaatı işleri","Yapım",45242100,null,null,"Sahil güvenlik tesisleri"]
[null,null,null,null,null,null,null,9253,45242110,{"$f":"IF(K9257=1,COUNTIF($K$5:K9257,1),\"\")","v":9253},{"$f":"IF(ISNUMBER(SEARCH('Bilgi Girişi'!$E$4,KalemAdı,1))=TRUE,1,0)","v":1},"Gemi yüzdürme kızağı inşaatı işleri","Yapım",45242110,null,null,"Sahil koruma yapı ve tesisleri"]
[null,null,null,null,null,null,null,9254,45242200,{"$f":"IF(K9258=1,COUNTIF($K$5:K9258,1),\"\")","v":9254},{"$f":"IF(ISNUMBER(SEARCH('Bilgi Girişi'!$E$4,KalemAdı,1))=TRUE,1,0)","v":1},"Marina yapım işi","Yapım",45242200,null,null,"Yamaç/Uçurum sabitleme işleri"]
[null,null,null,null,null,null,null,9255,45242210,{"$f":"IF(K9259=1,COUNTIF($K$5:K9259,1),\"\")","v":9255},{"$f":"IF(ISNUMBER(SEARCH('Bilgi Girişi'!$E$4,KalemAdı,1))=TRUE,1,0)","v":1},"Yat limanı inşaat çalışmaları","Yapım",45242210,null,null,"Mendirek inşaat işleri"]
[null,null,null,null,null,null,null,9256,45243000,{"$f":"IF(K9260=1,COUNTIF($K$5:K9260,1),\"\")","v":9256},{"$f":"IF(ISNUMBER(SEARCH('Bilgi Girişi'!$E$4,KalemAdı,1))=TRUE,1,0)","v":1},"Sahil güvenlik tesisleri","Yapım",45243000,null,null,"Deniz duvarı inşaat işi"]
[null,null,null,null,null,null,null,9257,45243100,{"$f":"IF(K9261=1,COUNTIF($K$5:K9261,1),\"\")","v":9257},{"$f":"IF(ISNUMBER(SEARCH('Bilgi Girişi'!$E$4,KalemAdı,1))=TRUE,1,0)","v":1},"Sahil koruma yapı ve tesisleri","Yapım",45243100,null,null,"Sahil sağlamlaştırma yapıları"]
[null,null,null,null,null,null,null,9258,45243110,{"$f":"IF(K9262=1,COUNTIF($K$5:K9262,1),\"\")","v":9258},{"$f":"IF(ISNUMBER(SEARCH('Bilgi Girişi'!$E$4,KalemAdı,1))=TRUE,1,0)","v":1},"Yamaç/Uçurum sabitleme işleri","Yapım",45243110,null,null,"Deniz savunma alanları inşaat işleri"]
[null,null,null,null,null,null,null,9259,45243200,{"$f":"IF(K9263=1,COUNTIF($K$5:K9263,1),\"\")","v":9259},{"$f":"IF(ISNUMBER(SEARCH('Bilgi Girişi'!$E$4,KalemAdı,1))=TRUE,1,0)","v":1},"Mendirek inşaat işleri","Yapım",45243200,null,null,"Bent-taşma duvarı inşaatı işleri"]
[null,null,null,null,null,null,null,9260,45243300,{"$f":"IF(K9264=1,COUNTIF($K$5:K9264,1),\"\")","v":9260},{"$f":"IF(ISNUMBER(SEARCH('Bilgi Girişi'!$E$4,KalemAdı,1))=TRUE,1,0)","v":1},"Deniz duvarı inşaat işi","Yapım",45243300,null,null,"Iskele duvarı yapım işi"]
[null,null,null,null,null,null,null,9261,45243400,{"$f":"IF(K9265=1,COUNTIF($K$5:K9265,1),\"\")","v":9261},{"$f":"IF(ISNUMBER(SEARCH('Bilgi Girişi'!$E$4,KalemAdı,1))=TRUE,1,0)","v":1},"Sahil sağlamlaştırma yapıları","Yapım",45243400,null,null,"Deniz yapıları inşaat işleri"]
[null,null,null,null,null,null,null,9262,45243500,{"$f":"IF(K9266=1,COUNTIF($K$5:K9266,1),\"\")","v":9262},{"$f":"IF(ISNUMBER(SEARCH('Bilgi Girişi'!$E$4,KalemAdı,1))=TRUE,1,0)","v":1},"Deniz savunma alanları inşaat işleri","Yapım",45243500,null,null,"Deniz ve denizcilik tesisleri"]
[null,null,null,null,null,null,null,9263,45243510,{"$f":"IF(K9267=1,COUNTIF($K$5:K9267,1),\"\")","v":9263},{"$f":"IF(ISNUMBER(SEARCH('Bilgi Girişi'!$E$4,KalemAdı,1))=TRUE,1,0)","v":1},"Bent-taşma duvarı inşaatı işleri","Yapım",45243510,null,null,"Dalgakıranlar"]
[null,null,null,null,null,null,null,9264,45243600,{"$f":"IF(K9268=1,COUNTIF($K$5:K9268,1),\"\")","v":9264},{"$f":"IF(ISNUMBER(SEARCH('Bilgi Girişi'!$E$4,KalemAdı,1))=TRUE,1,0)","v":1},"Iskele duvarı yapım işi","Yapım",45243600,null,null,"Su arıtma tesisi kurulumu için tarama ve pompalama işleri"]
[null,null,null,null,null,null,null,9265,45244000,{"$f":"IF(K9269=1,COUNTIF($K$5:K9269,1),\"\")","v":9265},{"$f":"IF(ISNUMBER(SEARCH('Bilgi Girişi'!$E$4,KalemAdı,1))=TRUE,1,0)","v":1},"Deniz yapıları inşaat işleri","Yapım",45244000,null,null,"Nehir akış ve taşkın kontrol tesis ve yapıları"]
[null,null,null,null,null,null,null,9266,45244100,{"$f":"IF(K9270=1,COUNTIF($K$5:K9270,1),\"\")","v":9266},{"$f":"IF(ISNUMBER(SEARCH('Bilgi Girişi'!$E$4,KalemAdı,1))=TRUE,1,0)","v":1},"Deniz ve denizcilik tesisleri","Yapım",45244100,null,null,"Nehir istinat duvarı inşaatları"]
[null,null,null,null,null,null,null,9267,45244200,{"$f":"IF(K9271=1,COUNTIF($K$5:K9271,1),\"\")","v":9267},{"$f":"IF(ISNUMBER(SEARCH('Bilgi Girişi'!$E$4,KalemAdı,1))=TRUE,1,0)","v":1},"Dalgakıranlar","Yapım",45244200,null,null,"Nehir kenarı koruma çalışmaları"]
[null,null,null,null,null,null,null,9268,45245000,{"$f":"IF(K9272=1,COUNTIF($K$5:K9272,1),\"\")","v":9268},{"$f":"IF(ISNUMBER(SEARCH('Bilgi Girişi'!$E$4,KalemAdı,1))=TRUE,1,0)","v":1},"Su arıtma tesisi kurulumu için tarama ve pompalama işleri","Yapım",45245000,null,null,"Sel önleme yapıları"]
[null,null,null,null,null,null,null,9269,45246000,{"$f":"IF(K9273=1,COUNTIF($K$5:K9273,1),\"\")","v":9269},{"$f":"IF(ISNUMBER(SEARCH('Bilgi Girişi'!$E$4,KalemAdı,1))=TRUE,1,0)","v":1},"Nehir akış ve taşkın kontrol tesis ve yapıları","Yapım",45246000,null,null,"Sel-savunma bakım işleri"]
[null,null,null,null,null,null,null,9270,45246100,{"$f":"IF(K9274=1,COUNTIF($K$5:K9274,1),\"\")","v":9270},{"$f":"IF(ISNUMBER(SEARCH('Bilgi Girişi'!$E$4,KalemAdı,1))=TRUE,1,0)","v":1},"Nehir istinat duvarı inşaatları","Yapım",45246100,null,null,"Güvrte inşaat çalışmaları"]
[null,null,null,null,null,null,null,9271,45246200,{"$f":"IF(K9275=1,COUNTIF($K$5:K9275,1),\"\")","v":9271},{"$f":"IF(ISNUMBER(SEARCH('Bilgi Girişi'!$E$4,KalemAdı,1))=TRUE,1,0)","v":1},"Nehir kenarı koruma çalışmaları","Yapım",45246200,null,null,"Tahta kaldırım inşaat işleri"]
[null,null,null,null,null,null,null,9272,45246400,{"$f":"IF(K9276=1,COUNTIF($K$5:K9276,1),\"\")","v":9272},{"$f":"IF(ISNUMBER(SEARCH('Bilgi Girişi'!$E$4,KalemAdı,1))=TRUE,1,0)","v":1},"Sel önleme yapıları","Yapım",45246400,null,null,"Baraj, kanal, sulama kanalları ve kanalet inşaatı işleri"]
[null,null,null,null,null,null,null,9273,45246410,{"$f":"IF(K9277=1,COUNTIF($K$5:K9277,1),\"\")","v":9273},{"$f":"IF(ISNUMBER(SEARCH('Bilgi Girişi'!$E$4,KalemAdı,1))=TRUE,1,0)","v":1},"Sel-savunma bakım işleri","Yapım",45246410,null,null,"Su yolu inşaatları"]
[null,null,null,null,null,null,null,9274,45246500,{"$f":"IF(K9278=1,COUNTIF($K$5:K9278,1),\"\")","v":9274},{"$f":"IF(ISNUMBER(SEARCH('Bilgi Girişi'!$E$4,KalemAdı,1))=TRUE,1,0)","v":1},"Güvrte inşaat çalışmaları","Yapım",45246500,null,null,"Kanal inşaatları"]
[null,null,null,null,null,null,null,9275,45246510,{"$f":"IF(K9279=1,COUNTIF($K$5:K9279,1),\"\")","v":9275},{"$f":"IF(ISNUMBER(SEARCH('Bilgi Girişi'!$E$4,KalemAdı,1))=TRUE,1,0)","v":1},"Tahta kaldırım inşaat işleri","Yapım",45246510,null,null,"Sulama kanalı yapım işi"]
[null,null,null,null,null,null,null,9276,45247000,{"$f":"IF(K9280=1,COUNTIF($K$5:K9280,1),\"\")","v":9276},{"$f":"IF(ISNUMBER(SEARCH('Bilgi Girişi'!$E$4,KalemAdı,1))=TRUE,1,0)","v":1},"Baraj, kanal, sulama kanalları ve kanalet inşaatı işleri","Yapım",45247000,null,null,"Drenaj kanalı inşaat işi"]
[null,null,null,null,null,null,null,9277,45247100,{"$f":"IF(K9281=1,COUNTIF($K$5:K9281,1),\"\")","v":9277},{"$f":"IF(ISNUMBER(SEARCH('Bilgi Girişi'!$E$4,KalemAdı,1))=TRUE,1,0)","v":1},"Su yolu inşaatları","Yapım",45247100,null,null,"Kanallar dışında kalan su yolları"]
[null,null,null,null,null,null,null,9278,45247110,{"$f":"IF(K9282=1,COUNTIF($K$5:K9282,1),\"\")","v":9278},{"$f":"IF(ISNUMBER(SEARCH('Bilgi Girişi'!$E$4,KalemAdı,1))=TRUE,1,0)","v":1},"Kanal inşaatları","Yapım",45247110,null,null,"Sukemeri inşaat işi"]
[null,null,null,null,null,null,null,9279,45247111,{"$f":"IF(K9283=1,COUNTIF($K$5:K9283,1),\"\")","v":9279},{"$f":"IF(ISNUMBER(SEARCH('Bilgi Girişi'!$E$4,KalemAdı,1))=TRUE,1,0)","v":1},"Sulama kanalı yapım işi","Yapım",45247111,null,null,"Baraj ve benzeri sabit yapı inşaatı işleri"]
[null,null,null,null,null,null,null,9280,45247112,{"$f":"IF(K9284=1,COUNTIF($K$5:K9284,1),\"\")","v":9280},{"$f":"IF(ISNUMBER(SEARCH('Bilgi Girişi'!$E$4,KalemAdı,1))=TRUE,1,0)","v":1},"Drenaj kanalı inşaat işi","Yapım",45247112,null,null,"Baraj inşaat işleri"]
[null,null,null,null,null,null,null,9281,45247120,{"$f":"IF(K9285=1,COUNTIF($K$5:K9285,1),\"\")","v":9281},{"$f":"IF(ISNUMBER(SEARCH('Bilgi Girişi'!$E$4,KalemAdı,1))=TRUE,1,0)","v":1},"Kanallar dışında kalan su yolları","Yapım",45247120,null,null,"Baraj duvarı yapım işleri"]
[null,null,null,null,null,null,null,9282,45247130,{"$f":"IF(K9286=1,COUNTIF($K$5:K9286,1),\"\")","v":9282},{"$f":"IF(ISNUMBER(SEARCH('Bilgi Girişi'!$E$4,KalemAdı,1))=TRUE,1,0)","v":1},"Sukemeri inşaat işi","Yapım",45247130,null,null,{"$f":"IFERROR(VLOOKUP(ROW($P9286),$J$5:$L$9594,3,FALSE),\"\")","v":"Baraj takviye işleri"}]
[null,null,null,null,null,null,null,9283,45247200,{"$f":"IF(K9287=1,COUNTIF($K$5:K9287,1),\"\")","v":9283},{"$f":"IF(ISNUMBER(SEARCH('Bilgi Girişi'!$E$4,KalemAdı,1))=TRUE,1,0)","v":1},"Baraj ve benzeri sabit yapı inşaatı işleri","Yapım",45247200,null,null,"Su benti inşaat işleri"]
[null,null,null,null,null,null,null,9284,45247210,{"$f":"IF(K9288=1,COUNTIF($K$5:K9288,1),\"\")","v":9284},{"$f":"IF(ISNUMBER(SEARCH('Bilgi Girişi'!$E$4,KalemAdı,1))=TRUE,1,0)","v":1},"Baraj inşaat işleri","Yapım",45247210,null,null,"Kanal inşaat çalışmaları"]
[null,null,null,null,null,null,null,9285,45247211,{"$f":"IF(K9289=1,COUNTIF($K$5:K9289,1),\"\")","v":9285},{"$f":"IF(ISNUMBER(SEARCH('Bilgi Girişi'!$E$4,KalemAdı,1))=TRUE,1,0)","v":1},"Baraj duvarı yapım işleri","Yapım",45247211,null,null,"Statik baraj inşaat işleri"]
[null,null,null,null,null,null,null,9286,45247212,{"$f":"IF(K9290=1,COUNTIF($K$5:K9290,1),\"\")","v":9286},{"$f":"IF(ISNUMBER(SEARCH('Bilgi Girişi'!$E$4,KalemAdı,1))=TRUE,1,0)","v":1},"Baraj takviye işleri","Yapım",45247212,null,null,"Gölet inşaatı işleri"]
[null,null,null,null,null,null,null,9287,45247220,{"$f":"IF(K9291=1,COUNTIF($K$5:K9291,1),\"\")","v":9287},{"$f":"IF(ISNUMBER(SEARCH('Bilgi Girişi'!$E$4,KalemAdı,1))=TRUE,1,0)","v":1},"Su benti inşaat işleri","Yapım",45247220,null,null,"Hidromekanik yapı inşaatı işleri"]
[null,null,null,null,null,null,null,9288,45247230,{"$f":"IF(K9292=1,COUNTIF($K$5:K9292,1),\"\")","v":9288},{"$f":"IF(ISNUMBER(SEARCH('Bilgi Girişi'!$E$4,KalemAdı,1))=TRUE,1,0)","v":1},"Kanal inşaat çalışmaları","Yapım",45247230,null,null,"Kanal kapağı inşaat işleri"]
[null,null,null,null,null,null,null,9289,45247240,{"$f":"IF(K9293=1,COUNTIF($K$5:K9293,1),\"\")","v":9289},{"$f":"IF(ISNUMBER(SEARCH('Bilgi Girişi'!$E$4,KalemAdı,1))=TRUE,1,0)","v":1},"Statik baraj inşaat işleri","Yapım",45247240,null,null,"Kuru havuz inşaat işi"]
[null,null,null,null,null,null,null,9290,45247270,{"$f":"IF(K9294=1,COUNTIF($K$5:K9294,1),\"\")","v":9290},{"$f":"IF(ISNUMBER(SEARCH('Bilgi Girişi'!$E$4,KalemAdı,1))=TRUE,1,0)","v":1},"Gölet inşaatı işleri","Yapım",45247270,null,null,"Yüzer havuzlar için inşaat işi"]
[null,null,null,null,null,null,null,9291,45248000,{"$f":"IF(K9295=1,COUNTIF($K$5:K9295,1),\"\")","v":9291},{"$f":"IF(ISNUMBER(SEARCH('Bilgi Girişi'!$E$4,KalemAdı,1))=TRUE,1,0)","v":1},"Hidromekanik yapı inşaatı işleri","Yapım",45248000,null,null,"İskele/rıhtım inşaat işi"]
[null,null,null,null,null,null,null,9292,45248100,{"$f":"IF(K9296=1,COUNTIF($K$5:K9296,1),\"\")","v":9292},{"$f":"IF(ISNUMBER(SEARCH('Bilgi Girişi'!$E$4,KalemAdı,1))=TRUE,1,0)","v":1},"Kanal kapağı inşaat işleri","Yapım",45248100,null,null,"Hareketli benter inşaat işleri"]
[null,null,null,null,null,null,null,9293,45248200,{"$f":"IF(K9297=1,COUNTIF($K$5:K9297,1),\"\")","v":9293},{"$f":"IF(ISNUMBER(SEARCH('Bilgi Girişi'!$E$4,KalemAdı,1))=TRUE,1,0)","v":1},"Kuru havuz inşaat işi","Yapım",45248200,null,null,"Madencilik ve imalat sektörü ile petrol ve gaz endüstrisi bina ve tesisleri"]
[null,null,null,null,null,null,null,9294,45248300,{"$f":"IF(K9298=1,COUNTIF($K$5:K9298,1),\"\")","v":9294},{"$f":"IF(ISNUMBER(SEARCH('Bilgi Girişi'!$E$4,KalemAdı,1))=TRUE,1,0)","v":1},"Yüzer havuzlar için inşaat işi","Yapım",45248300,null,null,"Güç santralleri ve ısıtma tesisleri inşaatı işleri"]
[null,null,null,null,null,null,null,9295,45248400,{"$f":"IF(K9299=1,COUNTIF($K$5:K9299,1),\"\")","v":9295},{"$f":"IF(ISNUMBER(SEARCH('Bilgi Girişi'!$E$4,KalemAdı,1))=TRUE,1,0)","v":1},"İskele/rıhtım inşaat işi","Yapım",45248400,null,null,"Güç santrali inşaatı işleri"]
[null,null,null,null,null,null,null,9296,45248500,{"$f":"IF(K9300=1,COUNTIF($K$5:K9300,1),\"\")","v":9296},{"$f":"IF(ISNUMBER(SEARCH('Bilgi Girişi'!$E$4,KalemAdı,1))=TRUE,1,0)","v":1},"Hareketli benter inşaat işleri","Yapım",45248500,null,null,"Nükleer güç istasyonu inşaat işleri"]
[null,null,null,null,null,null,null,9297,45250000,{"$f":"IF(K9301=1,COUNTIF($K$5:K9301,1),\"\")","v":9297},{"$f":"IF(ISNUMBER(SEARCH('Bilgi Girişi'!$E$4,KalemAdı,1))=TRUE,1,0)","v":1},"Madencilik ve imalat sektörü ile petrol ve gaz endüstrisi bina ve tesisleri","Yapım",45250000,null,null,"Nükleer reaktörler için inşaat işi"]
[null,null,null,null,null,null,null,9298,45251000,{"$f":"IF(K9302=1,COUNTIF($K$5:K9302,1),\"\")","v":9298},{"$f":"IF(ISNUMBER(SEARCH('Bilgi Girişi'!$E$4,KalemAdı,1))=TRUE,1,0)","v":1},"Güç santralleri ve ısıtma tesisleri inşaatı işleri","Yapım",45251000,null,null,"Hidro-elektrik tesisi yapım işi"]
[null,null,null,null,null,null,null,9299,45251100,{"$f":"IF(K9303=1,COUNTIF($K$5:K9303,1),\"\")","v":9299},{"$f":"IF(ISNUMBER(SEARCH('Bilgi Girişi'!$E$4,KalemAdı,1))=TRUE,1,0)","v":1},"Güç santrali inşaatı işleri","Yapım",45251100,null,null,"Termik santral inşaat işi"]
[null,null,null,null,null,null,null,9300,45251110,{"$f":"IF(K9304=1,COUNTIF($K$5:K9304,1),\"\")","v":9300},{"$f":"IF(ISNUMBER(SEARCH('Bilgi Girişi'!$E$4,KalemAdı,1))=TRUE,1,0)","v":1},"Nükleer güç istasyonu inşaat işleri","Yapım",45251110,null,null,"Jeotermal enerji istasyonu yapım işi"]
[null,null,null,null,null,null,null,9301,45251111,{"$f":"IF(K9305=1,COUNTIF($K$5:K9305,1),\"\")","v":9301},{"$f":"IF(ISNUMBER(SEARCH('Bilgi Girişi'!$E$4,KalemAdı,1))=TRUE,1,0)","v":1},"Nükleer reaktörler için inşaat işi","Yapım",45251111,null,null,"Ahşap güç istasyonu inşaat çalışmaları ateşlenmiş"]
[null,null,null,null,null,null,null,9302,45251120,{"$f":"IF(K9306=1,COUNTIF($K$5:K9306,1),\"\")","v":9302},{"$f":"IF(ISNUMBER(SEARCH('Bilgi Girişi'!$E$4,KalemAdı,1))=TRUE,1,0)","v":1},"Hidro-elektrik tesisi yapım işi","Yapım",45251120,null,null,"Basınçlı hava üretim tesisi yapım işi"]
[null,null,null,null,null,null,null,9303,45251140,{"$f":"IF(K9307=1,COUNTIF($K$5:K9307,1),\"\")","v":9303},{"$f":"IF(ISNUMBER(SEARCH('Bilgi Girişi'!$E$4,KalemAdı,1))=TRUE,1,0)","v":1},"Termik santral inşaat işi","Yapım",45251140,null,null,"Soğutma kuleleri için inşaat işi"]
[null,null,null,null,null,null,null,9304,45251141,{"$f":"IF(K9308=1,COUNTIF($K$5:K9308,1),\"\")","v":9304},{"$f":"IF(ISNUMBER(SEARCH('Bilgi Girişi'!$E$4,KalemAdı,1))=TRUE,1,0)","v":1},"Jeotermal enerji istasyonu yapım işi","Yapım",45251141,null,null,"Rüzgar gücü tesisat  kurulum işleri"]
[null,null,null,null,null,null,null,9305,45251142,{"$f":"IF(K9309=1,COUNTIF($K$5:K9309,1),\"\")","v":9305},{"$f":"IF(ISNUMBER(SEARCH('Bilgi Girişi'!$E$4,KalemAdı,1))=TRUE,1,0)","v":1},"Ahşap güç istasyonu inşaat çalışmaları ateşlenmiş","Yapım",45251142,null,null,"Isıtma tesisi yapım işi"]
[null,null,null,null,null,null,null,9306,45251143,{"$f":"IF(K9310=1,COUNTIF($K$5:K9310,1),\"\")","v":9306},{"$f":"IF(ISNUMBER(SEARCH('Bilgi Girişi'!$E$4,KalemAdı,1))=TRUE,1,0)","v":1},"Basınçlı hava üretim tesisi yapım işi","Yapım",45251143,null,null,"Kojenerasyon tesisi yapım işleri"]
[null,null,null,null,null,null,null,9307,45251150,{"$f":"IF(K9311=1,COUNTIF($K$5:K9311,1),\"\")","v":9307},{"$f":"IF(ISNUMBER(SEARCH('Bilgi Girişi'!$E$4,KalemAdı,1))=TRUE,1,0)","v":1},"Soğutma kuleleri için inşaat işi","Yapım",45251150,null,null,"Buhar-üretim santrali yapım işi"]
[null,null,null,null,null,null,null,9308,45251160,{"$f":"IF(K9312=1,COUNTIF($K$5:K9312,1),\"\")","v":9308},{"$f":"IF(ISNUMBER(SEARCH('Bilgi Girişi'!$E$4,KalemAdı,1))=TRUE,1,0)","v":1},"Rüzgar gücü tesisat  kurulum işleri","Yapım",45251160,null,null,"Katı atık-gaz elektrik üretim tesisi yapım işi"]
[null,null,null,null,null,null,null,9309,45251200,{"$f":"IF(K9313=1,COUNTIF($K$5:K9313,1),\"\")","v":9309},{"$f":"IF(ISNUMBER(SEARCH('Bilgi Girişi'!$E$4,KalemAdı,1))=TRUE,1,0)","v":1},"Isıtma tesisi yapım işi","Yapım",45251200,null,null,"Bölge ısıtma tesisi inşaat işi"]
[null,null,null,null,null,null,null,9310,45251220,{"$f":"IF(K9314=1,COUNTIF($K$5:K9314,1),\"\")","v":9310},{"$f":"IF(ISNUMBER(SEARCH('Bilgi Girişi'!$E$4,KalemAdı,1))=TRUE,1,0)","v":1},"Kojenerasyon tesisi yapım işleri","Yapım",45251220,null,null,"Lağım arıtma tesisleri, saflaştırma tesisleri ile katı atık ve çöp yakma"]
[null,null,null,null,null,null,null,9311,45251230,{"$f":"IF(K9315=1,COUNTIF($K$5:K9315,1),\"\")","v":9311},{"$f":"IF(ISNUMBER(SEARCH('Bilgi Girişi'!$E$4,KalemAdı,1))=TRUE,1,0)","v":1},"Buhar-üretim santrali yapım işi","Yapım",45251230,null,null,"Kanalizasyon-arıtma tesisi yapım işi"]
[null,null,null,null,null,null,null,9312,45251240,{"$f":"IF(K9316=1,COUNTIF($K$5:K9316,1),\"\")","v":9312},{"$f":"IF(ISNUMBER(SEARCH('Bilgi Girişi'!$E$4,KalemAdı,1))=TRUE,1,0)","v":1},"Katı atık-gaz elektrik üretim tesisi yapım işi","Yapım",45251240,null,null,"Mobil tesis/santral yapım işi"]
[null,null,null,null,null,null,null,9313,45251250,{"$f":"IF(K9317=1,COUNTIF($K$5:K9317,1),\"\")","v":9313},{"$f":"IF(ISNUMBER(SEARCH('Bilgi Girişi'!$E$4,KalemAdı,1))=TRUE,1,0)","v":1},"Bölge ısıtma tesisi inşaat işi","Yapım",45251250,null,null,"Su arıtma tesisi yapım işi"]
[null,null,null,null,null,null,null,9314,45252000,{"$f":"IF(K9318=1,COUNTIF($K$5:K9318,1),\"\")","v":9314},{"$f":"IF(ISNUMBER(SEARCH('Bilgi Girişi'!$E$4,KalemAdı,1))=TRUE,1,0)","v":1},"Lağım arıtma tesisleri, saflaştırma tesisleri ile katı atık ve çöp yakma","Yapım",45252000,null,null,"Çöktürme tesisleri"]
[null,null,null,null,null,null,null,9315,45252100,{"$f":"IF(K9319=1,COUNTIF($K$5:K9319,1),\"\")","v":9315},{"$f":"IF(ISNUMBER(SEARCH('Bilgi Girişi'!$E$4,KalemAdı,1))=TRUE,1,0)","v":1},"Kanalizasyon-arıtma tesisi yapım işi","Yapım",45252100,null,null,"Kanalizasyon öğütücü değirmenleri"]
[null,null,null,null,null,null,null,9316,45252110,{"$f":"IF(K9320=1,COUNTIF($K$5:K9320,1),\"\")","v":9316},{"$f":"IF(ISNUMBER(SEARCH('Bilgi Girişi'!$E$4,KalemAdı,1))=TRUE,1,0)","v":1},"Mobil tesis/santral yapım işi","Yapım",45252110,null,null,"Eleme tesis ve yapıları"]
[null,null,null,null,null,null,null,9317,45252120,{"$f":"IF(K9321=1,COUNTIF($K$5:K9321,1),\"\")","v":9317},{"$f":"IF(ISNUMBER(SEARCH('Bilgi Girişi'!$E$4,KalemAdı,1))=TRUE,1,0)","v":1},"Su arıtma tesisi yapım işi","Yapım",45252120,null,null,"Tarama ve pompaj işleri"]
[null,null,null,null,null,null,null,9318,45252121,{"$f":"IF(K9322=1,COUNTIF($K$5:K9322,1),\"\")","v":9318},{"$f":"IF(ISNUMBER(SEARCH('Bilgi Girişi'!$E$4,KalemAdı,1))=TRUE,1,0)","v":1},"Çöktürme tesisleri","Yapım",45252121,null,null,"Kaya dolgu işleri"]
[null,null,null,null,null,null,null,9319,45252122,{"$f":"IF(K9323=1,COUNTIF($K$5:K9323,1),\"\")","v":9319},{"$f":"IF(ISNUMBER(SEARCH('Bilgi Girişi'!$E$4,KalemAdı,1))=TRUE,1,0)","v":1},"Kanalizasyon öğütücü değirmenleri","Yapım",45252122,null,null,"İçme suyu arıtma tesisi yapım işi"]
[null,null,null,null,null,null,null,9320,45252123,{"$f":"IF(K9324=1,COUNTIF($K$5:K9324,1),\"\")","v":9320},{"$f":"IF(ISNUMBER(SEARCH('Bilgi Girişi'!$E$4,KalemAdı,1))=TRUE,1,0)","v":1},"Eleme tesis ve yapıları","Yapım",45252123,null,null,"Atıksu arıtma tesisi yapım işi"]
[null,null,null,null,null,null,null,9321,45252124,{"$f":"IF(K9325=1,COUNTIF($K$5:K9325,1),\"\")","v":9321},{"$f":"IF(ISNUMBER(SEARCH('Bilgi Girişi'!$E$4,KalemAdı,1))=TRUE,1,0)","v":1},"Tarama ve pompaj işleri","Yapım",45252124,null,null,"Kanalizasyon tesisi ekipmanları"]
[null,null,null,null,null,null,null,9322,45252125,{"$f":"IF(K9326=1,COUNTIF($K$5:K9326,1),\"\")","v":9322},{"$f":"IF(ISNUMBER(SEARCH('Bilgi Girişi'!$E$4,KalemAdı,1))=TRUE,1,0)","v":1},"Kaya dolgu işleri","Yapım",45252125,null,null,"Çamur-susuzlaştırma tesisi yapım işi"]
[null,null,null,null,null,null,null,9323,45252126,{"$f":"IF(K9327=1,COUNTIF($K$5:K9327,1),\"\")","v":9323},{"$f":"IF(ISNUMBER(SEARCH('Bilgi Girişi'!$E$4,KalemAdı,1))=TRUE,1,0)","v":1},"İçme suyu arıtma tesisi yapım işi","Yapım",45252126,null,null,"Kömür işleme tesisi inşaat işi"]
[null,null,null,null,null,null,null,9324,45252127,{"$f":"IF(K9328=1,COUNTIF($K$5:K9328,1),\"\")","v":9324},{"$f":"IF(ISNUMBER(SEARCH('Bilgi Girişi'!$E$4,KalemAdı,1))=TRUE,1,0)","v":1},"Atıksu arıtma tesisi yapım işi","Yapım",45252127,null,null,"Arıtma tesisi ekipmanları"]
[null,null,null,null,null,null,null,9325,45252130,{"$f":"IF(K9329=1,COUNTIF($K$5:K9329,1),\"\")","v":9325},{"$f":"IF(ISNUMBER(SEARCH('Bilgi Girişi'!$E$4,KalemAdı,1))=TRUE,1,0)","v":1},"Kanalizasyon tesisi ekipmanları","Yapım",45252130,null,null,"Su arıtma tesisi yapım işi"]
[null,null,null,null,null,null,null,9326,45252140,{"$f":"IF(K9330=1,COUNTIF($K$5:K9330,1),\"\")","v":9326},{"$f":"IF(ISNUMBER(SEARCH('Bilgi Girişi'!$E$4,KalemAdı,1))=TRUE,1,0)","v":1},"Çamur-susuzlaştırma tesisi yapım işi","Yapım",45252140,null,null,"Çöp-atık yakma tesisi yapım işi"]
[null,null,null,null,null,null,null,9327,45252150,{"$f":"IF(K9331=1,COUNTIF($K$5:K9331,1),\"\")","v":9327},{"$f":"IF(ISNUMBER(SEARCH('Bilgi Girişi'!$E$4,KalemAdı,1))=TRUE,1,0)","v":1},"Kömür işleme tesisi inşaat işi","Yapım",45252150,null,null,"Kimyasal işleme tesisleri inşaatı işleri"]
[null,null,null,null,null,null,null,9328,45252200,{"$f":"IF(K9332=1,COUNTIF($K$5:K9332,1),\"\")","v":9328},{"$f":"IF(ISNUMBER(SEARCH('Bilgi Girişi'!$E$4,KalemAdı,1))=TRUE,1,0)","v":1},"Arıtma tesisi ekipmanları","Yapım",45252200,null,null,"Mineralsizleştirme tesisi yapım işi"]
[null,null,null,null,null,null,null,9329,45252210,{"$f":"IF(K9333=1,COUNTIF($K$5:K9333,1),\"\")","v":9329},{"$f":"IF(ISNUMBER(SEARCH('Bilgi Girişi'!$E$4,KalemAdı,1))=TRUE,1,0)","v":1},"Su arıtma tesisi yapım işi","Yapım",45252210,null,null,"Sülfürsüzleştirme tesisi inşaat işi"]
[null,null,null,null,null,null,null,9330,45252300,{"$f":"IF(K9334=1,COUNTIF($K$5:K9334,1),\"\")","v":9330},{"$f":"IF(ISNUMBER(SEARCH('Bilgi Girişi'!$E$4,KalemAdı,1))=TRUE,1,0)","v":1},"Çöp-atık yakma tesisi yapım işi","Yapım",45252300,null,null,"Damıtma veya rektifiye tesisi inşaat işi"]
[null,null,null,null,null,null,null,9331,45253000,{"$f":"IF(K9335=1,COUNTIF($K$5:K9335,1),\"\")","v":9331},{"$f":"IF(ISNUMBER(SEARCH('Bilgi Girişi'!$E$4,KalemAdı,1))=TRUE,1,0)","v":1},"Kimyasal işleme tesisleri inşaatı işleri","Yapım",45253000,null,null,"Su damıtma tesisi yapım işi"]
[null,null,null,null,null,null,null,9332,45253100,{"$f":"IF(K9336=1,COUNTIF($K$5:K9336,1),\"\")","v":9332},{"$f":"IF(ISNUMBER(SEARCH('Bilgi Girişi'!$E$4,KalemAdı,1))=TRUE,1,0)","v":1},"Mineralsizleştirme tesisi yapım işi","Yapım",45253100,null,null,"Alkol damıtma tesisleri inşaat işi"]
[null,null,null,null,null,null,null,9333,45253200,{"$f":"IF(K9337=1,COUNTIF($K$5:K9337,1),\"\")","v":9333},{"$f":"IF(ISNUMBER(SEARCH('Bilgi Girişi'!$E$4,KalemAdı,1))=TRUE,1,0)","v":1},"Sülfürsüzleştirme tesisi inşaat işi","Yapım",45253200,null,null,"Petrokimya tesisleri inşaat işleri"]
[null,null,null,null,null,null,null,9334,45253300,{"$f":"IF(K9338=1,COUNTIF($K$5:K9338,1),\"\")","v":9334},{"$f":"IF(ISNUMBER(SEARCH('Bilgi Girişi'!$E$4,KalemAdı,1))=TRUE,1,0)","v":1},"Damıtma veya rektifiye tesisi inşaat işi","Yapım",45253300,null,null,"Farmakoloji tesis inşaatı işleri"]
[null,null,null,null,null,null,null,9335,45253310,{"$f":"IF(K9339=1,COUNTIF($K$5:K9339,1),\"\")","v":9335},{"$f":"IF(ISNUMBER(SEARCH('Bilgi Girişi'!$E$4,KalemAdı,1))=TRUE,1,0)","v":1},"Su damıtma tesisi yapım işi","Yapım",45253310,null,null,"İyonsuzlaştırma tesisi inşaat işi"]
[null,null,null,null,null,null,null,9336,45253320,{"$f":"IF(K9340=1,COUNTIF($K$5:K9340,1),\"\")","v":9336},{"$f":"IF(ISNUMBER(SEARCH('Bilgi Girişi'!$E$4,KalemAdı,1))=TRUE,1,0)","v":1},"Alkol damıtma tesisleri inşaat işi","Yapım",45253320,null,null,"Öğütme tesisi yapım işi"]
[null,null,null,null,null,null,null,9337,45253400,{"$f":"IF(K9341=1,COUNTIF($K$5:K9341,1),\"\")","v":9337},{"$f":"IF(ISNUMBER(SEARCH('Bilgi Girişi'!$E$4,KalemAdı,1))=TRUE,1,0)","v":1},"Petrokimya tesisleri inşaat işleri","Yapım",45253400,null,null,"Kompost tesisi yapım işi"]
[null,null,null,null,null,null,null,9338,45253500,{"$f":"IF(K9342=1,COUNTIF($K$5:K9342,1),\"\")","v":9338},{"$f":"IF(ISNUMBER(SEARCH('Bilgi Girişi'!$E$4,KalemAdı,1))=TRUE,1,0)","v":1},"Farmakoloji tesis inşaatı işleri","Yapım",45253500,null,null,"Madencilik ve imalatla ilgili inşaat işleri"]
[null,null,null,null,null,null,null,9339,45253600,{"$f":"IF(K9343=1,COUNTIF($K$5:K9343,1),\"\")","v":9339},{"$f":"IF(ISNUMBER(SEARCH('Bilgi Girişi'!$E$4,KalemAdı,1))=TRUE,1,0)","v":1},"İyonsuzlaştırma tesisi inşaat işi","Yapım",45253600,null,null,"Madencilik ile ilgili inşaat işleri"]
[null,null,null,null,null,null,null,9340,45253700,{"$f":"IF(K9344=1,COUNTIF($K$5:K9344,1),\"\")","v":9340},{"$f":"IF(ISNUMBER(SEARCH('Bilgi Girişi'!$E$4,KalemAdı,1))=TRUE,1,0)","v":1},"Öğütme tesisi yapım işi","Yapım",45253700,null,null,"Maden kuyusu ağzı yapım işi"]
[null,null,null,null,null,null,null,9341,45253800,{"$f":"IF(K9345=1,COUNTIF($K$5:K9345,1),\"\")","v":9341},{"$f":"IF(ISNUMBER(SEARCH('Bilgi Girişi'!$E$4,KalemAdı,1))=TRUE,1,0)","v":1},"Kompost tesisi yapım işi","Yapım",45253800,null,null,"İmalat tesisi inşaatı işleri"]
[null,null,null,null,null,null,null,9342,45254000,{"$f":"IF(K9346=1,COUNTIF($K$5:K9346,1),\"\")","v":9342},{"$f":"IF(ISNUMBER(SEARCH('Bilgi Girişi'!$E$4,KalemAdı,1))=TRUE,1,0)","v":1},"Madencilik ve imalatla ilgili inşaat işleri","Yapım",45254000,null,null,"Petrol ve gaz endüstrisine yönelik inşaat işleri"]
[null,null,null,null,null,null,null,9343,45254100,{"$f":"IF(K9347=1,COUNTIF($K$5:K9347,1),\"\")","v":9343},{"$f":"IF(ISNUMBER(SEARCH('Bilgi Girişi'!$E$4,KalemAdı,1))=TRUE,1,0)","v":1},"Madencilik ile ilgili inşaat işleri","Yapım",45254100,null,null,"Üretim platformları için inşaat işi"]
[null,null,null,null,null,null,null,9344,45254110,{"$f":"IF(K9348=1,COUNTIF($K$5:K9348,1),\"\")","v":9344},{"$f":"IF(ISNUMBER(SEARCH('Bilgi Girişi'!$E$4,KalemAdı,1))=TRUE,1,0)","v":1},"Maden kuyusu ağzı yapım işi","Yapım",45254110,null,null,"Kuyu yapım işi"]
[null,null,null,null,null,null,null,9345,45254200,{"$f":"IF(K9349=1,COUNTIF($K$5:K9349,1),\"\")","v":9345},{"$f":"IF(ISNUMBER(SEARCH('Bilgi Girişi'!$E$4,KalemAdı,1))=TRUE,1,0)","v":1},"İmalat tesisi inşaatı işleri","Yapım",45254200,null,null,"Platform tesisleri inşaat çalışmaları"]
[null,null,null,null,null,null,null,9346,45255000,{"$f":"IF(K9350=1,COUNTIF($K$5:K9350,1),\"\")","v":9346},{"$f":"IF(ISNUMBER(SEARCH('Bilgi Girişi'!$E$4,KalemAdı,1))=TRUE,1,0)","v":1},"Petrol ve gaz endüstrisine yönelik inşaat işleri","Yapım",45255000,null,null,{"$f":"IFERROR(VLOOKUP(ROW($P9350),$J$5:$L$9594,3,FALSE),\"\")","v":"Borda tesisleri inşaat çalışmaları"}]
[null,null,null,null,null,null,null,9347,45255100,{"$f":"IF(K9351=1,COUNTIF($K$5:K9351,1),\"\")","v":9347},{"$f":"IF(ISNUMBER(SEARCH('Bilgi Girişi'!$E$4,KalemAdı,1))=TRUE,1,0)","v":1},"Üretim platformları için inşaat işi","Yapım",45255100,null,null,"Petrol rafinerisi inşaat çalışmaları"]
[null,null,null,null,null,null,null,9348,45255110,{"$f":"IF(K9352=1,COUNTIF($K$5:K9352,1),\"\")","v":9348},{"$f":"IF(ISNUMBER(SEARCH('Bilgi Girişi'!$E$4,KalemAdı,1))=TRUE,1,0)","v":1},"Kuyu yapım işi","Yapım",45255110,null,null,"Petrol terminali yapım işleri"]
[null,null,null,null,null,null,null,9349,45255120,{"$f":"IF(K9353=1,COUNTIF($K$5:K9353,1),\"\")","v":9349},{"$f":"IF(ISNUMBER(SEARCH('Bilgi Girişi'!$E$4,KalemAdı,1))=TRUE,1,0)","v":1},"Platform tesisleri inşaat çalışmaları","Yapım",45255120,null,null,"Gaz terminali yapım çalışmaları"]
[null,null,null,null,null,null,null,9350,45255121,{"$f":"IF(K9354=1,COUNTIF($K$5:K9354,1),\"\")","v":9350},{"$f":"IF(ISNUMBER(SEARCH('Bilgi Girişi'!$E$4,KalemAdı,1))=TRUE,1,0)","v":1},"Borda tesisleri inşaat çalışmaları","Yapım",45255121,null,null,"Petrol çıkartma tesisleri"]
[null,null,null,null,null,null,null,9351,45255200,{"$f":"IF(K9355=1,COUNTIF($K$5:K9355,1),\"\")","v":9351},{"$f":"IF(ISNUMBER(SEARCH('Bilgi Girişi'!$E$4,KalemAdı,1))=TRUE,1,0)","v":1},"Petrol rafinerisi inşaat çalışmaları","Yapım",45255200,null,null,"Kıyı ötesi petrol çıkartma tesisleri"]
[null,null,null,null,null,null,null,9352,45255210,{"$f":"IF(K9356=1,COUNTIF($K$5:K9356,1),\"\")","v":9352},{"$f":"IF(ISNUMBER(SEARCH('Bilgi Girişi'!$E$4,KalemAdı,1))=TRUE,1,0)","v":1},"Petrol terminali yapım işleri","Yapım",45255210,null,null,"Kıyı içi petrol çıkartma tesisleri"]
[null,null,null,null,null,null,null,9353,45255300,{"$f":"IF(K9357=1,COUNTIF($K$5:K9357,1),\"\")","v":9353},{"$f":"IF(ISNUMBER(SEARCH('Bilgi Girişi'!$E$4,KalemAdı,1))=TRUE,1,0)","v":1},"Gaz terminali yapım çalışmaları","Yapım",45255300,null,null,"Petrol platformlarının sökülmesi"]
[null,null,null,null,null,null,null,9354,45255400,{"$f":"IF(K9358=1,COUNTIF($K$5:K9358,1),\"\")","v":9354},{"$f":"IF(ISNUMBER(SEARCH('Bilgi Girişi'!$E$4,KalemAdı,1))=TRUE,1,0)","v":1},"Petrol çıkartma tesisleri","Yapım",45255400,null,null,"Sondaj ve arama işleri"]
[null,null,null,null,null,null,null,9355,45255410,{"$f":"IF(K9359=1,COUNTIF($K$5:K9359,1),\"\")","v":9355},{"$f":"IF(ISNUMBER(SEARCH('Bilgi Girişi'!$E$4,KalemAdı,1))=TRUE,1,0)","v":1},"Kıyı ötesi petrol çıkartma tesisleri","Yapım",45255410,null,null,"Rulo boru tesisatlı kuyu açma işleri"]
[null,null,null,null,null,null,null,9356,45255420,{"$f":"IF(K9360=1,COUNTIF($K$5:K9360,1),\"\")","v":9356},{"$f":"IF(ISNUMBER(SEARCH('Bilgi Girişi'!$E$4,KalemAdı,1))=TRUE,1,0)","v":1},"Kıyı içi petrol çıkartma tesisleri","Yapım",45255420,null,null,"Kömür gazlaştırma tesisi inşaat işi"]
[null,null,null,null,null,null,null,9357,45255430,{"$f":"IF(K9361=1,COUNTIF($K$5:K9361,1),\"\")","v":9357},{"$f":"IF(ISNUMBER(SEARCH('Bilgi Girişi'!$E$4,KalemAdı,1))=TRUE,1,0)","v":1},"Petrol platformlarının sökülmesi","Yapım",45255430,null,null,"Gaz üretim tesisi yapım işi"]
[null,null,null,null,null,null,null,9358,45255500,{"$f":"IF(K9362=1,COUNTIF($K$5:K9362,1),\"\")","v":9358},{"$f":"IF(ISNUMBER(SEARCH('Bilgi Girişi'!$E$4,KalemAdı,1))=TRUE,1,0)","v":1},"Sondaj ve arama işleri","Yapım",45255500,null,null,"Tesis onarım ve bakımı"]
[null,null,null,null,null,null,null,9359,45255600,{"$f":"IF(K9363=1,COUNTIF($K$5:K9363,1),\"\")","v":9359},{"$f":"IF(ISNUMBER(SEARCH('Bilgi Girişi'!$E$4,KalemAdı,1))=TRUE,1,0)","v":1},"Rulo boru tesisatlı kuyu açma işleri","Yapım",45255600,null,null,"Atık su-tesisi onarım ve bakım işleri"]
[null,null,null,null,null,null,null,9360,45255700,{"$f":"IF(K9364=1,COUNTIF($K$5:K9364,1),\"\")","v":9360},{"$f":"IF(ISNUMBER(SEARCH('Bilgi Girişi'!$E$4,KalemAdı,1))=TRUE,1,0)","v":1},"Kömür gazlaştırma tesisi inşaat işi","Yapım",45255700,null,null,"Arıtma tesisi-onarım ve bakım işleri"]
[null,null,null,null,null,null,null,9361,45255800,{"$f":"IF(K9365=1,COUNTIF($K$5:K9365,1),\"\")","v":9361},{"$f":"IF(ISNUMBER(SEARCH('Bilgi Girişi'!$E$4,KalemAdı,1))=TRUE,1,0)","v":1},"Gaz üretim tesisi yapım işi","Yapım",45255800,null,null,"Isıtma-tesisi onarım ve bakım çalışmaları"]
[null,null,null,null,null,null,null,9362,45259000,{"$f":"IF(K9366=1,COUNTIF($K$5:K9366,1),\"\")","v":9362},{"$f":"IF(ISNUMBER(SEARCH('Bilgi Girişi'!$E$4,KalemAdı,1))=TRUE,1,0)","v":1},"Tesis onarım ve bakımı","Yapım",45259000,null,null,"Tesis iyileştirme işleri"]
[null,null,null,null,null,null,null,9363,45259100,{"$f":"IF(K9367=1,COUNTIF($K$5:K9367,1),\"\")","v":9363},{"$f":"IF(ISNUMBER(SEARCH('Bilgi Girişi'!$E$4,KalemAdı,1))=TRUE,1,0)","v":1},"Atık su-tesisi onarım ve bakım işleri","Yapım",45259100,null,null,"Çatı işleri ve diğer özel ticari inşaat işleri"]
[null,null,null,null,null,null,null,9364,45259200,{"$f":"IF(K9368=1,COUNTIF($K$5:K9368,1),\"\")","v":9364},{"$f":"IF(ISNUMBER(SEARCH('Bilgi Girişi'!$E$4,KalemAdı,1))=TRUE,1,0)","v":1},"Arıtma tesisi-onarım ve bakım işleri","Yapım",45259200,null,null,"Çatı aktarma, kaplama ve montaj işleri"]
[null,null,null,null,null,null,null,9365,45259300,{"$f":"IF(K9369=1,COUNTIF($K$5:K9369,1),\"\")","v":9365},{"$f":"IF(ISNUMBER(SEARCH('Bilgi Girişi'!$E$4,KalemAdı,1))=TRUE,1,0)","v":1},"Isıtma-tesisi onarım ve bakım çalışmaları","Yapım",45259300,null,null,"Çatı aktarma işleri"]
[null,null,null,null,null,null,null,9366,45259900,{"$f":"IF(K9370=1,COUNTIF($K$5:K9370,1),\"\")","v":9366},{"$f":"IF(ISNUMBER(SEARCH('Bilgi Girişi'!$E$4,KalemAdı,1))=TRUE,1,0)","v":1},"Tesis iyileştirme işleri","Yapım",45259900,null,null,"Çatı kaplama ve boya işleri"]
[null,null,null,null,null,null,null,9367,45260000,{"$f":"IF(K9371=1,COUNTIF($K$5:K9371,1),\"\")","v":9367},{"$f":"IF(ISNUMBER(SEARCH('Bilgi Girişi'!$E$4,KalemAdı,1))=TRUE,1,0)","v":1},"Çatı işleri ve diğer özel ticari inşaat işleri","Yapım",45260000,null,null,"Çatı kaplama işleri"]
[null,null,null,null,null,null,null,9368,45261000,{"$f":"IF(K9372=1,COUNTIF($K$5:K9372,1),\"\")","v":9368},{"$f":"IF(ISNUMBER(SEARCH('Bilgi Girişi'!$E$4,KalemAdı,1))=TRUE,1,0)","v":1},"Çatı aktarma, kaplama ve montaj işleri","Yapım",45261000,null,null,"Çatı kiremitleme işleri"]
[null,null,null,null,null,null,null,9369,45261100,{"$f":"IF(K9373=1,COUNTIF($K$5:K9373,1),\"\")","v":9369},{"$f":"IF(ISNUMBER(SEARCH('Bilgi Girişi'!$E$4,KalemAdı,1))=TRUE,1,0)","v":1},"Çatı aktarma işleri","Yapım",45261100,null,null,"Çatı arduvazlama, kaplama işleri"]
[null,null,null,null,null,null,null,9370,45261200,{"$f":"IF(K9374=1,COUNTIF($K$5:K9374,1),\"\")","v":9370},{"$f":"IF(ISNUMBER(SEARCH('Bilgi Girişi'!$E$4,KalemAdı,1))=TRUE,1,0)","v":1},"Çatı kaplama ve boya işleri","Yapım",45261200,null,null,"Metal çatı kaplama işleri"]
[null,null,null,null,null,null,null,9371,45261210,{"$f":"IF(K9375=1,COUNTIF($K$5:K9375,1),\"\")","v":9371},{"$f":"IF(ISNUMBER(SEARCH('Bilgi Girişi'!$E$4,KalemAdı,1))=TRUE,1,0)","v":1},"Çatı kaplama işleri","Yapım",45261210,null,null,"Bitümlü çatı kaplama işleri"]
[null,null,null,null,null,null,null,9372,45261211,{"$f":"IF(K9376=1,COUNTIF($K$5:K9376,1),\"\")","v":9372},{"$f":"IF(ISNUMBER(SEARCH('Bilgi Girişi'!$E$4,KalemAdı,1))=TRUE,1,0)","v":1},"Çatı kiremitleme işleri","Yapım",45261211,null,null,"Güneş paneli çatı kaplama işi"]
[null,null,null,null,null,null,null,9373,45261212,{"$f":"IF(K9377=1,COUNTIF($K$5:K9377,1),\"\")","v":9373},{"$f":"IF(ISNUMBER(SEARCH('Bilgi Girişi'!$E$4,KalemAdı,1))=TRUE,1,0)","v":1},"Çatı arduvazlama, kaplama işleri","Yapım",45261212,null,null,"Çatı boyama ve diğer kaplama işleri"]
[null,null,null,null,null,null,null,9374,45261213,{"$f":"IF(K9378=1,COUNTIF($K$5:K9378,1),\"\")","v":9374},{"$f":"IF(ISNUMBER(SEARCH('Bilgi Girişi'!$E$4,KalemAdı,1))=TRUE,1,0)","v":1},"Metal çatı kaplama işleri","Yapım",45261213,null,null,"Çatı boyama işleri"]
[null,null,null,null,null,null,null,9375,45261214,{"$f":"IF(K9379=1,COUNTIF($K$5:K9379,1),\"\")","v":9375},{"$f":"IF(ISNUMBER(SEARCH('Bilgi Girişi'!$E$4,KalemAdı,1))=TRUE,1,0)","v":1},"Bitümlü çatı kaplama işleri","Yapım",45261214,null,null,"Çatı çimento kaplama işleri"]
[null,null,null,null,null,null,null,9376,45261215,{"$f":"IF(K9380=1,COUNTIF($K$5:K9380,1),\"\")","v":9376},{"$f":"IF(ISNUMBER(SEARCH('Bilgi Girişi'!$E$4,KalemAdı,1))=TRUE,1,0)","v":1},"Güneş paneli çatı kaplama işi","Yapım",45261215,null,null,"Paratoner tesisatı ve derz ve su oluklarının yapım işleri"]
[null,null,null,null,null,null,null,9377,45261220,{"$f":"IF(K9381=1,COUNTIF($K$5:K9381,1),\"\")","v":9377},{"$f":"IF(ISNUMBER(SEARCH('Bilgi Girişi'!$E$4,KalemAdı,1))=TRUE,1,0)","v":1},"Çatı boyama ve diğer kaplama işleri","Yapım",45261220,null,null,"Paratoner tesisatı işleri"]
[null,null,null,null,null,null,null,9378,45261221,{"$f":"IF(K9382=1,COUNTIF($K$5:K9382,1),\"\")","v":9378},{"$f":"IF(ISNUMBER(SEARCH('Bilgi Girişi'!$E$4,KalemAdı,1))=TRUE,1,0)","v":1},"Çatı boyama işleri","Yapım",45261221,null,null,"Derz ve su olukları imalatı işleri"]
[null,null,null,null,null,null,null,9379,45261222,{"$f":"IF(K9383=1,COUNTIF($K$5:K9383,1),\"\")","v":9379},{"$f":"IF(ISNUMBER(SEARCH('Bilgi Girişi'!$E$4,KalemAdı,1))=TRUE,1,0)","v":1},"Çatı çimento kaplama işleri","Yapım",45261222,null,null,"Çatının kurşun bakır gibi levhalarla kaplama işleri"]
[null,null,null,null,null,null,null,9380,45261300,{"$f":"IF(K9384=1,COUNTIF($K$5:K9384,1),\"\")","v":9380},{"$f":"IF(ISNUMBER(SEARCH('Bilgi Girişi'!$E$4,KalemAdı,1))=TRUE,1,0)","v":1},"Paratoner tesisatı ve derz ve su oluklarının yapım işleri","Yapım",45261300,null,null,"Çatı izolasyon işleri"]
[null,null,null,null,null,null,null,9381,45261310,{"$f":"IF(K9385=1,COUNTIF($K$5:K9385,1),\"\")","v":9381},{"$f":"IF(ISNUMBER(SEARCH('Bilgi Girişi'!$E$4,KalemAdı,1))=TRUE,1,0)","v":1},"Paratoner tesisatı işleri","Yapım",45261310,null,null,"Su yalıtım işleri"]
[null,null,null,null,null,null,null,9382,45261320,{"$f":"IF(K9386=1,COUNTIF($K$5:K9386,1),\"\")","v":9382},{"$f":"IF(ISNUMBER(SEARCH('Bilgi Girişi'!$E$4,KalemAdı,1))=TRUE,1,0)","v":1},"Derz ve su olukları imalatı işleri","Yapım",45261320,null,null,"Çatı onarım ve bakım işleri"]
[null,null,null,null,null,null,null,9383,45261400,{"$f":"IF(K9387=1,COUNTIF($K$5:K9387,1),\"\")","v":9383},{"$f":"IF(ISNUMBER(SEARCH('Bilgi Girişi'!$E$4,KalemAdı,1))=TRUE,1,0)","v":1},"Çatının kurşun bakır gibi levhalarla kaplama işleri","Yapım",45261400,null,null,"Çatı onarım"]
[null,null,null,null,null,null,null,9384,45261410,{"$f":"IF(K9388=1,COUNTIF($K$5:K9388,1),\"\")","v":9384},{"$f":"IF(ISNUMBER(SEARCH('Bilgi Girişi'!$E$4,KalemAdı,1))=TRUE,1,0)","v":1},"Çatı izolasyon işleri","Yapım",45261410,null,null,"Çatı bakım işi"]
[null,null,null,null,null,null,null,9385,45261420,{"$f":"IF(K9389=1,COUNTIF($K$5:K9389,1),\"\")","v":9385},{"$f":"IF(ISNUMBER(SEARCH('Bilgi Girişi'!$E$4,KalemAdı,1))=TRUE,1,0)","v":1},"Su yalıtım işleri","Yapım",45261420,null,null,"Çatı işleri dışında kalan özel ticari inşaat işleri"]
[null,null,null,null,null,null,null,9386,45261900,{"$f":"IF(K9390=1,COUNTIF($K$5:K9390,1),\"\")","v":9386},{"$f":"IF(ISNUMBER(SEARCH('Bilgi Girişi'!$E$4,KalemAdı,1))=TRUE,1,0)","v":1},"Çatı onarım ve bakım işleri","Yapım",45261900,null,null,"Yapı iskele işleri"]
[null,null,null,null,null,null,null,9387,45261910,{"$f":"IF(K9391=1,COUNTIF($K$5:K9391,1),\"\")","v":9387},{"$f":"IF(ISNUMBER(SEARCH('Bilgi Girişi'!$E$4,KalemAdı,1))=TRUE,1,0)","v":1},"Çatı onarım","Yapım",45261910,null,null,"İskele söküm işleri"]
[null,null,null,null,null,null,null,9388,45261920,{"$f":"IF(K9392=1,COUNTIF($K$5:K9392,1),\"\")","v":9388},{"$f":"IF(ISNUMBER(SEARCH('Bilgi Girişi'!$E$4,KalemAdı,1))=TRUE,1,0)","v":1},"Çatı bakım işi","Yapım",45261920,null,null,"İskele kurma işleri"]
[null,null,null,null,null,null,null,9389,45262000,{"$f":"IF(K9393=1,COUNTIF($K$5:K9393,1),\"\")","v":9389},{"$f":"IF(ISNUMBER(SEARCH('Bilgi Girişi'!$E$4,KalemAdı,1))=TRUE,1,0)","v":1},"Çatı işleri dışında kalan özel ticari inşaat işleri","Yapım",45262000,null,null,"Temel işleri ve su kuyusu açma işleri"]
[null,null,null,null,null,null,null,9390,45262100,{"$f":"IF(K9394=1,COUNTIF($K$5:K9394,1),\"\")","v":9390},{"$f":"IF(ISNUMBER(SEARCH('Bilgi Girişi'!$E$4,KalemAdı,1))=TRUE,1,0)","v":1},"Yapı iskele işleri","Yapım",45262100,null,null,"Temel işleri"]
[null,null,null,null,null,null,null,9391,45262110,{"$f":"IF(K9395=1,COUNTIF($K$5:K9395,1),\"\")","v":9391},{"$f":"IF(ISNUMBER(SEARCH('Bilgi Girişi'!$E$4,KalemAdı,1))=TRUE,1,0)","v":1},"İskele söküm işleri","Yapım",45262110,null,null,"Kazık çakma işleri"]
[null,null,null,null,null,null,null,9392,45262120,{"$f":"IF(K9396=1,COUNTIF($K$5:K9396,1),\"\")","v":9392},{"$f":"IF(ISNUMBER(SEARCH('Bilgi Girişi'!$E$4,KalemAdı,1))=TRUE,1,0)","v":1},"İskele kurma işleri","Yapım",45262120,null,null,"Siper kaplama çalışmaları"]
[null,null,null,null,null,null,null,9393,45262200,{"$f":"IF(K9397=1,COUNTIF($K$5:K9397,1),\"\")","v":9393},{"$f":"IF(ISNUMBER(SEARCH('Bilgi Girişi'!$E$4,KalemAdı,1))=TRUE,1,0)","v":1},"Temel işleri ve su kuyusu açma işleri","Yapım",45262200,null,null,"Diyafram duvar tekniği"]
[null,null,null,null,null,null,null,9394,45262210,{"$f":"IF(K9398=1,COUNTIF($K$5:K9398,1),\"\")","v":9394},{"$f":"IF(ISNUMBER(SEARCH('Bilgi Girişi'!$E$4,KalemAdı,1))=TRUE,1,0)","v":1},"Temel işleri","Yapım",45262210,null,null,"Su kuyusu açma işleri"]
[null,null,null,null,null,null,null,9395,45262211,{"$f":"IF(K9399=1,COUNTIF($K$5:K9399,1),\"\")","v":9395},{"$f":"IF(ISNUMBER(SEARCH('Bilgi Girişi'!$E$4,KalemAdı,1))=TRUE,1,0)","v":1},"Kazık çakma işleri","Yapım",45262211,null,null,"Beton işleri"]
[null,null,null,null,null,null,null,9396,45262212,{"$f":"IF(K9400=1,COUNTIF($K$5:K9400,1),\"\")","v":9396},{"$f":"IF(ISNUMBER(SEARCH('Bilgi Girişi'!$E$4,KalemAdı,1))=TRUE,1,0)","v":1},"Siper kaplama çalışmaları","Yapım",45262212,null,null,"Betonarme işleri"]
[null,null,null,null,null,null,null,9397,45262213,{"$f":"IF(K9401=1,COUNTIF($K$5:K9401,1),\"\")","v":9397},{"$f":"IF(ISNUMBER(SEARCH('Bilgi Girişi'!$E$4,KalemAdı,1))=TRUE,1,0)","v":1},"Diyafram duvar tekniği","Yapım",45262213,null,null,"Betonarme karkas işleri"]
[null,null,null,null,null,null,null,9398,45262220,{"$f":"IF(K9402=1,COUNTIF($K$5:K9402,1),\"\")","v":9398},{"$f":"IF(ISNUMBER(SEARCH('Bilgi Girişi'!$E$4,KalemAdı,1))=TRUE,1,0)","v":1},"Su kuyusu açma işleri","Yapım",45262220,null,null,"Şap işleri"]
[null,null,null,null,null,null,null,9399,45262300,{"$f":"IF(K9403=1,COUNTIF($K$5:K9403,1),\"\")","v":9399},{"$f":"IF(ISNUMBER(SEARCH('Bilgi Girişi'!$E$4,KalemAdı,1))=TRUE,1,0)","v":1},"Beton işleri","Yapım",45262300,null,null,"Zemin şaplama işleri"]
[null,null,null,null,null,null,null,9400,45262310,{"$f":"IF(K9404=1,COUNTIF($K$5:K9404,1),\"\")","v":9400},{"$f":"IF(ISNUMBER(SEARCH('Bilgi Girişi'!$E$4,KalemAdı,1))=TRUE,1,0)","v":1},"Betonarme işleri","Yapım",45262310,null,null,"Beton onarım işleri"]
[null,null,null,null,null,null,null,9401,45262311,{"$f":"IF(K9405=1,COUNTIF($K$5:K9405,1),\"\")","v":9401},{"$f":"IF(ISNUMBER(SEARCH('Bilgi Girişi'!$E$4,KalemAdı,1))=TRUE,1,0)","v":1},"Betonarme karkas işleri","Yapım",45262311,null,null,"Harç karma işleri"]
[null,null,null,null,null,null,null,9402,45262320,{"$f":"IF(K9406=1,COUNTIF($K$5:K9406,1),\"\")","v":9402},{"$f":"IF(ISNUMBER(SEARCH('Bilgi Girişi'!$E$4,KalemAdı,1))=TRUE,1,0)","v":1},"Şap işleri","Yapım",45262320,null,null,"Demirsiz beton işleri"]
[null,null,null,null,null,null,null,9403,45262321,{"$f":"IF(K9407=1,COUNTIF($K$5:K9407,1),\"\")","v":9403},{"$f":"IF(ISNUMBER(SEARCH('Bilgi Girişi'!$E$4,KalemAdı,1))=TRUE,1,0)","v":1},"Zemin şaplama işleri","Yapım",45262321,null,null,"Çimento dökme işleri"]
[null,null,null,null,null,null,null,9404,45262330,{"$f":"IF(K9408=1,COUNTIF($K$5:K9408,1),\"\")","v":9404},{"$f":"IF(ISNUMBER(SEARCH('Bilgi Girişi'!$E$4,KalemAdı,1))=TRUE,1,0)","v":1},"Beton onarım işleri","Yapım",45262330,null,null,"Beton yüzeyleri kaplama işi"]
[null,null,null,null,null,null,null,9405,45262340,{"$f":"IF(K9409=1,COUNTIF($K$5:K9409,1),\"\")","v":9405},{"$f":"IF(ISNUMBER(SEARCH('Bilgi Girişi'!$E$4,KalemAdı,1))=TRUE,1,0)","v":1},"Harç karma işleri","Yapım",45262340,null,null,"Yapısal çelik montaj işleri"]
[null,null,null,null,null,null,null,9406,45262350,{"$f":"IF(K9410=1,COUNTIF($K$5:K9410,1),\"\")","v":9406},{"$f":"IF(ISNUMBER(SEARCH('Bilgi Girişi'!$E$4,KalemAdı,1))=TRUE,1,0)","v":1},"Demirsiz beton işleri","Yapım",45262350,null,null,"Binalar için yapısal çelik montaj işleri"]
[null,null,null,null,null,null,null,9407,45262360,{"$f":"IF(K9411=1,COUNTIF($K$5:K9411,1),\"\")","v":9407},{"$f":"IF(ISNUMBER(SEARCH('Bilgi Girişi'!$E$4,KalemAdı,1))=TRUE,1,0)","v":1},"Çimento dökme işleri","Yapım",45262360,null,null,"Yapılar için yapısal çelik montaj işleri"]
[null,null,null,null,null,null,null,9408,45262370,{"$f":"IF(K9412=1,COUNTIF($K$5:K9412,1),\"\")","v":9408},{"$f":"IF(ISNUMBER(SEARCH('Bilgi Girişi'!$E$4,KalemAdı,1))=TRUE,1,0)","v":1},"Beton yüzeyleri kaplama işi","Yapım",45262370,null,null,"Kıyı ötesi iskele ayağı dikme işleri"]
[null,null,null,null,null,null,null,9409,45262400,{"$f":"IF(K9413=1,COUNTIF($K$5:K9413,1),\"\")","v":9409},{"$f":"IF(ISNUMBER(SEARCH('Bilgi Girişi'!$E$4,KalemAdı,1))=TRUE,1,0)","v":1},"Yapısal çelik montaj işleri","Yapım",45262400,null,null,"Deniz dibi sondaj işleri"]
[null,null,null,null,null,null,null,9410,45262410,{"$f":"IF(K9414=1,COUNTIF($K$5:K9414,1),\"\")","v":9410},{"$f":"IF(ISNUMBER(SEARCH('Bilgi Girişi'!$E$4,KalemAdı,1))=TRUE,1,0)","v":1},"Binalar için yapısal çelik montaj işleri","Yapım",45262410,null,null,{"$f":"IFERROR(VLOOKUP(ROW($P9414),$J$5:$L$9594,3,FALSE),\"\")","v":"Güverte üretim işleri"}]
[null,null,null,null,null,null,null,9411,45262420,{"$f":"IF(K9415=1,COUNTIF($K$5:K9415,1),\"\")","v":9411},{"$f":"IF(ISNUMBER(SEARCH('Bilgi Girişi'!$E$4,KalemAdı,1))=TRUE,1,0)","v":1},"Yapılar için yapısal çelik montaj işleri","Yapım",45262420,null,null,"Kıyı ötesi modül üretim işleri"]
[null,null,null,null,null,null,null,9412,45262421,{"$f":"IF(K9416=1,COUNTIF($K$5:K9416,1),\"\")","v":9412},{"$f":"IF(ISNUMBER(SEARCH('Bilgi Girişi'!$E$4,KalemAdı,1))=TRUE,1,0)","v":1},"Kıyı ötesi iskele ayağı dikme işleri","Yapım",45262421,null,null,"Boru gömlekli üretim işleri"]
[null,null,null,null,null,null,null,9413,45262422,{"$f":"IF(K9417=1,COUNTIF($K$5:K9417,1),\"\")","v":9413},{"$f":"IF(ISNUMBER(SEARCH('Bilgi Girişi'!$E$4,KalemAdı,1))=TRUE,1,0)","v":1},"Deniz dibi sondaj işleri","Yapım",45262422,null,null,"Yığın üretim işleri"]
[null,null,null,null,null,null,null,9414,45262423,{"$f":"IF(K9418=1,COUNTIF($K$5:K9418,1),\"\")","v":9414},{"$f":"IF(ISNUMBER(SEARCH('Bilgi Girişi'!$E$4,KalemAdı,1))=TRUE,1,0)","v":1},"Güverte üretim işleri","Yapım",45262423,null,null,"Duvar ve tuğla işleri"]
[null,null,null,null,null,null,null,9415,45262424,{"$f":"IF(K9419=1,COUNTIF($K$5:K9419,1),\"\")","v":9415},{"$f":"IF(ISNUMBER(SEARCH('Bilgi Girişi'!$E$4,KalemAdı,1))=TRUE,1,0)","v":1},"Kıyı ötesi modül üretim işleri","Yapım",45262424,null,null,"Taş işleri"]
[null,null,null,null,null,null,null,9416,45262425,{"$f":"IF(K9420=1,COUNTIF($K$5:K9420,1),\"\")","v":9416},{"$f":"IF(ISNUMBER(SEARCH('Bilgi Girişi'!$E$4,KalemAdı,1))=TRUE,1,0)","v":1},"Boru gömlekli üretim işleri","Yapım",45262425,null,null,"Taş kesme ve yontma işleri"]
[null,null,null,null,null,null,null,9417,45262426,{"$f":"IF(K9421=1,COUNTIF($K$5:K9421,1),\"\")","v":9417},{"$f":"IF(ISNUMBER(SEARCH('Bilgi Girişi'!$E$4,KalemAdı,1))=TRUE,1,0)","v":1},"Yığın üretim işleri","Yapım",45262426,null,null,"Yontulmuş taşla kargir yapı işleri"]
[null,null,null,null,null,null,null,9418,45262500,{"$f":"IF(K9422=1,COUNTIF($K$5:K9422,1),\"\")","v":9418},{"$f":"IF(ISNUMBER(SEARCH('Bilgi Girişi'!$E$4,KalemAdı,1))=TRUE,1,0)","v":1},"Duvar ve tuğla işleri","Yapım",45262500,null,null,"Tuğla duvar örme işleri"]
[null,null,null,null,null,null,null,9419,45262510,{"$f":"IF(K9423=1,COUNTIF($K$5:K9423,1),\"\")","v":9419},{"$f":"IF(ISNUMBER(SEARCH('Bilgi Girişi'!$E$4,KalemAdı,1))=TRUE,1,0)","v":1},"Taş işleri","Yapım",45262510,null,null,"Ön cephe tuğla duvar örme işleri"]
[null,null,null,null,null,null,null,9420,45262511,{"$f":"IF(K9424=1,COUNTIF($K$5:K9424,1),\"\")","v":9420},{"$f":"IF(ISNUMBER(SEARCH('Bilgi Girişi'!$E$4,KalemAdı,1))=TRUE,1,0)","v":1},"Taş kesme ve yontma işleri","Yapım",45262511,null,null,"Diğer duvar örme işleri"]
[null,null,null,null,null,null,null,9421,45262512,{"$f":"IF(K9425=1,COUNTIF($K$5:K9425,1),\"\")","v":9421},{"$f":"IF(ISNUMBER(SEARCH('Bilgi Girişi'!$E$4,KalemAdı,1))=TRUE,1,0)","v":1},"Yontulmuş taşla kargir yapı işleri","Yapım",45262512,null,null,"Diğer özel ticari inşaat işleri"]
[null,null,null,null,null,null,null,9422,45262520,{"$f":"IF(K9426=1,COUNTIF($K$5:K9426,1),\"\")","v":9422},{"$f":"IF(ISNUMBER(SEARCH('Bilgi Girişi'!$E$4,KalemAdı,1))=TRUE,1,0)","v":1},"Tuğla duvar örme işleri","Yapım",45262520,null,null,"Sanayi tipi fabrika bacaları"]
[null,null,null,null,null,null,null,9423,45262521,{"$f":"IF(K9427=1,COUNTIF($K$5:K9427,1),\"\")","v":9423},{"$f":"IF(ISNUMBER(SEARCH('Bilgi Girişi'!$E$4,KalemAdı,1))=TRUE,1,0)","v":1},"Ön cephe tuğla duvar örme işleri","Yapım",45262521,null,null,"İstinat duvarları"]
[null,null,null,null,null,null,null,9424,45262522,{"$f":"IF(K9428=1,COUNTIF($K$5:K9428,1),\"\")","v":9424},{"$f":"IF(ISNUMBER(SEARCH('Bilgi Girişi'!$E$4,KalemAdı,1))=TRUE,1,0)","v":1},"Diğer duvar örme işleri","Yapım",45262522,null,null,"Yüksek fırın inşaat işleri"]
[null,null,null,null,null,null,null,9425,45262600,{"$f":"IF(K9429=1,COUNTIF($K$5:K9429,1),\"\")","v":9425},{"$f":"IF(ISNUMBER(SEARCH('Bilgi Girişi'!$E$4,KalemAdı,1))=TRUE,1,0)","v":1},"Diğer özel ticari inşaat işleri","Yapım",45262600,null,null,"Çevre ıslah işleri"]
[null,null,null,null,null,null,null,9426,45262610,{"$f":"IF(K9430=1,COUNTIF($K$5:K9430,1),\"\")","v":9426},{"$f":"IF(ISNUMBER(SEARCH('Bilgi Girişi'!$E$4,KalemAdı,1))=TRUE,1,0)","v":1},"Sanayi tipi fabrika bacaları","Yapım",45262610,null,null,"Plakaj, giydirme işleri"]
[null,null,null,null,null,null,null,9427,45262620,{"$f":"IF(K9431=1,COUNTIF($K$5:K9431,1),\"\")","v":9427},{"$f":"IF(ISNUMBER(SEARCH('Bilgi Girişi'!$E$4,KalemAdı,1))=TRUE,1,0)","v":1},"İstinat duvarları","Yapım",45262620,null,null,"Asbest giderme işleri"]
[null,null,null,null,null,null,null,9428,45262630,{"$f":"IF(K9432=1,COUNTIF($K$5:K9432,1),\"\")","v":9428},{"$f":"IF(ISNUMBER(SEARCH('Bilgi Girişi'!$E$4,KalemAdı,1))=TRUE,1,0)","v":1},"Yüksek fırın inşaat işleri","Yapım",45262630,null,null,"Metal işleme"]
[null,null,null,null,null,null,null,9429,45262640,{"$f":"IF(K9433=1,COUNTIF($K$5:K9433,1),\"\")","v":9429},{"$f":"IF(ISNUMBER(SEARCH('Bilgi Girişi'!$E$4,KalemAdı,1))=TRUE,1,0)","v":1},"Çevre ıslah işleri","Yapım",45262640,null,null,"Kaynaklamak"]
[null,null,null,null,null,null,null,9430,45262650,{"$f":"IF(K9434=1,COUNTIF($K$5:K9434,1),\"\")","v":9430},{"$f":"IF(ISNUMBER(SEARCH('Bilgi Girişi'!$E$4,KalemAdı,1))=TRUE,1,0)","v":1},"Plakaj, giydirme işleri","Yapım",45262650,null,null,"Eski harabe binaların yenilenmesi"]
[null,null,null,null,null,null,null,9431,45262660,{"$f":"IF(K9435=1,COUNTIF($K$5:K9435,1),\"\")","v":9431},{"$f":"IF(ISNUMBER(SEARCH('Bilgi Girişi'!$E$4,KalemAdı,1))=TRUE,1,0)","v":1},"Asbest giderme işleri","Yapım",45262660,null,null,"Bina tadilat işleri"]
[null,null,null,null,null,null,null,9432,45262670,{"$f":"IF(K9436=1,COUNTIF($K$5:K9436,1),\"\")","v":9432},{"$f":"IF(ISNUMBER(SEARCH('Bilgi Girişi'!$E$4,KalemAdı,1))=TRUE,1,0)","v":1},"Metal işleme","Yapım",45262670,null,null,"Fresk bakım çalışmaları"]
[null,null,null,null,null,null,null,9433,45262680,{"$f":"IF(K9437=1,COUNTIF($K$5:K9437,1),\"\")","v":9433},{"$f":"IF(ISNUMBER(SEARCH('Bilgi Girişi'!$E$4,KalemAdı,1))=TRUE,1,0)","v":1},"Kaynaklamak","Yapım",45262680,null,null,"Bina tevsii işleri"]
[null,null,null,null,null,null,null,9434,45262690,{"$f":"IF(K9438=1,COUNTIF($K$5:K9438,1),\"\")","v":9434},{"$f":"IF(ISNUMBER(SEARCH('Bilgi Girişi'!$E$4,KalemAdı,1))=TRUE,1,0)","v":1},"Eski harabe binaların yenilenmesi","Yapım",45262690,null,null,"Balkon yapım işi"]
[null,null,null,null,null,null,null,9435,45262700,{"$f":"IF(K9439=1,COUNTIF($K$5:K9439,1),\"\")","v":9435},{"$f":"IF(ISNUMBER(SEARCH('Bilgi Girişi'!$E$4,KalemAdı,1))=TRUE,1,0)","v":1},"Bina tadilat işleri","Yapım",45262700,null,null,"Bina tesisat işleri"]
[null,null,null,null,null,null,null,9436,45262710,{"$f":"IF(K9440=1,COUNTIF($K$5:K9440,1),\"\")","v":9436},{"$f":"IF(ISNUMBER(SEARCH('Bilgi Girişi'!$E$4,KalemAdı,1))=TRUE,1,0)","v":1},"Fresk bakım çalışmaları","Yapım",45262710,null,null,"Elektrik tesisatı işleri"]
[null,null,null,null,null,null,null,9437,45262800,{"$f":"IF(K9441=1,COUNTIF($K$5:K9441,1),\"\")","v":9437},{"$f":"IF(ISNUMBER(SEARCH('Bilgi Girişi'!$E$4,KalemAdı,1))=TRUE,1,0)","v":1},"Bina tevsii işleri","Yapım",45262800,null,null,"Elektrik kablolarının çekilmesi ile duvar montaj ve bağlantı işleri"]
[null,null,null,null,null,null,null,9438,45262900,{"$f":"IF(K9442=1,COUNTIF($K$5:K9442,1),\"\")","v":9438},{"$f":"IF(ISNUMBER(SEARCH('Bilgi Girişi'!$E$4,KalemAdı,1))=TRUE,1,0)","v":1},"Balkon yapım işi","Yapım",45262900,null,null,"Elektrik kablo çekim işleri"]
[null,null,null,null,null,null,null,9439,45300000,{"$f":"IF(K9443=1,COUNTIF($K$5:K9443,1),\"\")","v":9439},{"$f":"IF(ISNUMBER(SEARCH('Bilgi Girişi'!$E$4,KalemAdı,1))=TRUE,1,0)","v":1},"Bina tesisat işleri","Yapım",45300000,null,null,"Elektrik duvar montaj işleri"]
[null,null,null,null,null,null,null,9440,45310000,{"$f":"IF(K9444=1,COUNTIF($K$5:K9444,1),\"\")","v":9440},{"$f":"IF(ISNUMBER(SEARCH('Bilgi Girişi'!$E$4,KalemAdı,1))=TRUE,1,0)","v":1},"Elektrik tesisatı işleri","Yapım",45310000,null,null,"Alarm sistemi ve anten tesisatı işleri"]
[null,null,null,null,null,null,null,9441,45311000,{"$f":"IF(K9445=1,COUNTIF($K$5:K9445,1),\"\")","v":9441},{"$f":"IF(ISNUMBER(SEARCH('Bilgi Girişi'!$E$4,KalemAdı,1))=TRUE,1,0)","v":1},"Elektrik kablolarının çekilmesi ile duvar montaj ve bağlantı işleri","Yapım",45311000,null,null,"Yangın alarmı sistemi tesisat işleri"]
[null,null,null,null,null,null,null,9442,45311100,{"$f":"IF(K9446=1,COUNTIF($K$5:K9446,1),\"\")","v":9442},{"$f":"IF(ISNUMBER(SEARCH('Bilgi Girişi'!$E$4,KalemAdı,1))=TRUE,1,0)","v":1},"Elektrik kablo çekim işleri","Yapım",45311100,null,null,"Hırsızlık alarm sistemi tesis ve montaj işleri"]
[null,null,null,null,null,null,null,9443,45311200,{"$f":"IF(K9447=1,COUNTIF($K$5:K9447,1),\"\")","v":9443},{"$f":"IF(ISNUMBER(SEARCH('Bilgi Girişi'!$E$4,KalemAdı,1))=TRUE,1,0)","v":1},"Elektrik duvar montaj işleri","Yapım",45311200,null,null,"Anten tesisat işleri"]
[null,null,null,null,null,null,null,9444,45312000,{"$f":"IF(K9448=1,COUNTIF($K$5:K9448,1),\"\")","v":9444},{"$f":"IF(ISNUMBER(SEARCH('Bilgi Girişi'!$E$4,KalemAdı,1))=TRUE,1,0)","v":1},"Alarm sistemi ve anten tesisatı işleri","Yapım",45312000,null,null,"Paratoner tesisat işleri"]
[null,null,null,null,null,null,null,9445,45312100,{"$f":"IF(K9449=1,COUNTIF($K$5:K9449,1),\"\")","v":9445},{"$f":"IF(ISNUMBER(SEARCH('Bilgi Girişi'!$E$4,KalemAdı,1))=TRUE,1,0)","v":1},"Yangın alarmı sistemi tesisat işleri","Yapım",45312100,null,null,"Yıldırım iletkeni tesis ve montaj işleri"]
[null,null,null,null,null,null,null,9446,45312200,{"$f":"IF(K9450=1,COUNTIF($K$5:K9450,1),\"\")","v":9446},{"$f":"IF(ISNUMBER(SEARCH('Bilgi Girişi'!$E$4,KalemAdı,1))=TRUE,1,0)","v":1},"Hırsızlık alarm sistemi tesis ve montaj işleri","Yapım",45312200,null,null,"Televizyon anteni tesisat işleri"]
[null,null,null,null,null,null,null,9447,45312300,{"$f":"IF(K9451=1,COUNTIF($K$5:K9451,1),\"\")","v":9447},{"$f":"IF(ISNUMBER(SEARCH('Bilgi Girişi'!$E$4,KalemAdı,1))=TRUE,1,0)","v":1},"Anten tesisat işleri","Yapım",45312300,null,null,"Radyo anteni tesisat işleri"]
[null,null,null,null,null,null,null,9448,45312310,{"$f":"IF(K9452=1,COUNTIF($K$5:K9452,1),\"\")","v":9448},{"$f":"IF(ISNUMBER(SEARCH('Bilgi Girişi'!$E$4,KalemAdı,1))=TRUE,1,0)","v":1},"Paratoner tesisat işleri","Yapım",45312310,null,null,"Asansör ve yürüyen merdiven montaj işleri"]
[null,null,null,null,null,null,null,9449,45312311,{"$f":"IF(K9453=1,COUNTIF($K$5:K9453,1),\"\")","v":9449},{"$f":"IF(ISNUMBER(SEARCH('Bilgi Girişi'!$E$4,KalemAdı,1))=TRUE,1,0)","v":1},"Yıldırım iletkeni tesis ve montaj işleri","Yapım",45312311,null,null,"Asansör tesisat işleri"]
[null,null,null,null,null,null,null,9450,45312320,{"$f":"IF(K9454=1,COUNTIF($K$5:K9454,1),\"\")","v":9450},{"$f":"IF(ISNUMBER(SEARCH('Bilgi Girişi'!$E$4,KalemAdı,1))=TRUE,1,0)","v":1},"Televizyon anteni tesisat işleri","Yapım",45312320,null,null,"Yürüyen merdiven tesisat işleri"]
[null,null,null,null,null,null,null,9451,45312330,{"$f":"IF(K9455=1,COUNTIF($K$5:K9455,1),\"\")","v":9451},{"$f":"IF(ISNUMBER(SEARCH('Bilgi Girişi'!$E$4,KalemAdı,1))=TRUE,1,0)","v":1},"Radyo anteni tesisat işleri","Yapım",45312330,null,null,"Yürüyen kaldırım montaj işi"]
[null,null,null,null,null,null,null,9452,45313000,{"$f":"IF(K9456=1,COUNTIF($K$5:K9456,1),\"\")","v":9452},{"$f":"IF(ISNUMBER(SEARCH('Bilgi Girişi'!$E$4,KalemAdı,1))=TRUE,1,0)","v":1},"Asansör ve yürüyen merdiven montaj işleri","Yapım",45313000,null,null,"Telekomünikasyon ekipmanı kurulum hizmetleri"]
[null,null,null,null,null,null,null,9453,45313100,{"$f":"IF(K9457=1,COUNTIF($K$5:K9457,1),\"\")","v":9453},{"$f":"IF(ISNUMBER(SEARCH('Bilgi Girişi'!$E$4,KalemAdı,1))=TRUE,1,0)","v":1},"Asansör tesisat işleri","Yapım",45313100,null,null,"Telefon santrali tesisi"]
[null,null,null,null,null,null,null,9454,45313200,{"$f":"IF(K9458=1,COUNTIF($K$5:K9458,1),\"\")","v":9454},{"$f":"IF(ISNUMBER(SEARCH('Bilgi Girişi'!$E$4,KalemAdı,1))=TRUE,1,0)","v":1},"Yürüyen merdiven tesisat işleri","Yapım",45313200,null,null,"Telefon panosu tesisat işleri"]
[null,null,null,null,null,null,null,9455,45313210,{"$f":"IF(K9459=1,COUNTIF($K$5:K9459,1),\"\")","v":9455},{"$f":"IF(ISNUMBER(SEARCH('Bilgi Girişi'!$E$4,KalemAdı,1))=TRUE,1,0)","v":1},"Yürüyen kaldırım montaj işi","Yapım",45313210,null,null,"Telefon hattı kurulum işleri"]
[null,null,null,null,null,null,null,9456,45314000,{"$f":"IF(K9460=1,COUNTIF($K$5:K9460,1),\"\")","v":9456},{"$f":"IF(ISNUMBER(SEARCH('Bilgi Girişi'!$E$4,KalemAdı,1))=TRUE,1,0)","v":1},"Telekomünikasyon ekipmanı kurulum hizmetleri","Yapım",45314000,null,null,"Kablo altyapısı tesisat işleri"]
[null,null,null,null,null,null,null,9457,45314100,{"$f":"IF(K9461=1,COUNTIF($K$5:K9461,1),\"\")","v":9457},{"$f":"IF(ISNUMBER(SEARCH('Bilgi Girişi'!$E$4,KalemAdı,1))=TRUE,1,0)","v":1},"Telefon santrali tesisi","Yapım",45314100,null,null,"Kablo döşemesi tesisat işleri"]
[null,null,null,null,null,null,null,9458,45314120,{"$f":"IF(K9462=1,COUNTIF($K$5:K9462,1),\"\")","v":9458},{"$f":"IF(ISNUMBER(SEARCH('Bilgi Girişi'!$E$4,KalemAdı,1))=TRUE,1,0)","v":1},"Telefon panosu tesisat işleri","Yapım",45314120,null,null,"Bilgisayarlar için kablolama tesisatı işleri"]
[null,null,null,null,null,null,null,9459,45314200,{"$f":"IF(K9463=1,COUNTIF($K$5:K9463,1),\"\")","v":9459},{"$f":"IF(ISNUMBER(SEARCH('Bilgi Girişi'!$E$4,KalemAdı,1))=TRUE,1,0)","v":1},"Telefon hattı kurulum işleri","Yapım",45314200,null,null,"Kalorifer ve diğer elektrikli bina ekipmanı için gerekli elektrik tesisat işleri"]
[null,null,null,null,null,null,null,9460,45314300,{"$f":"IF(K9464=1,COUNTIF($K$5:K9464,1),\"\")","v":9460},{"$f":"IF(ISNUMBER(SEARCH('Bilgi Girişi'!$E$4,KalemAdı,1))=TRUE,1,0)","v":1},"Kablo altyapısı tesisat işleri","Yapım",45314300,null,null,"Elektrik mühendisliği tesisat işleri"]
[null,null,null,null,null,null,null,9461,45314310,{"$f":"IF(K9465=1,COUNTIF($K$5:K9465,1),\"\")","v":9461},{"$f":"IF(ISNUMBER(SEARCH('Bilgi Girişi'!$E$4,KalemAdı,1))=TRUE,1,0)","v":1},"Kablo döşemesi tesisat işleri","Yapım",45314310,null,null,"Türbin işleri"]
[null,null,null,null,null,null,null,9462,45314320,{"$f":"IF(K9466=1,COUNTIF($K$5:K9466,1),\"\")","v":9462},{"$f":"IF(ISNUMBER(SEARCH('Bilgi Girişi'!$E$4,KalemAdı,1))=TRUE,1,0)","v":1},"Bilgisayarlar için kablolama tesisatı işleri","Yapım",45314320,null,null,"Elektrik şebekesi tesisatı işleri"]
[null,null,null,null,null,null,null,9463,45315000,{"$f":"IF(K9467=1,COUNTIF($K$5:K9467,1),\"\")","v":9463},{"$f":"IF(ISNUMBER(SEARCH('Bilgi Girişi'!$E$4,KalemAdı,1))=TRUE,1,0)","v":1},"Kalorifer ve diğer elektrikli bina ekipmanı için gerekli elektrik tesisat işleri","Yapım",45315000,null,null,"Yüksek gerilim montaj işi"]
[null,null,null,null,null,null,null,9464,45315100,{"$f":"IF(K9468=1,COUNTIF($K$5:K9468,1),\"\")","v":9464},{"$f":"IF(ISNUMBER(SEARCH('Bilgi Girişi'!$E$4,KalemAdı,1))=TRUE,1,0)","v":1},"Elektrik mühendisliği tesisat işleri","Yapım",45315100,null,null,"Orta gerilim montaj işi"]
[null,null,null,null,null,null,null,9465,45315200,{"$f":"IF(K9469=1,COUNTIF($K$5:K9469,1),\"\")","v":9465},{"$f":"IF(ISNUMBER(SEARCH('Bilgi Girişi'!$E$4,KalemAdı,1))=TRUE,1,0)","v":1},"Türbin işleri","Yapım",45315200,null,null,"Düşük voltaj montaj işi"]
[null,null,null,null,null,null,null,9466,45315300,{"$f":"IF(K9470=1,COUNTIF($K$5:K9470,1),\"\")","v":9466},{"$f":"IF(ISNUMBER(SEARCH('Bilgi Girişi'!$E$4,KalemAdı,1))=TRUE,1,0)","v":1},"Elektrik şebekesi tesisatı işleri","Yapım",45315300,null,null,"Anahtarlama istasyonu montaj işi"]
[null,null,null,null,null,null,null,9467,45315400,{"$f":"IF(K9471=1,COUNTIF($K$5:K9471,1),\"\")","v":9467},{"$f":"IF(ISNUMBER(SEARCH('Bilgi Girişi'!$E$4,KalemAdı,1))=TRUE,1,0)","v":1},"Yüksek gerilim montaj işi","Yapım",45315400,null,null,"Aydınlatma ve sinyalizasyon sistemleri kurulum işleri"]
[null,null,null,null,null,null,null,9468,45315500,{"$f":"IF(K9472=1,COUNTIF($K$5:K9472,1),\"\")","v":9468},{"$f":"IF(ISNUMBER(SEARCH('Bilgi Girişi'!$E$4,KalemAdı,1))=TRUE,1,0)","v":1},"Orta gerilim montaj işi","Yapım",45315500,null,null,"Bina dışı aydınlatma ekipmanı kurulum işleri"]
[null,null,null,null,null,null,null,9469,45315600,{"$f":"IF(K9473=1,COUNTIF($K$5:K9473,1),\"\")","v":9469},{"$f":"IF(ISNUMBER(SEARCH('Bilgi Girişi'!$E$4,KalemAdı,1))=TRUE,1,0)","v":1},"Düşük voltaj montaj işi","Yapım",45315600,null,null,"Yol ve sokak aydınlatma ekipmanı kurulum işleri"]
[null,null,null,null,null,null,null,9470,45315700,{"$f":"IF(K9474=1,COUNTIF($K$5:K9474,1),\"\")","v":9470},{"$f":"IF(ISNUMBER(SEARCH('Bilgi Girişi'!$E$4,KalemAdı,1))=TRUE,1,0)","v":1},"Anahtarlama istasyonu montaj işi","Yapım",45315700,null,null,"İşaretleme, sinyalizasyon ekipmanlarının kurulum işleri"]
[null,null,null,null,null,null,null,9471,45316000,{"$f":"IF(K9475=1,COUNTIF($K$5:K9475,1),\"\")","v":9471},{"$f":"IF(ISNUMBER(SEARCH('Bilgi Girişi'!$E$4,KalemAdı,1))=TRUE,1,0)","v":1},"Aydınlatma ve sinyalizasyon sistemleri kurulum işleri","Yapım",45316000,null,null,"Trafik izleme donanımı kurulum işleri"]
[null,null,null,null,null,null,null,9472,45316100,{"$f":"IF(K9476=1,COUNTIF($K$5:K9476,1),\"\")","v":9472},{"$f":"IF(ISNUMBER(SEARCH('Bilgi Girişi'!$E$4,KalemAdı,1))=TRUE,1,0)","v":1},"Bina dışı aydınlatma ekipmanı kurulum işleri","Yapım",45316100,null,null,"Aydınlatmalı yol işaretlerinin montaj işleri"]
[null,null,null,null,null,null,null,9473,45316110,{"$f":"IF(K9477=1,COUNTIF($K$5:K9477,1),\"\")","v":9473},{"$f":"IF(ISNUMBER(SEARCH('Bilgi Girişi'!$E$4,KalemAdı,1))=TRUE,1,0)","v":1},"Yol ve sokak aydınlatma ekipmanı kurulum işleri","Yapım",45316110,null,null,"Trafik ışıklarının montaj işleri"]
[null,null,null,null,null,null,null,9474,45316200,{"$f":"IF(K9478=1,COUNTIF($K$5:K9478,1),\"\")","v":9474},{"$f":"IF(ISNUMBER(SEARCH('Bilgi Girişi'!$E$4,KalemAdı,1))=TRUE,1,0)","v":1},"İşaretleme, sinyalizasyon ekipmanlarının kurulum işleri","Yapım",45316200,null,null,{"$f":"IFERROR(VLOOKUP(ROW($P9478),$J$5:$L$9594,3,FALSE),\"\")","v":"Trafik kılavuz ekipmanı tesisat işleri"}]
[null,null,null,null,null,null,null,9475,45316210,{"$f":"IF(K9479=1,COUNTIF($K$5:K9479,1),\"\")","v":9475},{"$f":"IF(ISNUMBER(SEARCH('Bilgi Girişi'!$E$4,KalemAdı,1))=TRUE,1,0)","v":1},"Trafik izleme donanımı kurulum işleri","Yapım",45316210,null,null,"Hava limanı işaretleme ekipmanı kurulum işleri"]
[null,null,null,null,null,null,null,9476,45316211,{"$f":"IF(K9480=1,COUNTIF($K$5:K9480,1),\"\")","v":9476},{"$f":"IF(ISNUMBER(SEARCH('Bilgi Girişi'!$E$4,KalemAdı,1))=TRUE,1,0)","v":1},"Aydınlatmalı yol işaretlerinin montaj işleri","Yapım",45316211,null,null,"Liman işaretleme ekipmanı kurulum işleri"]
[null,null,null,null,null,null,null,9477,45316212,{"$f":"IF(K9481=1,COUNTIF($K$5:K9481,1),\"\")","v":9477},{"$f":"IF(ISNUMBER(SEARCH('Bilgi Girişi'!$E$4,KalemAdı,1))=TRUE,1,0)","v":1},"Trafik ışıklarının montaj işleri","Yapım",45316212,null,null,"Diğer elektrik tesisat çalışmaları"]
[null,null,null,null,null,null,null,9478,45316213,{"$f":"IF(K9482=1,COUNTIF($K$5:K9482,1),\"\")","v":9478},{"$f":"IF(ISNUMBER(SEARCH('Bilgi Girişi'!$E$4,KalemAdı,1))=TRUE,1,0)","v":1},"Trafik kılavuz ekipmanı tesisat işleri","Yapım",45316213,null,null,"Pompalama ekipmanı elektrik tesisatı işleri"]
[null,null,null,null,null,null,null,9479,45316220,{"$f":"IF(K9483=1,COUNTIF($K$5:K9483,1),\"\")","v":9479},{"$f":"IF(ISNUMBER(SEARCH('Bilgi Girişi'!$E$4,KalemAdı,1))=TRUE,1,0)","v":1},"Hava limanı işaretleme ekipmanı kurulum işleri","Yapım",45316220,null,null,"Trafoların elektrik tesisatı işleri"]
[null,null,null,null,null,null,null,9480,45316230,{"$f":"IF(K9484=1,COUNTIF($K$5:K9484,1),\"\")","v":9480},{"$f":"IF(ISNUMBER(SEARCH('Bilgi Girişi'!$E$4,KalemAdı,1))=TRUE,1,0)","v":1},"Liman işaretleme ekipmanı kurulum işleri","Yapım",45316230,null,null,"Elektrik dağıtım düzeneklerinin elektrik tesisatı işleri"]
[null,null,null,null,null,null,null,9481,45317000,{"$f":"IF(K9485=1,COUNTIF($K$5:K9485,1),\"\")","v":9481},{"$f":"IF(ISNUMBER(SEARCH('Bilgi Girişi'!$E$4,KalemAdı,1))=TRUE,1,0)","v":1},"Diğer elektrik tesisat çalışmaları","Yapım",45317000,null,null,"Filtrasyon donanımı elektrik tesisatı işleri"]
[null,null,null,null,null,null,null,9482,45317100,{"$f":"IF(K9486=1,COUNTIF($K$5:K9486,1),\"\")","v":9482},{"$f":"IF(ISNUMBER(SEARCH('Bilgi Girişi'!$E$4,KalemAdı,1))=TRUE,1,0)","v":1},"Pompalama ekipmanı elektrik tesisatı işleri","Yapım",45317100,null,null,"Yalıtım işleri"]
[null,null,null,null,null,null,null,9483,45317200,{"$f":"IF(K9487=1,COUNTIF($K$5:K9487,1),\"\")","v":9483},{"$f":"IF(ISNUMBER(SEARCH('Bilgi Girişi'!$E$4,KalemAdı,1))=TRUE,1,0)","v":1},"Trafoların elektrik tesisatı işleri","Yapım",45317200,null,null,"Isıl yalıtım işleri"]
[null,null,null,null,null,null,null,9484,45317300,{"$f":"IF(K9488=1,COUNTIF($K$5:K9488,1),\"\")","v":9484},{"$f":"IF(ISNUMBER(SEARCH('Bilgi Girişi'!$E$4,KalemAdı,1))=TRUE,1,0)","v":1},"Elektrik dağıtım düzeneklerinin elektrik tesisatı işleri","Yapım",45317300,null,null,"Ses yalıtımı işleri"]
[null,null,null,null,null,null,null,9485,45317400,{"$f":"IF(K9489=1,COUNTIF($K$5:K9489,1),\"\")","v":9485},{"$f":"IF(ISNUMBER(SEARCH('Bilgi Girişi'!$E$4,KalemAdı,1))=TRUE,1,0)","v":1},"Filtrasyon donanımı elektrik tesisatı işleri","Yapım",45317400,null,null,"Alçıpan işleri"]
[null,null,null,null,null,null,null,9486,45320000,{"$f":"IF(K9490=1,COUNTIF($K$5:K9490,1),\"\")","v":9486},{"$f":"IF(ISNUMBER(SEARCH('Bilgi Girişi'!$E$4,KalemAdı,1))=TRUE,1,0)","v":1},"Yalıtım işleri","Yapım",45320000,null,null,"Sıhhi tesisat döşeme işleri"]
[null,null,null,null,null,null,null,9487,45321000,{"$f":"IF(K9491=1,COUNTIF($K$5:K9491,1),\"\")","v":9487},{"$f":"IF(ISNUMBER(SEARCH('Bilgi Girişi'!$E$4,KalemAdı,1))=TRUE,1,0)","v":1},"Isıl yalıtım işleri","Yapım",45321000,null,null,"Kalorifer, havalandırma ve klima tesisatı işleri"]
[null,null,null,null,null,null,null,9488,45323000,{"$f":"IF(K9492=1,COUNTIF($K$5:K9492,1),\"\")","v":9488},{"$f":"IF(ISNUMBER(SEARCH('Bilgi Girişi'!$E$4,KalemAdı,1))=TRUE,1,0)","v":1},"Ses yalıtımı işleri","Yapım",45323000,null,null,"Merkezi ısıtma sistemi kurulum işleri"]
[null,null,null,null,null,null,null,9489,45324000,{"$f":"IF(K9493=1,COUNTIF($K$5:K9493,1),\"\")","v":9489},{"$f":"IF(ISNUMBER(SEARCH('Bilgi Girişi'!$E$4,KalemAdı,1))=TRUE,1,0)","v":1},"Alçıpan işleri","Yapım",45324000,null,null,"Kazan montaj işi"]
[null,null,null,null,null,null,null,9490,45330000,{"$f":"IF(K9494=1,COUNTIF($K$5:K9494,1),\"\")","v":9490},{"$f":"IF(ISNUMBER(SEARCH('Bilgi Girişi'!$E$4,KalemAdı,1))=TRUE,1,0)","v":1},"Sıhhi tesisat döşeme işleri","Yapım",45330000,null,null,"Havalandırma ve klima tesisat işleri"]
[null,null,null,null,null,null,null,9491,45331000,{"$f":"IF(K9495=1,COUNTIF($K$5:K9495,1),\"\")","v":9491},{"$f":"IF(ISNUMBER(SEARCH('Bilgi Girişi'!$E$4,KalemAdı,1))=TRUE,1,0)","v":1},"Kalorifer, havalandırma ve klima tesisatı işleri","Yapım",45331000,null,null,"Havalandırma tesisat işleri"]
[null,null,null,null,null,null,null,9492,45331100,{"$f":"IF(K9496=1,COUNTIF($K$5:K9496,1),\"\")","v":9492},{"$f":"IF(ISNUMBER(SEARCH('Bilgi Girişi'!$E$4,KalemAdı,1))=TRUE,1,0)","v":1},"Merkezi ısıtma sistemi kurulum işleri","Yapım",45331100,null,null,"Açık havalandırma montaj işi"]
[null,null,null,null,null,null,null,9493,45331110,{"$f":"IF(K9497=1,COUNTIF($K$5:K9497,1),\"\")","v":9493},{"$f":"IF(ISNUMBER(SEARCH('Bilgi Girişi'!$E$4,KalemAdı,1))=TRUE,1,0)","v":1},"Kazan montaj işi","Yapım",45331110,null,null,"Klima tesisat işleri"]
[null,null,null,null,null,null,null,9494,45331200,{"$f":"IF(K9498=1,COUNTIF($K$5:K9498,1),\"\")","v":9494},{"$f":"IF(ISNUMBER(SEARCH('Bilgi Girişi'!$E$4,KalemAdı,1))=TRUE,1,0)","v":1},"Havalandırma ve klima tesisat işleri","Yapım",45331200,null,null,"Kısmi klima montaj işi"]
[null,null,null,null,null,null,null,9495,45331210,{"$f":"IF(K9499=1,COUNTIF($K$5:K9499,1),\"\")","v":9495},{"$f":"IF(ISNUMBER(SEARCH('Bilgi Girişi'!$E$4,KalemAdı,1))=TRUE,1,0)","v":1},"Havalandırma tesisat işleri","Yapım",45331210,null,null,"Soğutma ekipmanlarının montaj hizmetleri"]
[null,null,null,null,null,null,null,9496,45331211,{"$f":"IF(K9500=1,COUNTIF($K$5:K9500,1),\"\")","v":9496},{"$f":"IF(ISNUMBER(SEARCH('Bilgi Girişi'!$E$4,KalemAdı,1))=TRUE,1,0)","v":1},"Açık havalandırma montaj işi","Yapım",45331211,null,null,"Soğutma ekipmanı montajı çalışmaları"]
[null,null,null,null,null,null,null,9497,45331220,{"$f":"IF(K9501=1,COUNTIF($K$5:K9501,1),\"\")","v":9497},{"$f":"IF(ISNUMBER(SEARCH('Bilgi Girişi'!$E$4,KalemAdı,1))=TRUE,1,0)","v":1},"Klima tesisat işleri","Yapım",45331220,null,null,"Sıhhi tesisat ve pis su boruları döşeme işleri"]
[null,null,null,null,null,null,null,9498,45331221,{"$f":"IF(K9502=1,COUNTIF($K$5:K9502,1),\"\")","v":9498},{"$f":"IF(ISNUMBER(SEARCH('Bilgi Girişi'!$E$4,KalemAdı,1))=TRUE,1,0)","v":1},"Kısmi klima montaj işi","Yapım",45331221,null,null,"Su tesisat işleri"]
[null,null,null,null,null,null,null,9499,45331230,{"$f":"IF(K9503=1,COUNTIF($K$5:K9503,1),\"\")","v":9499},{"$f":"IF(ISNUMBER(SEARCH('Bilgi Girişi'!$E$4,KalemAdı,1))=TRUE,1,0)","v":1},"Soğutma ekipmanlarının montaj hizmetleri","Yapım",45331230,null,null,"Pis su tesisat işleri"]
[null,null,null,null,null,null,null,9500,45331231,{"$f":"IF(K9504=1,COUNTIF($K$5:K9504,1),\"\")","v":9500},{"$f":"IF(ISNUMBER(SEARCH('Bilgi Girişi'!$E$4,KalemAdı,1))=TRUE,1,0)","v":1},"Soğutma ekipmanı montajı çalışmaları","Yapım",45331231,null,null,"Sıhhi tesisat donanımlarının döşenmesi işleri"]
[null,null,null,null,null,null,null,9501,45332000,{"$f":"IF(K9505=1,COUNTIF($K$5:K9505,1),\"\")","v":9501},{"$f":"IF(ISNUMBER(SEARCH('Bilgi Girişi'!$E$4,KalemAdı,1))=TRUE,1,0)","v":1},"Sıhhi tesisat ve pis su boruları döşeme işleri","Yapım",45332000,null,null,"Gaz tesisat donanımlarının döşenmesi işleri"]
[null,null,null,null,null,null,null,9502,45332200,{"$f":"IF(K9506=1,COUNTIF($K$5:K9506,1),\"\")","v":9502},{"$f":"IF(ISNUMBER(SEARCH('Bilgi Girişi'!$E$4,KalemAdı,1))=TRUE,1,0)","v":1},"Su tesisat işleri","Yapım",45332200,null,null,"Gaz düzenleme ekipmanı tesisat işleri"]
[null,null,null,null,null,null,null,9503,45332300,{"$f":"IF(K9507=1,COUNTIF($K$5:K9507,1),\"\")","v":9503},{"$f":"IF(ISNUMBER(SEARCH('Bilgi Girişi'!$E$4,KalemAdı,1))=TRUE,1,0)","v":1},"Pis su tesisat işleri","Yapım",45332300,null,null,"Gaz sayaçlarının takılması işleri"]
[null,null,null,null,null,null,null,9504,45332400,{"$f":"IF(K9508=1,COUNTIF($K$5:K9508,1),\"\")","v":9504},{"$f":"IF(ISNUMBER(SEARCH('Bilgi Girişi'!$E$4,KalemAdı,1))=TRUE,1,0)","v":1},"Sıhhi tesisat donanımlarının döşenmesi işleri","Yapım",45332400,null,null,"Çit, parmaklık ve güvenlik ekipmanı tesisatı işleri"]
[null,null,null,null,null,null,null,9505,45333000,{"$f":"IF(K9509=1,COUNTIF($K$5:K9509,1),\"\")","v":9505},{"$f":"IF(ISNUMBER(SEARCH('Bilgi Girişi'!$E$4,KalemAdı,1))=TRUE,1,0)","v":1},"Gaz tesisat donanımlarının döşenmesi işleri","Yapım",45333000,null,null,"Parmaklık montaj işleri"]
[null,null,null,null,null,null,null,9506,45333100,{"$f":"IF(K9510=1,COUNTIF($K$5:K9510,1),\"\")","v":9506},{"$f":"IF(ISNUMBER(SEARCH('Bilgi Girişi'!$E$4,KalemAdı,1))=TRUE,1,0)","v":1},"Gaz düzenleme ekipmanı tesisat işleri","Yapım",45333100,null,null,"Çit takma işleri"]
[null,null,null,null,null,null,null,9507,45333200,{"$f":"IF(K9511=1,COUNTIF($K$5:K9511,1),\"\")","v":9507},{"$f":"IF(ISNUMBER(SEARCH('Bilgi Girişi'!$E$4,KalemAdı,1))=TRUE,1,0)","v":1},"Gaz sayaçlarının takılması işleri","Yapım",45333200,null,null,"Yangın önleme tesisatı işleri"]
[null,null,null,null,null,null,null,9508,45340000,{"$f":"IF(K9512=1,COUNTIF($K$5:K9512,1),\"\")","v":9508},{"$f":"IF(ISNUMBER(SEARCH('Bilgi Girişi'!$E$4,KalemAdı,1))=TRUE,1,0)","v":1},"Çit, parmaklık ve güvenlik ekipmanı tesisatı işleri","Yapım",45340000,null,null,"Yangına karşı bina yalıtımı işleri"]
[null,null,null,null,null,null,null,9509,45341000,{"$f":"IF(K9513=1,COUNTIF($K$5:K9513,1),\"\")","v":9509},{"$f":"IF(ISNUMBER(SEARCH('Bilgi Girişi'!$E$4,KalemAdı,1))=TRUE,1,0)","v":1},"Parmaklık montaj işleri","Yapım",45341000,null,null,"İtfaiye ekipmanları montaj işi"]
[null,null,null,null,null,null,null,9510,45342000,{"$f":"IF(K9514=1,COUNTIF($K$5:K9514,1),\"\")","v":9510},{"$f":"IF(ISNUMBER(SEARCH('Bilgi Girişi'!$E$4,KalemAdı,1))=TRUE,1,0)","v":1},"Çit takma işleri","Yapım",45342000,null,null,"CO2 yangın söndürme ekipmanları montaj işi"]
[null,null,null,null,null,null,null,9511,45343000,{"$f":"IF(K9515=1,COUNTIF($K$5:K9515,1),\"\")","v":9511},{"$f":"IF(ISNUMBER(SEARCH('Bilgi Girişi'!$E$4,KalemAdı,1))=TRUE,1,0)","v":1},"Yangın önleme tesisatı işleri","Yapım",45343000,null,null,"Yangın söndürücüler montaj işi"]
[null,null,null,null,null,null,null,9512,45343100,{"$f":"IF(K9516=1,COUNTIF($K$5:K9516,1),\"\")","v":9512},{"$f":"IF(ISNUMBER(SEARCH('Bilgi Girişi'!$E$4,KalemAdı,1))=TRUE,1,0)","v":1},"Yangına karşı bina yalıtımı işleri","Yapım",45343100,null,null,"Sprinkler sistemleri montaj işi"]
[null,null,null,null,null,null,null,9513,45343200,{"$f":"IF(K9517=1,COUNTIF($K$5:K9517,1),\"\")","v":9513},{"$f":"IF(ISNUMBER(SEARCH('Bilgi Girişi'!$E$4,KalemAdı,1))=TRUE,1,0)","v":1},"İtfaiye ekipmanları montaj işi","Yapım",45343200,null,null,"Mekanik tesisatlar"]
[null,null,null,null,null,null,null,9514,45343210,{"$f":"IF(K9518=1,COUNTIF($K$5:K9518,1),\"\")","v":9514},{"$f":"IF(ISNUMBER(SEARCH('Bilgi Girişi'!$E$4,KalemAdı,1))=TRUE,1,0)","v":1},"CO2 yangın söndürme ekipmanları montaj işi","Yapım",45343210,null,null,"Makina mühendisliği tesisatı işleri"]
[null,null,null,null,null,null,null,9515,45343220,{"$f":"IF(K9519=1,COUNTIF($K$5:K9519,1),\"\")","v":9515},{"$f":"IF(ISNUMBER(SEARCH('Bilgi Girişi'!$E$4,KalemAdı,1))=TRUE,1,0)","v":1},"Yangın söndürücüler montaj işi","Yapım",45343220,null,null,"Bina ince işleri"]
[null,null,null,null,null,null,null,9516,45343230,{"$f":"IF(K9520=1,COUNTIF($K$5:K9520,1),\"\")","v":9516},{"$f":"IF(ISNUMBER(SEARCH('Bilgi Girişi'!$E$4,KalemAdı,1))=TRUE,1,0)","v":1},"Sprinkler sistemleri montaj işi","Yapım",45343230,null,null,"Sıva işleri"]
[null,null,null,null,null,null,null,9517,45350000,{"$f":"IF(K9521=1,COUNTIF($K$5:K9521,1),\"\")","v":9517},{"$f":"IF(ISNUMBER(SEARCH('Bilgi Girişi'!$E$4,KalemAdı,1))=TRUE,1,0)","v":1},"Mekanik tesisatlar","Yapım",45350000,null,null,"Doğrama ve marangozluk işleri"]
[null,null,null,null,null,null,null,9518,45351000,{"$f":"IF(K9522=1,COUNTIF($K$5:K9522,1),\"\")","v":9518},{"$f":"IF(ISNUMBER(SEARCH('Bilgi Girişi'!$E$4,KalemAdı,1))=TRUE,1,0)","v":1},"Makina mühendisliği tesisatı işleri","Yapım",45351000,null,null,"Doğrama işleri"]
[null,null,null,null,null,null,null,9519,45400000,{"$f":"IF(K9523=1,COUNTIF($K$5:K9523,1),\"\")","v":9519},{"$f":"IF(ISNUMBER(SEARCH('Bilgi Girişi'!$E$4,KalemAdı,1))=TRUE,1,0)","v":1},"Bina ince işleri","Yapım",45400000,null,null,"Kapı, pencere ve ilgili kısımların takılması işleri"]
[null,null,null,null,null,null,null,9520,45410000,{"$f":"IF(K9524=1,COUNTIF($K$5:K9524,1),\"\")","v":9520},{"$f":"IF(ISNUMBER(SEARCH('Bilgi Girişi'!$E$4,KalemAdı,1))=TRUE,1,0)","v":1},"Sıva işleri","Yapım",45410000,null,null,"Kapı ve pencere çerçeveleri montajı"]
[null,null,null,null,null,null,null,9521,45420000,{"$f":"IF(K9525=1,COUNTIF($K$5:K9525,1),\"\")","v":9521},{"$f":"IF(ISNUMBER(SEARCH('Bilgi Girişi'!$E$4,KalemAdı,1))=TRUE,1,0)","v":1},"Doğrama ve marangozluk işleri","Yapım",45420000,null,null,"Kapı çerçeveleri montajı"]
[null,null,null,null,null,null,null,9522,45421000,{"$f":"IF(K9526=1,COUNTIF($K$5:K9526,1),\"\")","v":9522},{"$f":"IF(ISNUMBER(SEARCH('Bilgi Girişi'!$E$4,KalemAdı,1))=TRUE,1,0)","v":1},"Doğrama işleri","Yapım",45421000,null,null,"Pencere çerçeveleri montajı"]
[null,null,null,null,null,null,null,9523,45421100,{"$f":"IF(K9527=1,COUNTIF($K$5:K9527,1),\"\")","v":9523},{"$f":"IF(ISNUMBER(SEARCH('Bilgi Girişi'!$E$4,KalemAdı,1))=TRUE,1,0)","v":1},"Kapı, pencere ve ilgili kısımların takılması işleri","Yapım",45421100,null,null,"Eşiklerin montajı"]
[null,null,null,null,null,null,null,9524,45421110,{"$f":"IF(K9528=1,COUNTIF($K$5:K9528,1),\"\")","v":9524},{"$f":"IF(ISNUMBER(SEARCH('Bilgi Girişi'!$E$4,KalemAdı,1))=TRUE,1,0)","v":1},"Kapı ve pencere çerçeveleri montajı","Yapım",45421110,null,null,"Kapı ve pencere montajı"]
[null,null,null,null,null,null,null,9525,45421111,{"$f":"IF(K9529=1,COUNTIF($K$5:K9529,1),\"\")","v":9525},{"$f":"IF(ISNUMBER(SEARCH('Bilgi Girişi'!$E$4,KalemAdı,1))=TRUE,1,0)","v":1},"Kapı çerçeveleri montajı","Yapım",45421111,null,null,"Kapı montajı"]
[null,null,null,null,null,null,null,9526,45421112,{"$f":"IF(K9530=1,COUNTIF($K$5:K9530,1),\"\")","v":9526},{"$f":"IF(ISNUMBER(SEARCH('Bilgi Girişi'!$E$4,KalemAdı,1))=TRUE,1,0)","v":1},"Pencere çerçeveleri montajı","Yapım",45421112,null,null,"Pencere montajı"]
[null,null,null,null,null,null,null,9527,45421120,{"$f":"IF(K9531=1,COUNTIF($K$5:K9531,1),\"\")","v":9527},{"$f":"IF(ISNUMBER(SEARCH('Bilgi Girişi'!$E$4,KalemAdı,1))=TRUE,1,0)","v":1},"Eşiklerin montajı","Yapım",45421120,null,null,"Kapı ve pencereler dışında kalan metal doğrama montaj ve takma işleri"]
[null,null,null,null,null,null,null,9528,45421130,{"$f":"IF(K9532=1,COUNTIF($K$5:K9532,1),\"\")","v":9528},{"$f":"IF(ISNUMBER(SEARCH('Bilgi Girişi'!$E$4,KalemAdı,1))=TRUE,1,0)","v":1},"Kapı ve pencere montajı","Yapım",45421130,null,null,"Bölme takma işleri"]
[null,null,null,null,null,null,null,9529,45421131,{"$f":"IF(K9533=1,COUNTIF($K$5:K9533,1),\"\")","v":9529},{"$f":"IF(ISNUMBER(SEARCH('Bilgi Girişi'!$E$4,KalemAdı,1))=TRUE,1,0)","v":1},"Kapı montajı","Yapım",45421131,null,null,"Kepenk montaj işleri"]
[null,null,null,null,null,null,null,9530,45421132,{"$f":"IF(K9534=1,COUNTIF($K$5:K9534,1),\"\")","v":9530},{"$f":"IF(ISNUMBER(SEARCH('Bilgi Girişi'!$E$4,KalemAdı,1))=TRUE,1,0)","v":1},"Pencere montajı","Yapım",45421132,null,null,"Panjur montaj işleri"]
[null,null,null,null,null,null,null,9531,45421140,{"$f":"IF(K9535=1,COUNTIF($K$5:K9535,1),\"\")","v":9531},{"$f":"IF(ISNUMBER(SEARCH('Bilgi Girişi'!$E$4,KalemAdı,1))=TRUE,1,0)","v":1},"Kapı ve pencereler dışında kalan metal doğrama montaj ve takma işleri","Yapım",45421140,null,null,"Tente montaj işleri"]
[null,null,null,null,null,null,null,9532,45421141,{"$f":"IF(K9536=1,COUNTIF($K$5:K9536,1),\"\")","v":9532},{"$f":"IF(ISNUMBER(SEARCH('Bilgi Girişi'!$E$4,KalemAdı,1))=TRUE,1,0)","v":1},"Bölme takma işleri","Yapım",45421141,null,null,"Stor perde montaj işleri"]
[null,null,null,null,null,null,null,9533,45421142,{"$f":"IF(K9537=1,COUNTIF($K$5:K9537,1),\"\")","v":9533},{"$f":"IF(ISNUMBER(SEARCH('Bilgi Girişi'!$E$4,KalemAdı,1))=TRUE,1,0)","v":1},"Kepenk montaj işleri","Yapım",45421142,null,null,"Asma tavan montaj işleri"]
[null,null,null,null,null,null,null,9534,45421143,{"$f":"IF(K9538=1,COUNTIF($K$5:K9538,1),\"\")","v":9534},{"$f":"IF(ISNUMBER(SEARCH('Bilgi Girişi'!$E$4,KalemAdı,1))=TRUE,1,0)","v":1},"Panjur montaj işleri","Yapım",45421143,null,null,"Kapı pencere parmaklıkları takma işleri"]
[null,null,null,null,null,null,null,9535,45421144,{"$f":"IF(K9539=1,COUNTIF($K$5:K9539,1),\"\")","v":9535},{"$f":"IF(ISNUMBER(SEARCH('Bilgi Girişi'!$E$4,KalemAdı,1))=TRUE,1,0)","v":1},"Tente montaj işleri","Yapım",45421144,null,null,"Dış kapı ve ana kapı montaj işleri"]
[null,null,null,null,null,null,null,9536,45421145,{"$f":"IF(K9540=1,COUNTIF($K$5:K9540,1),\"\")","v":9536},{"$f":"IF(ISNUMBER(SEARCH('Bilgi Girişi'!$E$4,KalemAdı,1))=TRUE,1,0)","v":1},"Stor perde montaj işleri","Yapım",45421145,null,null,"Metal olmayan doğramaların takma işleri"]
[null,null,null,null,null,null,null,9537,45421146,{"$f":"IF(K9541=1,COUNTIF($K$5:K9541,1),\"\")","v":9537},{"$f":"IF(ISNUMBER(SEARCH('Bilgi Girişi'!$E$4,KalemAdı,1))=TRUE,1,0)","v":1},"Asma tavan montaj işleri","Yapım",45421146,null,null,"Hazır mutfak montaj işleri"]
[null,null,null,null,null,null,null,9538,45421147,{"$f":"IF(K9542=1,COUNTIF($K$5:K9542,1),\"\")","v":9538},{"$f":"IF(ISNUMBER(SEARCH('Bilgi Girişi'!$E$4,KalemAdı,1))=TRUE,1,0)","v":1},"Kapı pencere parmaklıkları takma işleri","Yapım",45421147,null,null,{"$f":"IFERROR(VLOOKUP(ROW($P9542),$J$5:$L$9594,3,FALSE),\"\")","v":"Bölme duvar montajı"}]
[null,null,null,null,null,null,null,9539,45421148,{"$f":"IF(K9543=1,COUNTIF($K$5:K9543,1),\"\")","v":9539},{"$f":"IF(ISNUMBER(SEARCH('Bilgi Girişi'!$E$4,KalemAdı,1))=TRUE,1,0)","v":1},"Dış kapı ve ana kapı montaj işleri","Yapım",45421148,null,null,"Yerleşik mobilya montaj işleri"]
[null,null,null,null,null,null,null,9540,45421150,{"$f":"IF(K9544=1,COUNTIF($K$5:K9544,1),\"\")","v":9540},{"$f":"IF(ISNUMBER(SEARCH('Bilgi Girişi'!$E$4,KalemAdı,1))=TRUE,1,0)","v":1},"Metal olmayan doğramaların takma işleri","Yapım",45421150,null,null,"Hırdavat işleri"]
[null,null,null,null,null,null,null,9541,45421151,{"$f":"IF(K9545=1,COUNTIF($K$5:K9545,1),\"\")","v":9541},{"$f":"IF(ISNUMBER(SEARCH('Bilgi Girişi'!$E$4,KalemAdı,1))=TRUE,1,0)","v":1},"Hazır mutfak montaj işleri","Yapım",45421151,null,null,"Ahşap doğrama montaj işleri"]
[null,null,null,null,null,null,null,9542,45421152,{"$f":"IF(K9546=1,COUNTIF($K$5:K9546,1),\"\")","v":9542},{"$f":"IF(ISNUMBER(SEARCH('Bilgi Girişi'!$E$4,KalemAdı,1))=TRUE,1,0)","v":1},"Bölme duvar montajı","Yapım",45421152,null,null,"Ahşap işleri"]
[null,null,null,null,null,null,null,9543,45421153,{"$f":"IF(K9547=1,COUNTIF($K$5:K9547,1),\"\")","v":9543},{"$f":"IF(ISNUMBER(SEARCH('Bilgi Girişi'!$E$4,KalemAdı,1))=TRUE,1,0)","v":1},"Yerleşik mobilya montaj işleri","Yapım",45421153,null,null,"Yer ve duvar kaplama işleri"]
[null,null,null,null,null,null,null,9544,45421160,{"$f":"IF(K9548=1,COUNTIF($K$5:K9548,1),\"\")","v":9544},{"$f":"IF(ISNUMBER(SEARCH('Bilgi Girişi'!$E$4,KalemAdı,1))=TRUE,1,0)","v":1},"Hırdavat işleri","Yapım",45421160,null,null,"Karo döşeme işleri"]
[null,null,null,null,null,null,null,9545,45422000,{"$f":"IF(K9549=1,COUNTIF($K$5:K9549,1),\"\")","v":9545},{"$f":"IF(ISNUMBER(SEARCH('Bilgi Girişi'!$E$4,KalemAdı,1))=TRUE,1,0)","v":1},"Ahşap doğrama montaj işleri","Yapım",45422000,null,null,"Yer karosu kaplama işleri"]
[null,null,null,null,null,null,null,9546,45422100,{"$f":"IF(K9550=1,COUNTIF($K$5:K9550,1),\"\")","v":9546},{"$f":"IF(ISNUMBER(SEARCH('Bilgi Girişi'!$E$4,KalemAdı,1))=TRUE,1,0)","v":1},"Ahşap işleri","Yapım",45422100,null,null,"Duvar karosu kaplama işleri"]
[null,null,null,null,null,null,null,9547,45430000,{"$f":"IF(K9551=1,COUNTIF($K$5:K9551,1),\"\")","v":9547},{"$f":"IF(ISNUMBER(SEARCH('Bilgi Girişi'!$E$4,KalemAdı,1))=TRUE,1,0)","v":1},"Yer ve duvar kaplama işleri","Yapım",45430000,null,null,"Yer döşeme ve kaplama, duvar kaplama ve duvar kağıt işleri"]
[null,null,null,null,null,null,null,9548,45431000,{"$f":"IF(K9552=1,COUNTIF($K$5:K9552,1),\"\")","v":9548},{"$f":"IF(ISNUMBER(SEARCH('Bilgi Girişi'!$E$4,KalemAdı,1))=TRUE,1,0)","v":1},"Karo döşeme işleri","Yapım",45431000,null,null,"Yer döşeme ve kaplama işleri"]
[null,null,null,null,null,null,null,9549,45431100,{"$f":"IF(K9553=1,COUNTIF($K$5:K9553,1),\"\")","v":9549},{"$f":"IF(ISNUMBER(SEARCH('Bilgi Girişi'!$E$4,KalemAdı,1))=TRUE,1,0)","v":1},"Yer karosu kaplama işleri","Yapım",45431100,null,null,"Yer döşeme işleri"]
[null,null,null,null,null,null,null,9550,45431200,{"$f":"IF(K9554=1,COUNTIF($K$5:K9554,1),\"\")","v":9550},{"$f":"IF(ISNUMBER(SEARCH('Bilgi Girişi'!$E$4,KalemAdı,1))=TRUE,1,0)","v":1},"Duvar karosu kaplama işleri","Yapım",45431200,null,null,"Esnek zemin kaplamalarının döşeme işi"]
[null,null,null,null,null,null,null,9551,45432000,{"$f":"IF(K9555=1,COUNTIF($K$5:K9555,1),\"\")","v":9551},{"$f":"IF(ISNUMBER(SEARCH('Bilgi Girişi'!$E$4,KalemAdı,1))=TRUE,1,0)","v":1},"Yer döşeme ve kaplama, duvar kaplama ve duvar kağıt işleri","Yapım",45432000,null,null,"Kaldırım taşı döşeme işleri"]
[null,null,null,null,null,null,null,9552,45432100,{"$f":"IF(K9556=1,COUNTIF($K$5:K9556,1),\"\")","v":9552},{"$f":"IF(ISNUMBER(SEARCH('Bilgi Girişi'!$E$4,KalemAdı,1))=TRUE,1,0)","v":1},"Yer döşeme ve kaplama işleri","Yapım",45432100,null,null,"Parke döşeme işleri"]
[null,null,null,null,null,null,null,9553,45432110,{"$f":"IF(K9557=1,COUNTIF($K$5:K9557,1),\"\")","v":9553},{"$f":"IF(ISNUMBER(SEARCH('Bilgi Girişi'!$E$4,KalemAdı,1))=TRUE,1,0)","v":1},"Yer döşeme işleri","Yapım",45432110,null,null,"Ahşap zemin döşeme çalışmaları"]
[null,null,null,null,null,null,null,9554,45432111,{"$f":"IF(K9558=1,COUNTIF($K$5:K9558,1),\"\")","v":9554},{"$f":"IF(ISNUMBER(SEARCH('Bilgi Girişi'!$E$4,KalemAdı,1))=TRUE,1,0)","v":1},"Esnek zemin kaplamalarının döşeme işi","Yapım",45432111,null,null,"Yükseltilmiş zemin montaj işleri"]
[null,null,null,null,null,null,null,9555,45432112,{"$f":"IF(K9559=1,COUNTIF($K$5:K9559,1),\"\")","v":9555},{"$f":"IF(ISNUMBER(SEARCH('Bilgi Girişi'!$E$4,KalemAdı,1))=TRUE,1,0)","v":1},"Kaldırım taşı döşeme işleri","Yapım",45432112,null,null,"Bilgisayar zeminleri montaj işleri"]
[null,null,null,null,null,null,null,9556,45432113,{"$f":"IF(K9560=1,COUNTIF($K$5:K9560,1),\"\")","v":9556},{"$f":"IF(ISNUMBER(SEARCH('Bilgi Girişi'!$E$4,KalemAdı,1))=TRUE,1,0)","v":1},"Parke döşeme işleri","Yapım",45432113,null,null,"Zemin kaplama işleri"]
[null,null,null,null,null,null,null,9557,45432114,{"$f":"IF(K9561=1,COUNTIF($K$5:K9561,1),\"\")","v":9557},{"$f":"IF(ISNUMBER(SEARCH('Bilgi Girişi'!$E$4,KalemAdı,1))=TRUE,1,0)","v":1},"Ahşap zemin döşeme çalışmaları","Yapım",45432114,null,null,"Duvar kaplama ve duvar kağıdı işleri"]
[null,null,null,null,null,null,null,9558,45432120,{"$f":"IF(K9562=1,COUNTIF($K$5:K9562,1),\"\")","v":9558},{"$f":"IF(ISNUMBER(SEARCH('Bilgi Girişi'!$E$4,KalemAdı,1))=TRUE,1,0)","v":1},"Yükseltilmiş zemin montaj işleri","Yapım",45432120,null,null,"Duvar kaplama işleri"]
[null,null,null,null,null,null,null,9559,45432121,{"$f":"IF(K9563=1,COUNTIF($K$5:K9563,1),\"\")","v":9559},{"$f":"IF(ISNUMBER(SEARCH('Bilgi Girişi'!$E$4,KalemAdı,1))=TRUE,1,0)","v":1},"Bilgisayar zeminleri montaj işleri","Yapım",45432121,null,null,"Duvar kağıdı işleri"]
[null,null,null,null,null,null,null,9560,45432130,{"$f":"IF(K9564=1,COUNTIF($K$5:K9564,1),\"\")","v":9560},{"$f":"IF(ISNUMBER(SEARCH('Bilgi Girişi'!$E$4,KalemAdı,1))=TRUE,1,0)","v":1},"Zemin kaplama işleri","Yapım",45432130,null,null,"Boya ve cila işleri"]
[null,null,null,null,null,null,null,9561,45432200,{"$f":"IF(K9565=1,COUNTIF($K$5:K9565,1),\"\")","v":9561},{"$f":"IF(ISNUMBER(SEARCH('Bilgi Girişi'!$E$4,KalemAdı,1))=TRUE,1,0)","v":1},"Duvar kaplama ve duvar kağıdı işleri","Yapım",45432200,null,null,"Cam takma işleri"]
[null,null,null,null,null,null,null,9562,45432210,{"$f":"IF(K9566=1,COUNTIF($K$5:K9566,1),\"\")","v":9562},{"$f":"IF(ISNUMBER(SEARCH('Bilgi Girişi'!$E$4,KalemAdı,1))=TRUE,1,0)","v":1},"Duvar kaplama işleri","Yapım",45432210,null,null,"Koruyucu döşeme uygulama işleri"]
[null,null,null,null,null,null,null,9563,45432220,{"$f":"IF(K9567=1,COUNTIF($K$5:K9567,1),\"\")","v":9563},{"$f":"IF(ISNUMBER(SEARCH('Bilgi Girişi'!$E$4,KalemAdı,1))=TRUE,1,0)","v":1},"Duvar kağıdı işleri","Yapım",45432220,null,null,"Boya işleri"]
[null,null,null,null,null,null,null,9564,45440000,{"$f":"IF(K9568=1,COUNTIF($K$5:K9568,1),\"\")","v":9564},{"$f":"IF(ISNUMBER(SEARCH('Bilgi Girişi'!$E$4,KalemAdı,1))=TRUE,1,0)","v":1},"Boya ve cila işleri","Yapım",45440000,null,null,"Bina boya işleri"]
[null,null,null,null,null,null,null,9565,45441000,{"$f":"IF(K9569=1,COUNTIF($K$5:K9569,1),\"\")","v":9565},{"$f":"IF(ISNUMBER(SEARCH('Bilgi Girişi'!$E$4,KalemAdı,1))=TRUE,1,0)","v":1},"Cam takma işleri","Yapım",45441000,null,null,"Yapılarda koruyucu kaplama ve boya işleri"]
[null,null,null,null,null,null,null,9566,45442000,{"$f":"IF(K9570=1,COUNTIF($K$5:K9570,1),\"\")","v":9566},{"$f":"IF(ISNUMBER(SEARCH('Bilgi Girişi'!$E$4,KalemAdı,1))=TRUE,1,0)","v":1},"Koruyucu döşeme uygulama işleri","Yapım",45442000,null,null,"Yapı boya işleri"]
[null,null,null,null,null,null,null,9567,45442100,{"$f":"IF(K9571=1,COUNTIF($K$5:K9571,1),\"\")","v":9567},{"$f":"IF(ISNUMBER(SEARCH('Bilgi Girişi'!$E$4,KalemAdı,1))=TRUE,1,0)","v":1},"Boya işleri","Yapım",45442100,null,null,"Boya yenileme işleri"]
[null,null,null,null,null,null,null,9568,45442110,{"$f":"IF(K9572=1,COUNTIF($K$5:K9572,1),\"\")","v":9568},{"$f":"IF(ISNUMBER(SEARCH('Bilgi Girişi'!$E$4,KalemAdı,1))=TRUE,1,0)","v":1},"Bina boya işleri","Yapım",45442110,null,null,"Boya sıyırma işi"]
[null,null,null,null,null,null,null,9569,45442120,{"$f":"IF(K9573=1,COUNTIF($K$5:K9573,1),\"\")","v":9569},{"$f":"IF(ISNUMBER(SEARCH('Bilgi Girişi'!$E$4,KalemAdı,1))=TRUE,1,0)","v":1},"Yapılarda koruyucu kaplama ve boya işleri","Yapım",45442120,null,null,"Metal aşınmasına karşı kaplama uygulama işleri"]
[null,null,null,null,null,null,null,9570,45442121,{"$f":"IF(K9574=1,COUNTIF($K$5:K9574,1),\"\")","v":9570},{"$f":"IF(ISNUMBER(SEARCH('Bilgi Girişi'!$E$4,KalemAdı,1))=TRUE,1,0)","v":1},"Yapı boya işleri","Yapım",45442121,null,null,"Galvanizli saç kaplama işleri"]
[null,null,null,null,null,null,null,9571,45442180,{"$f":"IF(K9575=1,COUNTIF($K$5:K9575,1),\"\")","v":9571},{"$f":"IF(ISNUMBER(SEARCH('Bilgi Girişi'!$E$4,KalemAdı,1))=TRUE,1,0)","v":1},"Boya yenileme işleri","Yapım",45442180,null,null,"Yüzey koruma işleri"]
[null,null,null,null,null,null,null,9572,45442190,{"$f":"IF(K9576=1,COUNTIF($K$5:K9576,1),\"\")","v":9572},{"$f":"IF(ISNUMBER(SEARCH('Bilgi Girişi'!$E$4,KalemAdı,1))=TRUE,1,0)","v":1},"Boya sıyırma işi","Yapım",45442190,null,null,"Cephe çalışması"]
[null,null,null,null,null,null,null,9573,45442200,{"$f":"IF(K9577=1,COUNTIF($K$5:K9577,1),\"\")","v":9573},{"$f":"IF(ISNUMBER(SEARCH('Bilgi Girişi'!$E$4,KalemAdı,1))=TRUE,1,0)","v":1},"Metal aşınmasına karşı kaplama uygulama işleri","Yapım",45442200,null,null,"Diğer yapı tamamlama çalışmaları"]
[null,null,null,null,null,null,null,9574,45442210,{"$f":"IF(K9578=1,COUNTIF($K$5:K9578,1),\"\")","v":9574},{"$f":"IF(ISNUMBER(SEARCH('Bilgi Girişi'!$E$4,KalemAdı,1))=TRUE,1,0)","v":1},"Galvanizli saç kaplama işleri","Yapım",45442210,null,null,"Dekorasyon işi"]
[null,null,null,null,null,null,null,9575,45442300,{"$f":"IF(K9579=1,COUNTIF($K$5:K9579,1),\"\")","v":9575},{"$f":"IF(ISNUMBER(SEARCH('Bilgi Girişi'!$E$4,KalemAdı,1))=TRUE,1,0)","v":1},"Yüzey koruma işleri","Yapım",45442300,null,null,"Süslerin takılması işleri"]
[null,null,null,null,null,null,null,9576,45443000,{"$f":"IF(K9580=1,COUNTIF($K$5:K9580,1),\"\")","v":9576},{"$f":"IF(ISNUMBER(SEARCH('Bilgi Girişi'!$E$4,KalemAdı,1))=TRUE,1,0)","v":1},"Cephe çalışması","Yapım",45443000,null,null,"Lambri işleri"]
[null,null,null,null,null,null,null,9577,45450000,{"$f":"IF(K9581=1,COUNTIF($K$5:K9581,1),\"\")","v":9577},{"$f":"IF(ISNUMBER(SEARCH('Bilgi Girişi'!$E$4,KalemAdı,1))=TRUE,1,0)","v":1},"Diğer yapı tamamlama çalışmaları","Yapım",45450000,null,null,"Kış bahçeleri"]
[null,null,null,null,null,null,null,9578,45451000,{"$f":"IF(K9582=1,COUNTIF($K$5:K9582,1),\"\")","v":9578},{"$f":"IF(ISNUMBER(SEARCH('Bilgi Girişi'!$E$4,KalemAdı,1))=TRUE,1,0)","v":1},"Dekorasyon işi","Yapım",45451000,null,null,"Binalar için dış cephe temizlik işleri"]
[null,null,null,null,null,null,null,9579,45451100,{"$f":"IF(K9583=1,COUNTIF($K$5:K9583,1),\"\")","v":9579},{"$f":"IF(ISNUMBER(SEARCH('Bilgi Girişi'!$E$4,KalemAdı,1))=TRUE,1,0)","v":1},"Süslerin takılması işleri","Yapım",45451100,null,null,"Bina dış cepheleri basınçlı temizleme işi"]
[null,null,null,null,null,null,null,9580,45451200,{"$f":"IF(K9584=1,COUNTIF($K$5:K9584,1),\"\")","v":9580},{"$f":"IF(ISNUMBER(SEARCH('Bilgi Girişi'!$E$4,KalemAdı,1))=TRUE,1,0)","v":1},"Lambri işleri","Yapım",45451200,null,null,"Revizyon ve yenileme çalışmaları"]
[null,null,null,null,null,null,null,9581,45451300,{"$f":"IF(K9585=1,COUNTIF($K$5:K9585,1),\"\")","v":9581},{"$f":"IF(ISNUMBER(SEARCH('Bilgi Girişi'!$E$4,KalemAdı,1))=TRUE,1,0)","v":1},"Kış bahçeleri","Yapım",45451300,null,null,"Yenileme işleri"]
[null,null,null,null,null,null,null,9582,45452000,{"$f":"IF(K9586=1,COUNTIF($K$5:K9586,1),\"\")","v":9582},{"$f":"IF(ISNUMBER(SEARCH('Bilgi Girişi'!$E$4,KalemAdı,1))=TRUE,1,0)","v":1},"Binalar için dış cephe temizlik işleri","Yapım",45452000,null,null,"Yeniden yapılandırma işleri"]
[null,null,null,null,null,null,null,9583,45452100,{"$f":"IF(K9587=1,COUNTIF($K$5:K9587,1),\"\")","v":9583},{"$f":"IF(ISNUMBER(SEARCH('Bilgi Girişi'!$E$4,KalemAdı,1))=TRUE,1,0)","v":1},"Bina dış cepheleri basınçlı temizleme işi","Yapım",45452100,null,null,"Restorasyon işleri"]
[null,null,null,null,null,null,null,9584,45453000,{"$f":"IF(K9588=1,COUNTIF($K$5:K9588,1),\"\")","v":9584},{"$f":"IF(ISNUMBER(SEARCH('Bilgi Girişi'!$E$4,KalemAdı,1))=TRUE,1,0)","v":1},"Revizyon ve yenileme çalışmaları","Yapım",45453000,null,null,"İnşaat ve inşaat mühendisliği makine ve teçhizatlarının operatörü ile"]
[null,null,null,null,null,null,null,9585,45453100,{"$f":"IF(K9589=1,COUNTIF($K$5:K9589,1),\"\")","v":9585},{"$f":"IF(ISNUMBER(SEARCH('Bilgi Girişi'!$E$4,KalemAdı,1))=TRUE,1,0)","v":1},"Yenileme işleri","Yapım",45453100,null,null,"Vinçlerin operatörü ile kiralanması"]
[null,null,null,null,null,null,null,9586,45454000,{"$f":"IF(K9590=1,COUNTIF($K$5:K9590,1),\"\")","v":9586},{"$f":"IF(ISNUMBER(SEARCH('Bilgi Girişi'!$E$4,KalemAdı,1))=TRUE,1,0)","v":1},"Yeniden yapılandırma işleri","Yapım",45454000,null,null,"Kazı makinelerinin operatörü ile kiralanması"]
[null,null,null,null,null,null,null,9587,45454100,{"$f":"IF(K9591=1,COUNTIF($K$5:K9591,1),\"\")","v":9587},{"$f":"IF(ISNUMBER(SEARCH('Bilgi Girişi'!$E$4,KalemAdı,1))=TRUE,1,0)","v":1},"Restorasyon işleri","Yapım",45454100,null,null,""]
[null,null,null,null,null,null,null,9588,45500000,{"$f":"IF(K9592=1,COUNTIF($K$5:K9592,1),\"\")","v":9588},{"$f":"IF(ISNUMBER(SEARCH('Bilgi Girişi'!$E$4,KalemAdı,1))=TRUE,1,0)","v":1},"İnşaat ve inşaat mühendisliği makine ve teçhizatlarının operatörü ile","Yapım",45500000,null,null,""]
[null,null,null,null,null,null,null,9589,45510000,{"$f":"IF(K9593=1,COUNTIF($K$5:K9593,1),\"\")","v":9589},{"$f":"IF(ISNUMBER(SEARCH('Bilgi Girişi'!$E$4,KalemAdı,1))=TRUE,1,0)","v":1},"Vinçlerin operatörü ile kiralanması","Yapım",45510000,null,null,""]
[null,null,null,null,null,null,null,9590,45520000,{"$f":"IF(K9594=1,COUNTIF($K$5:K9594,1),\"\")","v":9590},{"$f":"IF(ISNUMBER(SEARCH('Bilgi Girişi'!$E$4,KalemAdı,1))=TRUE,1,0)","v":1},"Kazı makinelerinin operatörü ile kiralanması","Yapım",45520000,null,null,""]

{"sheet":"Liste","index":2,"n_rows":3,"n_cols":14,"rows_kept":3,"cut":false,"hidden":false,"merged":[]}
[]
[]
[null,null,null,"Alım Türü","OKAS Kodu","Alımın Tanımı","Alım Yöntemi","Gerekçesi","Miktarı","Birimi","Birim Fiyat TL","Tutarı (TL)","Sütun1","Birim Adı"]

{"sheet":"Birimler","index":3,"n_rows":126,"n_cols":3,"rows_kept":126,"cut":false,"hidden":false,"merged":[]}
[]
[null,"S.N","Birimler"]
[null,1,"AFYON MESLEK YÜKSEKOKULU"]
[null,2,"AFYONKARAHİSAR VE BATI ANADOLU BÖLGESİ ARKEOLOJİ ARAŞTIRMALARI UYUGLAMA VE ARAŞTIRMA MERKEZİ"]
[null,3,"AHMET ŞEMSETTİN KARAHİSARİ SAN. UAM"]
[null,4,"Akademik Teşvik Düzenleme Denetleme ve İtiraz Komisyon Başkanlığı "]
[null,5,"ARKEOLOJİ ARAŞTIRMA VE UYGULAMA MER."]
[null,6,"ATATÜRK İLKELERİ VE İNKILAP TARİHİ ARAŞTIRMA VE UYGULAMA MERKEZİ"]
[null,7,"ATATÜRK İLKELERİ VE İNKILAP TARİHİ BÖLÜM BAŞKANLIĞI"]
[null,8,"BASIN VE HALKLA İLİŞKİLER MÜDÜRLÜĞÜ"]
[null,9,"BAŞMAKÇI MESLEK YÜKSEKOKULU"]
[null,10,"BAYAT MESLEK YÜKSEKOKULU"]
[null,11,"BİLGİ İŞLEM DAİRE BAŞKANLIĞI"]
[null,12,"Bilimsel Araştırma Projeleri Komisyon Başkanlığı"]
[null,13,"BİLİMSEL ARAŞTIRMA PROJELERİ KOORDİNATÖRLÜĞÜ"]
[null,14,"Bologna Koordinatörlüğü"]
[null,15,"BOLVADİN MESLEK YÜKSEKOKULU"]
[null,16,"BOLVADİN UYGULAMALI BİLİMLER FAKÜLTESİ"]
[null,17,"BOLVADİN UYGULAMALI BİLİMLER YÜKSEKOKULU"]
[null,18,"ÇAY MESLEK YÜKSEKOKULU"]
[null,19,"Çevre Yönetimi Komisyon Başkanlığı "]
[null,20,"DAZKIRI MESLEK YÜKSEKOKULU"]
[null,21,"DENEY HAYVANLARI ARAŞTIRMA VE UYGULAMA MERKEZİ"]
[null,22,"DEPREM UYGULAMA ve ARAŞTIRMA MERKEZİ"]
[null,23,"DEVLET KONSERVATUVARI"]
[null,24,"DİNAR MESLEK YÜKSEKOKULU"]
[null,25,"DİNAR UYGULAMALI BİLİMLER YÜKSEKOKULU"]
[null,26,"DOĞA KORUMA VE BİYOİZLEM UYGULAMA VE ARAŞTIRMA MERKEZİ"]
[null,27,"DÖNER SERMAYE İŞLETME MÜDÜRLÜĞÜ"]
[null,28,"EĞİTİM FAKÜLTESİ"]
[null,29,"Eğitim-Öğretim Komisyonu "]
[null,30,"EMİRDAĞ MESLEK YÜKSEKOKULU"]
[null,31,"Enerji Yönetim Birimi"]
[null,32,"ENFORMATİK BÖLÜM BAŞKANLIĞI"]
[null,33,"Erasmus Değişim Programı Koordinatörlüğü"]
[null,34,"FARABİ DEĞİŞİM PRIĞRAMI KOORDİNATÖRLÜĞÜ"]
[null,35,"FEN BİLİMLERİ ENSTİTÜSÜ"]
[null,36,"Fen Mühendislik Bilimleri Yayın Etik Kurulu"]
[null,37,"Fen ve Müh.Bl.Bilimsel Arş.ve Yayın Etiği Kurulu Başkanlığı"]
[null,38,"FEN-EDEBİYAT FAKÜLTESİ"]
[null,39,"FİKRİ MÜLKİYET HAKLARI KURULU"]
[null,40,"GELECEK ARAŞTIRMALARI-STRATEJİLERİ GELİŞTİRME UYGULAMA VE ARAŞTIRMA MERKEZİ"]
[null,41,"GENEL SEKRETERLİK"]
[null,42,"GIDA KONTROL ARAŞTIRMA VE UYGULAMA MERKEZİ"]
[null,43,"GİRİŞİMCİLİK VE KARİYER GELİŞTİRME UYG. VE ARAŞTIRMA MERKEZİ"]
[null,44,"GÜNEŞ VE RÜZGAR ENERJİ UYG.VE ARAŞ. MERKEZİ"]
[null,45,"GÜZEL SANATLAR FAKÜLTESİ"]
[null,46,"HALKBİLİM ARAŞTIRMA VE UYGULAMA MERKEZİ"]
[null,47,"HAYVAN DENEYLERİ YEREL ETİK KURULU BAŞKANLIĞI"]
[null,48,"HAYVANCILIK ARAŞTIRMA VE UYGULAMA MERKEZİ"]
[null,49,"HUKUK FAKÜLTESİ"]
[null,50,"HUKUK MÜŞAVİRLİĞİ"]
[null,51,"İÇ DENETİM BİRİMİ"]
[null,52,"İDARİ VE MALİ İŞLER DAİRE BAŞKANLIĞI"]
[null,53,"İKTİSADİ VE İDARİ BİLİMLER FAKÜLTESİ"]
[null,54,"İSCEHİSAR MESLEK YÜKSEKOKULU"]
[null,55,"İSLAM İKTİSADİ VE FİNANSI UYG.ARŞ .MER."]
[null,56,"İSLAMİ İLİMLER FAKÜLTESİ"]
[null,57,"İSTATİSTİK, YÖNEYLEM VE AKTÜERYA UYG.VE ARŞ.MERKEZİ"]
[null,58,"İŞ SAĞLIĞI VE GÜVENLİĞİ EĞİTİMİ UYG. VE ARŞ. MERK."]
[null,59,"İŞ SAĞLIĞI VE GÜVENLİĞİ KOORDİNATÖRLÜĞÜ"]
[null,60,"JEOTERMAL VE MADEN KAYNAKLARI UYGULAMA VE ARŞ.MER."]
[null,61,"KADIN VE AİLE ARAŞTIRMALARI UYG. VE ARŞ. MERKEZİ"]
[null,62,"Kalite Komisyon Başkanlığı "]
[null,63,"KALİTE KOORDİNATÖRLÜĞÜ"]
[null,64,"KOCATEPE BÜYÜK TAARRUZ UYGULAMA VE ARAŞTIRMA MERKEZİ"]
[null,65,"KÜTÜPHANE VE DOKÜMANTASYON DAİRE BAŞKANLIĞI"]
[null,66,"MERMER VE DOĞALTAŞ TEKNOLOJİSİ UYG.VE ARŞ.MERKEZİ"]
[null,67,"MESLEK YÜKSEKOKULU KOORİNATÖRLÜĞÜ"]
[null,68,"Mevlana Değişim Programı Koordinatörlüğü"]
[null,69,"Mevzuat İnceleme Komisyonu Başkanlığı "]
[null,70,"MÜHENDİSLİK FAKÜLTESİ"]
[null,71,"MÜZİK UYGULAMA VE ARAŞTIRMA MERKEZİ"]
[null,72,"OKUL ÖNCESİ EĞİTİMİ UYGULAMA VE ARAŞTIRMA MERKEZİ"]
[null,73,"Organizasyon Hizmetleri Birimi"]
[null,74,"Ödül Komisyonu "]
[null,75,"ÖĞRENCİ İŞLERİ DAİRE BAŞKANLIĞI"]
[null,76,"Öğrenci Kulüpleri Koordinatörlüğü"]
[null,77,"ÖĞRETİM ÜYESİ YETİŞTİRME PROĞRAMI KURUM KOORDİNATÖRLÜĞÜ"]
[null,78,"PERSONEL DAİRE BAŞKANLIĞI"]
[null,79,"RADYO-TELEVİZYON UYGULAMA VE ARAŞTIRMA MERKEZİ"]
[null,80,"REKTÖRLÜK"]
[null,81,"SAĞLIK BİLİMLERİ BİLİMSEL ARAŞTIRMA VE YAYIN ETİK KURUL BAŞKANLIĞI"]
[null,82,"SAĞLIK BİLİMLERİ ENSTİTÜSÜ"]
[null,83,"SAĞLIK KÜLTÜR SPOR DAİRE BAŞKANLIĞI"]
[null,84,"SANDIKLI MESLEK YÜKSEKOKULU"]
[null,85,"SANDIKLI UYGULAMALI BİLİMLER YÜKSEKOKULU"]
[null,86,"SİNANPAŞA MESLEK YÜKSEKOKULU"]
[null,87,"SOSYAL ARAŞTIRMALAR UYGULAMA VE ARAŞTIRMA MERKEZİ"]
[null,88,"SOSYAL BİLİMLER ENSTİTÜSÜ"]
[null,89,"Sosyal ve Beşeri Bilimler Bilimsel Araştırma ve Yayın Etik Kurul Başkanlığı "]
[null,90,"SPOR BİLİMLERİ FAKÜLTESİ"]
[null,91,"STRATEJİ GELİŞTİRME DAİRE BAŞKANLIĞI"]
[null,92,"SU KAYNAKLARI UYGULAMA VE ARAŞTIRMA MERKEZİ"]
[null,93,"SULTAN DİVANİ UYG. VE ARAŞTIRMA MER."]
[null,94,"SULTANDAĞI MESLEK YÜKSEKOKULU"]
[null,95,"SÜREKLİ EĞİTİM UYGULAMA VE ARAŞTIRMA MERKEZİ"]
[null,96,"ŞUHUT MESLEK YÜKSEKOKULU"]
[null,97,"TEKNİK EĞİTİM FAKÜLTESİ"]
[null,98,"TEKNOLOJİ FAKÜLTESİ"]
[null,99,"TEKNOLOJİ TRANSFER OFİSİ KOORDİNATÖRLÜĞÜ"]
[null,100,"TEKNOLOJİ UYGULAMA ARAŞTIRMA MERKEZİ"]
[null,101,"TURİZM FAKÜLTESİ"]
[null,102,"TÜRK DİLİ BÖLÜM BAŞKANLIĞI"]
[null,103,"TÜRK DÜNYASI STRATEJİ ARŞ. UYG. MER. MÜD."]
[null,104,"TÜRKÇE ÖĞRETİMİ UYGULAMA VE ARAŞTIRMA MERKEZİ"]
[null,105,"ULUSLARARASI İLİŞKİLER UYGULAMA VE ARAŞTIRMA MER."]
[null,106,"ULUSLARARASI ÖĞRENCİ BİRİM KOORDİNATÖRLÜĞÜ"]
[null,107,"Uygar (Uygulama ve Araştırma)Merkezleri Komisyonu "]
[null,108,"UZAKTAN ALGILAMA VE COĞRAFİ BİLGİ SİSTEMLERİ UYGULAMA VE ARAŞTIRMA MERKEZİ"]
[null,109,"UZAKTAN EĞİTİM MESLEK YÜKSEKOKULU"]
[null,110,"UZAKTAN EĞİTİM UYGULAMA VE ARAŞTIRMA MERKEZİ"]
[null,111,"Üniversite Disiplin Kurulu Başkanlığı"]
[null,112,"Üniversite Senatosu Başkanlığı "]
[null,113,"Üniversite Yayın Komisyonu Başkanlığı "]
[null,114,"Üniversite Yönetim Kurulu Başkanlığı "]
[null,115,"VETERİNER FAKÜLTESİ"]
[null,116,"VETERİNER SAĞLIK UYGULAMA VE ARAŞTIRMA MERKEZİ"]
[null,117,"YABAN HAYATI KURTARMA REHABİLİTASYON EĞİTİM UYGULAMA VE ARAŞTIRMA MERKEZİ"]
[null,118,"YABANCI DİL DESTEK BİRİMİ"]
[null,119,"YABANCI DİLLER YÜKSEKOKULU"]
[null,120,"YAPI İŞLERİ TEKNİK DAİRE BAŞKANLIĞI"]
[null,121,"YAPI MALZEMELERİ UYG.VE ARAŞ. MER."]
[null,122,"YLSY BURS PROĞRAMI KOORDİNATÖRLÜĞÜ"]
[null,123,"Yönetim Bilgi Sistemleri Komisyonu "]
[null,124,"Yüksekokullar Koordinatörlüğü"]