{"text_format":"1","workbook":"xlsx","n_sheets":2,"sheets":["Vergi Hesaplama","Vergi Oranları"],"not_rendered":{"charts":0,"images":0,"macros":1,"external_links":0,"defined_names":4,"comments":1,"pivot_tables":0},"unopened":[],"bounds":{"document_bytes":16777216,"sheet_cells":100000,"rows_first":2000,"rows_last":500,"rows_between":2000,"halvings":0,"cell_chars":16384,"cell_head_chars":4096},"cells_cut":0,"cells_raw":0,"read":"whole","date_system":"1900"}

{"sheet":"Vergi Hesaplama","index":0,"n_rows":303,"n_cols":20,"rows_kept":303,"cut":false,"hidden":false,"merged":[]}
[]
[]
[]
[null,"T.C",null,"Adı Soyadı","Yapılacak Ödeme Tutarı","Önceki Aylar Toplam Vergi Matrahı","Toplam Vergi\n Matrahı","Vergi Oranı1","15 Lik Kısmı","15 Lik Kısmın Vergisi","Vergi Oranı2","20 Lik Kısmı","20 Lik Kısmın Vergisi","Vergi Oranı3","27 Lik Kısmı","27 Lik Kısmın Vergisi","Vergi Oranı4","35 Lik Kısmı","35 Lik Kısmın Vergisi","Toplam Vergi Tutarı"]
[null,null,null,null,null,null,{"$f":"F5+E5","v":0},{"$f":"IF(E5=0,0,IF(D5=0,0,IF(G5=0,0,IF(F5>+'Vergi Oranları'!$C$3,0,IF(OR(G5<='Vergi Oranları'!$C$3,F5+E5<+'Vergi Oranları'!$C$3),15,IF(G5-(E5+F5)<='Vergi Oranları'!$C$3,15,))))))","v":0},{"$f":"IF(E5=0,0,IF(D5=0,0,IF(G5=0,0,IF(H5=0,0,IF(F5+E5<='Vergi Oranları'!$C$3,G5-F5,'Vergi Oranları'!$C$3-F5)))))","v":0},{"$f":"IF(I5=0,0,IF(ROUND((I5-$J$3)*'Vergi Oranları'!$G$3/100,2)<0,0,ROUND((I5-$M$3)*'Vergi Oranları'!$G$3/100,2)))","v":0},{"$f":"IF(E5=0,0,IF(D5=0,0,IF(G5=0,0,IF(F5>+'Vergi Oranları'!$C$4,0,IF(OR(G5<='Vergi Oranları'!$C$4,F5+E5<'Vergi Oranları'!$C$4),20,IF(G5-(E5+F5)<='Vergi Oranları'!$C$4,20,))))))","v":0},{"$f":"IF(E5=0,0,IF(D5=0,0,IF(G5=0,0,IF(K5=0,0,IF(F5+E5<=+'Vergi Oranları'!$C$4,G5-(F5+I5),+'Vergi Oranları'!$C$4-(F5+I5))))))","v":0},{"$f":"IF(L5=0,0,IF(ROUND((L5-$M$3)*+'Vergi Oranları'!$G$4/100,2)<0,0,ROUND((L5-$M$3)*+'Vergi Oranları'!$G$4/100,2)))","v":0},{"$f":"IF(E5=0,0,IF(D5=0,0,IF(G5=0,0,IF(OR(G5>+'Vergi Oranları'!$C$4,G5<=+'Vergi Oranları'!$C$5),27))))","v":0},{"$f":"IF(E5=0,0,IF(D5=0,0,IF(G5=0,0,IF(N5=0,0,IF(F5>'Vergi Oranları'!$C$5,0,IF(G5<=+'Vergi Oranları'!$C$5,G5-(F5+I5+L5),+'Vergi Oranları'!$C$5-(F5+I5+L5)))))))","v":0},{"$f":"ROUND(IF(N5=0,0,IF(E5<O5,(E5-$P$3)*'Vergi Oranları'!$G$5/100,(O5-$P$3)*'Vergi Oranları'!$G$5/100)),2)","v":0},{"$f":"IF(E5=0,0,IF(D5=0,0,IF(G5=0,0,IF(G5<=+'Vergi Oranları'!$C$5,0,IF(OR(G5>+'Vergi Oranları'!$C$5,F5+E5<=+'Vergi Oranları'!$C$5),35)))))","v":0},{"$f":"IF(E5=0,0,IF(D5=0,0,IF(G5=0,0,IF(Q5=0,0,IF(F5+E5>=+'Vergi Oranları'!$C$5,G5-(F5+I5+L5+O5),+'Vergi Oranları'!$C$5-(F5+I5+L5+O5))))))","v":0},{"$f":"IF(Q5=0,0,ROUND((R5-$S$3)*+'Vergi Oranları'!$G$6/100,2))","v":0},{"$f":"SUM(J5+M5+P5+S5)","v":0}]
[null,null,null,null,null,null,{"$f":"F6+E6","v":0},{"$f":"IF(E6=0,0,IF(D6=0,0,IF(G6=0,0,IF(F6>+'Vergi Oranları'!$C$3,0,IF(OR(G6<='Vergi Oranları'!$C$3,F6+E6<+'Vergi Oranları'!$C$3),15,IF(G6-(E6+F6)<='Vergi Oranları'!$C$3,15,))))))","v":0},{"$f":"IF(E6=0,0,IF(D6=0,0,IF(G6=0,0,IF(H6=0,0,IF(F6+E6<='Vergi Oranları'!$C$3,G6-F6,'Vergi Oranları'!$C$3-F6)))))","v":0},{"$f":"IF(I6=0,0,IF(ROUND((I6-$J$3)*'Vergi Oranları'!$G$3/100,2)<0,0,ROUND((I6-$M$3)*'Vergi Oranları'!$G$3/100,2)))","v":0},{"$f":"IF(E6=0,0,IF(D6=0,0,IF(G6=0,0,IF(F6>+'Vergi Oranları'!$C$4,0,IF(OR(G6<='Vergi Oranları'!$C$4,F6+E6<'Vergi Oranları'!$C$4),20,IF(G6-(E6+F6)<='Vergi Oranları'!$C$4,20,))))))","v":0},{"$f":"IF(E6=0,0,IF(D6=0,0,IF(G6=0,0,IF(K6=0,0,IF(F6+E6<=+'Vergi Oranları'!$C$4,G6-(F6+I6),+'Vergi Oranları'!$C$4-(F6+I6))))))","v":0},{"$f":"IF(L6=0,0,IF(ROUND((L6-$M$3)*+'Vergi Oranları'!$G$4/100,2)<0,0,ROUND((L6-$M$3)*+'Vergi Oranları'!$G$4/100,2)))","v":0},{"$f":"IF(E6=0,0,IF(D6=0,0,IF(G6=0,0,IF(OR(G6>+'Vergi Oranları'!$C$4,G6<=+'Vergi Oranları'!$C$5),27))))","v":0},{"$f":"IF(E6=0,0,IF(D6=0,0,IF(G6=0,0,IF(N6=0,0,IF(F6>'Vergi Oranları'!$C$5,0,IF(G6<=+'Vergi Oranları'!$C$5,G6-(F6+I6+L6),+'Vergi Oranları'!$C$5-(F6+I6+L6)))))))","v":0},{"$f":"ROUND(IF(N6=0,0,IF(E6<O6,(E6-$P$3)*'Vergi Oranları'!$G$5/100,(O6-$P$3)*'Vergi Oranları'!$G$5/100)),2)","v":0},{"$f":"IF(E6=0,0,IF(D6=0,0,IF(G6=0,0,IF(G6<=+'Vergi Oranları'!$C$5,0,IF(OR(G6>+'Vergi Oranları'!$C$5,F6+E6<=+'Vergi Oranları'!$C$5),35)))))","v":0},{"$f":"IF(E6=0,0,IF(D6=0,0,IF(G6=0,0,IF(Q6=0,0,IF(F6+E6>=+'Vergi Oranları'!$C$5,G6-(F6+I6+L6+O6),+'Vergi Oranları'!$C$5-(F6+I6+L6+O6))))))","v":0},{"$f":"IF(Q6=0,0,ROUND((R6-$S$3)*+'Vergi Oranları'!$G$6/100,2))","v":0},{"$f":"SUM(J6+M6+P6+S6)","v":0}]
[null,null,null,null,null,null,0,{"$f":"IF(E7=0,0,IF(D7=0,0,IF(G7=0,0,IF(F7>+'Vergi Oranları'!$C$3,0,IF(OR(G7<='Vergi Oranları'!$C$3,F7+E7<+'Vergi Oranları'!$C$3),15,IF(G7-(E7+F7)<='Vergi Oranları'!$C$3,15,))))))","v":0},{"$f":"IF(E7=0,0,IF(D7=0,0,IF(G7=0,0,IF(H7=0,0,IF(F7+E7<='Vergi Oranları'!$C$3,G7-F7,'Vergi Oranları'!$C$3-F7)))))","v":0},{"$f":"IF(I7=0,0,IF(ROUND((I7-$J$3)*'Vergi Oranları'!$G$3/100,2)<0,0,ROUND((I7-$M$3)*'Vergi Oranları'!$G$3/100,2)))","v":0},{"$f":"IF(E7=0,0,IF(D7=0,0,IF(G7=0,0,IF(F7>+'Vergi Oranları'!$C$4,0,IF(OR(G7<='Vergi Oranları'!$C$4,F7+E7<'Vergi Oranları'!$C$4),20,IF(G7-(E7+F7)<='Vergi Oranları'!$C$4,20,))))))","v":0},{"$f":"IF(E7=0,0,IF(D7=0,0,IF(G7=0,0,IF(K7=0,0,IF(F7+E7<=+'Vergi Oranları'!$C$4,G7-(F7+I7),+'Vergi Oranları'!$C$4-(F7+I7))))))","v":0},{"$f":"IF(L7=0,0,IF(ROUND((L7-$M$3)*+'Vergi Oranları'!$G$4/100,2)<0,0,ROUND((L7-$M$3)*+'Vergi Oranları'!$G$4/100,2)))","v":0},{"$f":"IF(E7=0,0,IF(D7=0,0,IF(G7=0,0,IF(OR(G7>+'Vergi Oranları'!$C$4,G7<=+'Vergi Oranları'!$C$5),27))))","v":0},{"$f":"IF(E7=0,0,IF(D7=0,0,IF(G7=0,0,IF(N7=0,0,IF(F7>'Vergi Oranları'!$C$5,0,IF(G7<=+'Vergi Oranları'!$C$5,G7-(F7+I7+L7),+'Vergi Oranları'!$C$5-(F7+I7+L7)))))))","v":0},{"$f":"ROUND(IF(N7=0,0,IF(E7<O7,(E7-$P$3)*'Vergi Oranları'!$G$5/100,(O7-$P$3)*'Vergi Oranları'!$G$5/100)),2)","v":0},{"$f":"IF(E7=0,0,IF(D7=0,0,IF(G7=0,0,IF(G7<=+'Vergi Oranları'!$C$5,0,IF(OR(G7>+'Vergi Oranları'!$C$5,F7+E7<=+'Vergi Oranları'!$C$5),35)))))","v":0},{"$f":"IF(E7=0,0,IF(D7=0,0,IF(G7=0,0,IF(Q7=0,0,IF(F7+E7>=+'Vergi Oranları'!$C$5,G7-(F7+I7+L7+O7),+'Vergi Oranları'!$C$5-(F7+I7+L7+O7))))))","v":0},{"$f":"IF(Q7=0,0,ROUND((R7-$S$3)*+'Vergi Oranları'!$G$6/100,2))","v":0},0]
[null,null,null,null,null,null,0,{"$f":"IF(E8=0,0,IF(D8=0,0,IF(G8=0,0,IF(F8>+'Vergi Oranları'!$C$3,0,IF(OR(G8<='Vergi Oranları'!$C$3,F8+E8<+'Vergi Oranları'!$C$3),15,IF(G8-(E8+F8)<='Vergi Oranları'!$C$3,15,))))))","v":0},{"$f":"IF(E8=0,0,IF(D8=0,0,IF(G8=0,0,IF(H8=0,0,IF(F8+E8<='Vergi Oranları'!$C$3,G8-F8,'Vergi Oranları'!$C$3-F8)))))","v":0},{"$f":"IF(I8=0,0,IF(ROUND((I8-$J$3)*'Vergi Oranları'!$G$3/100,2)<0,0,ROUND((I8-$M$3)*'Vergi Oranları'!$G$3/100,2)))","v":0},{"$f":"IF(E8=0,0,IF(D8=0,0,IF(G8=0,0,IF(F8>+'Vergi Oranları'!$C$4,0,IF(OR(G8<='Vergi Oranları'!$C$4,F8+E8<'Vergi Oranları'!$C$4),20,IF(G8-(E8+F8)<='Vergi Oranları'!$C$4,20,))))))","v":0},{"$f":"IF(E8=0,0,IF(D8=0,0,IF(G8=0,0,IF(K8=0,0,IF(F8+E8<=+'Vergi Oranları'!$C$4,G8-(F8+I8),+'Vergi Oranları'!$C$4-(F8+I8))))))","v":0},{"$f":"IF(L8=0,0,IF(ROUND((L8-$M$3)*+'Vergi Oranları'!$G$4/100,2)<0,0,ROUND((L8-$M$3)*+'Vergi Oranları'!$G$4/100,2)))","v":0},{"$f":"IF(E8=0,0,IF(D8=0,0,IF(G8=0,0,IF(OR(G8>+'Vergi Oranları'!$C$4,G8<=+'Vergi Oranları'!$C$5),27))))","v":0},{"$f":"IF(E8=0,0,IF(D8=0,0,IF(G8=0,0,IF(N8=0,0,IF(F8>'Vergi Oranları'!$C$5,0,IF(G8<=+'Vergi Oranları'!$C$5,G8-(F8+I8+L8),+'Vergi Oranları'!$C$5-(F8+I8+L8)))))))","v":0},{"$f":"ROUND(IF(N8=0,0,IF(E8<O8,(E8-$P$3)*'Vergi Oranları'!$G$5/100,(O8-$P$3)*'Vergi Oranları'!$G$5/100)),2)","v":0},{"$f":"IF(E8=0,0,IF(D8=0,0,IF(G8=0,0,IF(G8<=+'Vergi Oranları'!$C$5,0,IF(OR(G8>+'Vergi Oranları'!$C$5,F8+E8<=+'Vergi Oranları'!$C$5),35)))))","v":0},{"$f":"IF(E8=0,0,IF(D8=0,0,IF(G8=0,0,IF(Q8=0,0,IF(F8+E8>=+'Vergi Oranları'!$C$5,G8-(F8+I8+L8+O8),+'Vergi Oranları'!$C$5-(F8+I8+L8+O8))))))","v":0},{"$f":"IF(Q8=0,0,ROUND((R8-$S$3)*+'Vergi Oranları'!$G$6/100,2))","v":0},0]
[null,null,null,null,null,null,0,{"$f":"IF(E9=0,0,IF(D9=0,0,IF(G9=0,0,IF(F9>+'Vergi Oranları'!$C$3,0,IF(OR(G9<='Vergi Oranları'!$C$3,F9+E9<+'Vergi Oranları'!$C$3),15,IF(G9-(E9+F9)<='Vergi Oranları'!$C$3,15,))))))","v":0},{"$f":"IF(E9=0,0,IF(D9=0,0,IF(G9=0,0,IF(H9=0,0,IF(F9+E9<='Vergi Oranları'!$C$3,G9-F9,'Vergi Oranları'!$C$3-F9)))))","v":0},{"$f":"IF(I9=0,0,IF(ROUND((I9-$J$3)*'Vergi Oranları'!$G$3/100,2)<0,0,ROUND((I9-$M$3)*'Vergi Oranları'!$G$3/100,2)))","v":0},{"$f":"IF(E9=0,0,IF(D9=0,0,IF(G9=0,0,IF(F9>+'Vergi Oranları'!$C$4,0,IF(OR(G9<='Vergi Oranları'!$C$4,F9+E9<'Vergi Oranları'!$C$4),20,IF(G9-(E9+F9)<='Vergi Oranları'!$C$4,20,))))))","v":0},{"$f":"IF(E9=0,0,IF(D9=0,0,IF(G9=0,0,IF(K9=0,0,IF(F9+E9<=+'Vergi Oranları'!$C$4,G9-(F9+I9),+'Vergi Oranları'!$C$4-(F9+I9))))))","v":0},{"$f":"IF(L9=0,0,IF(ROUND((L9-$M$3)*+'Vergi Oranları'!$G$4/100,2)<0,0,ROUND((L9-$M$3)*+'Vergi Oranları'!$G$4/100,2)))","v":0},{"$f":"IF(E9=0,0,IF(D9=0,0,IF(G9=0,0,IF(OR(G9>+'Vergi Oranları'!$C$4,G9<=+'Vergi Oranları'!$C$5),27))))","v":0},{"$f":"IF(E9=0,0,IF(D9=0,0,IF(G9=0,0,IF(N9=0,0,IF(F9>'Vergi Oranları'!$C$5,0,IF(G9<=+'Vergi Oranları'!$C$5,G9-(F9+I9+L9),+'Vergi Oranları'!$C$5-(F9+I9+L9)))))))","v":0},{"$f":"ROUND(IF(N9=0,0,IF(E9<O9,(E9-$P$3)*'Vergi Oranları'!$G$5/100,(O9-$P$3)*'Vergi Oranları'!$G$5/100)),2)","v":0},{"$f":"IF(E9=0,0,IF(D9=0,0,IF(G9=0,0,IF(G9<=+'Vergi Oranları'!$C$5,0,IF(OR(G9>+'Vergi Oranları'!$C$5,F9+E9<=+'Vergi Oranları'!$C$5),35)))))","v":0},{"$f":"IF(E9=0,0,IF(D9=0,0,IF(G9=0,0,IF(Q9=0,0,IF(F9+E9>=+'Vergi Oranları'!$C$5,G9-(F9+I9+L9+O9),+'Vergi Oranları'!$C$5-(F9+I9+L9+O9))))))","v":0},{"$f":"IF(Q9=0,0,ROUND((R9-$S$3)*+'Vergi Oranları'!$G$6/100,2))","v":0},0]
[null,null,null,null,null,null,0,{"$f":"IF(E10=0,0,IF(D10=0,0,IF(G10=0,0,IF(F10>+'Vergi Oranları'!$C$3,0,IF(OR(G10<='Vergi Oranları'!$C$3,F10+E10<+'Vergi Oranları'!$C$3),15,IF(G10-(E10+F10)<='Vergi Oranları'!$C$3,15,))))))","v":0},{"$f":"IF(E10=0,0,IF(D10=0,0,IF(G10=0,0,IF(H10=0,0,IF(F10+E10<='Vergi Oranları'!$C$3,G10-F10,'Vergi Oranları'!$C$3-F10)))))","v":0},{"$f":"IF(I10=0,0,IF(ROUND((I10-$J$3)*'Vergi Oranları'!$G$3/100,2)<0,0,ROUND((I10-$M$3)*'Vergi Oranları'!$G$3/100,2)))","v":0},{"$f":"IF(E10=0,0,IF(D10=0,0,IF(G10=0,0,IF(F10>+'Vergi Oranları'!$C$4,0,IF(OR(G10<='Vergi Oranları'!$C$4,F10+E10<'Vergi Oranları'!$C$4),20,IF(G10-(E10+F10)<='Vergi Oranları'!$C$4,20,))))))","v":0},{"$f":"IF(E10=0,0,IF(D10=0,0,IF(G10=0,0,IF(K10=0,0,IF(F10+E10<=+'Vergi Oranları'!$C$4,G10-(F10+I10),+'Vergi Oranları'!$C$4-(F10+I10))))))","v":0},{"$f":"IF(L10=0,0,IF(ROUND((L10-$M$3)*+'Vergi Oranları'!$G$4/100,2)<0,0,ROUND((L10-$M$3)*+'Vergi Oranları'!$G$4/100,2)))","v":0},{"$f":"IF(E10=0,0,IF(D10=0,0,IF(G10=0,0,IF(OR(G10>+'Vergi Oranları'!$C$4,G10<=+'Vergi Oranları'!$C$5),27))))","v":0},{"$f":"IF(E10=0,0,IF(D10=0,0,IF(G10=0,0,IF(N10=0,0,IF(F10>'Vergi Oranları'!$C$5,0,IF(G10<=+'Vergi Oranları'!$C$5,G10-(F10+I10+L10),+'Vergi Oranları'!$C$5-(F10+I10+L10)))))))","v":0},{"$f":"ROUND(IF(N10=0,0,IF(E10<O10,(E10-$P$3)*'Vergi Oranları'!$G$5/100,(O10-$P$3)*'Vergi Oranları'!$G$5/100)),2)","v":0},{"$f":"IF(E10=0,0,IF(D10=0,0,IF(G10=0,0,IF(G10<=+'Vergi Oranları'!$C$5,0,IF(OR(G10>+'Vergi Oranları'!$C$5,F10+E10<=+'Vergi Oranları'!$C$5),35)))))","v":0},{"$f":"IF(E10=0,0,IF(D10=0,0,IF(G10=0,0,IF(Q10=0,0,IF(F10+E10>=+'Vergi Oranları'!$C$5,G10-(F10+I10+L10+O10),+'Vergi Oranları'!$C$5-(F10+I10+L10+O10))))))","v":0},{"$f":"IF(Q10=0,0,ROUND((R10-$S$3)*+'Vergi Oranları'!$G$6/100,2))","v":0},0]
[null,null,null,null,null,null,0,{"$f":"IF(E11=0,0,IF(D11=0,0,IF(G11=0,0,IF(F11>+'Vergi Oranları'!$C$3,0,IF(OR(G11<='Vergi Oranları'!$C$3,F11+E11<+'Vergi Oranları'!$C$3),15,IF(G11-(E11+F11)<='Vergi Oranları'!$C$3,15,))))))","v":0},{"$f":"IF(E11=0,0,IF(D11=0,0,IF(G11=0,0,IF(H11=0,0,IF(F11+E11<='Vergi Oranları'!$C$3,G11-F11,'Vergi Oranları'!$C$3-F11)))))","v":0},{"$f":"IF(I11=0,0,IF(ROUND((I11-$J$3)*'Vergi Oranları'!$G$3/100,2)<0,0,ROUND((I11-$M$3)*'Vergi Oranları'!$G$3/100,2)))","v":0},{"$f":"IF(E11=0,0,IF(D11=0,0,IF(G11=0,0,IF(F11>+'Vergi Oranları'!$C$4,0,IF(OR(G11<='Vergi Oranları'!$C$4,F11+E11<'Vergi Oranları'!$C$4),20,IF(G11-(E11+F11)<='Vergi Oranları'!$C$4,20,))))))","v":0},{"$f":"IF(E11=0,0,IF(D11=0,0,IF(G11=0,0,IF(K11=0,0,IF(F11+E11<=+'Vergi Oranları'!$C$4,G11-(F11+I11),+'Vergi Oranları'!$C$4-(F11+I11))))))","v":0},{"$f":"IF(L11=0,0,IF(ROUND((L11-$M$3)*+'Vergi Oranları'!$G$4/100,2)<0,0,ROUND((L11-$M$3)*+'Vergi Oranları'!$G$4/100,2)))","v":0},{"$f":"IF(E11=0,0,IF(D11=0,0,IF(G11=0,0,IF(OR(G11>+'Vergi Oranları'!$C$4,G11<=+'Vergi Oranları'!$C$5),27))))","v":0},{"$f":"IF(E11=0,0,IF(D11=0,0,IF(G11=0,0,IF(N11=0,0,IF(F11>'Vergi Oranları'!$C$5,0,IF(G11<=+'Vergi Oranları'!$C$5,G11-(F11+I11+L11),+'Vergi Oranları'!$C$5-(F11+I11+L11)))))))","v":0},{"$f":"ROUND(IF(N11=0,0,IF(E11<O11,(E11-$P$3)*'Vergi Oranları'!$G$5/100,(O11-$P$3)*'Vergi Oranları'!$G$5/100)),2)","v":0},{"$f":"IF(E11=0,0,IF(D11=0,0,IF(G11=0,0,IF(G11<=+'Vergi Oranları'!$C$5,0,IF(OR(G11>+'Vergi Oranları'!$C$5,F11+E11<=+'Vergi Oranları'!$C$5),35)))))","v":0},{"$f":"IF(E11=0,0,IF(D11=0,0,IF(G11=0,0,IF(Q11=0,0,IF(F11+E11>=+'Vergi Oranları'!$C$5,G11-(F11+I11+L11+O11),+'Vergi Oranları'!$C$5-(F11+I11+L11+O11))))))","v":0},{"$f":"IF(Q11=0,0,ROUND((R11-$S$3)*+'Vergi Oranları'!$G$6/100,2))","v":0},0]
[null,null,null,null,null,null,0,{"$f":"IF(E12=0,0,IF(D12=0,0,IF(G12=0,0,IF(F12>+'Vergi Oranları'!$C$3,0,IF(OR(G12<='Vergi Oranları'!$C$3,F12+E12<+'Vergi Oranları'!$C$3),15,IF(G12-(E12+F12)<='Vergi Oranları'!$C$3,15,))))))","v":0},{"$f":"IF(E12=0,0,IF(D12=0,0,IF(G12=0,0,IF(H12=0,0,IF(F12+E12<='Vergi Oranları'!$C$3,G12-F12,'Vergi Oranları'!$C$3-F12)))))","v":0},{"$f":"IF(I12=0,0,IF(ROUND((I12-$J$3)*'Vergi Oranları'!$G$3/100,2)<0,0,ROUND((I12-$M$3)*'Vergi Oranları'!$G$3/100,2)))","v":0},{"$f":"IF(E12=0,0,IF(D12=0,0,IF(G12=0,0,IF(F12>+'Vergi Oranları'!$C$4,0,IF(OR(G12<='Vergi Oranları'!$C$4,F12+E12<'Vergi Oranları'!$C$4),20,IF(G12-(E12+F12)<='Vergi Oranları'!$C$4,20,))))))","v":0},{"$f":"IF(E12=0,0,IF(D12=0,0,IF(G12=0,0,IF(K12=0,0,IF(F12+E12<=+'Vergi Oranları'!$C$4,G12-(F12+I12),+'Vergi Oranları'!$C$4-(F12+I12))))))","v":0},{"$f":"IF(L12=0,0,IF(ROUND((L12-$M$3)*+'Vergi Oranları'!$G$4/100,2)<0,0,ROUND((L12-$M$3)*+'Vergi Oranları'!$G$4/100,2)))","v":0},{"$f":"IF(E12=0,0,IF(D12=0,0,IF(G12=0,0,IF(OR(G12>+'Vergi Oranları'!$C$4,G12<=+'Vergi Oranları'!$C$5),27))))","v":0},{"$f":"IF(E12=0,0,IF(D12=0,0,IF(G12=0,0,IF(N12=0,0,IF(F12>'Vergi Oranları'!$C$5,0,IF(G12<=+'Vergi Oranları'!$C$5,G12-(F12+I12+L12),+'Vergi Oranları'!$C$5-(F12+I12+L12)))))))","v":0},{"$f":"ROUND(IF(N12=0,0,IF(E12<O12,(E12-$P$3)*'Vergi Oranları'!$G$5/100,(O12-$P$3)*'Vergi Oranları'!$G$5/100)),2)","v":0},{"$f":"IF(E12=0,0,IF(D12=0,0,IF(G12=0,0,IF(G12<=+'Vergi Oranları'!$C$5,0,IF(OR(G12>+'Vergi Oranları'!$C$5,F12+E12<=+'Vergi Oranları'!$C$5),35)))))","v":0},{"$f":"IF(E12=0,0,IF(D12=0,0,IF(G12=0,0,IF(Q12=0,0,IF(F12+E12>=+'Vergi Oranları'!$C$5,G12-(F12+I12+L12+O12),+'Vergi Oranları'!$C$5-(F12+I12+L12+O12))))))","v":0},{"$f":"IF(Q12=0,0,ROUND((R12-$S$3)*+'Vergi Oranları'!$G$6/100,2))","v":0},0]
[null,null,null,null,null,null,0,{"$f":"IF(E13=0,0,IF(D13=0,0,IF(G13=0,0,IF(F13>+'Vergi Oranları'!$C$3,0,IF(OR(G13<='Vergi Oranları'!$C$3,F13+E13<+'Vergi Oranları'!$C$3),15,IF(G13-(E13+F13)<='Vergi Oranları'!$C$3,15,))))))","v":0},{"$f":"IF(E13=0,0,IF(D13=0,0,IF(G13=0,0,IF(H13=0,0,IF(F13+E13<='Vergi Oranları'!$C$3,G13-F13,'Vergi Oranları'!$C$3-F13)))))","v":0},{"$f":"IF(I13=0,0,IF(ROUND((I13-$J$3)*'Vergi Oranları'!$G$3/100,2)<0,0,ROUND((I13-$M$3)*'Vergi Oranları'!$G$3/100,2)))","v":0},{"$f":"IF(E13=0,0,IF(D13=0,0,IF(G13=0,0,IF(F13>+'Vergi Oranları'!$C$4,0,IF(OR(G13<='Vergi Oranları'!$C$4,F13+E13<'Vergi Oranları'!$C$4),20,IF(G13-(E13+F13)<='Vergi Oranları'!$C$4,20,))))))","v":0},{"$f":"IF(E13=0,0,IF(D13=0,0,IF(G13=0,0,IF(K13=0,0,IF(F13+E13<=+'Vergi Oranları'!$C$4,G13-(F13+I13),+'Vergi Oranları'!$C$4-(F13+I13))))))","v":0},{"$f":"IF(L13=0,0,IF(ROUND((L13-$M$3)*+'Vergi Oranları'!$G$4/100,2)<0,0,ROUND((L13-$M$3)*+'Vergi Oranları'!$G$4/100,2)))","v":0},{"$f":"IF(E13=0,0,IF(D13=0,0,IF(G13=0,0,IF(OR(G13>+'Vergi Oranları'!$C$4,G13<=+'Vergi Oranları'!$C$5),27))))","v":0},{"$f":"IF(E13=0,0,IF(D13=0,0,IF(G13=0,0,IF(N13=0,0,IF(F13>'Vergi Oranları'!$C$5,0,IF(G13<=+'Vergi Oranları'!$C$5,G13-(F13+I13+L13),+'Vergi Oranları'!$C$5-(F13+I13+L13)))))))","v":0},{"$f":"ROUND(IF(N13=0,0,IF(E13<O13,(E13-$P$3)*'Vergi Oranları'!$G$5/100,(O13-$P$3)*'Vergi Oranları'!$G$5/100)),2)","v":0},{"$f":"IF(E13=0,0,IF(D13=0,0,IF(G13=0,0,IF(G13<=+'Vergi Oranları'!$C$5,0,IF(OR(G13>+'Vergi Oranları'!$C$5,F13+E13<=+'Vergi Oranları'!$C$5),35)))))","v":0},{"$f":"IF(E13=0,0,IF(D13=0,0,IF(G13=0,0,IF(Q13=0,0,IF(F13+E13>=+'Vergi Oranları'!$C$5,G13-(F13+I13+L13+O13),+'Vergi Oranları'!$C$5-(F13+I13+L13+O13))))))","v":0},{"$f":"IF(Q13=0,0,ROUND((R13-$S$3)*+'Vergi Oranları'!$G$6/100,2))","v":0},0]
[null,null,null,null,null,null,0,{"$f":"IF(E14=0,0,IF(D14=0,0,IF(G14=0,0,IF(F14>+'Vergi Oranları'!$C$3,0,IF(OR(G14<='Vergi Oranları'!$C$3,F14+E14<+'Vergi Oranları'!$C$3),15,IF(G14-(E14+F14)<='Vergi Oranları'!$C$3,15,))))))","v":0},{"$f":"IF(E14=0,0,IF(D14=0,0,IF(G14=0,0,IF(H14=0,0,IF(F14+E14<='Vergi Oranları'!$C$3,G14-F14,'Vergi Oranları'!$C$3-F14)))))","v":0},{"$f":"IF(I14=0,0,IF(ROUND((I14-$J$3)*'Vergi Oranları'!$G$3/100,2)<0,0,ROUND((I14-$M$3)*'Vergi Oranları'!$G$3/100,2)))","v":0},{"$f":"IF(E14=0,0,IF(D14=0,0,IF(G14=0,0,IF(F14>+'Vergi Oranları'!$C$4,0,IF(OR(G14<='Vergi Oranları'!$C$4,F14+E14<'Vergi Oranları'!$C$4),20,IF(G14-(E14+F14)<='Vergi Oranları'!$C$4,20,))))))","v":0},{"$f":"IF(E14=0,0,IF(D14=0,0,IF(G14=0,0,IF(K14=0,0,IF(F14+E14<=+'Vergi Oranları'!$C$4,G14-(F14+I14),+'Vergi Oranları'!$C$4-(F14+I14))))))","v":0},{"$f":"IF(L14=0,0,IF(ROUND((L14-$M$3)*+'Vergi Oranları'!$G$4/100,2)<0,0,ROUND((L14-$M$3)*+'Vergi Oranları'!$G$4/100,2)))","v":0},{"$f":"IF(E14=0,0,IF(D14=0,0,IF(G14=0,0,IF(OR(G14>+'Vergi Oranları'!$C$4,G14<=+'Vergi Oranları'!$C$5),27))))","v":0},{"$f":"IF(E14=0,0,IF(D14=0,0,IF(G14=0,0,IF(N14=0,0,IF(F14>'Vergi Oranları'!$C$5,0,IF(G14<=+'Vergi Oranları'!$C$5,G14-(F14+I14+L14),+'Vergi Oranları'!$C$5-(F14+I14+L14)))))))","v":0},{"$f":"ROUND(IF(N14=0,0,IF(E14<O14,(E14-$P$3)*'Vergi Oranları'!$G$5/100,(O14-$P$3)*'Vergi Oranları'!$G$5/100)),2)","v":0},{"$f":"IF(E14=0,0,IF(D14=0,0,IF(G14=0,0,IF(G14<=+'Vergi Oranları'!$C$5,0,IF(OR(G14>+'Vergi Oranları'!$C$5,F14+E14<=+'Vergi Oranları'!$C$5),35)))))","v":0},{"$f":"IF(E14=0,0,IF(D14=0,0,IF(G14=0,0,IF(Q14=0,0,IF(F14+E14>=+'Vergi Oranları'!$C$5,G14-(F14+I14+L14+O14),+'Vergi Oranları'!$C$5-(F14+I14+L14+O14))))))","v":0},{"$f":"IF(Q14=0,0,ROUND((R14-$S$3)*+'Vergi Oranları'!$G$6/100,2))","v":0},0]
[null,null,null,null,null,null,0,{"$f":"IF(E15=0,0,IF(D15=0,0,IF(G15=0,0,IF(F15>+'Vergi Oranları'!$C$3,0,IF(OR(G15<='Vergi Oranları'!$C$3,F15+E15<+'Vergi Oranları'!$C$3),15,IF(G15-(E15+F15)<='Vergi Oranları'!$C$3,15,))))))","v":0},{"$f":"IF(E15=0,0,IF(D15=0,0,IF(G15=0,0,IF(H15=0,0,IF(F15+E15<='Vergi Oranları'!$C$3,G15-F15,'Vergi Oranları'!$C$3-F15)))))","v":0},{"$f":"IF(I15=0,0,IF(ROUND((I15-$J$3)*'Vergi Oranları'!$G$3/100,2)<0,0,ROUND((I15-$M$3)*'Vergi Oranları'!$G$3/100,2)))","v":0},{"$f":"IF(E15=0,0,IF(D15=0,0,IF(G15=0,0,IF(F15>+'Vergi Oranları'!$C$4,0,IF(OR(G15<='Vergi Oranları'!$C$4,F15+E15<'Vergi Oranları'!$C$4),20,IF(G15-(E15+F15)<='Vergi Oranları'!$C$4,20,))))))","v":0},{"$f":"IF(E15=0,0,IF(D15=0,0,IF(G15=0,0,IF(K15=0,0,IF(F15+E15<=+'Vergi Oranları'!$C$4,G15-(F15+I15),+'Vergi Oranları'!$C$4-(F15+I15))))))","v":0},{"$f":"IF(L15=0,0,IF(ROUND((L15-$M$3)*+'Vergi Oranları'!$G$4/100,2)<0,0,ROUND((L15-$M$3)*+'Vergi Oranları'!$G$4/100,2)))","v":0},{"$f":"IF(E15=0,0,IF(D15=0,0,IF(G15=0,0,IF(OR(G15>+'Vergi Oranları'!$C$4,G15<=+'Vergi Oranları'!$C$5),27))))","v":0},{"$f":"IF(E15=0,0,IF(D15=0,0,IF(G15=0,0,IF(N15=0,0,IF(F15>'Vergi Oranları'!$C$5,0,IF(G15<=+'Vergi Oranları'!$C$5,G15-(F15+I15+L15),+'Vergi Oranları'!$C$5-(F15+I15+L15)))))))","v":0},{"$f":"ROUND(IF(N15=0,0,IF(E15<O15,(E15-$P$3)*'Vergi Oranları'!$G$5/100,(O15-$P$3)*'Vergi Oranları'!$G$5/100)),2)","v":0},{"$f":"IF(E15=0,0,IF(D15=0,0,IF(G15=0,0,IF(G15<=+'Vergi Oranları'!$C$5,0,IF(OR(G15>+'Vergi Oranları'!$C$5,F15+E15<=+'Vergi Oranları'!$C$5),35)))))","v":0},{"$f":"IF(E15=0,0,IF(D15=0,0,IF(G15=0,0,IF(Q15=0,0,IF(F15+E15>=+'Vergi Oranları'!$C$5,G15-(F15+I15+L15+O15),+'Vergi Oranları'!$C$5-(F15+I15+L15+O15))))))","v":0},{"$f":"IF(Q15=0,0,ROUND((R15-$S$3)*+'Vergi Oranları'!$G$6/100,2))","v":0},0]
[null,null,null,null,null,null,0,{"$f":"IF(E16=0,0,IF(D16=0,0,IF(G16=0,0,IF(F16>+'Vergi Oranları'!$C$3,0,IF(OR(G16<='Vergi Oranları'!$C$3,F16+E16<+'Vergi Oranları'!$C$3),15,IF(G16-(E16+F16)<='Vergi Oranları'!$C$3,15,))))))","v":0},{"$f":"IF(E16=0,0,IF(D16=0,0,IF(G16=0,0,IF(H16=0,0,IF(F16+E16<='Vergi Oranları'!$C$3,G16-F16,'Vergi Oranları'!$C$3-F16)))))","v":0},{"$f":"IF(I16=0,0,IF(ROUND((I16-$J$3)*'Vergi Oranları'!$G$3/100,2)<0,0,ROUND((I16-$M$3)*'Vergi Oranları'!$G$3/100,2)))","v":0},{"$f":"IF(E16=0,0,IF(D16=0,0,IF(G16=0,0,IF(F16>+'Vergi Oranları'!$C$4,0,IF(OR(G16<='Vergi Oranları'!$C$4,F16+E16<'Vergi Oranları'!$C$4),20,IF(G16-(E16+F16)<='Vergi Oranları'!$C$4,20,))))))","v":0},{"$f":"IF(E16=0,0,IF(D16=0,0,IF(G16=0,0,IF(K16=0,0,IF(F16+E16<=+'Vergi Oranları'!$C$4,G16-(F16+I16),+'Vergi Oranları'!$C$4-(F16+I16))))))","v":0},{"$f":"IF(L16=0,0,IF(ROUND((L16-$M$3)*+'Vergi Oranları'!$G$4/100,2)<0,0,ROUND((L16-$M$3)*+'Vergi Oranları'!$G$4/100,2)))","v":0},{"$f":"IF(E16=0,0,IF(D16=0,0,IF(G16=0,0,IF(OR(G16>+'Vergi Oranları'!$C$4,G16<=+'Vergi Oranları'!$C$5),27))))","v":0},{"$f":"IF(E16=0,0,IF(D16=0,0,IF(G16=0,0,IF(N16=0,0,IF(F16>'Vergi Oranları'!$C$5,0,IF(G16<=+'Vergi Oranları'!$C$5,G16-(F16+I16+L16),+'Vergi Oranları'!$C$5-(F16+I16+L16)))))))","v":0},{"$f":"ROUND(IF(N16=0,0,IF(E16<O16,(E16-$P$3)*'Vergi Oranları'!$G$5/100,(O16-$P$3)*'Vergi Oranları'!$G$5/100)),2)","v":0},{"$f":"IF(E16=0,0,IF(D16=0,0,IF(G16=0,0,IF(G16<=+'Vergi Oranları'!$C$5,0,IF(OR(G16>+'Vergi Oranları'!$C$5,F16+E16<=+'Vergi Oranları'!$C$5),35)))))","v":0},{"$f":"IF(E16=0,0,IF(D16=0,0,IF(G16=0,0,IF(Q16=0,0,IF(F16+E16>=+'Vergi Oranları'!$C$5,G16-(F16+I16+L16+O16),+'Vergi Oranları'!$C$5-(F16+I16+L16+O16))))))","v":0},{"$f":"IF(Q16=0,0,ROUND((R16-$S$3)*+'Vergi Oranları'!$G$6/100,2))","v":0},0]
[null,null,null,null,null,null,0,{"$f":"IF(E17=0,0,IF(D17=0,0,IF(G17=0,0,IF(F17>+'Vergi Oranları'!$C$3,0,IF(OR(G17<='Vergi Oranları'!$C$3,F17+E17<+'Vergi Oranları'!$C$3),15,IF(G17-(E17+F17)<='Vergi Oranları'!$C$3,15,))))))","v":0},{"$f":"IF(E17=0,0,IF(D17=0,0,IF(G17=0,0,IF(H17=0,0,IF(F17+E17<='Vergi Oranları'!$C$3,G17-F17,'Vergi Oranları'!$C$3-F17)))))","v":0},{"$f":"IF(I17=0,0,IF(ROUND((I17-$J$3)*'Vergi Oranları'!$G$3/100,2)<0,0,ROUND((I17-$M$3)*'Vergi Oranları'!$G$3/100,2)))","v":0},{"$f":"IF(E17=0,0,IF(D17=0,0,IF(G17=0,0,IF(F17>+'Vergi Oranları'!$C$4,0,IF(OR(G17<='Vergi Oranları'!$C$4,F17+E17<'Vergi Oranları'!$C$4),20,IF(G17-(E17+F17)<='Vergi Oranları'!$C$4,20,))))))","v":0},{"$f":"IF(E17=0,0,IF(D17=0,0,IF(G17=0,0,IF(K17=0,0,IF(F17+E17<=+'Vergi Oranları'!$C$4,G17-(F17+I17),+'Vergi Oranları'!$C$4-(F17+I17))))))","v":0},{"$f":"IF(L17=0,0,IF(ROUND((L17-$M$3)*+'Vergi Oranları'!$G$4/100,2)<0,0,ROUND((L17-$M$3)*+'Vergi Oranları'!$G$4/100,2)))","v":0},{"$f":"IF(E17=0,0,IF(D17=0,0,IF(G17=0,0,IF(OR(G17>+'Vergi Oranları'!$C$4,G17<=+'Vergi Oranları'!$C$5),27))))","v":0},{"$f":"IF(E17=0,0,IF(D17=0,0,IF(G17=0,0,IF(N17=0,0,IF(F17>'Vergi Oranları'!$C$5,0,IF(G17<=+'Vergi Oranları'!$C$5,G17-(F17+I17+L17),+'Vergi Oranları'!$C$5-(F17+I17+L17)))))))","v":0},{"$f":"ROUND(IF(N17=0,0,IF(E17<O17,(E17-$P$3)*'Vergi Oranları'!$G$5/100,(O17-$P$3)*'Vergi Oranları'!$G$5/100)),2)","v":0},{"$f":"IF(E17=0,0,IF(D17=0,0,IF(G17=0,0,IF(G17<=+'Vergi Oranları'!$C$5,0,IF(OR(G17>+'Vergi Oranları'!$C$5,F17+E17<=+'Vergi Oranları'!$C$5),35)))))","v":0},{"$f":"IF(E17=0,0,IF(D17=0,0,IF(G17=0,0,IF(Q17=0,0,IF(F17+E17>=+'Vergi Oranları'!$C$5,G17-(F17+I17+L17+O17),+'Vergi Oranları'!$C$5-(F17+I17+L17+O17))))))","v":0},{"$f":"IF(Q17=0,0,ROUND((R17-$S$3)*+'Vergi Oranları'!$G$6/100,2))","v":0},0]
[null,null,null,null,null,null,0,{"$f":"IF(E18=0,0,IF(D18=0,0,IF(G18=0,0,IF(F18>+'Vergi Oranları'!$C$3,0,IF(OR(G18<='Vergi Oranları'!$C$3,F18+E18<+'Vergi Oranları'!$C$3),15,IF(G18-(E18+F18)<='Vergi Oranları'!$C$3,15,))))))","v":0},{"$f":"IF(E18=0,0,IF(D18=0,0,IF(G18=0,0,IF(H18=0,0,IF(F18+E18<='Vergi Oranları'!$C$3,G18-F18,'Vergi Oranları'!$C$3-F18)))))","v":0},{"$f":"IF(I18=0,0,IF(ROUND((I18-$J$3)*'Vergi Oranları'!$G$3/100,2)<0,0,ROUND((I18-$M$3)*'Vergi Oranları'!$G$3/100,2)))","v":0},{"$f":"IF(E18=0,0,IF(D18=0,0,IF(G18=0,0,IF(F18>+'Vergi Oranları'!$C$4,0,IF(OR(G18<='Vergi Oranları'!$C$4,F18+E18<'Vergi Oranları'!$C$4),20,IF(G18-(E18+F18)<='Vergi Oranları'!$C$4,20,))))))","v":0},{"$f":"IF(E18=0,0,IF(D18=0,0,IF(G18=0,0,IF(K18=0,0,IF(F18+E18<=+'Vergi Oranları'!$C$4,G18-(F18+I18),+'Vergi Oranları'!$C$4-(F18+I18))))))","v":0},{"$f":"IF(L18=0,0,IF(ROUND((L18-$M$3)*+'Vergi Oranları'!$G$4/100,2)<0,0,ROUND((L18-$M$3)*+'Vergi Oranları'!$G$4/100,2)))","v":0},{"$f":"IF(E18=0,0,IF(D18=0,0,IF(G18=0,0,IF(OR(G18>+'Vergi Oranları'!$C$4,G18<=+'Vergi Oranları'!$C$5),27))))","v":0},{"$f":"IF(E18=0,0,IF(D18=0,0,IF(G18=0,0,IF(N18=0,0,IF(F18>'Vergi Oranları'!$C$5,0,IF(G18<=+'Vergi Oranları'!$C$5,G18-(F18+I18+L18),+'Vergi Oranları'!$C$5-(F18+I18+L18)))))))","v":0},{"$f":"ROUND(IF(N18=0,0,IF(E18<O18,(E18-$P$3)*'Vergi Oranları'!$G$5/100,(O18-$P$3)*'Vergi Oranları'!$G$5/100)),2)","v":0},{"$f":"IF(E18=0,0,IF(D18=0,0,IF(G18=0,0,IF(G18<=+'Vergi Oranları'!$C$5,0,IF(OR(G18>+'Vergi Oranları'!$C$5,F18+E18<=+'Vergi Oranları'!$C$5),35)))))","v":0},{"$f":"IF(E18=0,0,IF(D18=0,0,IF(G18=0,0,IF(Q18=0,0,IF(F18+E18>=+'Vergi Oranları'!$C$5,G18-(F18+I18+L18+O18),+'Vergi Oranları'!$C$5-(F18+I18+L18+O18))))))","v":0},{"$f":"IF(Q18=0,0,ROUND((R18-$S$3)*+'Vergi Oranları'!$G$6/100,2))","v":0},0]
[null,null,null,null,null,null,0,{"$f":"IF(E19=0,0,IF(D19=0,0,IF(G19=0,0,IF(F19>+'Vergi Oranları'!$C$3,0,IF(OR(G19<='Vergi Oranları'!$C$3,F19+E19<+'Vergi Oranları'!$C$3),15,IF(G19-(E19+F19)<='Vergi Oranları'!$C$3,15,))))))","v":0},{"$f":"IF(E19=0,0,IF(D19=0,0,IF(G19=0,0,IF(H19=0,0,IF(F19+E19<='Vergi Oranları'!$C$3,G19-F19,'Vergi Oranları'!$C$3-F19)))))","v":0},{"$f":"IF(I19=0,0,IF(ROUND((I19-$J$3)*'Vergi Oranları'!$G$3/100,2)<0,0,ROUND((I19-$M$3)*'Vergi Oranları'!$G$3/100,2)))","v":0},{"$f":"IF(E19=0,0,IF(D19=0,0,IF(G19=0,0,IF(F19>+'Vergi Oranları'!$C$4,0,IF(OR(G19<='Vergi Oranları'!$C$4,F19+E19<'Vergi Oranları'!$C$4),20,IF(G19-(E19+F19)<='Vergi Oranları'!$C$4,20,))))))","v":0},{"$f":"IF(E19=0,0,IF(D19=0,0,IF(G19=0,0,IF(K19=0,0,IF(F19+E19<=+'Vergi Oranları'!$C$4,G19-(F19+I19),+'Vergi Oranları'!$C$4-(F19+I19))))))","v":0},{"$f":"IF(L19=0,0,IF(ROUND((L19-$M$3)*+'Vergi Oranları'!$G$4/100,2)<0,0,ROUND((L19-$M$3)*+'Vergi Oranları'!$G$4/100,2)))","v":0},{"$f":"IF(E19=0,0,IF(D19=0,0,IF(G19=0,0,IF(OR(G19>+'Vergi Oranları'!$C$4,G19<=+'Vergi Oranları'!$C$5),27))))","v":0},{"$f":"IF(E19=0,0,IF(D19=0,0,IF(G19=0,0,IF(N19=0,0,IF(F19>'Vergi Oranları'!$C$5,0,IF(G19<=+'Vergi Oranları'!$C$5,G19-(F19+I19+L19),+'Vergi Oranları'!$C$5-(F19+I19+L19)))))))","v":0},{"$f":"ROUND(IF(N19=0,0,IF(E19<O19,(E19-$P$3)*'Vergi Oranları'!$G$5/100,(O19-$P$3)*'Vergi Oranları'!$G$5/100)),2)","v":0},{"$f":"IF(E19=0,0,IF(D19=0,0,IF(G19=0,0,IF(G19<=+'Vergi Oranları'!$C$5,0,IF(OR(G19>+'Vergi Oranları'!$C$5,F19+E19<=+'Vergi Oranları'!$C$5),35)))))","v":0},{"$f":"IF(E19=0,0,IF(D19=0,0,IF(G19=0,0,IF(Q19=0,0,IF(F19+E19>=+'Vergi Oranları'!$C$5,G19-(F19+I19+L19+O19),+'Vergi Oranları'!$C$5-(F19+I19+L19+O19))))))","v":0},{"$f":"IF(Q19=0,0,ROUND((R19-$S$3)*+'Vergi Oranları'!$G$6/100,2))","v":0},0]
[null,null,null,null,null,null,0,{"$f":"IF(E20=0,0,IF(D20=0,0,IF(G20=0,0,IF(F20>+'Vergi Oranları'!$C$3,0,IF(OR(G20<='Vergi Oranları'!$C$3,F20+E20<+'Vergi Oranları'!$C$3),15,IF(G20-(E20+F20)<='Vergi Oranları'!$C$3,15,))))))","v":0},{"$f":"IF(E20=0,0,IF(D20=0,0,IF(G20=0,0,IF(H20=0,0,IF(F20+E20<='Vergi Oranları'!$C$3,G20-F20,'Vergi Oranları'!$C$3-F20)))))","v":0},{"$f":"IF(I20=0,0,IF(ROUND((I20-$J$3)*'Vergi Oranları'!$G$3/100,2)<0,0,ROUND((I20-$M$3)*'Vergi Oranları'!$G$3/100,2)))","v":0},{"$f":"IF(E20=0,0,IF(D20=0,0,IF(G20=0,0,IF(F20>+'Vergi Oranları'!$C$4,0,IF(OR(G20<='Vergi Oranları'!$C$4,F20+E20<'Vergi Oranları'!$C$4),20,IF(G20-(E20+F20)<='Vergi Oranları'!$C$4,20,))))))","v":0},{"$f":"IF(E20=0,0,IF(D20=0,0,IF(G20=0,0,IF(K20=0,0,IF(F20+E20<=+'Vergi Oranları'!$C$4,G20-(F20+I20),+'Vergi Oranları'!$C$4-(F20+I20))))))","v":0},{"$f":"IF(L20=0,0,IF(ROUND((L20-$M$3)*+'Vergi Oranları'!$G$4/100,2)<0,0,ROUND((L20-$M$3)*+'Vergi Oranları'!$G$4/100,2)))","v":0},{"$f":"IF(E20=0,0,IF(D20=0,0,IF(G20=0,0,IF(OR(G20>+'Vergi Oranları'!$C$4,G20<=+'Vergi Oranları'!$C$5),27))))","v":0},{"$f":"IF(E20=0,0,IF(D20=0,0,IF(G20=0,0,IF(N20=0,0,IF(F20>'Vergi Oranları'!$C$5,0,IF(G20<=+'Vergi Oranları'!$C$5,G20-(F20+I20+L20),+'Vergi Oranları'!$C$5-(F20+I20+L20)))))))","v":0},{"$f":"ROUND(IF(N20=0,0,IF(E20<O20,(E20-$P$3)*'Vergi Oranları'!$G$5/100,(O20-$P$3)*'Vergi Oranları'!$G$5/100)),2)","v":0},{"$f":"IF(E20=0,0,IF(D20=0,0,IF(G20=0,0,IF(G20<=+'Vergi Oranları'!$C$5,0,IF(OR(G20>+'Vergi Oranları'!$C$5,F20+E20<=+'Vergi Oranları'!$C$5),35)))))","v":0},{"$f":"IF(E20=0,0,IF(D20=0,0,IF(G20=0,0,IF(Q20=0,0,IF(F20+E20>=+'Vergi Oranları'!$C$5,G20-(F20+I20+L20+O20),+'Vergi Oranları'!$C$5-(F20+I20+L20+O20))))))","v":0},{"$f":"IF(Q20=0,0,ROUND((R20-$S$3)*+'Vergi Oranları'!$G$6/100,2))","v":0},0]
[null,null,null,null,null,null,0,{"$f":"IF(E21=0,0,IF(D21=0,0,IF(G21=0,0,IF(F21>+'Vergi Oranları'!$C$3,0,IF(OR(G21<='Vergi Oranları'!$C$3,F21+E21<+'Vergi Oranları'!$C$3),15,IF(G21-(E21+F21)<='Vergi Oranları'!$C$3,15,))))))","v":0},{"$f":"IF(E21=0,0,IF(D21=0,0,IF(G21=0,0,IF(H21=0,0,IF(F21+E21<='Vergi Oranları'!$C$3,G21-F21,'Vergi Oranları'!$C$3-F21)))))","v":0},{"$f":"IF(I21=0,0,IF(ROUND((I21-$J$3)*'Vergi Oranları'!$G$3/100,2)<0,0,ROUND((I21-$M$3)*'Vergi Oranları'!$G$3/100,2)))","v":0},{"$f":"IF(E21=0,0,IF(D21=0,0,IF(G21=0,0,IF(F21>+'Vergi Oranları'!$C$4,0,IF(OR(G21<='Vergi Oranları'!$C$4,F21+E21<'Vergi Oranları'!$C$4),20,IF(G21-(E21+F21)<='Vergi Oranları'!$C$4,20,))))))","v":0},{"$f":"IF(E21=0,0,IF(D21=0,0,IF(G21=0,0,IF(K21=0,0,IF(F21+E21<=+'Vergi Oranları'!$C$4,G21-(F21+I21),+'Vergi Oranları'!$C$4-(F21+I21))))))","v":0},{"$f":"IF(L21=0,0,IF(ROUND((L21-$M$3)*+'Vergi Oranları'!$G$4/100,2)<0,0,ROUND((L21-$M$3)*+'Vergi Oranları'!$G$4/100,2)))","v":0},{"$f":"IF(E21=0,0,IF(D21=0,0,IF(G21=0,0,IF(OR(G21>+'Vergi Oranları'!$C$4,G21<=+'Vergi Oranları'!$C$5),27))))","v":0},{"$f":"IF(E21=0,0,IF(D21=0,0,IF(G21=0,0,IF(N21=0,0,IF(F21>'Vergi Oranları'!$C$5,0,IF(G21<=+'Vergi Oranları'!$C$5,G21-(F21+I21+L21),+'Vergi Oranları'!$C$5-(F21+I21+L21)))))))","v":0},{"$f":"ROUND(IF(N21=0,0,IF(E21<O21,(E21-$P$3)*'Vergi Oranları'!$G$5/100,(O21-$P$3)*'Vergi Oranları'!$G$5/100)),2)","v":0},{"$f":"IF(E21=0,0,IF(D21=0,0,IF(G21=0,0,IF(G21<=+'Vergi Oranları'!$C$5,0,IF(OR(G21>+'Vergi Oranları'!$C$5,F21+E21<=+'Vergi Oranları'!$C$5),35)))))","v":0},{"$f":"IF(E21=0,0,IF(D21=0,0,IF(G21=0,0,IF(Q21=0,0,IF(F21+E21>=+'Vergi Oranları'!$C$5,G21-(F21+I21+L21+O21),+'Vergi Oranları'!$C$5-(F21+I21+L21+O21))))))","v":0},{"$f":"IF(Q21=0,0,ROUND((R21-$S$3)*+'Vergi Oranları'!$G$6/100,2))","v":0},0]
[null,null,null,null,null,null,0,{"$f":"IF(E22=0,0,IF(D22=0,0,IF(G22=0,0,IF(F22>+'Vergi Oranları'!$C$3,0,IF(OR(G22<='Vergi Oranları'!$C$3,F22+E22<+'Vergi Oranları'!$C$3),15,IF(G22-(E22+F22)<='Vergi Oranları'!$C$3,15,))))))","v":0},{"$f":"IF(E22=0,0,IF(D22=0,0,IF(G22=0,0,IF(H22=0,0,IF(F22+E22<='Vergi Oranları'!$C$3,G22-F22,'Vergi Oranları'!$C$3-F22)))))","v":0},{"$f":"IF(I22=0,0,IF(ROUND((I22-$J$3)*'Vergi Oranları'!$G$3/100,2)<0,0,ROUND((I22-$M$3)*'Vergi Oranları'!$G$3/100,2)))","v":0},{"$f":"IF(E22=0,0,IF(D22=0,0,IF(G22=0,0,IF(F22>+'Vergi Oranları'!$C$4,0,IF(OR(G22<='Vergi Oranları'!$C$4,F22+E22<'Vergi Oranları'!$C$4),20,IF(G22-(E22+F22)<='Vergi Oranları'!$C$4,20,))))))","v":0},{"$f":"IF(E22=0,0,IF(D22=0,0,IF(G22=0,0,IF(K22=0,0,IF(F22+E22<=+'Vergi Oranları'!$C$4,G22-(F22+I22),+'Vergi Oranları'!$C$4-(F22+I22))))))","v":0},{"$f":"IF(L22=0,0,IF(ROUND((L22-$M$3)*+'Vergi Oranları'!$G$4/100,2)<0,0,ROUND((L22-$M$3)*+'Vergi Oranları'!$G$4/100,2)))","v":0},{"$f":"IF(E22=0,0,IF(D22=0,0,IF(G22=0,0,IF(OR(G22>+'Vergi Oranları'!$C$4,G22<=+'Vergi Oranları'!$C$5),27))))","v":0},{"$f":"IF(E22=0,0,IF(D22=0,0,IF(G22=0,0,IF(N22=0,0,IF(F22>'Vergi Oranları'!$C$5,0,IF(G22<=+'Vergi Oranları'!$C$5,G22-(F22+I22+L22),+'Vergi Oranları'!$C$5-(F22+I22+L22)))))))","v":0},{"$f":"ROUND(IF(N22=0,0,IF(E22<O22,(E22-$P$3)*'Vergi Oranları'!$G$5/100,(O22-$P$3)*'Vergi Oranları'!$G$5/100)),2)","v":0},{"$f":"IF(E22=0,0,IF(D22=0,0,IF(G22=0,0,IF(G22<=+'Vergi Oranları'!$C$5,0,IF(OR(G22>+'Vergi Oranları'!$C$5,F22+E22<=+'Vergi Oranları'!$C$5),35)))))","v":0},{"$f":"IF(E22=0,0,IF(D22=0,0,IF(G22=0,0,IF(Q22=0,0,IF(F22+E22>=+'Vergi Oranları'!$C$5,G22-(F22+I22+L22+O22),+'Vergi Oranları'!$C$5-(F22+I22+L22+O22))))))","v":0},{"$f":"IF(Q22=0,0,ROUND((R22-$S$3)*+'Vergi Oranları'!$G$6/100,2))","v":0},0]
[null,null,null,null,null,null,0,{"$f":"IF(E23=0,0,IF(D23=0,0,IF(G23=0,0,IF(F23>+'Vergi Oranları'!$C$3,0,IF(OR(G23<='Vergi Oranları'!$C$3,F23+E23<+'Vergi Oranları'!$C$3),15,IF(G23-(E23+F23)<='Vergi Oranları'!$C$3,15,))))))","v":0},{"$f":"IF(E23=0,0,IF(D23=0,0,IF(G23=0,0,IF(H23=0,0,IF(F23+E23<='Vergi Oranları'!$C$3,G23-F23,'Vergi Oranları'!$C$3-F23)))))","v":0},{"$f":"IF(I23=0,0,IF(ROUND((I23-$J$3)*'Vergi Oranları'!$G$3/100,2)<0,0,ROUND((I23-$M$3)*'Vergi Oranları'!$G$3/100,2)))","v":0},{"$f":"IF(E23=0,0,IF(D23=0,0,IF(G23=0,0,IF(F23>+'Vergi Oranları'!$C$4,0,IF(OR(G23<='Vergi Oranları'!$C$4,F23+E23<'Vergi Oranları'!$C$4),20,IF(G23-(E23+F23)<='Vergi Oranları'!$C$4,20,))))))","v":0},{"$f":"IF(E23=0,0,IF(D23=0,0,IF(G23=0,0,IF(K23=0,0,IF(F23+E23<=+'Vergi Oranları'!$C$4,G23-(F23+I23),+'Vergi Oranları'!$C$4-(F23+I23))))))","v":0},{"$f":"IF(L23=0,0,IF(ROUND((L23-$M$3)*+'Vergi Oranları'!$G$4/100,2)<0,0,ROUND((L23-$M$3)*+'Vergi Oranları'!$G$4/100,2)))","v":0},{"$f":"IF(E23=0,0,IF(D23=0,0,IF(G23=0,0,IF(OR(G23>+'Vergi Oranları'!$C$4,G23<=+'Vergi Oranları'!$C$5),27))))","v":0},{"$f":"IF(E23=0,0,IF(D23=0,0,IF(G23=0,0,IF(N23=0,0,IF(F23>'Vergi Oranları'!$C$5,0,IF(G23<=+'Vergi Oranları'!$C$5,G23-(F23+I23+L23),+'Vergi Oranları'!$C$5-(F23+I23+L23)))))))","v":0},{"$f":"ROUND(IF(N23=0,0,IF(E23<O23,(E23-$P$3)*'Vergi Oranları'!$G$5/100,(O23-$P$3)*'Vergi Oranları'!$G$5/100)),2)","v":0},{"$f":"IF(E23=0,0,IF(D23=0,0,IF(G23=0,0,IF(G23<=+'Vergi Oranları'!$C$5,0,IF(OR(G23>+'Vergi Oranları'!$C$5,F23+E23<=+'Vergi Oranları'!$C$5),35)))))","v":0},{"$f":"IF(E23=0,0,IF(D23=0,0,IF(G23=0,0,IF(Q23=0,0,IF(F23+E23>=+'Vergi Oranları'!$C$5,G23-(F23+I23+L23+O23),+'Vergi Oranları'!$C$5-(F23+I23+L23+O23))))))","v":0},{"$f":"IF(Q23=0,0,ROUND((R23-$S$3)*+'Vergi Oranları'!$G$6/100,2))","v":0},0]
[null,null,null,null,null,null,0,{"$f":"IF(E24=0,0,IF(D24=0,0,IF(G24=0,0,IF(F24>+'Vergi Oranları'!$C$3,0,IF(OR(G24<='Vergi Oranları'!$C$3,F24+E24<+'Vergi Oranları'!$C$3),15,IF(G24-(E24+F24)<='Vergi Oranları'!$C$3,15,))))))","v":0},{"$f":"IF(E24=0,0,IF(D24=0,0,IF(G24=0,0,IF(H24=0,0,IF(F24+E24<='Vergi Oranları'!$C$3,G24-F24,'Vergi Oranları'!$C$3-F24)))))","v":0},{"$f":"IF(I24=0,0,IF(ROUND((I24-$J$3)*'Vergi Oranları'!$G$3/100,2)<0,0,ROUND((I24-$M$3)*'Vergi Oranları'!$G$3/100,2)))","v":0},{"$f":"IF(E24=0,0,IF(D24=0,0,IF(G24=0,0,IF(F24>+'Vergi Oranları'!$C$4,0,IF(OR(G24<='Vergi Oranları'!$C$4,F24+E24<'Vergi Oranları'!$C$4),20,IF(G24-(E24+F24)<='Vergi Oranları'!$C$4,20,))))))","v":0},{"$f":"IF(E24=0,0,IF(D24=0,0,IF(G24=0,0,IF(K24=0,0,IF(F24+E24<=+'Vergi Oranları'!$C$4,G24-(F24+I24),+'Vergi Oranları'!$C$4-(F24+I24))))))","v":0},{"$f":"IF(L24=0,0,IF(ROUND((L24-$M$3)*+'Vergi Oranları'!$G$4/100,2)<0,0,ROUND((L24-$M$3)*+'Vergi Oranları'!$G$4/100,2)))","v":0},{"$f":"IF(E24=0,0,IF(D24=0,0,IF(G24=0,0,IF(OR(G24>+'Vergi Oranları'!$C$4,G24<=+'Vergi Oranları'!$C$5),27))))","v":0},{"$f":"IF(E24=0,0,IF(D24=0,0,IF(G24=0,0,IF(N24=0,0,IF(F24>'Vergi Oranları'!$C$5,0,IF(G24<=+'Vergi Oranları'!$C$5,G24-(F24+I24+L24),+'Vergi Oranları'!$C$5-(F24+I24+L24)))))))","v":0},{"$f":"ROUND(IF(N24=0,0,IF(E24<O24,(E24-$P$3)*'Vergi Oranları'!$G$5/100,(O24-$P$3)*'Vergi Oranları'!$G$5/100)),2)","v":0},{"$f":"IF(E24=0,0,IF(D24=0,0,IF(G24=0,0,IF(G24<=+'Vergi Oranları'!$C$5,0,IF(OR(G24>+'Vergi Oranları'!$C$5,F24+E24<=+'Vergi Oranları'!$C$5),35)))))","v":0},{"$f":"IF(E24=0,0,IF(D24=0,0,IF(G24=0,0,IF(Q24=0,0,IF(F24+E24>=+'Vergi Oranları'!$C$5,G24-(F24+I24+L24+O24),+'Vergi Oranları'!$C$5-(F24+I24+L24+O24))))))","v":0},{"$f":"IF(Q24=0,0,ROUND((R24-$S$3)*+'Vergi Oranları'!$G$6/100,2))","v":0},0]
[null,null,null,null,null,null,0,{"$f":"IF(E25=0,0,IF(D25=0,0,IF(G25=0,0,IF(F25>+'Vergi Oranları'!$C$3,0,IF(OR(G25<='Vergi Oranları'!$C$3,F25+E25<+'Vergi Oranları'!$C$3),15,IF(G25-(E25+F25)<='Vergi Oranları'!$C$3,15,))))))","v":0},{"$f":"IF(E25=0,0,IF(D25=0,0,IF(G25=0,0,IF(H25=0,0,IF(F25+E25<='Vergi Oranları'!$C$3,G25-F25,'Vergi Oranları'!$C$3-F25)))))","v":0},{"$f":"IF(I25=0,0,IF(ROUND((I25-$J$3)*'Vergi Oranları'!$G$3/100,2)<0,0,ROUND((I25-$M$3)*'Vergi Oranları'!$G$3/100,2)))","v":0},{"$f":"IF(E25=0,0,IF(D25=0,0,IF(G25=0,0,IF(F25>+'Vergi Oranları'!$C$4,0,IF(OR(G25<='Vergi Oranları'!$C$4,F25+E25<'Vergi Oranları'!$C$4),20,IF(G25-(E25+F25)<='Vergi Oranları'!$C$4,20,))))))","v":0},{"$f":"IF(E25=0,0,IF(D25=0,0,IF(G25=0,0,IF(K25=0,0,IF(F25+E25<=+'Vergi Oranları'!$C$4,G25-(F25+I25),+'Vergi Oranları'!$C$4-(F25+I25))))))","v":0},{"$f":"IF(L25=0,0,IF(ROUND((L25-$M$3)*+'Vergi Oranları'!$G$4/100,2)<0,0,ROUND((L25-$M$3)*+'Vergi Oranları'!$G$4/100,2)))","v":0},{"$f":"IF(E25=0,0,IF(D25=0,0,IF(G25=0,0,IF(OR(G25>+'Vergi Oranları'!$C$4,G25<=+'Vergi Oranları'!$C$5),27))))","v":0},{"$f":"IF(E25=0,0,IF(D25=0,0,IF(G25=0,0,IF(N25=0,0,IF(F25>'Vergi Oranları'!$C$5,0,IF(G25<=+'Vergi Oranları'!$C$5,G25-(F25+I25+L25),+'Vergi Oranları'!$C$5-(F25+I25+L25)))))))","v":0},{"$f":"ROUND(IF(N25=0,0,IF(E25<O25,(E25-$P$3)*'Vergi Oranları'!$G$5/100,(O25-$P$3)*'Vergi Oranları'!$G$5/100)),2)","v":0},{"$f":"IF(E25=0,0,IF(D25=0,0,IF(G25=0,0,IF(G25<=+'Vergi Oranları'!$C$5,0,IF(OR(G25>+'Vergi Oranları'!$C$5,F25+E25<=+'Vergi Oranları'!$C$5),35)))))","v":0},{"$f":"IF(E25=0,0,IF(D25=0,0,IF(G25=0,0,IF(Q25=0,0,IF(F25+E25>=+'Vergi Oranları'!$C$5,G25-(F25+I25+L25+O25),+'Vergi Oranları'!$C$5-(F25+I25+L25+O25))))))","v":0},{"$f":"IF(Q25=0,0,ROUND((R25-$S$3)*+'Vergi Oranları'!$G$6/100,2))","v":0},0]
[null,null,null,null,null,null,0,{"$f":"IF(E26=0,0,IF(D26=0,0,IF(G26=0,0,IF(F26>+'Vergi Oranları'!$C$3,0,IF(OR(G26<='Vergi Oranları'!$C$3,F26+E26<+'Vergi Oranları'!$C$3),15,IF(G26-(E26+F26)<='Vergi Oranları'!$C$3,15,))))))","v":0},{"$f":"IF(E26=0,0,IF(D26=0,0,IF(G26=0,0,IF(H26=0,0,IF(F26+E26<='Vergi Oranları'!$C$3,G26-F26,'Vergi Oranları'!$C$3-F26)))))","v":0},{"$f":"IF(I26=0,0,IF(ROUND((I26-$J$3)*'Vergi Oranları'!$G$3/100,2)<0,0,ROUND((I26-$M$3)*'Vergi Oranları'!$G$3/100,2)))","v":0},{"$f":"IF(E26=0,0,IF(D26=0,0,IF(G26=0,0,IF(F26>+'Vergi Oranları'!$C$4,0,IF(OR(G26<='Vergi Oranları'!$C$4,F26+E26<'Vergi Oranları'!$C$4),20,IF(G26-(E26+F26)<='Vergi Oranları'!$C$4,20,))))))","v":0},{"$f":"IF(E26=0,0,IF(D26=0,0,IF(G26=0,0,IF(K26=0,0,IF(F26+E26<=+'Vergi Oranları'!$C$4,G26-(F26+I26),+'Vergi Oranları'!$C$4-(F26+I26))))))","v":0},{"$f":"IF(L26=0,0,IF(ROUND((L26-$M$3)*+'Vergi Oranları'!$G$4/100,2)<0,0,ROUND((L26-$M$3)*+'Vergi Oranları'!$G$4/100,2)))","v":0},{"$f":"IF(E26=0,0,IF(D26=0,0,IF(G26=0,0,IF(OR(G26>+'Vergi Oranları'!$C$4,G26<=+'Vergi Oranları'!$C$5),27))))","v":0},{"$f":"IF(E26=0,0,IF(D26=0,0,IF(G26=0,0,IF(N26=0,0,IF(F26>'Vergi Oranları'!$C$5,0,IF(G26<=+'Vergi Oranları'!$C$5,G26-(F26+I26+L26),+'Vergi Oranları'!$C$5-(F26+I26+L26)))))))","v":0},{"$f":"ROUND(IF(N26=0,0,IF(E26<O26,(E26-$P$3)*'Vergi Oranları'!$G$5/100,(O26-$P$3)*'Vergi Oranları'!$G$5/100)),2)","v":0},{"$f":"IF(E26=0,0,IF(D26=0,0,IF(G26=0,0,IF(G26<=+'Vergi Oranları'!$C$5,0,IF(OR(G26>+'Vergi Oranları'!$C$5,F26+E26<=+'Vergi Oranları'!$C$5),35)))))","v":0},{"$f":"IF(E26=0,0,IF(D26=0,0,IF(G26=0,0,IF(Q26=0,0,IF(F26+E26>=+'Vergi Oranları'!$C$5,G26-(F26+I26+L26+O26),+'Vergi Oranları'!$C$5-(F26+I26+L26+O26))))))","v":0},{"$f":"IF(Q26=0,0,ROUND((R26-$S$3)*+'Vergi Oranları'!$G$6/100,2))","v":0},0]
[null,null,null,null,null,null,0,{"$f":"IF(E27=0,0,IF(D27=0,0,IF(G27=0,0,IF(F27>+'Vergi Oranları'!$C$3,0,IF(OR(G27<='Vergi Oranları'!$C$3,F27+E27<+'Vergi Oranları'!$C$3),15,IF(G27-(E27+F27)<='Vergi Oranları'!$C$3,15,))))))","v":0},{"$f":"IF(E27=0,0,IF(D27=0,0,IF(G27=0,0,IF(H27=0,0,IF(F27+E27<='Vergi Oranları'!$C$3,G27-F27,'Vergi Oranları'!$C$3-F27)))))","v":0},{"$f":"IF(I27=0,0,IF(ROUND((I27-$J$3)*'Vergi Oranları'!$G$3/100,2)<0,0,ROUND((I27-$M$3)*'Vergi Oranları'!$G$3/100,2)))","v":0},{"$f":"IF(E27=0,0,IF(D27=0,0,IF(G27=0,0,IF(F27>+'Vergi Oranları'!$C$4,0,IF(OR(G27<='Vergi Oranları'!$C$4,F27+E27<'Vergi Oranları'!$C$4),20,IF(G27-(E27+F27)<='Vergi Oranları'!$C$4,20,))))))","v":0},{"$f":"IF(E27=0,0,IF(D27=0,0,IF(G27=0,0,IF(K27=0,0,IF(F27+E27<=+'Vergi Oranları'!$C$4,G27-(F27+I27),+'Vergi Oranları'!$C$4-(F27+I27))))))","v":0},{"$f":"IF(L27=0,0,IF(ROUND((L27-$M$3)*+'Vergi Oranları'!$G$4/100,2)<0,0,ROUND((L27-$M$3)*+'Vergi Oranları'!$G$4/100,2)))","v":0},{"$f":"IF(E27=0,0,IF(D27=0,0,IF(G27=0,0,IF(OR(G27>+'Vergi Oranları'!$C$4,G27<=+'Vergi Oranları'!$C$5),27))))","v":0},{"$f":"IF(E27=0,0,IF(D27=0,0,IF(G27=0,0,IF(N27=0,0,IF(F27>'Vergi Oranları'!$C$5,0,IF(G27<=+'Vergi Oranları'!$C$5,G27-(F27+I27+L27),+'Vergi Oranları'!$C$5-(F27+I27+L27)))))))","v":0},{"$f":"ROUND(IF(N27=0,0,IF(E27<O27,(E27-$P$3)*'Vergi Oranları'!$G$5/100,(O27-$P$3)*'Vergi Oranları'!$G$5/100)),2)","v":0},{"$f":"IF(E27=0,0,IF(D27=0,0,IF(G27=0,0,IF(G27<=+'Vergi Oranları'!$C$5,0,IF(OR(G27>+'Vergi Oranları'!$C$5,F27+E27<=+'Vergi Oranları'!$C$5),35)))))","v":0},{"$f":"IF(E27=0,0,IF(D27=0,0,IF(G27=0,0,IF(Q27=0,0,IF(F27+E27>=+'Vergi Oranları'!$C$5,G27-(F27+I27+L27+O27),+'Vergi Oranları'!$C$5-(F27+I27+L27+O27))))))","v":0},{"$f":"IF(Q27=0,0,ROUND((R27-$S$3)*+'Vergi Oranları'!$G$6/100,2))","v":0},0]
[null,null,null,null,null,null,0,{"$f":"IF(E28=0,0,IF(D28=0,0,IF(G28=0,0,IF(F28>+'Vergi Oranları'!$C$3,0,IF(OR(G28<='Vergi Oranları'!$C$3,F28+E28<+'Vergi Oranları'!$C$3),15,IF(G28-(E28+F28)<='Vergi Oranları'!$C$3,15,))))))","v":0},{"$f":"IF(E28=0,0,IF(D28=0,0,IF(G28=0,0,IF(H28=0,0,IF(F28+E28<='Vergi Oranları'!$C$3,G28-F28,'Vergi Oranları'!$C$3-F28)))))","v":0},{"$f":"IF(I28=0,0,IF(ROUND((I28-$J$3)*'Vergi Oranları'!$G$3/100,2)<0,0,ROUND((I28-$M$3)*'Vergi Oranları'!$G$3/100,2)))","v":0},{"$f":"IF(E28=0,0,IF(D28=0,0,IF(G28=0,0,IF(F28>+'Vergi Oranları'!$C$4,0,IF(OR(G28<='Vergi Oranları'!$C$4,F28+E28<'Vergi Oranları'!$C$4),20,IF(G28-(E28+F28)<='Vergi Oranları'!$C$4,20,))))))","v":0},{"$f":"IF(E28=0,0,IF(D28=0,0,IF(G28=0,0,IF(K28=0,0,IF(F28+E28<=+'Vergi Oranları'!$C$4,G28-(F28+I28),+'Vergi Oranları'!$C$4-(F28+I28))))))","v":0},{"$f":"IF(L28=0,0,IF(ROUND((L28-$M$3)*+'Vergi Oranları'!$G$4/100,2)<0,0,ROUND((L28-$M$3)*+'Vergi Oranları'!$G$4/100,2)))","v":0},{"$f":"IF(E28=0,0,IF(D28=0,0,IF(G28=0,0,IF(OR(G28>+'Vergi Oranları'!$C$4,G28<=+'Vergi Oranları'!$C$5),27))))","v":0},{"$f":"IF(E28=0,0,IF(D28=0,0,IF(G28=0,0,IF(N28=0,0,IF(F28>'Vergi Oranları'!$C$5,0,IF(G28<=+'Vergi Oranları'!$C$5,G28-(F28+I28+L28),+'Vergi Oranları'!$C$5-(F28+I28+L28)))))))","v":0},{"$f":"ROUND(IF(N28=0,0,IF(E28<O28,(E28-$P$3)*'Vergi Oranları'!$G$5/100,(O28-$P$3)*'Vergi Oranları'!$G$5/100)),2)","v":0},{"$f":"IF(E28=0,0,IF(D28=0,0,IF(G28=0,0,IF(G28<=+'Vergi Oranları'!$C$5,0,IF(OR(G28>+'Vergi Oranları'!$C$5,F28+E28<=+'Vergi Oranları'!$C$5),35)))))","v":0},{"$f":"IF(E28=0,0,IF(D28=0,0,IF(G28=0,0,IF(Q28=0,0,IF(F28+E28>=+'Vergi Oranları'!$C$5,G28-(F28+I28+L28+O28),+'Vergi Oranları'!$C$5-(F28+I28+L28+O28))))))","v":0},{"$f":"IF(Q28=0,0,ROUND((R28-$S$3)*+'Vergi Oranları'!$G$6/100,2))","v":0},0]
[null,null,null,null,null,null,0,{"$f":"IF(E29=0,0,IF(D29=0,0,IF(G29=0,0,IF(F29>+'Vergi Oranları'!$C$3,0,IF(OR(G29<='Vergi Oranları'!$C$3,F29+E29<+'Vergi Oranları'!$C$3),15,IF(G29-(E29+F29)<='Vergi Oranları'!$C$3,15,))))))","v":0},{"$f":"IF(E29=0,0,IF(D29=0,0,IF(G29=0,0,IF(H29=0,0,IF(F29+E29<='Vergi Oranları'!$C$3,G29-F29,'Vergi Oranları'!$C$3-F29)))))","v":0},{"$f":"IF(I29=0,0,IF(ROUND((I29-$J$3)*'Vergi Oranları'!$G$3/100,2)<0,0,ROUND((I29-$M$3)*'Vergi Oranları'!$G$3/100,2)))","v":0},{"$f":"IF(E29=0,0,IF(D29=0,0,IF(G29=0,0,IF(F29>+'Vergi Oranları'!$C$4,0,IF(OR(G29<='Vergi Oranları'!$C$4,F29+E29<'Vergi Oranları'!$C$4),20,IF(G29-(E29+F29)<='Vergi Oranları'!$C$4,20,))))))","v":0},{"$f":"IF(E29=0,0,IF(D29=0,0,IF(G29=0,0,IF(K29=0,0,IF(F29+E29<=+'Vergi Oranları'!$C$4,G29-(F29+I29),+'Vergi Oranları'!$C$4-(F29+I29))))))","v":0},{"$f":"IF(L29=0,0,IF(ROUND((L29-$M$3)*+'Vergi Oranları'!$G$4/100,2)<0,0,ROUND((L29-$M$3)*+'Vergi Oranları'!$G$4/100,2)))","v":0},{"$f":"IF(E29=0,0,IF(D29=0,0,IF(G29=0,0,IF(OR(G29>+'Vergi Oranları'!$C$4,G29<=+'Vergi Oranları'!$C$5),27))))","v":0},{"$f":"IF(E29=0,0,IF(D29=0,0,IF(G29=0,0,IF(N29=0,0,IF(F29>'Vergi Oranları'!$C$5,0,IF(G29<=+'Vergi Oranları'!$C$5,G29-(F29+I29+L29),+'Vergi Oranları'!$C$5-(F29+I29+L29)))))))","v":0},{"$f":"ROUND(IF(N29=0,0,IF(E29<O29,(E29-$P$3)*'Vergi Oranları'!$G$5/100,(O29-$P$3)*'Vergi Oranları'!$G$5/100)),2)","v":0},{"$f":"IF(E29=0,0,IF(D29=0,0,IF(G29=0,0,IF(G29<=+'Vergi Oranları'!$C$5,0,IF(OR(G29>+'Vergi Oranları'!$C$5,F29+E29<=+'Vergi Oranları'!$C$5),35)))))","v":0},{"$f":"IF(E29=0,0,IF(D29=0,0,IF(G29=0,0,IF(Q29=0,0,IF(F29+E29>=+'Vergi Oranları'!$C$5,G29-(F29+I29+L29+O29),+'Vergi Oranları'!$C$5-(F29+I29+L29+O29))))))","v":0},{"$f":"IF(Q29=0,0,ROUND((R29-$S$3)*+'Vergi Oranları'!$G$6/100,2))","v":0},0]
[null,null,null,null,null,null,0,{"$f":"IF(E30=0,0,IF(D30=0,0,IF(G30=0,0,IF(F30>+'Vergi Oranları'!$C$3,0,IF(OR(G30<='Vergi Oranları'!$C$3,F30+E30<+'Vergi Oranları'!$C$3),15,IF(G30-(E30+F30)<='Vergi Oranları'!$C$3,15,))))))","v":0},{"$f":"IF(E30=0,0,IF(D30=0,0,IF(G30=0,0,IF(H30=0,0,IF(F30+E30<='Vergi Oranları'!$C$3,G30-F30,'Vergi Oranları'!$C$3-F30)))))","v":0},{"$f":"IF(I30=0,0,IF(ROUND((I30-$J$3)*'Vergi Oranları'!$G$3/100,2)<0,0,ROUND((I30-$M$3)*'Vergi Oranları'!$G$3/100,2)))","v":0},{"$f":"IF(E30=0,0,IF(D30=0,0,IF(G30=0,0,IF(F30>+'Vergi Oranları'!$C$4,0,IF(OR(G30<='Vergi Oranları'!$C$4,F30+E30<'Vergi Oranları'!$C$4),20,IF(G30-(E30+F30)<='Vergi Oranları'!$C$4,20,))))))","v":0},{"$f":"IF(E30=0,0,IF(D30=0,0,IF(G30=0,0,IF(K30=0,0,IF(F30+E30<=+'Vergi Oranları'!$C$4,G30-(F30+I30),+'Vergi Oranları'!$C$4-(F30+I30))))))","v":0},{"$f":"IF(L30=0,0,IF(ROUND((L30-$M$3)*+'Vergi Oranları'!$G$4/100,2)<0,0,ROUND((L30-$M$3)*+'Vergi Oranları'!$G$4/100,2)))","v":0},{"$f":"IF(E30=0,0,IF(D30=0,0,IF(G30=0,0,IF(OR(G30>+'Vergi Oranları'!$C$4,G30<=+'Vergi Oranları'!$C$5),27))))","v":0},{"$f":"IF(E30=0,0,IF(D30=0,0,IF(G30=0,0,IF(N30=0,0,IF(F30>'Vergi Oranları'!$C$5,0,IF(G30<=+'Vergi Oranları'!$C$5,G30-(F30+I30+L30),+'Vergi Oranları'!$C$5-(F30+I30+L30)))))))","v":0},{"$f":"ROUND(IF(N30=0,0,IF(E30<O30,(E30-$P$3)*'Vergi Oranları'!$G$5/100,(O30-$P$3)*'Vergi Oranları'!$G$5/100)),2)","v":0},{"$f":"IF(E30=0,0,IF(D30=0,0,IF(G30=0,0,IF(G30<=+'Vergi Oranları'!$C$5,0,IF(OR(G30>+'Vergi Oranları'!$C$5,F30+E30<=+'Vergi Oranları'!$C$5),35)))))","v":0},{"$f":"IF(E30=0,0,IF(D30=0,0,IF(G30=0,0,IF(Q30=0,0,IF(F30+E30>=+'Vergi Oranları'!$C$5,G30-(F30+I30+L30+O30),+'Vergi Oranları'!$C$5-(F30+I30+L30+O30))))))","v":0},{"$f":"IF(Q30=0,0,ROUND((R30-$S$3)*+'Vergi Oranları'!$G$6/100,2))","v":0},0]
[null,null,null,null,null,null,0,{"$f":"IF(E31=0,0,IF(D31=0,0,IF(G31=0,0,IF(F31>+'Vergi Oranları'!$C$3,0,IF(OR(G31<='Vergi Oranları'!$C$3,F31+E31<+'Vergi Oranları'!$C$3),15,IF(G31-(E31+F31)<='Vergi Oranları'!$C$3,15,))))))","v":0},{"$f":"IF(E31=0,0,IF(D31=0,0,IF(G31=0,0,IF(H31=0,0,IF(F31+E31<='Vergi Oranları'!$C$3,G31-F31,'Vergi Oranları'!$C$3-F31)))))","v":0},{"$f":"IF(I31=0,0,IF(ROUND((I31-$J$3)*'Vergi Oranları'!$G$3/100,2)<0,0,ROUND((I31-$M$3)*'Vergi Oranları'!$G$3/100,2)))","v":0},{"$f":"IF(E31=0,0,IF(D31=0,0,IF(G31=0,0,IF(F31>+'Vergi Oranları'!$C$4,0,IF(OR(G31<='Vergi Oranları'!$C$4,F31+E31<'Vergi Oranları'!$C$4),20,IF(G31-(E31+F31)<='Vergi Oranları'!$C$4,20,))))))","v":0},{"$f":"IF(E31=0,0,IF(D31=0,0,IF(G31=0,0,IF(K31=0,0,IF(F31+E31<=+'Vergi Oranları'!$C$4,G31-(F31+I31),+'Vergi Oranları'!$C$4-(F31+I31))))))","v":0},{"$f":"IF(L31=0,0,IF(ROUND((L31-$M$3)*+'Vergi Oranları'!$G$4/100,2)<0,0,ROUND((L31-$M$3)*+'Vergi Oranları'!$G$4/100,2)))","v":0},{"$f":"IF(E31=0,0,IF(D31=0,0,IF(G31=0,0,IF(OR(G31>+'Vergi Oranları'!$C$4,G31<=+'Vergi Oranları'!$C$5),27))))","v":0},{"$f":"IF(E31=0,0,IF(D31=0,0,IF(G31=0,0,IF(N31=0,0,IF(F31>'Vergi Oranları'!$C$5,0,IF(G31<=+'Vergi Oranları'!$C$5,G31-(F31+I31+L31),+'Vergi Oranları'!$C$5-(F31+I31+L31)))))))","v":0},{"$f":"ROUND(IF(N31=0,0,IF(E31<O31,(E31-$P$3)*'Vergi Oranları'!$G$5/100,(O31-$P$3)*'Vergi Oranları'!$G$5/100)),2)","v":0},{"$f":"IF(E31=0,0,IF(D31=0,0,IF(G31=0,0,IF(G31<=+'Vergi Oranları'!$C$5,0,IF(OR(G31>+'Vergi Oranları'!$C$5,F31+E31<=+'Vergi Oranları'!$C$5),35)))))","v":0},{"$f":"IF(E31=0,0,IF(D31=0,0,IF(G31=0,0,IF(Q31=0,0,IF(F31+E31>=+'Vergi Oranları'!$C$5,G31-(F31+I31+L31+O31),+'Vergi Oranları'!$C$5-(F31+I31+L31+O31))))))","v":0},{"$f":"IF(Q31=0,0,ROUND((R31-$S$3)*+'Vergi Oranları'!$G$6/100,2))","v":0},0]
[null,null,null,null,null,null,0,{"$f":"IF(E32=0,0,IF(D32=0,0,IF(G32=0,0,IF(F32>+'Vergi Oranları'!$C$3,0,IF(OR(G32<='Vergi Oranları'!$C$3,F32+E32<+'Vergi Oranları'!$C$3),15,IF(G32-(E32+F32)<='Vergi Oranları'!$C$3,15,))))))","v":0},{"$f":"IF(E32=0,0,IF(D32=0,0,IF(G32=0,0,IF(H32=0,0,IF(F32+E32<='Vergi Oranları'!$C$3,G32-F32,'Vergi Oranları'!$C$3-F32)))))","v":0},{"$f":"IF(I32=0,0,IF(ROUND((I32-$J$3)*'Vergi Oranları'!$G$3/100,2)<0,0,ROUND((I32-$M$3)*'Vergi Oranları'!$G$3/100,2)))","v":0},{"$f":"IF(E32=0,0,IF(D32=0,0,IF(G32=0,0,IF(F32>+'Vergi Oranları'!$C$4,0,IF(OR(G32<='Vergi Oranları'!$C$4,F32+E32<'Vergi Oranları'!$C$4),20,IF(G32-(E32+F32)<='Vergi Oranları'!$C$4,20,))))))","v":0},{"$f":"IF(E32=0,0,IF(D32=0,0,IF(G32=0,0,IF(K32=0,0,IF(F32+E32<=+'Vergi Oranları'!$C$4,G32-(F32+I32),+'Vergi Oranları'!$C$4-(F32+I32))))))","v":0},{"$f":"IF(L32=0,0,IF(ROUND((L32-$M$3)*+'Vergi Oranları'!$G$4/100,2)<0,0,ROUND((L32-$M$3)*+'Vergi Oranları'!$G$4/100,2)))","v":0},{"$f":"IF(E32=0,0,IF(D32=0,0,IF(G32=0,0,IF(OR(G32>+'Vergi Oranları'!$C$4,G32<=+'Vergi Oranları'!$C$5),27))))","v":0},{"$f":"IF(E32=0,0,IF(D32=0,0,IF(G32=0,0,IF(N32=0,0,IF(F32>'Vergi Oranları'!$C$5,0,IF(G32<=+'Vergi Oranları'!$C$5,G32-(F32+I32+L32),+'Vergi Oranları'!$C$5-(F32+I32+L32)))))))","v":0},{"$f":"ROUND(IF(N32=0,0,IF(E32<O32,(E32-$P$3)*'Vergi Oranları'!$G$5/100,(O32-$P$3)*'Vergi Oranları'!$G$5/100)),2)","v":0},{"$f":"IF(E32=0,0,IF(D32=0,0,IF(G32=0,0,IF(G32<=+'Vergi Oranları'!$C$5,0,IF(OR(G32>+'Vergi Oranları'!$C$5,F32+E32<=+'Vergi Oranları'!$C$5),35)))))","v":0},{"$f":"IF(E32=0,0,IF(D32=0,0,IF(G32=0,0,IF(Q32=0,0,IF(F32+E32>=+'Vergi Oranları'!$C$5,G32-(F32+I32+L32+O32),+'Vergi Oranları'!$C$5-(F32+I32+L32+O32))))))","v":0},{"$f":"IF(Q32=0,0,ROUND((R32-$S$3)*+'Vergi Oranları'!$G$6/100,2))","v":0},0]
[null,null,null,null,null,null,0,{"$f":"IF(E33=0,0,IF(D33=0,0,IF(G33=0,0,IF(F33>+'Vergi Oranları'!$C$3,0,IF(OR(G33<='Vergi Oranları'!$C$3,F33+E33<+'Vergi Oranları'!$C$3),15,IF(G33-(E33+F33)<='Vergi Oranları'!$C$3,15,))))))","v":0},{"$f":"IF(E33=0,0,IF(D33=0,0,IF(G33=0,0,IF(H33=0,0,IF(F33+E33<='Vergi Oranları'!$C$3,G33-F33,'Vergi Oranları'!$C$3-F33)))))","v":0},{"$f":"IF(I33=0,0,IF(ROUND((I33-$J$3)*'Vergi Oranları'!$G$3/100,2)<0,0,ROUND((I33-$M$3)*'Vergi Oranları'!$G$3/100,2)))","v":0},{"$f":"IF(E33=0,0,IF(D33=0,0,IF(G33=0,0,IF(F33>+'Vergi Oranları'!$C$4,0,IF(OR(G33<='Vergi Oranları'!$C$4,F33+E33<'Vergi Oranları'!$C$4),20,IF(G33-(E33+F33)<='Vergi Oranları'!$C$4,20,))))))","v":0},{"$f":"IF(E33=0,0,IF(D33=0,0,IF(G33=0,0,IF(K33=0,0,IF(F33+E33<=+'Vergi Oranları'!$C$4,G33-(F33+I33),+'Vergi Oranları'!$C$4-(F33+I33))))))","v":0},{"$f":"IF(L33=0,0,IF(ROUND((L33-$M$3)*+'Vergi Oranları'!$G$4/100,2)<0,0,ROUND((L33-$M$3)*+'Vergi Oranları'!$G$4/100,2)))","v":0},{"$f":"IF(E33=0,0,IF(D33=0,0,IF(G33=0,0,IF(OR(G33>+'Vergi Oranları'!$C$4,G33<=+'Vergi Oranları'!$C$5),27))))","v":0},{"$f":"IF(E33=0,0,IF(D33=0,0,IF(G33=0,0,IF(N33=0,0,IF(F33>'Vergi Oranları'!$C$5,0,IF(G33<=+'Vergi Oranları'!$C$5,G33-(F33+I33+L33),+'Vergi Oranları'!$C$5-(F33+I33+L33)))))))","v":0},{"$f":"ROUND(IF(N33=0,0,IF(E33<O33,(E33-$P$3)*'Vergi Oranları'!$G$5/100,(O33-$P$3)*'Vergi Oranları'!$G$5/100)),2)","v":0},{"$f":"IF(E33=0,0,IF(D33=0,0,IF(G33=0,0,IF(G33<=+'Vergi Oranları'!$C$5,0,IF(OR(G33>+'Vergi Oranları'!$C$5,F33+E33<=+'Vergi Oranları'!$C$5),35)))))","v":0},{"$f":"IF(E33=0,0,IF(D33=0,0,IF(G33=0,0,IF(Q33=0,0,IF(F33+E33>=+'Vergi Oranları'!$C$5,G33-(F33+I33+L33+O33),+'Vergi Oranları'!$C$5-(F33+I33+L33+O33))))))","v":0},{"$f":"IF(Q33=0,0,ROUND((R33-$S$3)*+'Vergi Oranları'!$G$6/100,2))","v":0},0]
[null,null,null,null,null,null,0,{"$f":"IF(E34=0,0,IF(D34=0,0,IF(G34=0,0,IF(F34>+'Vergi Oranları'!$C$3,0,IF(OR(G34<='Vergi Oranları'!$C$3,F34+E34<+'Vergi Oranları'!$C$3),15,IF(G34-(E34+F34)<='Vergi Oranları'!$C$3,15,))))))","v":0},{"$f":"IF(E34=0,0,IF(D34=0,0,IF(G34=0,0,IF(H34=0,0,IF(F34+E34<='Vergi Oranları'!$C$3,G34-F34,'Vergi Oranları'!$C$3-F34)))))","v":0},{"$f":"IF(I34=0,0,IF(ROUND((I34-$J$3)*'Vergi Oranları'!$G$3/100,2)<0,0,ROUND((I34-$M$3)*'Vergi Oranları'!$G$3/100,2)))","v":0},{"$f":"IF(E34=0,0,IF(D34=0,0,IF(G34=0,0,IF(F34>+'Vergi Oranları'!$C$4,0,IF(OR(G34<='Vergi Oranları'!$C$4,F34+E34<'Vergi Oranları'!$C$4),20,IF(G34-(E34+F34)<='Vergi Oranları'!$C$4,20,))))))","v":0},{"$f":"IF(E34=0,0,IF(D34=0,0,IF(G34=0,0,IF(K34=0,0,IF(F34+E34<=+'Vergi Oranları'!$C$4,G34-(F34+I34),+'Vergi Oranları'!$C$4-(F34+I34))))))","v":0},{"$f":"IF(L34=0,0,IF(ROUND((L34-$M$3)*+'Vergi Oranları'!$G$4/100,2)<0,0,ROUND((L34-$M$3)*+'Vergi Oranları'!$G$4/100,2)))","v":0},{"$f":"IF(E34=0,0,IF(D34=0,0,IF(G34=0,0,IF(OR(G34>+'Vergi Oranları'!$C$4,G34<=+'Vergi Oranları'!$C$5),27))))","v":0},{"$f":"IF(E34=0,0,IF(D34=0,0,IF(G34=0,0,IF(N34=0,0,IF(F34>'Vergi Oranları'!$C$5,0,IF(G34<=+'Vergi Oranları'!$C$5,G34-(F34+I34+L34),+'Vergi Oranları'!$C$5-(F34+I34+L34)))))))","v":0},{"$f":"ROUND(IF(N34=0,0,IF(E34<O34,(E34-$P$3)*'Vergi Oranları'!$G$5/100,(O34-$P$3)*'Vergi Oranları'!$G$5/100)),2)","v":0},{"$f":"IF(E34=0,0,IF(D34=0,0,IF(G34=0,0,IF(G34<=+'Vergi Oranları'!$C$5,0,IF(OR(G34>+'Vergi Oranları'!$C$5,F34+E34<=+'Vergi Oranları'!$C$5),35)))))","v":0},{"$f":"IF(E34=0,0,IF(D34=0,0,IF(G34=0,0,IF(Q34=0,0,IF(F34+E34>=+'Vergi Oranları'!$C$5,G34-(F34+I34+L34+O34),+'Vergi Oranları'!$C$5-(F34+I34+L34+O34))))))","v":0},{"$f":"IF(Q34=0,0,ROUND((R34-$S$3)*+'Vergi Oranları'!$G$6/100,2))","v":0},0]
[null,null,null,null,null,null,0,{"$f":"IF(E35=0,0,IF(D35=0,0,IF(G35=0,0,IF(F35>+'Vergi Oranları'!$C$3,0,IF(OR(G35<='Vergi Oranları'!$C$3,F35+E35<+'Vergi Oranları'!$C$3),15,IF(G35-(E35+F35)<='Vergi Oranları'!$C$3,15,))))))","v":0},{"$f":"IF(E35=0,0,IF(D35=0,0,IF(G35=0,0,IF(H35=0,0,IF(F35+E35<='Vergi Oranları'!$C$3,G35-F35,'Vergi Oranları'!$C$3-F35)))))","v":0},{"$f":"IF(I35=0,0,IF(ROUND((I35-$J$3)*'Vergi Oranları'!$G$3/100,2)<0,0,ROUND((I35-$M$3)*'Vergi Oranları'!$G$3/100,2)))","v":0},{"$f":"IF(E35=0,0,IF(D35=0,0,IF(G35=0,0,IF(F35>+'Vergi Oranları'!$C$4,0,IF(OR(G35<='Vergi Oranları'!$C$4,F35+E35<'Vergi Oranları'!$C$4),20,IF(G35-(E35+F35)<='Vergi Oranları'!$C$4,20,))))))","v":0},{"$f":"IF(E35=0,0,IF(D35=0,0,IF(G35=0,0,IF(K35=0,0,IF(F35+E35<=+'Vergi Oranları'!$C$4,G35-(F35+I35),+'Vergi Oranları'!$C$4-(F35+I35))))))","v":0},{"$f":"IF(L35=0,0,IF(ROUND((L35-$M$3)*+'Vergi Oranları'!$G$4/100,2)<0,0,ROUND((L35-$M$3)*+'Vergi Oranları'!$G$4/100,2)))","v":0},{"$f":"IF(E35=0,0,IF(D35=0,0,IF(G35=0,0,IF(OR(G35>+'Vergi Oranları'!$C$4,G35<=+'Vergi Oranları'!$C$5),27))))","v":0},{"$f":"IF(E35=0,0,IF(D35=0,0,IF(G35=0,0,IF(N35=0,0,IF(F35>'Vergi Oranları'!$C$5,0,IF(G35<=+'Vergi Oranları'!$C$5,G35-(F35+I35+L35),+'Vergi Oranları'!$C$5-(F35+I35+L35)))))))","v":0},{"$f":"ROUND(IF(N35=0,0,IF(E35<O35,(E35-$P$3)*'Vergi Oranları'!$G$5/100,(O35-$P$3)*'Vergi Oranları'!$G$5/100)),2)","v":0},{"$f":"IF(E35=0,0,IF(D35=0,0,IF(G35=0,0,IF(G35<=+'Vergi Oranları'!$C$5,0,IF(OR(G35>+'Vergi Oranları'!$C$5,F35+E35<=+'Vergi Oranları'!$C$5),35)))))","v":0},{"$f":"IF(E35=0,0,IF(D35=0,0,IF(G35=0,0,IF(Q35=0,0,IF(F35+E35>=+'Vergi Oranları'!$C$5,G35-(F35+I35+L35+O35),+'Vergi Oranları'!$C$5-(F35+I35+L35+O35))))))","v":0},{"$f":"IF(Q35=0,0,ROUND((R35-$S$3)*+'Vergi Oranları'!$G$6/100,2))","v":0},0]
[null,null,null,null,null,null,0,{"$f":"IF(E36=0,0,IF(D36=0,0,IF(G36=0,0,IF(F36>+'Vergi Oranları'!$C$3,0,IF(OR(G36<='Vergi Oranları'!$C$3,F36+E36<+'Vergi Oranları'!$C$3),15,IF(G36-(E36+F36)<='Vergi Oranları'!$C$3,15,))))))","v":0},{"$f":"IF(E36=0,0,IF(D36=0,0,IF(G36=0,0,IF(H36=0,0,IF(F36+E36<='Vergi Oranları'!$C$3,G36-F36,'Vergi Oranları'!$C$3-F36)))))","v":0},{"$f":"IF(I36=0,0,IF(ROUND((I36-$J$3)*'Vergi Oranları'!$G$3/100,2)<0,0,ROUND((I36-$M$3)*'Vergi Oranları'!$G$3/100,2)))","v":0},{"$f":"IF(E36=0,0,IF(D36=0,0,IF(G36=0,0,IF(F36>+'Vergi Oranları'!$C$4,0,IF(OR(G36<='Vergi Oranları'!$C$4,F36+E36<'Vergi Oranları'!$C$4),20,IF(G36-(E36+F36)<='Vergi Oranları'!$C$4,20,))))))","v":0},{"$f":"IF(E36=0,0,IF(D36=0,0,IF(G36=0,0,IF(K36=0,0,IF(F36+E36<=+'Vergi Oranları'!$C$4,G36-(F36+I36),+'Vergi Oranları'!$C$4-(F36+I36))))))","v":0},{"$f":"IF(L36=0,0,IF(ROUND((L36-$M$3)*+'Vergi Oranları'!$G$4/100,2)<0,0,ROUND((L36-$M$3)*+'Vergi Oranları'!$G$4/100,2)))","v":0},{"$f":"IF(E36=0,0,IF(D36=0,0,IF(G36=0,0,IF(OR(G36>+'Vergi Oranları'!$C$4,G36<=+'Vergi Oranları'!$C$5),27))))","v":0},{"$f":"IF(E36=0,0,IF(D36=0,0,IF(G36=0,0,IF(N36=0,0,IF(F36>'Vergi Oranları'!$C$5,0,IF(G36<=+'Vergi Oranları'!$C$5,G36-(F36+I36+L36),+'Vergi Oranları'!$C$5-(F36+I36+L36)))))))","v":0},{"$f":"ROUND(IF(N36=0,0,IF(E36<O36,(E36-$P$3)*'Vergi Oranları'!$G$5/100,(O36-$P$3)*'Vergi Oranları'!$G$5/100)),2)","v":0},{"$f":"IF(E36=0,0,IF(D36=0,0,IF(G36=0,0,IF(G36<=+'Vergi Oranları'!$C$5,0,IF(OR(G36>+'Vergi Oranları'!$C$5,F36+E36<=+'Vergi Oranları'!$C$5),35)))))","v":0},{"$f":"IF(E36=0,0,IF(D36=0,0,IF(G36=0,0,IF(Q36=0,0,IF(F36+E36>=+'Vergi Oranları'!$C$5,G36-(F36+I36+L36+O36),+'Vergi Oranları'!$C$5-(F36+I36+L36+O36))))))","v":0},{"$f":"IF(Q36=0,0,ROUND((R36-$S$3)*+'Vergi Oranları'!$G$6/100,2))","v":0},0]
[null,null,null,null,null,null,0,{"$f":"IF(E37=0,0,IF(D37=0,0,IF(G37=0,0,IF(F37>+'Vergi Oranları'!$C$3,0,IF(OR(G37<='Vergi Oranları'!$C$3,F37+E37<+'Vergi Oranları'!$C$3),15,IF(G37-(E37+F37)<='Vergi Oranları'!$C$3,15,))))))","v":0},{"$f":"IF(E37=0,0,IF(D37=0,0,IF(G37=0,0,IF(H37=0,0,IF(F37+E37<='Vergi Oranları'!$C$3,G37-F37,'Vergi Oranları'!$C$3-F37)))))","v":0},{"$f":"IF(I37=0,0,IF(ROUND((I37-$J$3)*'Vergi Oranları'!$G$3/100,2)<0,0,ROUND((I37-$M$3)*'Vergi Oranları'!$G$3/100,2)))","v":0},{"$f":"IF(E37=0,0,IF(D37=0,0,IF(G37=0,0,IF(F37>+'Vergi Oranları'!$C$4,0,IF(OR(G37<='Vergi Oranları'!$C$4,F37+E37<'Vergi Oranları'!$C$4),20,IF(G37-(E37+F37)<='Vergi Oranları'!$C$4,20,))))))","v":0},{"$f":"IF(E37=0,0,IF(D37=0,0,IF(G37=0,0,IF(K37=0,0,IF(F37+E37<=+'Vergi Oranları'!$C$4,G37-(F37+I37),+'Vergi Oranları'!$C$4-(F37+I37))))))","v":0},{"$f":"IF(L37=0,0,IF(ROUND((L37-$M$3)*+'Vergi Oranları'!$G$4/100,2)<0,0,ROUND((L37-$M$3)*+'Vergi Oranları'!$G$4/100,2)))","v":0},{"$f":"IF(E37=0,0,IF(D37=0,0,IF(G37=0,0,IF(OR(G37>+'Vergi Oranları'!$C$4,G37<=+'Vergi Oranları'!$C$5),27))))","v":0},{"$f":"IF(E37=0,0,IF(D37=0,0,IF(G37=0,0,IF(N37=0,0,IF(F37>'Vergi Oranları'!$C$5,0,IF(G37<=+'Vergi Oranları'!$C$5,G37-(F37+I37+L37),+'Vergi Oranları'!$C$5-(F37+I37+L37)))))))","v":0},{"$f":"ROUND(IF(N37=0,0,IF(E37<O37,(E37-$P$3)*'Vergi Oranları'!$G$5/100,(O37-$P$3)*'Vergi Oranları'!$G$5/100)),2)","v":0},{"$f":"IF(E37=0,0,IF(D37=0,0,IF(G37=0,0,IF(G37<=+'Vergi Oranları'!$C$5,0,IF(OR(G37>+'Vergi Oranları'!$C$5,F37+E37<=+'Vergi Oranları'!$C$5),35)))))","v":0},{"$f":"IF(E37=0,0,IF(D37=0,0,IF(G37=0,0,IF(Q37=0,0,IF(F37+E37>=+'Vergi Oranları'!$C$5,G37-(F37+I37+L37+O37),+'Vergi Oranları'!$C$5-(F37+I37+L37+O37))))))","v":0},{"$f":"IF(Q37=0,0,ROUND((R37-$S$3)*+'Vergi Oranları'!$G$6/100,2))","v":0},0]
[null,null,null,null,null,null,0,{"$f":"IF(E38=0,0,IF(D38=0,0,IF(G38=0,0,IF(F38>+'Vergi Oranları'!$C$3,0,IF(OR(G38<='Vergi Oranları'!$C$3,F38+E38<+'Vergi Oranları'!$C$3),15,IF(G38-(E38+F38)<='Vergi Oranları'!$C$3,15,))))))","v":0},{"$f":"IF(E38=0,0,IF(D38=0,0,IF(G38=0,0,IF(H38=0,0,IF(F38+E38<='Vergi Oranları'!$C$3,G38-F38,'Vergi Oranları'!$C$3-F38)))))","v":0},{"$f":"IF(I38=0,0,IF(ROUND((I38-$J$3)*'Vergi Oranları'!$G$3/100,2)<0,0,ROUND((I38-$M$3)*'Vergi Oranları'!$G$3/100,2)))","v":0},{"$f":"IF(E38=0,0,IF(D38=0,0,IF(G38=0,0,IF(F38>+'Vergi Oranları'!$C$4,0,IF(OR(G38<='Vergi Oranları'!$C$4,F38+E38<'Vergi Oranları'!$C$4),20,IF(G38-(E38+F38)<='Vergi Oranları'!$C$4,20,))))))","v":0},{"$f":"IF(E38=0,0,IF(D38=0,0,IF(G38=0,0,IF(K38=0,0,IF(F38+E38<=+'Vergi Oranları'!$C$4,G38-(F38+I38),+'Vergi Oranları'!$C$4-(F38+I38))))))","v":0},{"$f":"IF(L38=0,0,IF(ROUND((L38-$M$3)*+'Vergi Oranları'!$G$4/100,2)<0,0,ROUND((L38-$M$3)*+'Vergi Oranları'!$G$4/100,2)))","v":0},{"$f":"IF(E38=0,0,IF(D38=0,0,IF(G38=0,0,IF(OR(G38>+'Vergi Oranları'!$C$4,G38<=+'Vergi Oranları'!$C$5),27))))","v":0},{"$f":"IF(E38=0,0,IF(D38=0,0,IF(G38=0,0,IF(N38=0,0,IF(F38>'Vergi Oranları'!$C$5,0,IF(G38<=+'Vergi Oranları'!$C$5,G38-(F38+I38+L38),+'Vergi Oranları'!$C$5-(F38+I38+L38)))))))","v":0},{"$f":"ROUND(IF(N38=0,0,IF(E38<O38,(E38-$P$3)*'Vergi Oranları'!$G$5/100,(O38-$P$3)*'Vergi Oranları'!$G$5/100)),2)","v":0},{"$f":"IF(E38=0,0,IF(D38=0,0,IF(G38=0,0,IF(G38<=+'Vergi Oranları'!$C$5,0,IF(OR(G38>+'Vergi Oranları'!$C$5,F38+E38<=+'Vergi Oranları'!$C$5),35)))))","v":0},{"$f":"IF(E38=0,0,IF(D38=0,0,IF(G38=0,0,IF(Q38=0,0,IF(F38+E38>=+'Vergi Oranları'!$C$5,G38-(F38+I38+L38+O38),+'Vergi Oranları'!$C$5-(F38+I38+L38+O38))))))","v":0},{"$f":"IF(Q38=0,0,ROUND((R38-$S$3)*+'Vergi Oranları'!$G$6/100,2))","v":0},0]
[null,null,null,null,null,null,0,{"$f":"IF(E39=0,0,IF(D39=0,0,IF(G39=0,0,IF(F39>+'Vergi Oranları'!$C$3,0,IF(OR(G39<='Vergi Oranları'!$C$3,F39+E39<+'Vergi Oranları'!$C$3),15,IF(G39-(E39+F39)<='Vergi Oranları'!$C$3,15,))))))","v":0},{"$f":"IF(E39=0,0,IF(D39=0,0,IF(G39=0,0,IF(H39=0,0,IF(F39+E39<='Vergi Oranları'!$C$3,G39-F39,'Vergi Oranları'!$C$3-F39)))))","v":0},{"$f":"IF(I39=0,0,IF(ROUND((I39-$J$3)*'Vergi Oranları'!$G$3/100,2)<0,0,ROUND((I39-$M$3)*'Vergi Oranları'!$G$3/100,2)))","v":0},{"$f":"IF(E39=0,0,IF(D39=0,0,IF(G39=0,0,IF(F39>+'Vergi Oranları'!$C$4,0,IF(OR(G39<='Vergi Oranları'!$C$4,F39+E39<'Vergi Oranları'!$C$4),20,IF(G39-(E39+F39)<='Vergi Oranları'!$C$4,20,))))))","v":0},{"$f":"IF(E39=0,0,IF(D39=0,0,IF(G39=0,0,IF(K39=0,0,IF(F39+E39<=+'Vergi Oranları'!$C$4,G39-(F39+I39),+'Vergi Oranları'!$C$4-(F39+I39))))))","v":0},{"$f":"IF(L39=0,0,IF(ROUND((L39-$M$3)*+'Vergi Oranları'!$G$4/100,2)<0,0,ROUND((L39-$M$3)*+'Vergi Oranları'!$G$4/100,2)))","v":0},{"$f":"IF(E39=0,0,IF(D39=0,0,IF(G39=0,0,IF(OR(G39>+'Vergi Oranları'!$C$4,G39<=+'Vergi Oranları'!$C$5),27))))","v":0},{"$f":"IF(E39=0,0,IF(D39=0,0,IF(G39=0,0,IF(N39=0,0,IF(F39>'Vergi Oranları'!$C$5,0,IF(G39<=+'Vergi Oranları'!$C$5,G39-(F39+I39+L39),+'Vergi Oranları'!$C$5-(F39+I39+L39)))))))","v":0},{"$f":"ROUND(IF(N39=0,0,IF(E39<O39,(E39-$P$3)*'Vergi Oranları'!$G$5/100,(O39-$P$3)*'Vergi Oranları'!$G$5/100)),2)","v":0},{"$f":"IF(E39=0,0,IF(D39=0,0,IF(G39=0,0,IF(G39<=+'Vergi Oranları'!$C$5,0,IF(OR(G39>+'Vergi Oranları'!$C$5,F39+E39<=+'Vergi Oranları'!$C$5),35)))))","v":0},{"$f":"IF(E39=0,0,IF(D39=0,0,IF(G39=0,0,IF(Q39=0,0,IF(F39+E39>=+'Vergi Oranları'!$C$5,G39-(F39+I39+L39+O39),+'Vergi Oranları'!$C$5-(F39+I39+L39+O39))))))","v":0},{"$f":"IF(Q39=0,0,ROUND((R39-$S$3)*+'Vergi Oranları'!$G$6/100,2))","v":0},0]
[null,null,null,null,null,null,0,{"$f":"IF(E40=0,0,IF(D40=0,0,IF(G40=0,0,IF(F40>+'Vergi Oranları'!$C$3,0,IF(OR(G40<='Vergi Oranları'!$C$3,F40+E40<+'Vergi Oranları'!$C$3),15,IF(G40-(E40+F40)<='Vergi Oranları'!$C$3,15,))))))","v":0},{"$f":"IF(E40=0,0,IF(D40=0,0,IF(G40=0,0,IF(H40=0,0,IF(F40+E40<='Vergi Oranları'!$C$3,G40-F40,'Vergi Oranları'!$C$3-F40)))))","v":0},{"$f":"IF(I40=0,0,IF(ROUND((I40-$J$3)*'Vergi Oranları'!$G$3/100,2)<0,0,ROUND((I40-$M$3)*'Vergi Oranları'!$G$3/100,2)))","v":0},{"$f":"IF(E40=0,0,IF(D40=0,0,IF(G40=0,0,IF(F40>+'Vergi Oranları'!$C$4,0,IF(OR(G40<='Vergi Oranları'!$C$4,F40+E40<'Vergi Oranları'!$C$4),20,IF(G40-(E40+F40)<='Vergi Oranları'!$C$4,20,))))))","v":0},{"$f":"IF(E40=0,0,IF(D40=0,0,IF(G40=0,0,IF(K40=0,0,IF(F40+E40<=+'Vergi Oranları'!$C$4,G40-(F40+I40),+'Vergi Oranları'!$C$4-(F40+I40))))))","v":0},{"$f":"IF(L40=0,0,IF(ROUND((L40-$M$3)*+'Vergi Oranları'!$G$4/100,2)<0,0,ROUND((L40-$M$3)*+'Vergi Oranları'!$G$4/100,2)))","v":0},{"$f":"IF(E40=0,0,IF(D40=0,0,IF(G40=0,0,IF(OR(G40>+'Vergi Oranları'!$C$4,G40<=+'Vergi Oranları'!$C$5),27))))","v":0},{"$f":"IF(E40=0,0,IF(D40=0,0,IF(G40=0,0,IF(N40=0,0,IF(F40>'Vergi Oranları'!$C$5,0,IF(G40<=+'Vergi Oranları'!$C$5,G40-(F40+I40+L40),+'Vergi Oranları'!$C$5-(F40+I40+L40)))))))","v":0},{"$f":"ROUND(IF(N40=0,0,IF(E40<O40,(E40-$P$3)*'Vergi Oranları'!$G$5/100,(O40-$P$3)*'Vergi Oranları'!$G$5/100)),2)","v":0},{"$f":"IF(E40=0,0,IF(D40=0,0,IF(G40=0,0,IF(G40<=+'Vergi Oranları'!$C$5,0,IF(OR(G40>+'Vergi Oranları'!$C$5,F40+E40<=+'Vergi Oranları'!$C$5),35)))))","v":0},{"$f":"IF(E40=0,0,IF(D40=0,0,IF(G40=0,0,IF(Q40=0,0,IF(F40+E40>=+'Vergi Oranları'!$C$5,G40-(F40+I40+L40+O40),+'Vergi Oranları'!$C$5-(F40+I40+L40+O40))))))","v":0},{"$f":"IF(Q40=0,0,ROUND((R40-$S$3)*+'Vergi Oranları'!$G$6/100,2))","v":0},0]
[null,null,null,null,null,null,0,{"$f":"IF(E41=0,0,IF(D41=0,0,IF(G41=0,0,IF(F41>+'Vergi Oranları'!$C$3,0,IF(OR(G41<='Vergi Oranları'!$C$3,F41+E41<+'Vergi Oranları'!$C$3),15,IF(G41-(E41+F41)<='Vergi Oranları'!$C$3,15,))))))","v":0},{"$f":"IF(E41=0,0,IF(D41=0,0,IF(G41=0,0,IF(H41=0,0,IF(F41+E41<='Vergi Oranları'!$C$3,G41-F41,'Vergi Oranları'!$C$3-F41)))))","v":0},{"$f":"IF(I41=0,0,IF(ROUND((I41-$J$3)*'Vergi Oranları'!$G$3/100,2)<0,0,ROUND((I41-$M$3)*'Vergi Oranları'!$G$3/100,2)))","v":0},{"$f":"IF(E41=0,0,IF(D41=0,0,IF(G41=0,0,IF(F41>+'Vergi Oranları'!$C$4,0,IF(OR(G41<='Vergi Oranları'!$C$4,F41+E41<'Vergi Oranları'!$C$4),20,IF(G41-(E41+F41)<='Vergi Oranları'!$C$4,20,))))))","v":0},{"$f":"IF(E41=0,0,IF(D41=0,0,IF(G41=0,0,IF(K41=0,0,IF(F41+E41<=+'Vergi Oranları'!$C$4,G41-(F41+I41),+'Vergi Oranları'!$C$4-(F41+I41))))))","v":0},{"$f":"IF(L41=0,0,IF(ROUND((L41-$M$3)*+'Vergi Oranları'!$G$4/100,2)<0,0,ROUND((L41-$M$3)*+'Vergi Oranları'!$G$4/100,2)))","v":0},{"$f":"IF(E41=0,0,IF(D41=0,0,IF(G41=0,0,IF(OR(G41>+'Vergi Oranları'!$C$4,G41<=+'Vergi Oranları'!$C$5),27))))","v":0},{"$f":"IF(E41=0,0,IF(D41=0,0,IF(G41=0,0,IF(N41=0,0,IF(F41>'Vergi Oranları'!$C$5,0,IF(G41<=+'Vergi Oranları'!$C$5,G41-(F41+I41+L41),+'Vergi Oranları'!$C$5-(F41+I41+L41)))))))","v":0},{"$f":"ROUND(IF(N41=0,0,IF(E41<O41,(E41-$P$3)*'Vergi Oranları'!$G$5/100,(O41-$P$3)*'Vergi Oranları'!$G$5/100)),2)","v":0},{"$f":"IF(E41=0,0,IF(D41=0,0,IF(G41=0,0,IF(G41<=+'Vergi Oranları'!$C$5,0,IF(OR(G41>+'Vergi Oranları'!$C$5,F41+E41<=+'Vergi Oranları'!$C$5),35)))))","v":0},{"$f":"IF(E41=0,0,IF(D41=0,0,IF(G41=0,0,IF(Q41=0,0,IF(F41+E41>=+'Vergi Oranları'!$C$5,G41-(F41+I41+L41+O41),+'Vergi Oranları'!$C$5-(F41+I41+L41+O41))))))","v":0},{"$f":"IF(Q41=0,0,ROUND((R41-$S$3)*+'Vergi Oranları'!$G$6/100,2))","v":0},0]
[null,null,null,null,null,null,0,{"$f":"IF(E42=0,0,IF(D42=0,0,IF(G42=0,0,IF(F42>+'Vergi Oranları'!$C$3,0,IF(OR(G42<='Vergi Oranları'!$C$3,F42+E42<+'Vergi Oranları'!$C$3),15,IF(G42-(E42+F42)<='Vergi Oranları'!$C$3,15,))))))","v":0},{"$f":"IF(E42=0,0,IF(D42=0,0,IF(G42=0,0,IF(H42=0,0,IF(F42+E42<='Vergi Oranları'!$C$3,G42-F42,'Vergi Oranları'!$C$3-F42)))))","v":0},{"$f":"IF(I42=0,0,IF(ROUND((I42-$J$3)*'Vergi Oranları'!$G$3/100,2)<0,0,ROUND((I42-$M$3)*'Vergi Oranları'!$G$3/100,2)))","v":0},{"$f":"IF(E42=0,0,IF(D42=0,0,IF(G42=0,0,IF(F42>+'Vergi Oranları'!$C$4,0,IF(OR(G42<='Vergi Oranları'!$C$4,F42+E42<'Vergi Oranları'!$C$4),20,IF(G42-(E42+F42)<='Vergi Oranları'!$C$4,20,))))))","v":0},{"$f":"IF(E42=0,0,IF(D42=0,0,IF(G42=0,0,IF(K42=0,0,IF(F42+E42<=+'Vergi Oranları'!$C$4,G42-(F42+I42),+'Vergi Oranları'!$C$4-(F42+I42))))))","v":0},{"$f":"IF(L42=0,0,IF(ROUND((L42-$M$3)*+'Vergi Oranları'!$G$4/100,2)<0,0,ROUND((L42-$M$3)*+'Vergi Oranları'!$G$4/100,2)))","v":0},{"$f":"IF(E42=0,0,IF(D42=0,0,IF(G42=0,0,IF(OR(G42>+'Vergi Oranları'!$C$4,G42<=+'Vergi Oranları'!$C$5),27))))","v":0},{"$f":"IF(E42=0,0,IF(D42=0,0,IF(G42=0,0,IF(N42=0,0,IF(F42>'Vergi Oranları'!$C$5,0,IF(G42<=+'Vergi Oranları'!$C$5,G42-(F42+I42+L42),+'Vergi Oranları'!$C$5-(F42+I42+L42)))))))","v":0},{"$f":"ROUND(IF(N42=0,0,IF(E42<O42,(E42-$P$3)*'Vergi Oranları'!$G$5/100,(O42-$P$3)*'Vergi Oranları'!$G$5/100)),2)","v":0},{"$f":"IF(E42=0,0,IF(D42=0,0,IF(G42=0,0,IF(G42<=+'Vergi Oranları'!$C$5,0,IF(OR(G42>+'Vergi Oranları'!$C$5,F42+E42<=+'Vergi Oranları'!$C$5),35)))))","v":0},{"$f":"IF(E42=0,0,IF(D42=0,0,IF(G42=0,0,IF(Q42=0,0,IF(F42+E42>=+'Vergi Oranları'!$C$5,G42-(F42+I42+L42+O42),+'Vergi Oranları'!$C$5-(F42+I42+L42+O42))))))","v":0},{"$f":"IF(Q42=0,0,ROUND((R42-$S$3)*+'Vergi Oranları'!$G$6/100,2))","v":0},0]
[null,null,null,null,null,null,0,{"$f":"IF(E43=0,0,IF(D43=0,0,IF(G43=0,0,IF(F43>+'Vergi Oranları'!$C$3,0,IF(OR(G43<='Vergi Oranları'!$C$3,F43+E43<+'Vergi Oranları'!$C$3),15,IF(G43-(E43+F43)<='Vergi Oranları'!$C$3,15,))))))","v":0},{"$f":"IF(E43=0,0,IF(D43=0,0,IF(G43=0,0,IF(H43=0,0,IF(F43+E43<='Vergi Oranları'!$C$3,G43-F43,'Vergi Oranları'!$C$3-F43)))))","v":0},{"$f":"IF(I43=0,0,IF(ROUND((I43-$J$3)*'Vergi Oranları'!$G$3/100,2)<0,0,ROUND((I43-$M$3)*'Vergi Oranları'!$G$3/100,2)))","v":0},{"$f":"IF(E43=0,0,IF(D43=0,0,IF(G43=0,0,IF(F43>+'Vergi Oranları'!$C$4,0,IF(OR(G43<='Vergi Oranları'!$C$4,F43+E43<'Vergi Oranları'!$C$4),20,IF(G43-(E43+F43)<='Vergi Oranları'!$C$4,20,))))))","v":0},{"$f":"IF(E43=0,0,IF(D43=0,0,IF(G43=0,0,IF(K43=0,0,IF(F43+E43<=+'Vergi Oranları'!$C$4,G43-(F43+I43),+'Vergi Oranları'!$C$4-(F43+I43))))))","v":0},{"$f":"IF(L43=0,0,IF(ROUND((L43-$M$3)*+'Vergi Oranları'!$G$4/100,2)<0,0,ROUND((L43-$M$3)*+'Vergi Oranları'!$G$4/100,2)))","v":0},{"$f":"IF(E43=0,0,IF(D43=0,0,IF(G43=0,0,IF(OR(G43>+'Vergi Oranları'!$C$4,G43<=+'Vergi Oranları'!$C$5),27))))","v":0},{"$f":"IF(E43=0,0,IF(D43=0,0,IF(G43=0,0,IF(N43=0,0,IF(F43>'Vergi Oranları'!$C$5,0,IF(G43<=+'Vergi Oranları'!$C$5,G43-(F43+I43+L43),+'Vergi Oranları'!$C$5-(F43+I43+L43)))))))","v":0},{"$f":"ROUND(IF(N43=0,0,IF(E43<O43,(E43-$P$3)*'Vergi Oranları'!$G$5/100,(O43-$P$3)*'Vergi Oranları'!$G$5/100)),2)","v":0},{"$f":"IF(E43=0,0,IF(D43=0,0,IF(G43=0,0,IF(G43<=+'Vergi Oranları'!$C$5,0,IF(OR(G43>+'Vergi Oranları'!$C$5,F43+E43<=+'Vergi Oranları'!$C$5),35)))))","v":0},{"$f":"IF(E43=0,0,IF(D43=0,0,IF(G43=0,0,IF(Q43=0,0,IF(F43+E43>=+'Vergi Oranları'!$C$5,G43-(F43+I43+L43+O43),+'Vergi Oranları'!$C$5-(F43+I43+L43+O43))))))","v":0},{"$f":"IF(Q43=0,0,ROUND((R43-$S$3)*+'Vergi Oranları'!$G$6/100,2))","v":0},0]
[null,null,null,null,null,null,0,{"$f":"IF(E44=0,0,IF(D44=0,0,IF(G44=0,0,IF(F44>+'Vergi Oranları'!$C$3,0,IF(OR(G44<='Vergi Oranları'!$C$3,F44+E44<+'Vergi Oranları'!$C$3),15,IF(G44-(E44+F44)<='Vergi Oranları'!$C$3,15,))))))","v":0},{"$f":"IF(E44=0,0,IF(D44=0,0,IF(G44=0,0,IF(H44=0,0,IF(F44+E44<='Vergi Oranları'!$C$3,G44-F44,'Vergi Oranları'!$C$3-F44)))))","v":0},{"$f":"IF(I44=0,0,IF(ROUND((I44-$J$3)*'Vergi Oranları'!$G$3/100,2)<0,0,ROUND((I44-$M$3)*'Vergi Oranları'!$G$3/100,2)))","v":0},{"$f":"IF(E44=0,0,IF(D44=0,0,IF(G44=0,0,IF(F44>+'Vergi Oranları'!$C$4,0,IF(OR(G44<='Vergi Oranları'!$C$4,F44+E44<'Vergi Oranları'!$C$4),20,IF(G44-(E44+F44)<='Vergi Oranları'!$C$4,20,))))))","v":0},{"$f":"IF(E44=0,0,IF(D44=0,0,IF(G44=0,0,IF(K44=0,0,IF(F44+E44<=+'Vergi Oranları'!$C$4,G44-(F44+I44),+'Vergi Oranları'!$C$4-(F44+I44))))))","v":0},{"$f":"IF(L44=0,0,IF(ROUND((L44-$M$3)*+'Vergi Oranları'!$G$4/100,2)<0,0,ROUND((L44-$M$3)*+'Vergi Oranları'!$G$4/100,2)))","v":0},{"$f":"IF(E44=0,0,IF(D44=0,0,IF(G44=0,0,IF(OR(G44>+'Vergi Oranları'!$C$4,G44<=+'Vergi Oranları'!$C$5),27))))","v":0},{"$f":"IF(E44=0,0,IF(D44=0,0,IF(G44=0,0,IF(N44=0,0,IF(F44>'Vergi Oranları'!$C$5,0,IF(G44<=+'Vergi Oranları'!$C$5,G44-(F44+I44+L44),+'Vergi Oranları'!$C$5-(F44+I44+L44)))))))","v":0},{"$f":"ROUND(IF(N44=0,0,IF(E44<O44,(E44-$P$3)*'Vergi Oranları'!$G$5/100,(O44-$P$3)*'Vergi Oranları'!$G$5/100)),2)","v":0},{"$f":"IF(E44=0,0,IF(D44=0,0,IF(G44=0,0,IF(G44<=+'Vergi Oranları'!$C$5,0,IF(OR(G44>+'Vergi Oranları'!$C$5,F44+E44<=+'Vergi Oranları'!$C$5),35)))))","v":0},{"$f":"IF(E44=0,0,IF(D44=0,0,IF(G44=0,0,IF(Q44=0,0,IF(F44+E44>=+'Vergi Oranları'!$C$5,G44-(F44+I44+L44+O44),+'Vergi Oranları'!$C$5-(F44+I44+L44+O44))))))","v":0},{"$f":"IF(Q44=0,0,ROUND((R44-$S$3)*+'Vergi Oranları'!$G$6/100,2))","v":0},0]
[null,null,null,null,null,null,0,{"$f":"IF(E45=0,0,IF(D45=0,0,IF(G45=0,0,IF(F45>+'Vergi Oranları'!$C$3,0,IF(OR(G45<='Vergi Oranları'!$C$3,F45+E45<+'Vergi Oranları'!$C$3),15,IF(G45-(E45+F45)<='Vergi Oranları'!$C$3,15,))))))","v":0},{"$f":"IF(E45=0,0,IF(D45=0,0,IF(G45=0,0,IF(H45=0,0,IF(F45+E45<='Vergi Oranları'!$C$3,G45-F45,'Vergi Oranları'!$C$3-F45)))))","v":0},{"$f":"IF(I45=0,0,IF(ROUND((I45-$J$3)*'Vergi Oranları'!$G$3/100,2)<0,0,ROUND((I45-$M$3)*'Vergi Oranları'!$G$3/100,2)))","v":0},{"$f":"IF(E45=0,0,IF(D45=0,0,IF(G45=0,0,IF(F45>+'Vergi Oranları'!$C$4,0,IF(OR(G45<='Vergi Oranları'!$C$4,F45+E45<'Vergi Oranları'!$C$4),20,IF(G45-(E45+F45)<='Vergi Oranları'!$C$4,20,))))))","v":0},{"$f":"IF(E45=0,0,IF(D45=0,0,IF(G45=0,0,IF(K45=0,0,IF(F45+E45<=+'Vergi Oranları'!$C$4,G45-(F45+I45),+'Vergi Oranları'!$C$4-(F45+I45))))))","v":0},{"$f":"IF(L45=0,0,IF(ROUND((L45-$M$3)*+'Vergi Oranları'!$G$4/100,2)<0,0,ROUND((L45-$M$3)*+'Vergi Oranları'!$G$4/100,2)))","v":0},{"$f":"IF(E45=0,0,IF(D45=0,0,IF(G45=0,0,IF(OR(G45>+'Vergi Oranları'!$C$4,G45<=+'Vergi Oranları'!$C$5),27))))","v":0},{"$f":"IF(E45=0,0,IF(D45=0,0,IF(G45=0,0,IF(N45=0,0,IF(F45>'Vergi Oranları'!$C$5,0,IF(G45<=+'Vergi Oranları'!$C$5,G45-(F45+I45+L45),+'Vergi Oranları'!$C$5-(F45+I45+L45)))))))","v":0},{"$f":"ROUND(IF(N45=0,0,IF(E45<O45,(E45-$P$3)*'Vergi Oranları'!$G$5/100,(O45-$P$3)*'Vergi Oranları'!$G$5/100)),2)","v":0},{"$f":"IF(E45=0,0,IF(D45=0,0,IF(G45=0,0,IF(G45<=+'Vergi Oranları'!$C$5,0,IF(OR(G45>+'Vergi Oranları'!$C$5,F45+E45<=+'Vergi Oranları'!$C$5),35)))))","v":0},{"$f":"IF(E45=0,0,IF(D45=0,0,IF(G45=0,0,IF(Q45=0,0,IF(F45+E45>=+'Vergi Oranları'!$C$5,G45-(F45+I45+L45+O45),+'Vergi Oranları'!$C$5-(F45+I45+L45+O45))))))","v":0},{"$f":"IF(Q45=0,0,ROUND((R45-$S$3)*+'Vergi Oranları'!$G$6/100,2))","v":0},0]
[null,null,null,null,null,null,0,{"$f":"IF(E46=0,0,IF(D46=0,0,IF(G46=0,0,IF(F46>+'Vergi Oranları'!$C$3,0,IF(OR(G46<='Vergi Oranları'!$C$3,F46+E46<+'Vergi Oranları'!$C$3),15,IF(G46-(E46+F46)<='Vergi Oranları'!$C$3,15,))))))","v":0},{"$f":"IF(E46=0,0,IF(D46=0,0,IF(G46=0,0,IF(H46=0,0,IF(F46+E46<='Vergi Oranları'!$C$3,G46-F46,'Vergi Oranları'!$C$3-F46)))))","v":0},{"$f":"IF(I46=0,0,IF(ROUND((I46-$J$3)*'Vergi Oranları'!$G$3/100,2)<0,0,ROUND((I46-$M$3)*'Vergi Oranları'!$G$3/100,2)))","v":0},{"$f":"IF(E46=0,0,IF(D46=0,0,IF(G46=0,0,IF(F46>+'Vergi Oranları'!$C$4,0,IF(OR(G46<='Vergi Oranları'!$C$4,F46+E46<'Vergi Oranları'!$C$4),20,IF(G46-(E46+F46)<='Vergi Oranları'!$C$4,20,))))))","v":0},{"$f":"IF(E46=0,0,IF(D46=0,0,IF(G46=0,0,IF(K46=0,0,IF(F46+E46<=+'Vergi Oranları'!$C$4,G46-(F46+I46),+'Vergi Oranları'!$C$4-(F46+I46))))))","v":0},{"$f":"IF(L46=0,0,IF(ROUND((L46-$M$3)*+'Vergi Oranları'!$G$4/100,2)<0,0,ROUND((L46-$M$3)*+'Vergi Oranları'!$G$4/100,2)))","v":0},{"$f":"IF(E46=0,0,IF(D46=0,0,IF(G46=0,0,IF(OR(G46>+'Vergi Oranları'!$C$4,G46<=+'Vergi Oranları'!$C$5),27))))","v":0},{"$f":"IF(E46=0,0,IF(D46=0,0,IF(G46=0,0,IF(N46=0,0,IF(F46>'Vergi Oranları'!$C$5,0,IF(G46<=+'Vergi Oranları'!$C$5,G46-(F46+I46+L46),+'Vergi Oranları'!$C$5-(F46+I46+L46)))))))","v":0},{"$f":"ROUND(IF(N46=0,0,IF(E46<O46,(E46-$P$3)*'Vergi Oranları'!$G$5/100,(O46-$P$3)*'Vergi Oranları'!$G$5/100)),2)","v":0},{"$f":"IF(E46=0,0,IF(D46=0,0,IF(G46=0,0,IF(G46<=+'Vergi Oranları'!$C$5,0,IF(OR(G46>+'Vergi Oranları'!$C$5,F46+E46<=+'Vergi Oranları'!$C$5),35)))))","v":0},{"$f":"IF(E46=0,0,IF(D46=0,0,IF(G46=0,0,IF(Q46=0,0,IF(F46+E46>=+'Vergi Oranları'!$C$5,G46-(F46+I46+L46+O46),+'Vergi Oranları'!$C$5-(F46+I46+L46+O46))))))","v":0},{"$f":"IF(Q46=0,0,ROUND((R46-$S$3)*+'Vergi Oranları'!$G$6/100,2))","v":0},0]
[null,null,null,null,null,null,0,{"$f":"IF(E47=0,0,IF(D47=0,0,IF(G47=0,0,IF(F47>+'Vergi Oranları'!$C$3,0,IF(OR(G47<='Vergi Oranları'!$C$3,F47+E47<+'Vergi Oranları'!$C$3),15,IF(G47-(E47+F47)<='Vergi Oranları'!$C$3,15,))))))","v":0},{"$f":"IF(E47=0,0,IF(D47=0,0,IF(G47=0,0,IF(H47=0,0,IF(F47+E47<='Vergi Oranları'!$C$3,G47-F47,'Vergi Oranları'!$C$3-F47)))))","v":0},{"$f":"IF(I47=0,0,IF(ROUND((I47-$J$3)*'Vergi Oranları'!$G$3/100,2)<0,0,ROUND((I47-$M$3)*'Vergi Oranları'!$G$3/100,2)))","v":0},{"$f":"IF(E47=0,0,IF(D47=0,0,IF(G47=0,0,IF(F47>+'Vergi Oranları'!$C$4,0,IF(OR(G47<='Vergi Oranları'!$C$4,F47+E47<'Vergi Oranları'!$C$4),20,IF(G47-(E47+F47)<='Vergi Oranları'!$C$4,20,))))))","v":0},{"$f":"IF(E47=0,0,IF(D47=0,0,IF(G47=0,0,IF(K47=0,0,IF(F47+E47<=+'Vergi Oranları'!$C$4,G47-(F47+I47),+'Vergi Oranları'!$C$4-(F47+I47))))))","v":0},{"$f":"IF(L47=0,0,IF(ROUND((L47-$M$3)*+'Vergi Oranları'!$G$4/100,2)<0,0,ROUND((L47-$M$3)*+'Vergi Oranları'!$G$4/100,2)))","v":0},{"$f":"IF(E47=0,0,IF(D47=0,0,IF(G47=0,0,IF(OR(G47>+'Vergi Oranları'!$C$4,G47<=+'Vergi Oranları'!$C$5),27))))","v":0},{"$f":"IF(E47=0,0,IF(D47=0,0,IF(G47=0,0,IF(N47=0,0,IF(F47>'Vergi Oranları'!$C$5,0,IF(G47<=+'Vergi Oranları'!$C$5,G47-(F47+I47+L47),+'Vergi Oranları'!$C$5-(F47+I47+L47)))))))","v":0},{"$f":"ROUND(IF(N47=0,0,IF(E47<O47,(E47-$P$3)*'Vergi Oranları'!$G$5/100,(O47-$P$3)*'Vergi Oranları'!$G$5/100)),2)","v":0},{"$f":"IF(E47=0,0,IF(D47=0,0,IF(G47=0,0,IF(G47<=+'Vergi Oranları'!$C$5,0,IF(OR(G47>+'Vergi Oranları'!$C$5,F47+E47<=+'Vergi Oranları'!$C$5),35)))))","v":0},{"$f":"IF(E47=0,0,IF(D47=0,0,IF(G47=0,0,IF(Q47=0,0,IF(F47+E47>=+'Vergi Oranları'!$C$5,G47-(F47+I47+L47+O47),+'Vergi Oranları'!$C$5-(F47+I47+L47+O47))))))","v":0},{"$f":"IF(Q47=0,0,ROUND((R47-$S$3)*+'Vergi Oranları'!$G$6/100,2))","v":0},0]
[null,null,null,null,null,null,0,{"$f":"IF(E48=0,0,IF(D48=0,0,IF(G48=0,0,IF(F48>+'Vergi Oranları'!$C$3,0,IF(OR(G48<='Vergi Oranları'!$C$3,F48+E48<+'Vergi Oranları'!$C$3),15,IF(G48-(E48+F48)<='Vergi Oranları'!$C$3,15,))))))","v":0},{"$f":"IF(E48=0,0,IF(D48=0,0,IF(G48=0,0,IF(H48=0,0,IF(F48+E48<='Vergi Oranları'!$C$3,G48-F48,'Vergi Oranları'!$C$3-F48)))))","v":0},{"$f":"IF(I48=0,0,IF(ROUND((I48-$J$3)*'Vergi Oranları'!$G$3/100,2)<0,0,ROUND((I48-$M$3)*'Vergi Oranları'!$G$3/100,2)))","v":0},{"$f":"IF(E48=0,0,IF(D48=0,0,IF(G48=0,0,IF(F48>+'Vergi Oranları'!$C$4,0,IF(OR(G48<='Vergi Oranları'!$C$4,F48+E48<'Vergi Oranları'!$C$4),20,IF(G48-(E48+F48)<='Vergi Oranları'!$C$4,20,))))))","v":0},{"$f":"IF(E48=0,0,IF(D48=0,0,IF(G48=0,0,IF(K48=0,0,IF(F48+E48<=+'Vergi Oranları'!$C$4,G48-(F48+I48),+'Vergi Oranları'!$C$4-(F48+I48))))))","v":0},{"$f":"IF(L48=0,0,IF(ROUND((L48-$M$3)*+'Vergi Oranları'!$G$4/100,2)<0,0,ROUND((L48-$M$3)*+'Vergi Oranları'!$G$4/100,2)))","v":0},{"$f":"IF(E48=0,0,IF(D48=0,0,IF(G48=0,0,IF(OR(G48>+'Vergi Oranları'!$C$4,G48<=+'Vergi Oranları'!$C$5),27))))","v":0},{"$f":"IF(E48=0,0,IF(D48=0,0,IF(G48=0,0,IF(N48=0,0,IF(F48>'Vergi Oranları'!$C$5,0,IF(G48<=+'Vergi Oranları'!$C$5,G48-(F48+I48+L48),+'Vergi Oranları'!$C$5-(F48+I48+L48)))))))","v":0},{"$f":"ROUND(IF(N48=0,0,IF(E48<O48,(E48-$P$3)*'Vergi Oranları'!$G$5/100,(O48-$P$3)*'Vergi Oranları'!$G$5/100)),2)","v":0},{"$f":"IF(E48=0,0,IF(D48=0,0,IF(G48=0,0,IF(G48<=+'Vergi Oranları'!$C$5,0,IF(OR(G48>+'Vergi Oranları'!$C$5,F48+E48<=+'Vergi Oranları'!$C$5),35)))))","v":0},{"$f":"IF(E48=0,0,IF(D48=0,0,IF(G48=0,0,IF(Q48=0,0,IF(F48+E48>=+'Vergi Oranları'!$C$5,G48-(F48+I48+L48+O48),+'Vergi Oranları'!$C$5-(F48+I48+L48+O48))))))","v":0},{"$f":"IF(Q48=0,0,ROUND((R48-$S$3)*+'Vergi Oranları'!$G$6/100,2))","v":0},0]
[null,null,null,null,null,null,0,{"$f":"IF(E49=0,0,IF(D49=0,0,IF(G49=0,0,IF(F49>+'Vergi Oranları'!$C$3,0,IF(OR(G49<='Vergi Oranları'!$C$3,F49+E49<+'Vergi Oranları'!$C$3),15,IF(G49-(E49+F49)<='Vergi Oranları'!$C$3,15,))))))","v":0},{"$f":"IF(E49=0,0,IF(D49=0,0,IF(G49=0,0,IF(H49=0,0,IF(F49+E49<='Vergi Oranları'!$C$3,G49-F49,'Vergi Oranları'!$C$3-F49)))))","v":0},{"$f":"IF(I49=0,0,IF(ROUND((I49-$J$3)*'Vergi Oranları'!$G$3/100,2)<0,0,ROUND((I49-$M$3)*'Vergi Oranları'!$G$3/100,2)))","v":0},{"$f":"IF(E49=0,0,IF(D49=0,0,IF(G49=0,0,IF(F49>+'Vergi Oranları'!$C$4,0,IF(OR(G49<='Vergi Oranları'!$C$4,F49+E49<'Vergi Oranları'!$C$4),20,IF(G49-(E49+F49)<='Vergi Oranları'!$C$4,20,))))))","v":0},{"$f":"IF(E49=0,0,IF(D49=0,0,IF(G49=0,0,IF(K49=0,0,IF(F49+E49<=+'Vergi Oranları'!$C$4,G49-(F49+I49),+'Vergi Oranları'!$C$4-(F49+I49))))))","v":0},{"$f":"IF(L49=0,0,IF(ROUND((L49-$M$3)*+'Vergi Oranları'!$G$4/100,2)<0,0,ROUND((L49-$M$3)*+'Vergi Oranları'!$G$4/100,2)))","v":0},{"$f":"IF(E49=0,0,IF(D49=0,0,IF(G49=0,0,IF(OR(G49>+'Vergi Oranları'!$C$4,G49<=+'Vergi Oranları'!$C$5),27))))","v":0},{"$f":"IF(E49=0,0,IF(D49=0,0,IF(G49=0,0,IF(N49=0,0,IF(F49>'Vergi Oranları'!$C$5,0,IF(G49<=+'Vergi Oranları'!$C$5,G49-(F49+I49+L49),+'Vergi Oranları'!$C$5-(F49+I49+L49)))))))","v":0},{"$f":"ROUND(IF(N49=0,0,IF(E49<O49,(E49-$P$3)*'Vergi Oranları'!$G$5/100,(O49-$P$3)*'Vergi Oranları'!$G$5/100)),2)","v":0},{"$f":"IF(E49=0,0,IF(D49=0,0,IF(G49=0,0,IF(G49<=+'Vergi Oranları'!$C$5,0,IF(OR(G49>+'Vergi Oranları'!$C$5,F49+E49<=+'Vergi Oranları'!$C$5),35)))))","v":0},{"$f":"IF(E49=0,0,IF(D49=0,0,IF(G49=0,0,IF(Q49=0,0,IF(F49+E49>=+'Vergi Oranları'!$C$5,G49-(F49+I49+L49+O49),+'Vergi Oranları'!$C$5-(F49+I49+L49+O49))))))","v":0},{"$f":"IF(Q49=0,0,ROUND((R49-$S$3)*+'Vergi Oranları'!$G$6/100,2))","v":0},0]
[null,null,null,null,null,null,0,{"$f":"IF(E50=0,0,IF(D50=0,0,IF(G50=0,0,IF(F50>+'Vergi Oranları'!$C$3,0,IF(OR(G50<='Vergi Oranları'!$C$3,F50+E50<+'Vergi Oranları'!$C$3),15,IF(G50-(E50+F50)<='Vergi Oranları'!$C$3,15,))))))","v":0},{"$f":"IF(E50=0,0,IF(D50=0,0,IF(G50=0,0,IF(H50=0,0,IF(F50+E50<='Vergi Oranları'!$C$3,G50-F50,'Vergi Oranları'!$C$3-F50)))))","v":0},{"$f":"IF(I50=0,0,IF(ROUND((I50-$J$3)*'Vergi Oranları'!$G$3/100,2)<0,0,ROUND((I50-$M$3)*'Vergi Oranları'!$G$3/100,2)))","v":0},{"$f":"IF(E50=0,0,IF(D50=0,0,IF(G50=0,0,IF(F50>+'Vergi Oranları'!$C$4,0,IF(OR(G50<='Vergi Oranları'!$C$4,F50+E50<'Vergi Oranları'!$C$4),20,IF(G50-(E50+F50)<='Vergi Oranları'!$C$4,20,))))))","v":0},{"$f":"IF(E50=0,0,IF(D50=0,0,IF(G50=0,0,IF(K50=0,0,IF(F50+E50<=+'Vergi Oranları'!$C$4,G50-(F50+I50),+'Vergi Oranları'!$C$4-(F50+I50))))))","v":0},{"$f":"IF(L50=0,0,IF(ROUND((L50-$M$3)*+'Vergi Oranları'!$G$4/100,2)<0,0,ROUND((L50-$M$3)*+'Vergi Oranları'!$G$4/100,2)))","v":0},{"$f":"IF(E50=0,0,IF(D50=0,0,IF(G50=0,0,IF(OR(G50>+'Vergi Oranları'!$C$4,G50<=+'Vergi Oranları'!$C$5),27))))","v":0},{"$f":"IF(E50=0,0,IF(D50=0,0,IF(G50=0,0,IF(N50=0,0,IF(F50>'Vergi Oranları'!$C$5,0,IF(G50<=+'Vergi Oranları'!$C$5,G50-(F50+I50+L50),+'Vergi Oranları'!$C$5-(F50+I50+L50)))))))","v":0},{"$f":"ROUND(IF(N50=0,0,IF(E50<O50,(E50-$P$3)*'Vergi Oranları'!$G$5/100,(O50-$P$3)*'Vergi Oranları'!$G$5/100)),2)","v":0},{"$f":"IF(E50=0,0,IF(D50=0,0,IF(G50=0,0,IF(G50<=+'Vergi Oranları'!$C$5,0,IF(OR(G50>+'Vergi Oranları'!$C$5,F50+E50<=+'Vergi Oranları'!$C$5),35)))))","v":0},{"$f":"IF(E50=0,0,IF(D50=0,0,IF(G50=0,0,IF(Q50=0,0,IF(F50+E50>=+'Vergi Oranları'!$C$5,G50-(F50+I50+L50+O50),+'Vergi Oranları'!$C$5-(F50+I50+L50+O50))))))","v":0},{"$f":"IF(Q50=0,0,ROUND((R50-$S$3)*+'Vergi Oranları'!$G$6/100,2))","v":0},0]
[null,null,null,null,null,null,0,{"$f":"IF(E51=0,0,IF(D51=0,0,IF(G51=0,0,IF(F51>+'Vergi Oranları'!$C$3,0,IF(OR(G51<='Vergi Oranları'!$C$3,F51+E51<+'Vergi Oranları'!$C$3),15,IF(G51-(E51+F51)<='Vergi Oranları'!$C$3,15,))))))","v":0},{"$f":"IF(E51=0,0,IF(D51=0,0,IF(G51=0,0,IF(H51=0,0,IF(F51+E51<='Vergi Oranları'!$C$3,G51-F51,'Vergi Oranları'!$C$3-F51)))))","v":0},{"$f":"IF(I51=0,0,IF(ROUND((I51-$J$3)*'Vergi Oranları'!$G$3/100,2)<0,0,ROUND((I51-$M$3)*'Vergi Oranları'!$G$3/100,2)))","v":0},{"$f":"IF(E51=0,0,IF(D51=0,0,IF(G51=0,0,IF(F51>+'Vergi Oranları'!$C$4,0,IF(OR(G51<='Vergi Oranları'!$C$4,F51+E51<'Vergi Oranları'!$C$4),20,IF(G51-(E51+F51)<='Vergi Oranları'!$C$4,20,))))))","v":0},{"$f":"IF(E51=0,0,IF(D51=0,0,IF(G51=0,0,IF(K51=0,0,IF(F51+E51<=+'Vergi Oranları'!$C$4,G51-(F51+I51),+'Vergi Oranları'!$C$4-(F51+I51))))))","v":0},{"$f":"IF(L51=0,0,IF(ROUND((L51-$M$3)*+'Vergi Oranları'!$G$4/100,2)<0,0,ROUND((L51-$M$3)*+'Vergi Oranları'!$G$4/100,2)))","v":0},{"$f":"IF(E51=0,0,IF(D51=0,0,IF(G51=0,0,IF(OR(G51>+'Vergi Oranları'!$C$4,G51<=+'Vergi Oranları'!$C$5),27))))","v":0},{"$f":"IF(E51=0,0,IF(D51=0,0,IF(G51=0,0,IF(N51=0,0,IF(F51>'Vergi Oranları'!$C$5,0,IF(G51<=+'Vergi Oranları'!$C$5,G51-(F51+I51+L51),+'Vergi Oranları'!$C$5-(F51+I51+L51)))))))","v":0},{"$f":"ROUND(IF(N51=0,0,IF(E51<O51,(E51-$P$3)*'Vergi Oranları'!$G$5/100,(O51-$P$3)*'Vergi Oranları'!$G$5/100)),2)","v":0},{"$f":"IF(E51=0,0,IF(D51=0,0,IF(G51=0,0,IF(G51<=+'Vergi Oranları'!$C$5,0,IF(OR(G51>+'Vergi Oranları'!$C$5,F51+E51<=+'Vergi Oranları'!$C$5),35)))))","v":0},{"$f":"IF(E51=0,0,IF(D51=0,0,IF(G51=0,0,IF(Q51=0,0,IF(F51+E51>=+'Vergi Oranları'!$C$5,G51-(F51+I51+L51+O51),+'Vergi Oranları'!$C$5-(F51+I51+L51+O51))))))","v":0},{"$f":"IF(Q51=0,0,ROUND((R51-$S$3)*+'Vergi Oranları'!$G$6/100,2))","v":0},0]
[null,null,null,null,null,null,0,{"$f":"IF(E52=0,0,IF(D52=0,0,IF(G52=0,0,IF(F52>+'Vergi Oranları'!$C$3,0,IF(OR(G52<='Vergi Oranları'!$C$3,F52+E52<+'Vergi Oranları'!$C$3),15,IF(G52-(E52+F52)<='Vergi Oranları'!$C$3,15,))))))","v":0},{"$f":"IF(E52=0,0,IF(D52=0,0,IF(G52=0,0,IF(H52=0,0,IF(F52+E52<='Vergi Oranları'!$C$3,G52-F52,'Vergi Oranları'!$C$3-F52)))))","v":0},{"$f":"IF(I52=0,0,IF(ROUND((I52-$J$3)*'Vergi Oranları'!$G$3/100,2)<0,0,ROUND((I52-$M$3)*'Vergi Oranları'!$G$3/100,2)))","v":0},{"$f":"IF(E52=0,0,IF(D52=0,0,IF(G52=0,0,IF(F52>+'Vergi Oranları'!$C$4,0,IF(OR(G52<='Vergi Oranları'!$C$4,F52+E52<'Vergi Oranları'!$C$4),20,IF(G52-(E52+F52)<='Vergi Oranları'!$C$4,20,))))))","v":0},{"$f":"IF(E52=0,0,IF(D52=0,0,IF(G52=0,0,IF(K52=0,0,IF(F52+E52<=+'Vergi Oranları'!$C$4,G52-(F52+I52),+'Vergi Oranları'!$C$4-(F52+I52))))))","v":0},{"$f":"IF(L52=0,0,IF(ROUND((L52-$M$3)*+'Vergi Oranları'!$G$4/100,2)<0,0,ROUND((L52-$M$3)*+'Vergi Oranları'!$G$4/100,2)))","v":0},{"$f":"IF(E52=0,0,IF(D52=0,0,IF(G52=0,0,IF(OR(G52>+'Vergi Oranları'!$C$4,G52<=+'Vergi Oranları'!$C$5),27))))","v":0},{"$f":"IF(E52=0,0,IF(D52=0,0,IF(G52=0,0,IF(N52=0,0,IF(F52>'Vergi Oranları'!$C$5,0,IF(G52<=+'Vergi Oranları'!$C$5,G52-(F52+I52+L52),+'Vergi Oranları'!$C$5-(F52+I52+L52)))))))","v":0},{"$f":"ROUND(IF(N52=0,0,IF(E52<O52,(E52-$P$3)*'Vergi Oranları'!$G$5/100,(O52-$P$3)*'Vergi Oranları'!$G$5/100)),2)","v":0},{"$f":"IF(E52=0,0,IF(D52=0,0,IF(G52=0,0,IF(G52<=+'Vergi Oranları'!$C$5,0,IF(OR(G52>+'Vergi Oranları'!$C$5,F52+E52<=+'Vergi Oranları'!$C$5),35)))))","v":0},{"$f":"IF(E52=0,0,IF(D52=0,0,IF(G52=0,0,IF(Q52=0,0,IF(F52+E52>=+'Vergi Oranları'!$C$5,G52-(F52+I52+L52+O52),+'Vergi Oranları'!$C$5-(F52+I52+L52+O52))))))","v":0},{"$f":"IF(Q52=0,0,ROUND((R52-$S$3)*+'Vergi Oranları'!$G$6/100,2))","v":0},0]
[null,null,null,null,null,null,0,{"$f":"IF(E53=0,0,IF(D53=0,0,IF(G53=0,0,IF(F53>+'Vergi Oranları'!$C$3,0,IF(OR(G53<='Vergi Oranları'!$C$3,F53+E53<+'Vergi Oranları'!$C$3),15,IF(G53-(E53+F53)<='Vergi Oranları'!$C$3,15,))))))","v":0},{"$f":"IF(E53=0,0,IF(D53=0,0,IF(G53=0,0,IF(H53=0,0,IF(F53+E53<='Vergi Oranları'!$C$3,G53-F53,'Vergi Oranları'!$C$3-F53)))))","v":0},{"$f":"IF(I53=0,0,IF(ROUND((I53-$J$3)*'Vergi Oranları'!$G$3/100,2)<0,0,ROUND((I53-$M$3)*'Vergi Oranları'!$G$3/100,2)))","v":0},{"$f":"IF(E53=0,0,IF(D53=0,0,IF(G53=0,0,IF(F53>+'Vergi Oranları'!$C$4,0,IF(OR(G53<='Vergi Oranları'!$C$4,F53+E53<'Vergi Oranları'!$C$4),20,IF(G53-(E53+F53)<='Vergi Oranları'!$C$4,20,))))))","v":0},{"$f":"IF(E53=0,0,IF(D53=0,0,IF(G53=0,0,IF(K53=0,0,IF(F53+E53<=+'Vergi Oranları'!$C$4,G53-(F53+I53),+'Vergi Oranları'!$C$4-(F53+I53))))))","v":0},{"$f":"IF(L53=0,0,IF(ROUND((L53-$M$3)*+'Vergi Oranları'!$G$4/100,2)<0,0,ROUND((L53-$M$3)*+'Vergi Oranları'!$G$4/100,2)))","v":0},{"$f":"IF(E53=0,0,IF(D53=0,0,IF(G53=0,0,IF(OR(G53>+'Vergi Oranları'!$C$4,G53<=+'Vergi Oranları'!$C$5),27))))","v":0},{"$f":"IF(E53=0,0,IF(D53=0,0,IF(G53=0,0,IF(N53=0,0,IF(F53>'Vergi Oranları'!$C$5,0,IF(G53<=+'Vergi Oranları'!$C$5,G53-(F53+I53+L53),+'Vergi Oranları'!$C$5-(F53+I53+L53)))))))","v":0},{"$f":"ROUND(IF(N53=0,0,IF(E53<O53,(E53-$P$3)*'Vergi Oranları'!$G$5/100,(O53-$P$3)*'Vergi Oranları'!$G$5/100)),2)","v":0},{"$f":"IF(E53=0,0,IF(D53=0,0,IF(G53=0,0,IF(G53<=+'Vergi Oranları'!$C$5,0,IF(OR(G53>+'Vergi Oranları'!$C$5,F53+E53<=+'Vergi Oranları'!$C$5),35)))))","v":0},{"$f":"IF(E53=0,0,IF(D53=0,0,IF(G53=0,0,IF(Q53=0,0,IF(F53+E53>=+'Vergi Oranları'!$C$5,G53-(F53+I53+L53+O53),+'Vergi Oranları'!$C$5-(F53+I53+L53+O53))))))","v":0},{"$f":"IF(Q53=0,0,ROUND((R53-$S$3)*+'Vergi Oranları'!$G$6/100,2))","v":0},0]
[null,null,null,null,null,null,0,{"$f":"IF(E54=0,0,IF(D54=0,0,IF(G54=0,0,IF(F54>+'Vergi Oranları'!$C$3,0,IF(OR(G54<='Vergi Oranları'!$C$3,F54+E54<+'Vergi Oranları'!$C$3),15,IF(G54-(E54+F54)<='Vergi Oranları'!$C$3,15,))))))","v":0},{"$f":"IF(E54=0,0,IF(D54=0,0,IF(G54=0,0,IF(H54=0,0,IF(F54+E54<='Vergi Oranları'!$C$3,G54-F54,'Vergi Oranları'!$C$3-F54)))))","v":0},{"$f":"IF(I54=0,0,IF(ROUND((I54-$J$3)*'Vergi Oranları'!$G$3/100,2)<0,0,ROUND((I54-$M$3)*'Vergi Oranları'!$G$3/100,2)))","v":0},{"$f":"IF(E54=0,0,IF(D54=0,0,IF(G54=0,0,IF(F54>+'Vergi Oranları'!$C$4,0,IF(OR(G54<='Vergi Oranları'!$C$4,F54+E54<'Vergi Oranları'!$C$4),20,IF(G54-(E54+F54)<='Vergi Oranları'!$C$4,20,))))))","v":0},{"$f":"IF(E54=0,0,IF(D54=0,0,IF(G54=0,0,IF(K54=0,0,IF(F54+E54<=+'Vergi Oranları'!$C$4,G54-(F54+I54),+'Vergi Oranları'!$C$4-(F54+I54))))))","v":0},{"$f":"IF(L54=0,0,IF(ROUND((L54-$M$3)*+'Vergi Oranları'!$G$4/100,2)<0,0,ROUND((L54-$M$3)*+'Vergi Oranları'!$G$4/100,2)))","v":0},{"$f":"IF(E54=0,0,IF(D54=0,0,IF(G54=0,0,IF(OR(G54>+'Vergi Oranları'!$C$4,G54<=+'Vergi Oranları'!$C$5),27))))","v":0},{"$f":"IF(E54=0,0,IF(D54=0,0,IF(G54=0,0,IF(N54=0,0,IF(F54>'Vergi Oranları'!$C$5,0,IF(G54<=+'Vergi Oranları'!$C$5,G54-(F54+I54+L54),+'Vergi Oranları'!$C$5-(F54+I54+L54)))))))","v":0},{"$f":"ROUND(IF(N54=0,0,IF(E54<O54,(E54-$P$3)*'Vergi Oranları'!$G$5/100,(O54-$P$3)*'Vergi Oranları'!$G$5/100)),2)","v":0},{"$f":"IF(E54=0,0,IF(D54=0,0,IF(G54=0,0,IF(G54<=+'Vergi Oranları'!$C$5,0,IF(OR(G54>+'Vergi Oranları'!$C$5,F54+E54<=+'Vergi Oranları'!$C$5),35)))))","v":0},{"$f":"IF(E54=0,0,IF(D54=0,0,IF(G54=0,0,IF(Q54=0,0,IF(F54+E54>=+'Vergi Oranları'!$C$5,G54-(F54+I54+L54+O54),+'Vergi Oranları'!$C$5-(F54+I54+L54+O54))))))","v":0},{"$f":"IF(Q54=0,0,ROUND((R54-$S$3)*+'Vergi Oranları'!$G$6/100,2))","v":0},0]
[null,null,null,null,null,null,0,{"$f":"IF(E55=0,0,IF(D55=0,0,IF(G55=0,0,IF(F55>+'Vergi Oranları'!$C$3,0,IF(OR(G55<='Vergi Oranları'!$C$3,F55+E55<+'Vergi Oranları'!$C$3),15,IF(G55-(E55+F55)<='Vergi Oranları'!$C$3,15,))))))","v":0},{"$f":"IF(E55=0,0,IF(D55=0,0,IF(G55=0,0,IF(H55=0,0,IF(F55+E55<='Vergi Oranları'!$C$3,G55-F55,'Vergi Oranları'!$C$3-F55)))))","v":0},{"$f":"IF(I55=0,0,IF(ROUND((I55-$J$3)*'Vergi Oranları'!$G$3/100,2)<0,0,ROUND((I55-$M$3)*'Vergi Oranları'!$G$3/100,2)))","v":0},{"$f":"IF(E55=0,0,IF(D55=0,0,IF(G55=0,0,IF(F55>+'Vergi Oranları'!$C$4,0,IF(OR(G55<='Vergi Oranları'!$C$4,F55+E55<'Vergi Oranları'!$C$4),20,IF(G55-(E55+F55)<='Vergi Oranları'!$C$4,20,))))))","v":0},{"$f":"IF(E55=0,0,IF(D55=0,0,IF(G55=0,0,IF(K55=0,0,IF(F55+E55<=+'Vergi Oranları'!$C$4,G55-(F55+I55),+'Vergi Oranları'!$C$4-(F55+I55))))))","v":0},{"$f":"IF(L55=0,0,IF(ROUND((L55-$M$3)*+'Vergi Oranları'!$G$4/100,2)<0,0,ROUND((L55-$M$3)*+'Vergi Oranları'!$G$4/100,2)))","v":0},{"$f":"IF(E55=0,0,IF(D55=0,0,IF(G55=0,0,IF(OR(G55>+'Vergi Oranları'!$C$4,G55<=+'Vergi Oranları'!$C$5),27))))","v":0},{"$f":"IF(E55=0,0,IF(D55=0,0,IF(G55=0,0,IF(N55=0,0,IF(F55>'Vergi Oranları'!$C$5,0,IF(G55<=+'Vergi Oranları'!$C$5,G55-(F55+I55+L55),+'Vergi Oranları'!$C$5-(F55+I55+L55)))))))","v":0},{"$f":"ROUND(IF(N55=0,0,IF(E55<O55,(E55-$P$3)*'Vergi Oranları'!$G$5/100,(O55-$P$3)*'Vergi Oranları'!$G$5/100)),2)","v":0},{"$f":"IF(E55=0,0,IF(D55=0,0,IF(G55=0,0,IF(G55<=+'Vergi Oranları'!$C$5,0,IF(OR(G55>+'Vergi Oranları'!$C$5,F55+E55<=+'Vergi Oranları'!$C$5),35)))))","v":0},{"$f":"IF(E55=0,0,IF(D55=0,0,IF(G55=0,0,IF(Q55=0,0,IF(F55+E55>=+'Vergi Oranları'!$C$5,G55-(F55+I55+L55+O55),+'Vergi Oranları'!$C$5-(F55+I55+L55+O55))))))","v":0},{"$f":"IF(Q55=0,0,ROUND((R55-$S$3)*+'Vergi Oranları'!$G$6/100,2))","v":0},0]
[null,null,null,null,null,null,0,{"$f":"IF(E56=0,0,IF(D56=0,0,IF(G56=0,0,IF(F56>+'Vergi Oranları'!$C$3,0,IF(OR(G56<='Vergi Oranları'!$C$3,F56+E56<+'Vergi Oranları'!$C$3),15,IF(G56-(E56+F56)<='Vergi Oranları'!$C$3,15,))))))","v":0},{"$f":"IF(E56=0,0,IF(D56=0,0,IF(G56=0,0,IF(H56=0,0,IF(F56+E56<='Vergi Oranları'!$C$3,G56-F56,'Vergi Oranları'!$C$3-F56)))))","v":0},{"$f":"IF(I56=0,0,IF(ROUND((I56-$J$3)*'Vergi Oranları'!$G$3/100,2)<0,0,ROUND((I56-$M$3)*'Vergi Oranları'!$G$3/100,2)))","v":0},{"$f":"IF(E56=0,0,IF(D56=0,0,IF(G56=0,0,IF(F56>+'Vergi Oranları'!$C$4,0,IF(OR(G56<='Vergi Oranları'!$C$4,F56+E56<'Vergi Oranları'!$C$4),20,IF(G56-(E56+F56)<='Vergi Oranları'!$C$4,20,))))))","v":0},{"$f":"IF(E56=0,0,IF(D56=0,0,IF(G56=0,0,IF(K56=0,0,IF(F56+E56<=+'Vergi Oranları'!$C$4,G56-(F56+I56),+'Vergi Oranları'!$C$4-(F56+I56))))))","v":0},{"$f":"IF(L56=0,0,IF(ROUND((L56-$M$3)*+'Vergi Oranları'!$G$4/100,2)<0,0,ROUND((L56-$M$3)*+'Vergi Oranları'!$G$4/100,2)))","v":0},{"$f":"IF(E56=0,0,IF(D56=0,0,IF(G56=0,0,IF(OR(G56>+'Vergi Oranları'!$C$4,G56<=+'Vergi Oranları'!$C$5),27))))","v":0},{"$f":"IF(E56=0,0,IF(D56=0,0,IF(G56=0,0,IF(N56=0,0,IF(F56>'Vergi Oranları'!$C$5,0,IF(G56<=+'Vergi Oranları'!$C$5,G56-(F56+I56+L56),+'Vergi Oranları'!$C$5-(F56+I56+L56)))))))","v":0},{"$f":"ROUND(IF(N56=0,0,IF(E56<O56,(E56-$P$3)*'Vergi Oranları'!$G$5/100,(O56-$P$3)*'Vergi Oranları'!$G$5/100)),2)","v":0},{"$f":"IF(E56=0,0,IF(D56=0,0,IF(G56=0,0,IF(G56<=+'Vergi Oranları'!$C$5,0,IF(OR(G56>+'Vergi Oranları'!$C$5,F56+E56<=+'Vergi Oranları'!$C$5),35)))))","v":0},{"$f":"IF(E56=0,0,IF(D56=0,0,IF(G56=0,0,IF(Q56=0,0,IF(F56+E56>=+'Vergi Oranları'!$C$5,G56-(F56+I56+L56+O56),+'Vergi Oranları'!$C$5-(F56+I56+L56+O56))))))","v":0},{"$f":"IF(Q56=0,0,ROUND((R56-$S$3)*+'Vergi Oranları'!$G$6/100,2))","v":0},0]
[null,null,null,null,null,null,0,{"$f":"IF(E57=0,0,IF(D57=0,0,IF(G57=0,0,IF(F57>+'Vergi Oranları'!$C$3,0,IF(OR(G57<='Vergi Oranları'!$C$3,F57+E57<+'Vergi Oranları'!$C$3),15,IF(G57-(E57+F57)<='Vergi Oranları'!$C$3,15,))))))","v":0},{"$f":"IF(E57=0,0,IF(D57=0,0,IF(G57=0,0,IF(H57=0,0,IF(F57+E57<='Vergi Oranları'!$C$3,G57-F57,'Vergi Oranları'!$C$3-F57)))))","v":0},{"$f":"IF(I57=0,0,IF(ROUND((I57-$J$3)*'Vergi Oranları'!$G$3/100,2)<0,0,ROUND((I57-$M$3)*'Vergi Oranları'!$G$3/100,2)))","v":0},{"$f":"IF(E57=0,0,IF(D57=0,0,IF(G57=0,0,IF(F57>+'Vergi Oranları'!$C$4,0,IF(OR(G57<='Vergi Oranları'!$C$4,F57+E57<'Vergi Oranları'!$C$4),20,IF(G57-(E57+F57)<='Vergi Oranları'!$C$4,20,))))))","v":0},{"$f":"IF(E57=0,0,IF(D57=0,0,IF(G57=0,0,IF(K57=0,0,IF(F57+E57<=+'Vergi Oranları'!$C$4,G57-(F57+I57),+'Vergi Oranları'!$C$4-(F57+I57))))))","v":0},{"$f":"IF(L57=0,0,IF(ROUND((L57-$M$3)*+'Vergi Oranları'!$G$4/100,2)<0,0,ROUND((L57-$M$3)*+'Vergi Oranları'!$G$4/100,2)))","v":0},{"$f":"IF(E57=0,0,IF(D57=0,0,IF(G57=0,0,IF(OR(G57>+'Vergi Oranları'!$C$4,G57<=+'Vergi Oranları'!$C$5),27))))","v":0},{"$f":"IF(E57=0,0,IF(D57=0,0,IF(G57=0,0,IF(N57=0,0,IF(F57>'Vergi Oranları'!$C$5,0,IF(G57<=+'Vergi Oranları'!$C$5,G57-(F57+I57+L57),+'Vergi Oranları'!$C$5-(F57+I57+L57)))))))","v":0},{"$f":"ROUND(IF(N57=0,0,IF(E57<O57,(E57-$P$3)*'Vergi Oranları'!$G$5/100,(O57-$P$3)*'Vergi Oranları'!$G$5/100)),2)","v":0},{"$f":"IF(E57=0,0,IF(D57=0,0,IF(G57=0,0,IF(G57<=+'Vergi Oranları'!$C$5,0,IF(OR(G57>+'Vergi Oranları'!$C$5,F57+E57<=+'Vergi Oranları'!$C$5),35)))))","v":0},{"$f":"IF(E57=0,0,IF(D57=0,0,IF(G57=0,0,IF(Q57=0,0,IF(F57+E57>=+'Vergi Oranları'!$C$5,G57-(F57+I57+L57+O57),+'Vergi Oranları'!$C$5-(F57+I57+L57+O57))))))","v":0},{"$f":"IF(Q57=0,0,ROUND((R57-$S$3)*+'Vergi Oranları'!$G$6/100,2))","v":0},0]
[null,null,null,null,null,null,0,{"$f":"IF(E58=0,0,IF(D58=0,0,IF(G58=0,0,IF(F58>+'Vergi Oranları'!$C$3,0,IF(OR(G58<='Vergi Oranları'!$C$3,F58+E58<+'Vergi Oranları'!$C$3),15,IF(G58-(E58+F58)<='Vergi Oranları'!$C$3,15,))))))","v":0},{"$f":"IF(E58=0,0,IF(D58=0,0,IF(G58=0,0,IF(H58=0,0,IF(F58+E58<='Vergi Oranları'!$C$3,G58-F58,'Vergi Oranları'!$C$3-F58)))))","v":0},{"$f":"IF(I58=0,0,IF(ROUND((I58-$J$3)*'Vergi Oranları'!$G$3/100,2)<0,0,ROUND((I58-$M$3)*'Vergi Oranları'!$G$3/100,2)))","v":0},{"$f":"IF(E58=0,0,IF(D58=0,0,IF(G58=0,0,IF(F58>+'Vergi Oranları'!$C$4,0,IF(OR(G58<='Vergi Oranları'!$C$4,F58+E58<'Vergi Oranları'!$C$4),20,IF(G58-(E58+F58)<='Vergi Oranları'!$C$4,20,))))))","v":0},{"$f":"IF(E58=0,0,IF(D58=0,0,IF(G58=0,0,IF(K58=0,0,IF(F58+E58<=+'Vergi Oranları'!$C$4,G58-(F58+I58),+'Vergi Oranları'!$C$4-(F58+I58))))))","v":0},{"$f":"IF(L58=0,0,IF(ROUND((L58-$M$3)*+'Vergi Oranları'!$G$4/100,2)<0,0,ROUND((L58-$M$3)*+'Vergi Oranları'!$G$4/100,2)))","v":0},{"$f":"IF(E58=0,0,IF(D58=0,0,IF(G58=0,0,IF(OR(G58>+'Vergi Oranları'!$C$4,G58<=+'Vergi Oranları'!$C$5),27))))","v":0},{"$f":"IF(E58=0,0,IF(D58=0,0,IF(G58=0,0,IF(N58=0,0,IF(F58>'Vergi Oranları'!$C$5,0,IF(G58<=+'Vergi Oranları'!$C$5,G58-(F58+I58+L58),+'Vergi Oranları'!$C$5-(F58+I58+L58)))))))","v":0},{"$f":"ROUND(IF(N58=0,0,IF(E58<O58,(E58-$P$3)*'Vergi Oranları'!$G$5/100,(O58-$P$3)*'Vergi Oranları'!$G$5/100)),2)","v":0},{"$f":"IF(E58=0,0,IF(D58=0,0,IF(G58=0,0,IF(G58<=+'Vergi Oranları'!$C$5,0,IF(OR(G58>+'Vergi Oranları'!$C$5,F58+E58<=+'Vergi Oranları'!$C$5),35)))))","v":0},{"$f":"IF(E58=0,0,IF(D58=0,0,IF(G58=0,0,IF(Q58=0,0,IF(F58+E58>=+'Vergi Oranları'!$C$5,G58-(F58+I58+L58+O58),+'Vergi Oranları'!$C$5-(F58+I58+L58+O58))))))","v":0},{"$f":"IF(Q58=0,0,ROUND((R58-$S$3)*+'Vergi Oranları'!$G$6/100,2))","v":0},0]
[null,null,null,null,null,null,0,{"$f":"IF(E59=0,0,IF(D59=0,0,IF(G59=0,0,IF(F59>+'Vergi Oranları'!$C$3,0,IF(OR(G59<='Vergi Oranları'!$C$3,F59+E59<+'Vergi Oranları'!$C$3),15,IF(G59-(E59+F59)<='Vergi Oranları'!$C$3,15,))))))","v":0},{"$f":"IF(E59=0,0,IF(D59=0,0,IF(G59=0,0,IF(H59=0,0,IF(F59+E59<='Vergi Oranları'!$C$3,G59-F59,'Vergi Oranları'!$C$3-F59)))))","v":0},{"$f":"IF(I59=0,0,IF(ROUND((I59-$J$3)*'Vergi Oranları'!$G$3/100,2)<0,0,ROUND((I59-$M$3)*'Vergi Oranları'!$G$3/100,2)))","v":0},{"$f":"IF(E59=0,0,IF(D59=0,0,IF(G59=0,0,IF(F59>+'Vergi Oranları'!$C$4,0,IF(OR(G59<='Vergi Oranları'!$C$4,F59+E59<'Vergi Oranları'!$C$4),20,IF(G59-(E59+F59)<='Vergi Oranları'!$C$4,20,))))))","v":0},{"$f":"IF(E59=0,0,IF(D59=0,0,IF(G59=0,0,IF(K59=0,0,IF(F59+E59<=+'Vergi Oranları'!$C$4,G59-(F59+I59),+'Vergi Oranları'!$C$4-(F59+I59))))))","v":0},{"$f":"IF(L59=0,0,IF(ROUND((L59-$M$3)*+'Vergi Oranları'!$G$4/100,2)<0,0,ROUND((L59-$M$3)*+'Vergi Oranları'!$G$4/100,2)))","v":0},{"$f":"IF(E59=0,0,IF(D59=0,0,IF(G59=0,0,IF(OR(G59>+'Vergi Oranları'!$C$4,G59<=+'Vergi Oranları'!$C$5),27))))","v":0},{"$f":"IF(E59=0,0,IF(D59=0,0,IF(G59=0,0,IF(N59=0,0,IF(F59>'Vergi Oranları'!$C$5,0,IF(G59<=+'Vergi Oranları'!$C$5,G59-(F59+I59+L59),+'Vergi Oranları'!$C$5-(F59+I59+L59)))))))","v":0},{"$f":"ROUND(IF(N59=0,0,IF(E59<O59,(E59-$P$3)*'Vergi Oranları'!$G$5/100,(O59-$P$3)*'Vergi Oranları'!$G$5/100)),2)","v":0},{"$f":"IF(E59=0,0,IF(D59=0,0,IF(G59=0,0,IF(G59<=+'Vergi Oranları'!$C$5,0,IF(OR(G59>+'Vergi Oranları'!$C$5,F59+E59<=+'Vergi Oranları'!$C$5),35)))))","v":0},{"$f":"IF(E59=0,0,IF(D59=0,0,IF(G59=0,0,IF(Q59=0,0,IF(F59+E59>=+'Vergi Oranları'!$C$5,G59-(F59+I59+L59+O59),+'Vergi Oranları'!$C$5-(F59+I59+L59+O59))))))","v":0},{"$f":"IF(Q59=0,0,ROUND((R59-$S$3)*+'Vergi Oranları'!$G$6/100,2))","v":0},0]
[null,null,null,null,null,null,0,{"$f":"IF(E60=0,0,IF(D60=0,0,IF(G60=0,0,IF(F60>+'Vergi Oranları'!$C$3,0,IF(OR(G60<='Vergi Oranları'!$C$3,F60+E60<+'Vergi Oranları'!$C$3),15,IF(G60-(E60+F60)<='Vergi Oranları'!$C$3,15,))))))","v":0},{"$f":"IF(E60=0,0,IF(D60=0,0,IF(G60=0,0,IF(H60=0,0,IF(F60+E60<='Vergi Oranları'!$C$3,G60-F60,'Vergi Oranları'!$C$3-F60)))))","v":0},{"$f":"IF(I60=0,0,IF(ROUND((I60-$J$3)*'Vergi Oranları'!$G$3/100,2)<0,0,ROUND((I60-$M$3)*'Vergi Oranları'!$G$3/100,2)))","v":0},{"$f":"IF(E60=0,0,IF(D60=0,0,IF(G60=0,0,IF(F60>+'Vergi Oranları'!$C$4,0,IF(OR(G60<='Vergi Oranları'!$C$4,F60+E60<'Vergi Oranları'!$C$4),20,IF(G60-(E60+F60)<='Vergi Oranları'!$C$4,20,))))))","v":0},{"$f":"IF(E60=0,0,IF(D60=0,0,IF(G60=0,0,IF(K60=0,0,IF(F60+E60<=+'Vergi Oranları'!$C$4,G60-(F60+I60),+'Vergi Oranları'!$C$4-(F60+I60))))))","v":0},{"$f":"IF(L60=0,0,IF(ROUND((L60-$M$3)*+'Vergi Oranları'!$G$4/100,2)<0,0,ROUND((L60-$M$3)*+'Vergi Oranları'!$G$4/100,2)))","v":0},{"$f":"IF(E60=0,0,IF(D60=0,0,IF(G60=0,0,IF(OR(G60>+'Vergi Oranları'!$C$4,G60<=+'Vergi Oranları'!$C$5),27))))","v":0},{"$f":"IF(E60=0,0,IF(D60=0,0,IF(G60=0,0,IF(N60=0,0,IF(F60>'Vergi Oranları'!$C$5,0,IF(G60<=+'Vergi Oranları'!$C$5,G60-(F60+I60+L60),+'Vergi Oranları'!$C$5-(F60+I60+L60)))))))","v":0},{"$f":"ROUND(IF(N60=0,0,IF(E60<O60,(E60-$P$3)*'Vergi Oranları'!$G$5/100,(O60-$P$3)*'Vergi Oranları'!$G$5/100)),2)","v":0},{"$f":"IF(E60=0,0,IF(D60=0,0,IF(G60=0,0,IF(G60<=+'Vergi Oranları'!$C$5,0,IF(OR(G60>+'Vergi Oranları'!$C$5,F60+E60<=+'Vergi Oranları'!$C$5),35)))))","v":0},{"$f":"IF(E60=0,0,IF(D60=0,0,IF(G60=0,0,IF(Q60=0,0,IF(F60+E60>=+'Vergi Oranları'!$C$5,G60-(F60+I60+L60+O60),+'Vergi Oranları'!$C$5-(F60+I60+L60+O60))))))","v":0},{"$f":"IF(Q60=0,0,ROUND((R60-$S$3)*+'Vergi Oranları'!$G$6/100,2))","v":0},0]
[null,null,null,null,null,null,0,{"$f":"IF(E61=0,0,IF(D61=0,0,IF(G61=0,0,IF(F61>+'Vergi Oranları'!$C$3,0,IF(OR(G61<='Vergi Oranları'!$C$3,F61+E61<+'Vergi Oranları'!$C$3),15,IF(G61-(E61+F61)<='Vergi Oranları'!$C$3,15,))))))","v":0},{"$f":"IF(E61=0,0,IF(D61=0,0,IF(G61=0,0,IF(H61=0,0,IF(F61+E61<='Vergi Oranları'!$C$3,G61-F61,'Vergi Oranları'!$C$3-F61)))))","v":0},{"$f":"IF(I61=0,0,IF(ROUND((I61-$J$3)*'Vergi Oranları'!$G$3/100,2)<0,0,ROUND((I61-$M$3)*'Vergi Oranları'!$G$3/100,2)))","v":0},{"$f":"IF(E61=0,0,IF(D61=0,0,IF(G61=0,0,IF(F61>+'Vergi Oranları'!$C$4,0,IF(OR(G61<='Vergi Oranları'!$C$4,F61+E61<'Vergi Oranları'!$C$4),20,IF(G61-(E61+F61)<='Vergi Oranları'!$C$4,20,))))))","v":0},{"$f":"IF(E61=0,0,IF(D61=0,0,IF(G61=0,0,IF(K61=0,0,IF(F61+E61<=+'Vergi Oranları'!$C$4,G61-(F61+I61),+'Vergi Oranları'!$C$4-(F61+I61))))))","v":0},{"$f":"IF(L61=0,0,IF(ROUND((L61-$M$3)*+'Vergi Oranları'!$G$4/100,2)<0,0,ROUND((L61-$M$3)*+'Vergi Oranları'!$G$4/100,2)))","v":0},{"$f":"IF(E61=0,0,IF(D61=0,0,IF(G61=0,0,IF(OR(G61>+'Vergi Oranları'!$C$4,G61<=+'Vergi Oranları'!$C$5),27))))","v":0},{"$f":"IF(E61=0,0,IF(D61=0,0,IF(G61=0,0,IF(N61=0,0,IF(F61>'Vergi Oranları'!$C$5,0,IF(G61<=+'Vergi Oranları'!$C$5,G61-(F61+I61+L61),+'Vergi Oranları'!$C$5-(F61+I61+L61)))))))","v":0},{"$f":"ROUND(IF(N61=0,0,IF(E61<O61,(E61-$P$3)*'Vergi Oranları'!$G$5/100,(O61-$P$3)*'Vergi Oranları'!$G$5/100)),2)","v":0},{"$f":"IF(E61=0,0,IF(D61=0,0,IF(G61=0,0,IF(G61<=+'Vergi Oranları'!$C$5,0,IF(OR(G61>+'Vergi Oranları'!$C$5,F61+E61<=+'Vergi Oranları'!$C$5),35)))))","v":0},{"$f":"IF(E61=0,0,IF(D61=0,0,IF(G61=0,0,IF(Q61=0,0,IF(F61+E61>=+'Vergi Oranları'!$C$5,G61-(F61+I61+L61+O61),+'Vergi Oranları'!$C$5-(F61+I61+L61+O61))))))","v":0},{"$f":"IF(Q61=0,0,ROUND((R61-$S$3)*+'Vergi Oranları'!$G$6/100,2))","v":0},0]
[null,null,null,null,null,null,0,{"$f":"IF(E62=0,0,IF(D62=0,0,IF(G62=0,0,IF(F62>+'Vergi Oranları'!$C$3,0,IF(OR(G62<='Vergi Oranları'!$C$3,F62+E62<+'Vergi Oranları'!$C$3),15,IF(G62-(E62+F62)<='Vergi Oranları'!$C$3,15,))))))","v":0},{"$f":"IF(E62=0,0,IF(D62=0,0,IF(G62=0,0,IF(H62=0,0,IF(F62+E62<='Vergi Oranları'!$C$3,G62-F62,'Vergi Oranları'!$C$3-F62)))))","v":0},{"$f":"IF(I62=0,0,IF(ROUND((I62-$J$3)*'Vergi Oranları'!$G$3/100,2)<0,0,ROUND((I62-$M$3)*'Vergi Oranları'!$G$3/100,2)))","v":0},{"$f":"IF(E62=0,0,IF(D62=0,0,IF(G62=0,0,IF(F62>+'Vergi Oranları'!$C$4,0,IF(OR(G62<='Vergi Oranları'!$C$4,F62+E62<'Vergi Oranları'!$C$4),20,IF(G62-(E62+F62)<='Vergi Oranları'!$C$4,20,))))))","v":0},{"$f":"IF(E62=0,0,IF(D62=0,0,IF(G62=0,0,IF(K62=0,0,IF(F62+E62<=+'Vergi Oranları'!$C$4,G62-(F62+I62),+'Vergi Oranları'!$C$4-(F62+I62))))))","v":0},{"$f":"IF(L62=0,0,IF(ROUND((L62-$M$3)*+'Vergi Oranları'!$G$4/100,2)<0,0,ROUND((L62-$M$3)*+'Vergi Oranları'!$G$4/100,2)))","v":0},{"$f":"IF(E62=0,0,IF(D62=0,0,IF(G62=0,0,IF(OR(G62>+'Vergi Oranları'!$C$4,G62<=+'Vergi Oranları'!$C$5),27))))","v":0},{"$f":"IF(E62=0,0,IF(D62=0,0,IF(G62=0,0,IF(N62=0,0,IF(F62>'Vergi Oranları'!$C$5,0,IF(G62<=+'Vergi Oranları'!$C$5,G62-(F62+I62+L62),+'Vergi Oranları'!$C$5-(F62+I62+L62)))))))","v":0},{"$f":"ROUND(IF(N62=0,0,IF(E62<O62,(E62-$P$3)*'Vergi Oranları'!$G$5/100,(O62-$P$3)*'Vergi Oranları'!$G$5/100)),2)","v":0},{"$f":"IF(E62=0,0,IF(D62=0,0,IF(G62=0,0,IF(G62<=+'Vergi Oranları'!$C$5,0,IF(OR(G62>+'Vergi Oranları'!$C$5,F62+E62<=+'Vergi Oranları'!$C$5),35)))))","v":0},{"$f":"IF(E62=0,0,IF(D62=0,0,IF(G62=0,0,IF(Q62=0,0,IF(F62+E62>=+'Vergi Oranları'!$C$5,G62-(F62+I62+L62+O62),+'Vergi Oranları'!$C$5-(F62+I62+L62+O62))))))","v":0},{"$f":"IF(Q62=0,0,ROUND((R62-$S$3)*+'Vergi Oranları'!$G$6/100,2))","v":0},0]
[null,null,null,null,null,null,0,{"$f":"IF(E63=0,0,IF(D63=0,0,IF(G63=0,0,IF(F63>+'Vergi Oranları'!$C$3,0,IF(OR(G63<='Vergi Oranları'!$C$3,F63+E63<+'Vergi Oranları'!$C$3),15,IF(G63-(E63+F63)<='Vergi Oranları'!$C$3,15,))))))","v":0},{"$f":"IF(E63=0,0,IF(D63=0,0,IF(G63=0,0,IF(H63=0,0,IF(F63+E63<='Vergi Oranları'!$C$3,G63-F63,'Vergi Oranları'!$C$3-F63)))))","v":0},{"$f":"IF(I63=0,0,IF(ROUND((I63-$J$3)*'Vergi Oranları'!$G$3/100,2)<0,0,ROUND((I63-$M$3)*'Vergi Oranları'!$G$3/100,2)))","v":0},{"$f":"IF(E63=0,0,IF(D63=0,0,IF(G63=0,0,IF(F63>+'Vergi Oranları'!$C$4,0,IF(OR(G63<='Vergi Oranları'!$C$4,F63+E63<'Vergi Oranları'!$C$4),20,IF(G63-(E63+F63)<='Vergi Oranları'!$C$4,20,))))))","v":0},{"$f":"IF(E63=0,0,IF(D63=0,0,IF(G63=0,0,IF(K63=0,0,IF(F63+E63<=+'Vergi Oranları'!$C$4,G63-(F63+I63),+'Vergi Oranları'!$C$4-(F63+I63))))))","v":0},{"$f":"IF(L63=0,0,IF(ROUND((L63-$M$3)*+'Vergi Oranları'!$G$4/100,2)<0,0,ROUND((L63-$M$3)*+'Vergi Oranları'!$G$4/100,2)))","v":0},{"$f":"IF(E63=0,0,IF(D63=0,0,IF(G63=0,0,IF(OR(G63>+'Vergi Oranları'!$C$4,G63<=+'Vergi Oranları'!$C$5),27))))","v":0},{"$f":"IF(E63=0,0,IF(D63=0,0,IF(G63=0,0,IF(N63=0,0,IF(F63>'Vergi Oranları'!$C$5,0,IF(G63<=+'Vergi Oranları'!$C$5,G63-(F63+I63+L63),+'Vergi Oranları'!$C$5-(F63+I63+L63)))))))","v":0},{"$f":"ROUND(IF(N63=0,0,IF(E63<O63,(E63-$P$3)*'Vergi Oranları'!$G$5/100,(O63-$P$3)*'Vergi Oranları'!$G$5/100)),2)","v":0},{"$f":"IF(E63=0,0,IF(D63=0,0,IF(G63=0,0,IF(G63<=+'Vergi Oranları'!$C$5,0,IF(OR(G63>+'Vergi Oranları'!$C$5,F63+E63<=+'Vergi Oranları'!$C$5),35)))))","v":0},{"$f":"IF(E63=0,0,IF(D63=0,0,IF(G63=0,0,IF(Q63=0,0,IF(F63+E63>=+'Vergi Oranları'!$C$5,G63-(F63+I63+L63+O63),+'Vergi Oranları'!$C$5-(F63+I63+L63+O63))))))","v":0},{"$f":"IF(Q63=0,0,ROUND((R63-$S$3)*+'Vergi Oranları'!$G$6/100,2))","v":0},0]
[null,null,null,null,null,null,0,{"$f":"IF(E64=0,0,IF(D64=0,0,IF(G64=0,0,IF(F64>+'Vergi Oranları'!$C$3,0,IF(OR(G64<='Vergi Oranları'!$C$3,F64+E64<+'Vergi Oranları'!$C$3),15,IF(G64-(E64+F64)<='Vergi Oranları'!$C$3,15,))))))","v":0},{"$f":"IF(E64=0,0,IF(D64=0,0,IF(G64=0,0,IF(H64=0,0,IF(F64+E64<='Vergi Oranları'!$C$3,G64-F64,'Vergi Oranları'!$C$3-F64)))))","v":0},{"$f":"IF(I64=0,0,IF(ROUND((I64-$J$3)*'Vergi Oranları'!$G$3/100,2)<0,0,ROUND((I64-$M$3)*'Vergi Oranları'!$G$3/100,2)))","v":0},{"$f":"IF(E64=0,0,IF(D64=0,0,IF(G64=0,0,IF(F64>+'Vergi Oranları'!$C$4,0,IF(OR(G64<='Vergi Oranları'!$C$4,F64+E64<'Vergi Oranları'!$C$4),20,IF(G64-(E64+F64)<='Vergi Oranları'!$C$4,20,))))))","v":0},{"$f":"IF(E64=0,0,IF(D64=0,0,IF(G64=0,0,IF(K64=0,0,IF(F64+E64<=+'Vergi Oranları'!$C$4,G64-(F64+I64),+'Vergi Oranları'!$C$4-(F64+I64))))))","v":0},{"$f":"IF(L64=0,0,IF(ROUND((L64-$M$3)*+'Vergi Oranları'!$G$4/100,2)<0,0,ROUND((L64-$M$3)*+'Vergi Oranları'!$G$4/100,2)))","v":0},{"$f":"IF(E64=0,0,IF(D64=0,0,IF(G64=0,0,IF(OR(G64>+'Vergi Oranları'!$C$4,G64<=+'Vergi Oranları'!$C$5),27))))","v":0},{"$f":"IF(E64=0,0,IF(D64=0,0,IF(G64=0,0,IF(N64=0,0,IF(F64>'Vergi Oranları'!$C$5,0,IF(G64<=+'Vergi Oranları'!$C$5,G64-(F64+I64+L64),+'Vergi Oranları'!$C$5-(F64+I64+L64)))))))","v":0},{"$f":"ROUND(IF(N64=0,0,IF(E64<O64,(E64-$P$3)*'Vergi Oranları'!$G$5/100,(O64-$P$3)*'Vergi Oranları'!$G$5/100)),2)","v":0},{"$f":"IF(E64=0,0,IF(D64=0,0,IF(G64=0,0,IF(G64<=+'Vergi Oranları'!$C$5,0,IF(OR(G64>+'Vergi Oranları'!$C$5,F64+E64<=+'Vergi Oranları'!$C$5),35)))))","v":0},{"$f":"IF(E64=0,0,IF(D64=0,0,IF(G64=0,0,IF(Q64=0,0,IF(F64+E64>=+'Vergi Oranları'!$C$5,G64-(F64+I64+L64+O64),+'Vergi Oranları'!$C$5-(F64+I64+L64+O64))))))","v":0},{"$f":"IF(Q64=0,0,ROUND((R64-$S$3)*+'Vergi Oranları'!$G$6/100,2))","v":0},0]
[null,null,null,null,null,null,0,{"$f":"IF(E65=0,0,IF(D65=0,0,IF(G65=0,0,IF(F65>+'Vergi Oranları'!$C$3,0,IF(OR(G65<='Vergi Oranları'!$C$3,F65+E65<+'Vergi Oranları'!$C$3),15,IF(G65-(E65+F65)<='Vergi Oranları'!$C$3,15,))))))","v":0},{"$f":"IF(E65=0,0,IF(D65=0,0,IF(G65=0,0,IF(H65=0,0,IF(F65+E65<='Vergi Oranları'!$C$3,G65-F65,'Vergi Oranları'!$C$3-F65)))))","v":0},{"$f":"IF(I65=0,0,IF(ROUND((I65-$J$3)*'Vergi Oranları'!$G$3/100,2)<0,0,ROUND((I65-$M$3)*'Vergi Oranları'!$G$3/100,2)))","v":0},{"$f":"IF(E65=0,0,IF(D65=0,0,IF(G65=0,0,IF(F65>+'Vergi Oranları'!$C$4,0,IF(OR(G65<='Vergi Oranları'!$C$4,F65+E65<'Vergi Oranları'!$C$4),20,IF(G65-(E65+F65)<='Vergi Oranları'!$C$4,20,))))))","v":0},{"$f":"IF(E65=0,0,IF(D65=0,0,IF(G65=0,0,IF(K65=0,0,IF(F65+E65<=+'Vergi Oranları'!$C$4,G65-(F65+I65),+'Vergi Oranları'!$C$4-(F65+I65))))))","v":0},{"$f":"IF(L65=0,0,IF(ROUND((L65-$M$3)*+'Vergi Oranları'!$G$4/100,2)<0,0,ROUND((L65-$M$3)*+'Vergi Oranları'!$G$4/100,2)))","v":0},{"$f":"IF(E65=0,0,IF(D65=0,0,IF(G65=0,0,IF(OR(G65>+'Vergi Oranları'!$C$4,G65<=+'Vergi Oranları'!$C$5),27))))","v":0},{"$f":"IF(E65=0,0,IF(D65=0,0,IF(G65=0,0,IF(N65=0,0,IF(F65>'Vergi Oranları'!$C$5,0,IF(G65<=+'Vergi Oranları'!$C$5,G65-(F65+I65+L65),+'Vergi Oranları'!$C$5-(F65+I65+L65)))))))","v":0},{"$f":"ROUND(IF(N65=0,0,IF(E65<O65,(E65-$P$3)*'Vergi Oranları'!$G$5/100,(O65-$P$3)*'Vergi Oranları'!$G$5/100)),2)","v":0},{"$f":"IF(E65=0,0,IF(D65=0,0,IF(G65=0,0,IF(G65<=+'Vergi Oranları'!$C$5,0,IF(OR(G65>+'Vergi Oranları'!$C$5,F65+E65<=+'Vergi Oranları'!$C$5),35)))))","v":0},{"$f":"IF(E65=0,0,IF(D65=0,0,IF(G65=0,0,IF(Q65=0,0,IF(F65+E65>=+'Vergi Oranları'!$C$5,G65-(F65+I65+L65+O65),+'Vergi Oranları'!$C$5-(F65+I65+L65+O65))))))","v":0},{"$f":"IF(Q65=0,0,ROUND((R65-$S$3)*+'Vergi Oranları'!$G$6/100,2))","v":0},0]
[null,null,null,null,null,null,0,{"$f":"IF(E66=0,0,IF(D66=0,0,IF(G66=0,0,IF(F66>+'Vergi Oranları'!$C$3,0,IF(OR(G66<='Vergi Oranları'!$C$3,F66+E66<+'Vergi Oranları'!$C$3),15,IF(G66-(E66+F66)<='Vergi Oranları'!$C$3,15,))))))","v":0},{"$f":"IF(E66=0,0,IF(D66=0,0,IF(G66=0,0,IF(H66=0,0,IF(F66+E66<='Vergi Oranları'!$C$3,G66-F66,'Vergi Oranları'!$C$3-F66)))))","v":0},{"$f":"IF(I66=0,0,IF(ROUND((I66-$J$3)*'Vergi Oranları'!$G$3/100,2)<0,0,ROUND((I66-$M$3)*'Vergi Oranları'!$G$3/100,2)))","v":0},{"$f":"IF(E66=0,0,IF(D66=0,0,IF(G66=0,0,IF(F66>+'Vergi Oranları'!$C$4,0,IF(OR(G66<='Vergi Oranları'!$C$4,F66+E66<'Vergi Oranları'!$C$4),20,IF(G66-(E66+F66)<='Vergi Oranları'!$C$4,20,))))))","v":0},{"$f":"IF(E66=0,0,IF(D66=0,0,IF(G66=0,0,IF(K66=0,0,IF(F66+E66<=+'Vergi Oranları'!$C$4,G66-(F66+I66),+'Vergi Oranları'!$C$4-(F66+I66))))))","v":0},{"$f":"IF(L66=0,0,IF(ROUND((L66-$M$3)*+'Vergi Oranları'!$G$4/100,2)<0,0,ROUND((L66-$M$3)*+'Vergi Oranları'!$G$4/100,2)))","v":0},{"$f":"IF(E66=0,0,IF(D66=0,0,IF(G66=0,0,IF(OR(G66>+'Vergi Oranları'!$C$4,G66<=+'Vergi Oranları'!$C$5),27))))","v":0},{"$f":"IF(E66=0,0,IF(D66=0,0,IF(G66=0,0,IF(N66=0,0,IF(F66>'Vergi Oranları'!$C$5,0,IF(G66<=+'Vergi Oranları'!$C$5,G66-(F66+I66+L66),+'Vergi Oranları'!$C$5-(F66+I66+L66)))))))","v":0},{"$f":"ROUND(IF(N66=0,0,IF(E66<O66,(E66-$P$3)*'Vergi Oranları'!$G$5/100,(O66-$P$3)*'Vergi Oranları'!$G$5/100)),2)","v":0},{"$f":"IF(E66=0,0,IF(D66=0,0,IF(G66=0,0,IF(G66<=+'Vergi Oranları'!$C$5,0,IF(OR(G66>+'Vergi Oranları'!$C$5,F66+E66<=+'Vergi Oranları'!$C$5),35)))))","v":0},{"$f":"IF(E66=0,0,IF(D66=0,0,IF(G66=0,0,IF(Q66=0,0,IF(F66+E66>=+'Vergi Oranları'!$C$5,G66-(F66+I66+L66+O66),+'Vergi Oranları'!$C$5-(F66+I66+L66+O66))))))","v":0},{"$f":"IF(Q66=0,0,ROUND((R66-$S$3)*+'Vergi Oranları'!$G$6/100,2))","v":0},0]
[null,null,null,null,null,null,0,{"$f":"IF(E67=0,0,IF(D67=0,0,IF(G67=0,0,IF(F67>+'Vergi Oranları'!$C$3,0,IF(OR(G67<='Vergi Oranları'!$C$3,F67+E67<+'Vergi Oranları'!$C$3),15,IF(G67-(E67+F67)<='Vergi Oranları'!$C$3,15,))))))","v":0},{"$f":"IF(E67=0,0,IF(D67=0,0,IF(G67=0,0,IF(H67=0,0,IF(F67+E67<='Vergi Oranları'!$C$3,G67-F67,'Vergi Oranları'!$C$3-F67)))))","v":0},{"$f":"IF(I67=0,0,IF(ROUND((I67-$J$3)*'Vergi Oranları'!$G$3/100,2)<0,0,ROUND((I67-$M$3)*'Vergi Oranları'!$G$3/100,2)))","v":0},{"$f":"IF(E67=0,0,IF(D67=0,0,IF(G67=0,0,IF(F67>+'Vergi Oranları'!$C$4,0,IF(OR(G67<='Vergi Oranları'!$C$4,F67+E67<'Vergi Oranları'!$C$4),20,IF(G67-(E67+F67)<='Vergi Oranları'!$C$4,20,))))))","v":0},{"$f":"IF(E67=0,0,IF(D67=0,0,IF(G67=0,0,IF(K67=0,0,IF(F67+E67<=+'Vergi Oranları'!$C$4,G67-(F67+I67),+'Vergi Oranları'!$C$4-(F67+I67))))))","v":0},{"$f":"IF(L67=0,0,IF(ROUND((L67-$M$3)*+'Vergi Oranları'!$G$4/100,2)<0,0,ROUND((L67-$M$3)*+'Vergi Oranları'!$G$4/100,2)))","v":0},{"$f":"IF(E67=0,0,IF(D67=0,0,IF(G67=0,0,IF(OR(G67>+'Vergi Oranları'!$C$4,G67<=+'Vergi Oranları'!$C$5),27))))","v":0},{"$f":"IF(E67=0,0,IF(D67=0,0,IF(G67=0,0,IF(N67=0,0,IF(F67>'Vergi Oranları'!$C$5,0,IF(G67<=+'Vergi Oranları'!$C$5,G67-(F67+I67+L67),+'Vergi Oranları'!$C$5-(F67+I67+L67)))))))","v":0},{"$f":"ROUND(IF(N67=0,0,IF(E67<O67,(E67-$P$3)*'Vergi Oranları'!$G$5/100,(O67-$P$3)*'Vergi Oranları'!$G$5/100)),2)","v":0},{"$f":"IF(E67=0,0,IF(D67=0,0,IF(G67=0,0,IF(G67<=+'Vergi Oranları'!$C$5,0,IF(OR(G67>+'Vergi Oranları'!$C$5,F67+E67<=+'Vergi Oranları'!$C$5),35)))))","v":0},{"$f":"IF(E67=0,0,IF(D67=0,0,IF(G67=0,0,IF(Q67=0,0,IF(F67+E67>=+'Vergi Oranları'!$C$5,G67-(F67+I67+L67+O67),+'Vergi Oranları'!$C$5-(F67+I67+L67+O67))))))","v":0},{"$f":"IF(Q67=0,0,ROUND((R67-$S$3)*+'Vergi Oranları'!$G$6/100,2))","v":0},0]
[null,null,null,null,null,null,0,{"$f":"IF(E68=0,0,IF(D68=0,0,IF(G68=0,0,IF(F68>+'Vergi Oranları'!$C$3,0,IF(OR(G68<='Vergi Oranları'!$C$3,F68+E68<+'Vergi Oranları'!$C$3),15,IF(G68-(E68+F68)<='Vergi Oranları'!$C$3,15,))))))","v":0},{"$f":"IF(E68=0,0,IF(D68=0,0,IF(G68=0,0,IF(H68=0,0,IF(F68+E68<='Vergi Oranları'!$C$3,G68-F68,'Vergi Oranları'!$C$3-F68)))))","v":0},{"$f":"IF(I68=0,0,IF(ROUND((I68-$J$3)*'Vergi Oranları'!$G$3/100,2)<0,0,ROUND((I68-$M$3)*'Vergi Oranları'!$G$3/100,2)))","v":0},{"$f":"IF(E68=0,0,IF(D68=0,0,IF(G68=0,0,IF(F68>+'Vergi Oranları'!$C$4,0,IF(OR(G68<='Vergi Oranları'!$C$4,F68+E68<'Vergi Oranları'!$C$4),20,IF(G68-(E68+F68)<='Vergi Oranları'!$C$4,20,))))))","v":0},{"$f":"IF(E68=0,0,IF(D68=0,0,IF(G68=0,0,IF(K68=0,0,IF(F68+E68<=+'Vergi Oranları'!$C$4,G68-(F68+I68),+'Vergi Oranları'!$C$4-(F68+I68))))))","v":0},{"$f":"IF(L68=0,0,IF(ROUND((L68-$M$3)*+'Vergi Oranları'!$G$4/100,2)<0,0,ROUND((L68-$M$3)*+'Vergi Oranları'!$G$4/100,2)))","v":0},{"$f":"IF(E68=0,0,IF(D68=0,0,IF(G68=0,0,IF(OR(G68>+'Vergi Oranları'!$C$4,G68<=+'Vergi Oranları'!$C$5),27))))","v":0},{"$f":"IF(E68=0,0,IF(D68=0,0,IF(G68=0,0,IF(N68=0,0,IF(F68>'Vergi Oranları'!$C$5,0,IF(G68<=+'Vergi Oranları'!$C$5,G68-(F68+I68+L68),+'Vergi Oranları'!$C$5-(F68+I68+L68)))))))","v":0},{"$f":"ROUND(IF(N68=0,0,IF(E68<O68,(E68-$P$3)*'Vergi Oranları'!$G$5/100,(O68-$P$3)*'Vergi Oranları'!$G$5/100)),2)","v":0},{"$f":"IF(E68=0,0,IF(D68=0,0,IF(G68=0,0,IF(G68<=+'Vergi Oranları'!$C$5,0,IF(OR(G68>+'Vergi Oranları'!$C$5,F68+E68<=+'Vergi Oranları'!$C$5),35)))))","v":0},{"$f":"IF(E68=0,0,IF(D68=0,0,IF(G68=0,0,IF(Q68=0,0,IF(F68+E68>=+'Vergi Oranları'!$C$5,G68-(F68+I68+L68+O68),+'Vergi Oranları'!$C$5-(F68+I68+L68+O68))))))","v":0},{"$f":"IF(Q68=0,0,ROUND((R68-$S$3)*+'Vergi Oranları'!$G$6/100,2))","v":0},0]
[null,null,null,null,null,null,0,{"$f":"IF(E69=0,0,IF(D69=0,0,IF(G69=0,0,IF(F69>+'Vergi Oranları'!$C$3,0,IF(OR(G69<='Vergi Oranları'!$C$3,F69+E69<+'Vergi Oranları'!$C$3),15,IF(G69-(E69+F69)<='Vergi Oranları'!$C$3,15,))))))","v":0},{"$f":"IF(E69=0,0,IF(D69=0,0,IF(G69=0,0,IF(H69=0,0,IF(F69+E69<='Vergi Oranları'!$C$3,G69-F69,'Vergi Oranları'!$C$3-F69)))))","v":0},{"$f":"IF(I69=0,0,IF(ROUND((I69-$J$3)*'Vergi Oranları'!$G$3/100,2)<0,0,ROUND((I69-$M$3)*'Vergi Oranları'!$G$3/100,2)))","v":0},{"$f":"IF(E69=0,0,IF(D69=0,0,IF(G69=0,0,IF(F69>+'Vergi Oranları'!$C$4,0,IF(OR(G69<='Vergi Oranları'!$C$4,F69+E69<'Vergi Oranları'!$C$4),20,IF(G69-(E69+F69)<='Vergi Oranları'!$C$4,20,))))))","v":0},{"$f":"IF(E69=0,0,IF(D69=0,0,IF(G69=0,0,IF(K69=0,0,IF(F69+E69<=+'Vergi Oranları'!$C$4,G69-(F69+I69),+'Vergi Oranları'!$C$4-(F69+I69))))))","v":0},{"$f":"IF(L69=0,0,IF(ROUND((L69-$M$3)*+'Vergi Oranları'!$G$4/100,2)<0,0,ROUND((L69-$M$3)*+'Vergi Oranları'!$G$4/100,2)))","v":0},{"$f":"IF(E69=0,0,IF(D69=0,0,IF(G69=0,0,IF(OR(G69>+'Vergi Oranları'!$C$4,G69<=+'Vergi Oranları'!$C$5),27))))","v":0},{"$f":"IF(E69=0,0,IF(D69=0,0,IF(G69=0,0,IF(N69=0,0,IF(F69>'Vergi Oranları'!$C$5,0,IF(G69<=+'Vergi Oranları'!$C$5,G69-(F69+I69+L69),+'Vergi Oranları'!$C$5-(F69+I69+L69)))))))","v":0},{"$f":"ROUND(IF(N69=0,0,IF(E69<O69,(E69-$P$3)*'Vergi Oranları'!$G$5/100,(O69-$P$3)*'Vergi Oranları'!$G$5/100)),2)","v":0},{"$f":"IF(E69=0,0,IF(D69=0,0,IF(G69=0,0,IF(G69<=+'Vergi Oranları'!$C$5,0,IF(OR(G69>+'Vergi Oranları'!$C$5,F69+E69<=+'Vergi Oranları'!$C$5),35)))))","v":0},{"$f":"IF(E69=0,0,IF(D69=0,0,IF(G69=0,0,IF(Q69=0,0,IF(F69+E69>=+'Vergi Oranları'!$C$5,G69-(F69+I69+L69+O69),+'Vergi Oranları'!$C$5-(F69+I69+L69+O69))))))","v":0},{"$f":"IF(Q69=0,0,ROUND((R69-$S$3)*+'Vergi Oranları'!$G$6/100,2))","v":0},0]
[null,null,null,null,null,null,{"$f":"F70+E70","v":0},{"$f":"IF(E70=0,0,IF(D70=0,0,IF(G70=0,0,IF(F70>+'Vergi Oranları'!$C$3,0,IF(OR(G70<='Vergi Oranları'!$C$3,F70+E70<+'Vergi Oranları'!$C$3),15,IF(G70-(E70+F70)<='Vergi Oranları'!$C$3,15,))))))","v":0},{"$f":"IF(E70=0,0,IF(D70=0,0,IF(G70=0,0,IF(H70=0,0,IF(F70+E70<='Vergi Oranları'!$C$3,G70-F70,'Vergi Oranları'!$C$3-F70)))))","v":0},{"$f":"IF(I70=0,0,IF(ROUND((I70-$J$3)*'Vergi Oranları'!$G$3/100,2)<0,0,ROUND((I70-$M$3)*'Vergi Oranları'!$G$3/100,2)))","v":0},{"$f":"IF(E70=0,0,IF(D70=0,0,IF(G70=0,0,IF(F70>+'Vergi Oranları'!$C$4,0,IF(OR(G70<='Vergi Oranları'!$C$4,F70+E70<'Vergi Oranları'!$C$4),20,IF(G70-(E70+F70)<='Vergi Oranları'!$C$4,20,))))))","v":0},{"$f":"IF(E70=0,0,IF(D70=0,0,IF(G70=0,0,IF(K70=0,0,IF(F70+E70<=+'Vergi Oranları'!$C$4,G70-(F70+I70),+'Vergi Oranları'!$C$4-(F70+I70))))))","v":0},{"$f":"IF(L70=0,0,IF(ROUND((L70-$M$3)*+'Vergi Oranları'!$G$4/100,2)<0,0,ROUND((L70-$M$3)*+'Vergi Oranları'!$G$4/100,2)))","v":0},{"$f":"IF(E70=0,0,IF(D70=0,0,IF(G70=0,0,IF(OR(G70>+'Vergi Oranları'!$C$4,G70<=+'Vergi Oranları'!$C$5),27))))","v":0},{"$f":"IF(E70=0,0,IF(D70=0,0,IF(G70=0,0,IF(N70=0,0,IF(F70>'Vergi Oranları'!$C$5,0,IF(G70<=+'Vergi Oranları'!$C$5,G70-(F70+I70+L70),+'Vergi Oranları'!$C$5-(F70+I70+L70)))))))","v":0},{"$f":"ROUND(IF(N70=0,0,IF(E70<O70,(E70-$P$3)*'Vergi Oranları'!$G$5/100,(O70-$P$3)*'Vergi Oranları'!$G$5/100)),2)","v":0},{"$f":"IF(E70=0,0,IF(D70=0,0,IF(G70=0,0,IF(G70<=+'Vergi Oranları'!$C$5,0,IF(OR(G70>+'Vergi Oranları'!$C$5,F70+E70<=+'Vergi Oranları'!$C$5),35)))))","v":0},{"$f":"IF(E70=0,0,IF(D70=0,0,IF(G70=0,0,IF(Q70=0,0,IF(F70+E70>=+'Vergi Oranları'!$C$5,G70-(F70+I70+L70+O70),+'Vergi Oranları'!$C$5-(F70+I70+L70+O70))))))","v":0},{"$f":"IF(Q70=0,0,ROUND((R70-$S$3)*+'Vergi Oranları'!$G$6/100,2))","v":0},{"$f":"SUM(J70+M70+P70+S70)","v":0}]
[null,null,null,null,null,null,0,{"$f":"IF(E71=0,0,IF(D71=0,0,IF(G71=0,0,IF(F71>+'Vergi Oranları'!$C$3,0,IF(OR(G71<='Vergi Oranları'!$C$3,F71+E71<+'Vergi Oranları'!$C$3),15,IF(G71-(E71+F71)<='Vergi Oranları'!$C$3,15,))))))","v":0},{"$f":"IF(E71=0,0,IF(D71=0,0,IF(G71=0,0,IF(H71=0,0,IF(F71+E71<='Vergi Oranları'!$C$3,G71-F71,'Vergi Oranları'!$C$3-F71)))))","v":0},{"$f":"IF(I71=0,0,IF(ROUND((I71-$J$3)*'Vergi Oranları'!$G$3/100,2)<0,0,ROUND((I71-$M$3)*'Vergi Oranları'!$G$3/100,2)))","v":0},{"$f":"IF(E71=0,0,IF(D71=0,0,IF(G71=0,0,IF(F71>+'Vergi Oranları'!$C$4,0,IF(OR(G71<='Vergi Oranları'!$C$4,F71+E71<'Vergi Oranları'!$C$4),20,IF(G71-(E71+F71)<='Vergi Oranları'!$C$4,20,))))))","v":0},{"$f":"IF(E71=0,0,IF(D71=0,0,IF(G71=0,0,IF(K71=0,0,IF(F71+E71<=+'Vergi Oranları'!$C$4,G71-(F71+I71),+'Vergi Oranları'!$C$4-(F71+I71))))))","v":0},{"$f":"IF(L71=0,0,IF(ROUND((L71-$M$3)*+'Vergi Oranları'!$G$4/100,2)<0,0,ROUND((L71-$M$3)*+'Vergi Oranları'!$G$4/100,2)))","v":0},{"$f":"IF(E71=0,0,IF(D71=0,0,IF(G71=0,0,IF(OR(G71>+'Vergi Oranları'!$C$4,G71<=+'Vergi Oranları'!$C$5),27))))","v":0},{"$f":"IF(E71=0,0,IF(D71=0,0,IF(G71=0,0,IF(N71=0,0,IF(F71>'Vergi Oranları'!$C$5,0,IF(G71<=+'Vergi Oranları'!$C$5,G71-(F71+I71+L71),+'Vergi Oranları'!$C$5-(F71+I71+L71)))))))","v":0},{"$f":"ROUND(IF(N71=0,0,IF(E71<O71,(E71-$P$3)*'Vergi Oranları'!$G$5/100,(O71-$P$3)*'Vergi Oranları'!$G$5/100)),2)","v":0},{"$f":"IF(E71=0,0,IF(D71=0,0,IF(G71=0,0,IF(G71<=+'Vergi Oranları'!$C$5,0,IF(OR(G71>+'Vergi Oranları'!$C$5,F71+E71<=+'Vergi Oranları'!$C$5),35)))))","v":0},{"$f":"IF(E71=0,0,IF(D71=0,0,IF(G71=0,0,IF(Q71=0,0,IF(F71+E71>=+'Vergi Oranları'!$C$5,G71-(F71+I71+L71+O71),+'Vergi Oranları'!$C$5-(F71+I71+L71+O71))))))","v":0},{"$f":"IF(Q71=0,0,ROUND((R71-$S$3)*+'Vergi Oranları'!$G$6/100,2))","v":0},0]
[null,null,null,null,null,null,0,{"$f":"IF(E72=0,0,IF(D72=0,0,IF(G72=0,0,IF(F72>+'Vergi Oranları'!$C$3,0,IF(OR(G72<='Vergi Oranları'!$C$3,F72+E72<+'Vergi Oranları'!$C$3),15,IF(G72-(E72+F72)<='Vergi Oranları'!$C$3,15,))))))","v":0},{"$f":"IF(E72=0,0,IF(D72=0,0,IF(G72=0,0,IF(H72=0,0,IF(F72+E72<='Vergi Oranları'!$C$3,G72-F72,'Vergi Oranları'!$C$3-F72)))))","v":0},{"$f":"IF(I72=0,0,IF(ROUND((I72-$J$3)*'Vergi Oranları'!$G$3/100,2)<0,0,ROUND((I72-$M$3)*'Vergi Oranları'!$G$3/100,2)))","v":0},{"$f":"IF(E72=0,0,IF(D72=0,0,IF(G72=0,0,IF(F72>+'Vergi Oranları'!$C$4,0,IF(OR(G72<='Vergi Oranları'!$C$4,F72+E72<'Vergi Oranları'!$C$4),20,IF(G72-(E72+F72)<='Vergi Oranları'!$C$4,20,))))))","v":0},{"$f":"IF(E72=0,0,IF(D72=0,0,IF(G72=0,0,IF(K72=0,0,IF(F72+E72<=+'Vergi Oranları'!$C$4,G72-(F72+I72),+'Vergi Oranları'!$C$4-(F72+I72))))))","v":0},{"$f":"IF(L72=0,0,IF(ROUND((L72-$M$3)*+'Vergi Oranları'!$G$4/100,2)<0,0,ROUND((L72-$M$3)*+'Vergi Oranları'!$G$4/100,2)))","v":0},{"$f":"IF(E72=0,0,IF(D72=0,0,IF(G72=0,0,IF(OR(G72>+'Vergi Oranları'!$C$4,G72<=+'Vergi Oranları'!$C$5),27))))","v":0},{"$f":"IF(E72=0,0,IF(D72=0,0,IF(G72=0,0,IF(N72=0,0,IF(F72>'Vergi Oranları'!$C$5,0,IF(G72<=+'Vergi Oranları'!$C$5,G72-(F72+I72+L72),+'Vergi Oranları'!$C$5-(F72+I72+L72)))))))","v":0},{"$f":"ROUND(IF(N72=0,0,IF(E72<O72,(E72-$P$3)*'Vergi Oranları'!$G$5/100,(O72-$P$3)*'Vergi Oranları'!$G$5/100)),2)","v":0},{"$f":"IF(E72=0,0,IF(D72=0,0,IF(G72=0,0,IF(G72<=+'Vergi Oranları'!$C$5,0,IF(OR(G72>+'Vergi Oranları'!$C$5,F72+E72<=+'Vergi Oranları'!$C$5),35)))))","v":0},{"$f":"IF(E72=0,0,IF(D72=0,0,IF(G72=0,0,IF(Q72=0,0,IF(F72+E72>=+'Vergi Oranları'!$C$5,G72-(F72+I72+L72+O72),+'Vergi Oranları'!$C$5-(F72+I72+L72+O72))))))","v":0},{"$f":"IF(Q72=0,0,ROUND((R72-$S$3)*+'Vergi Oranları'!$G$6/100,2))","v":0},0]
[null,null,null,null,null,null,0,{"$f":"IF(E73=0,0,IF(D73=0,0,IF(G73=0,0,IF(F73>+'Vergi Oranları'!$C$3,0,IF(OR(G73<='Vergi Oranları'!$C$3,F73+E73<+'Vergi Oranları'!$C$3),15,IF(G73-(E73+F73)<='Vergi Oranları'!$C$3,15,))))))","v":0},{"$f":"IF(E73=0,0,IF(D73=0,0,IF(G73=0,0,IF(H73=0,0,IF(F73+E73<='Vergi Oranları'!$C$3,G73-F73,'Vergi Oranları'!$C$3-F73)))))","v":0},{"$f":"IF(I73=0,0,IF(ROUND((I73-$J$3)*'Vergi Oranları'!$G$3/100,2)<0,0,ROUND((I73-$M$3)*'Vergi Oranları'!$G$3/100,2)))","v":0},{"$f":"IF(E73=0,0,IF(D73=0,0,IF(G73=0,0,IF(F73>+'Vergi Oranları'!$C$4,0,IF(OR(G73<='Vergi Oranları'!$C$4,F73+E73<'Vergi Oranları'!$C$4),20,IF(G73-(E73+F73)<='Vergi Oranları'!$C$4,20,))))))","v":0},{"$f":"IF(E73=0,0,IF(D73=0,0,IF(G73=0,0,IF(K73=0,0,IF(F73+E73<=+'Vergi Oranları'!$C$4,G73-(F73+I73),+'Vergi Oranları'!$C$4-(F73+I73))))))","v":0},{"$f":"IF(L73=0,0,IF(ROUND((L73-$M$3)*+'Vergi Oranları'!$G$4/100,2)<0,0,ROUND((L73-$M$3)*+'Vergi Oranları'!$G$4/100,2)))","v":0},{"$f":"IF(E73=0,0,IF(D73=0,0,IF(G73=0,0,IF(OR(G73>+'Vergi Oranları'!$C$4,G73<=+'Vergi Oranları'!$C$5),27))))","v":0},{"$f":"IF(E73=0,0,IF(D73=0,0,IF(G73=0,0,IF(N73=0,0,IF(F73>'Vergi Oranları'!$C$5,0,IF(G73<=+'Vergi Oranları'!$C$5,G73-(F73+I73+L73),+'Vergi Oranları'!$C$5-(F73+I73+L73)))))))","v":0},{"$f":"ROUND(IF(N73=0,0,IF(E73<O73,(E73-$P$3)*'Vergi Oranları'!$G$5/100,(O73-$P$3)*'Vergi Oranları'!$G$5/100)),2)","v":0},{"$f":"IF(E73=0,0,IF(D73=0,0,IF(G73=0,0,IF(G73<=+'Vergi Oranları'!$C$5,0,IF(OR(G73>+'Vergi Oranları'!$C$5,F73+E73<=+'Vergi Oranları'!$C$5),35)))))","v":0},{"$f":"IF(E73=0,0,IF(D73=0,0,IF(G73=0,0,IF(Q73=0,0,IF(F73+E73>=+'Vergi Oranları'!$C$5,G73-(F73+I73+L73+O73),+'Vergi Oranları'!$C$5-(F73+I73+L73+O73))))))","v":0},{"$f":"IF(Q73=0,0,ROUND((R73-$S$3)*+'Vergi Oranları'!$G$6/100,2))","v":0},0]
[null,null,null,null,null,null,0,{"$f":"IF(E74=0,0,IF(D74=0,0,IF(G74=0,0,IF(F74>+'Vergi Oranları'!$C$3,0,IF(OR(G74<='Vergi Oranları'!$C$3,F74+E74<+'Vergi Oranları'!$C$3),15,IF(G74-(E74+F74)<='Vergi Oranları'!$C$3,15,))))))","v":0},{"$f":"IF(E74=0,0,IF(D74=0,0,IF(G74=0,0,IF(H74=0,0,IF(F74+E74<='Vergi Oranları'!$C$3,G74-F74,'Vergi Oranları'!$C$3-F74)))))","v":0},{"$f":"IF(I74=0,0,IF(ROUND((I74-$J$3)*'Vergi Oranları'!$G$3/100,2)<0,0,ROUND((I74-$M$3)*'Vergi Oranları'!$G$3/100,2)))","v":0},{"$f":"IF(E74=0,0,IF(D74=0,0,IF(G74=0,0,IF(F74>+'Vergi Oranları'!$C$4,0,IF(OR(G74<='Vergi Oranları'!$C$4,F74+E74<'Vergi Oranları'!$C$4),20,IF(G74-(E74+F74)<='Vergi Oranları'!$C$4,20,))))))","v":0},{"$f":"IF(E74=0,0,IF(D74=0,0,IF(G74=0,0,IF(K74=0,0,IF(F74+E74<=+'Vergi Oranları'!$C$4,G74-(F74+I74),+'Vergi Oranları'!$C$4-(F74+I74))))))","v":0},{"$f":"IF(L74=0,0,IF(ROUND((L74-$M$3)*+'Vergi Oranları'!$G$4/100,2)<0,0,ROUND((L74-$M$3)*+'Vergi Oranları'!$G$4/100,2)))","v":0},{"$f":"IF(E74=0,0,IF(D74=0,0,IF(G74=0,0,IF(OR(G74>+'Vergi Oranları'!$C$4,G74<=+'Vergi Oranları'!$C$5),27))))","v":0},{"$f":"IF(E74=0,0,IF(D74=0,0,IF(G74=0,0,IF(N74=0,0,IF(F74>'Vergi Oranları'!$C$5,0,IF(G74<=+'Vergi Oranları'!$C$5,G74-(F74+I74+L74),+'Vergi Oranları'!$C$5-(F74+I74+L74)))))))","v":0},{"$f":"ROUND(IF(N74=0,0,IF(E74<O74,(E74-$P$3)*'Vergi Oranları'!$G$5/100,(O74-$P$3)*'Vergi Oranları'!$G$5/100)),2)","v":0},{"$f":"IF(E74=0,0,IF(D74=0,0,IF(G74=0,0,IF(G74<=+'Vergi Oranları'!$C$5,0,IF(OR(G74>+'Vergi Oranları'!$C$5,F74+E74<=+'Vergi Oranları'!$C$5),35)))))","v":0},{"$f":"IF(E74=0,0,IF(D74=0,0,IF(G74=0,0,IF(Q74=0,0,IF(F74+E74>=+'Vergi Oranları'!$C$5,G74-(F74+I74+L74+O74),+'Vergi Oranları'!$C$5-(F74+I74+L74+O74))))))","v":0},{"$f":"IF(Q74=0,0,ROUND((R74-$S$3)*+'Vergi Oranları'!$G$6/100,2))","v":0},0]
[null,null,null,null,null,null,0,{"$f":"IF(E75=0,0,IF(D75=0,0,IF(G75=0,0,IF(F75>+'Vergi Oranları'!$C$3,0,IF(OR(G75<='Vergi Oranları'!$C$3,F75+E75<+'Vergi Oranları'!$C$3),15,IF(G75-(E75+F75)<='Vergi Oranları'!$C$3,15,))))))","v":0},{"$f":"IF(E75=0,0,IF(D75=0,0,IF(G75=0,0,IF(H75=0,0,IF(F75+E75<='Vergi Oranları'!$C$3,G75-F75,'Vergi Oranları'!$C$3-F75)))))","v":0},{"$f":"IF(I75=0,0,IF(ROUND((I75-$J$3)*'Vergi Oranları'!$G$3/100,2)<0,0,ROUND((I75-$M$3)*'Vergi Oranları'!$G$3/100,2)))","v":0},{"$f":"IF(E75=0,0,IF(D75=0,0,IF(G75=0,0,IF(F75>+'Vergi Oranları'!$C$4,0,IF(OR(G75<='Vergi Oranları'!$C$4,F75+E75<'Vergi Oranları'!$C$4),20,IF(G75-(E75+F75)<='Vergi Oranları'!$C$4,20,))))))","v":0},{"$f":"IF(E75=0,0,IF(D75=0,0,IF(G75=0,0,IF(K75=0,0,IF(F75+E75<=+'Vergi Oranları'!$C$4,G75-(F75+I75),+'Vergi Oranları'!$C$4-(F75+I75))))))","v":0},{"$f":"IF(L75=0,0,IF(ROUND((L75-$M$3)*+'Vergi Oranları'!$G$4/100,2)<0,0,ROUND((L75-$M$3)*+'Vergi Oranları'!$G$4/100,2)))","v":0},{"$f":"IF(E75=0,0,IF(D75=0,0,IF(G75=0,0,IF(OR(G75>+'Vergi Oranları'!$C$4,G75<=+'Vergi Oranları'!$C$5),27))))","v":0},{"$f":"IF(E75=0,0,IF(D75=0,0,IF(G75=0,0,IF(N75=0,0,IF(F75>'Vergi Oranları'!$C$5,0,IF(G75<=+'Vergi Oranları'!$C$5,G75-(F75+I75+L75),+'Vergi Oranları'!$C$5-(F75+I75+L75)))))))","v":0},{"$f":"ROUND(IF(N75=0,0,IF(E75<O75,(E75-$P$3)*'Vergi Oranları'!$G$5/100,(O75-$P$3)*'Vergi Oranları'!$G$5/100)),2)","v":0},{"$f":"IF(E75=0,0,IF(D75=0,0,IF(G75=0,0,IF(G75<=+'Vergi Oranları'!$C$5,0,IF(OR(G75>+'Vergi Oranları'!$C$5,F75+E75<=+'Vergi Oranları'!$C$5),35)))))","v":0},{"$f":"IF(E75=0,0,IF(D75=0,0,IF(G75=0,0,IF(Q75=0,0,IF(F75+E75>=+'Vergi Oranları'!$C$5,G75-(F75+I75+L75+O75),+'Vergi Oranları'!$C$5-(F75+I75+L75+O75))))))","v":0},{"$f":"IF(Q75=0,0,ROUND((R75-$S$3)*+'Vergi Oranları'!$G$6/100,2))","v":0},0]
[null,null,null,null,null,null,0,{"$f":"IF(E76=0,0,IF(D76=0,0,IF(G76=0,0,IF(F76>+'Vergi Oranları'!$C$3,0,IF(OR(G76<='Vergi Oranları'!$C$3,F76+E76<+'Vergi Oranları'!$C$3),15,IF(G76-(E76+F76)<='Vergi Oranları'!$C$3,15,))))))","v":0},{"$f":"IF(E76=0,0,IF(D76=0,0,IF(G76=0,0,IF(H76=0,0,IF(F76+E76<='Vergi Oranları'!$C$3,G76-F76,'Vergi Oranları'!$C$3-F76)))))","v":0},{"$f":"IF(I76=0,0,IF(ROUND((I76-$J$3)*'Vergi Oranları'!$G$3/100,2)<0,0,ROUND((I76-$M$3)*'Vergi Oranları'!$G$3/100,2)))","v":0},{"$f":"IF(E76=0,0,IF(D76=0,0,IF(G76=0,0,IF(F76>+'Vergi Oranları'!$C$4,0,IF(OR(G76<='Vergi Oranları'!$C$4,F76+E76<'Vergi Oranları'!$C$4),20,IF(G76-(E76+F76)<='Vergi Oranları'!$C$4,20,))))))","v":0},{"$f":"IF(E76=0,0,IF(D76=0,0,IF(G76=0,0,IF(K76=0,0,IF(F76+E76<=+'Vergi Oranları'!$C$4,G76-(F76+I76),+'Vergi Oranları'!$C$4-(F76+I76))))))","v":0},{"$f":"IF(L76=0,0,IF(ROUND((L76-$M$3)*+'Vergi Oranları'!$G$4/100,2)<0,0,ROUND((L76-$M$3)*+'Vergi Oranları'!$G$4/100,2)))","v":0},{"$f":"IF(E76=0,0,IF(D76=0,0,IF(G76=0,0,IF(OR(G76>+'Vergi Oranları'!$C$4,G76<=+'Vergi Oranları'!$C$5),27))))","v":0},{"$f":"IF(E76=0,0,IF(D76=0,0,IF(G76=0,0,IF(N76=0,0,IF(F76>'Vergi Oranları'!$C$5,0,IF(G76<=+'Vergi Oranları'!$C$5,G76-(F76+I76+L76),+'Vergi Oranları'!$C$5-(F76+I76+L76)))))))","v":0},{"$f":"ROUND(IF(N76=0,0,IF(E76<O76,(E76-$P$3)*'Vergi Oranları'!$G$5/100,(O76-$P$3)*'Vergi Oranları'!$G$5/100)),2)","v":0},{"$f":"IF(E76=0,0,IF(D76=0,0,IF(G76=0,0,IF(G76<=+'Vergi Oranları'!$C$5,0,IF(OR(G76>+'Vergi Oranları'!$C$5,F76+E76<=+'Vergi Oranları'!$C$5),35)))))","v":0},{"$f":"IF(E76=0,0,IF(D76=0,0,IF(G76=0,0,IF(Q76=0,0,IF(F76+E76>=+'Vergi Oranları'!$C$5,G76-(F76+I76+L76+O76),+'Vergi Oranları'!$C$5-(F76+I76+L76+O76))))))","v":0},{"$f":"IF(Q76=0,0,ROUND((R76-$S$3)*+'Vergi Oranları'!$G$6/100,2))","v":0},0]
[null,null,null,null,null,null,0,{"$f":"IF(E77=0,0,IF(D77=0,0,IF(G77=0,0,IF(F77>+'Vergi Oranları'!$C$3,0,IF(OR(G77<='Vergi Oranları'!$C$3,F77+E77<+'Vergi Oranları'!$C$3),15,IF(G77-(E77+F77)<='Vergi Oranları'!$C$3,15,))))))","v":0},{"$f":"IF(E77=0,0,IF(D77=0,0,IF(G77=0,0,IF(H77=0,0,IF(F77+E77<='Vergi Oranları'!$C$3,G77-F77,'Vergi Oranları'!$C$3-F77)))))","v":0},{"$f":"IF(I77=0,0,IF(ROUND((I77-$J$3)*'Vergi Oranları'!$G$3/100,2)<0,0,ROUND((I77-$M$3)*'Vergi Oranları'!$G$3/100,2)))","v":0},{"$f":"IF(E77=0,0,IF(D77=0,0,IF(G77=0,0,IF(F77>+'Vergi Oranları'!$C$4,0,IF(OR(G77<='Vergi Oranları'!$C$4,F77+E77<'Vergi Oranları'!$C$4),20,IF(G77-(E77+F77)<='Vergi Oranları'!$C$4,20,))))))","v":0},{"$f":"IF(E77=0,0,IF(D77=0,0,IF(G77=0,0,IF(K77=0,0,IF(F77+E77<=+'Vergi Oranları'!$C$4,G77-(F77+I77),+'Vergi Oranları'!$C$4-(F77+I77))))))","v":0},{"$f":"IF(L77=0,0,IF(ROUND((L77-$M$3)*+'Vergi Oranları'!$G$4/100,2)<0,0,ROUND((L77-$M$3)*+'Vergi Oranları'!$G$4/100,2)))","v":0},{"$f":"IF(E77=0,0,IF(D77=0,0,IF(G77=0,0,IF(OR(G77>+'Vergi Oranları'!$C$4,G77<=+'Vergi Oranları'!$C$5),27))))","v":0},{"$f":"IF(E77=0,0,IF(D77=0,0,IF(G77=0,0,IF(N77=0,0,IF(F77>'Vergi Oranları'!$C$5,0,IF(G77<=+'Vergi Oranları'!$C$5,G77-(F77+I77+L77),+'Vergi Oranları'!$C$5-(F77+I77+L77)))))))","v":0},{"$f":"ROUND(IF(N77=0,0,IF(E77<O77,(E77-$P$3)*'Vergi Oranları'!$G$5/100,(O77-$P$3)*'Vergi Oranları'!$G$5/100)),2)","v":0},{"$f":"IF(E77=0,0,IF(D77=0,0,IF(G77=0,0,IF(G77<=+'Vergi Oranları'!$C$5,0,IF(OR(G77>+'Vergi Oranları'!$C$5,F77+E77<=+'Vergi Oranları'!$C$5),35)))))","v":0},{"$f":"IF(E77=0,0,IF(D77=0,0,IF(G77=0,0,IF(Q77=0,0,IF(F77+E77>=+'Vergi Oranları'!$C$5,G77-(F77+I77+L77+O77),+'Vergi Oranları'!$C$5-(F77+I77+L77+O77))))))","v":0},{"$f":"IF(Q77=0,0,ROUND((R77-$S$3)*+'Vergi Oranları'!$G$6/100,2))","v":0},0]
[null,null,null,null,null,null,0,{"$f":"IF(E78=0,0,IF(D78=0,0,IF(G78=0,0,IF(F78>+'Vergi Oranları'!$C$3,0,IF(OR(G78<='Vergi Oranları'!$C$3,F78+E78<+'Vergi Oranları'!$C$3),15,IF(G78-(E78+F78)<='Vergi Oranları'!$C$3,15,))))))","v":0},{"$f":"IF(E78=0,0,IF(D78=0,0,IF(G78=0,0,IF(H78=0,0,IF(F78+E78<='Vergi Oranları'!$C$3,G78-F78,'Vergi Oranları'!$C$3-F78)))))","v":0},{"$f":"IF(I78=0,0,IF(ROUND((I78-$J$3)*'Vergi Oranları'!$G$3/100,2)<0,0,ROUND((I78-$M$3)*'Vergi Oranları'!$G$3/100,2)))","v":0},{"$f":"IF(E78=0,0,IF(D78=0,0,IF(G78=0,0,IF(F78>+'Vergi Oranları'!$C$4,0,IF(OR(G78<='Vergi Oranları'!$C$4,F78+E78<'Vergi Oranları'!$C$4),20,IF(G78-(E78+F78)<='Vergi Oranları'!$C$4,20,))))))","v":0},{"$f":"IF(E78=0,0,IF(D78=0,0,IF(G78=0,0,IF(K78=0,0,IF(F78+E78<=+'Vergi Oranları'!$C$4,G78-(F78+I78),+'Vergi Oranları'!$C$4-(F78+I78))))))","v":0},{"$f":"IF(L78=0,0,IF(ROUND((L78-$M$3)*+'Vergi Oranları'!$G$4/100,2)<0,0,ROUND((L78-$M$3)*+'Vergi Oranları'!$G$4/100,2)))","v":0},{"$f":"IF(E78=0,0,IF(D78=0,0,IF(G78=0,0,IF(OR(G78>+'Vergi Oranları'!$C$4,G78<=+'Vergi Oranları'!$C$5),27))))","v":0},{"$f":"IF(E78=0,0,IF(D78=0,0,IF(G78=0,0,IF(N78=0,0,IF(F78>'Vergi Oranları'!$C$5,0,IF(G78<=+'Vergi Oranları'!$C$5,G78-(F78+I78+L78),+'Vergi Oranları'!$C$5-(F78+I78+L78)))))))","v":0},{"$f":"ROUND(IF(N78=0,0,IF(E78<O78,(E78-$P$3)*'Vergi Oranları'!$G$5/100,(O78-$P$3)*'Vergi Oranları'!$G$5/100)),2)","v":0},{"$f":"IF(E78=0,0,IF(D78=0,0,IF(G78=0,0,IF(G78<=+'Vergi Oranları'!$C$5,0,IF(OR(G78>+'Vergi Oranları'!$C$5,F78+E78<=+'Vergi Oranları'!$C$5),35)))))","v":0},{"$f":"IF(E78=0,0,IF(D78=0,0,IF(G78=0,0,IF(Q78=0,0,IF(F78+E78>=+'Vergi Oranları'!$C$5,G78-(F78+I78+L78+O78),+'Vergi Oranları'!$C$5-(F78+I78+L78+O78))))))","v":0},{"$f":"IF(Q78=0,0,ROUND((R78-$S$3)*+'Vergi Oranları'!$G$6/100,2))","v":0},0]
[null,null,null,null,null,null,0,{"$f":"IF(E79=0,0,IF(D79=0,0,IF(G79=0,0,IF(F79>+'Vergi Oranları'!$C$3,0,IF(OR(G79<='Vergi Oranları'!$C$3,F79+E79<+'Vergi Oranları'!$C$3),15,IF(G79-(E79+F79)<='Vergi Oranları'!$C$3,15,))))))","v":0},{"$f":"IF(E79=0,0,IF(D79=0,0,IF(G79=0,0,IF(H79=0,0,IF(F79+E79<='Vergi Oranları'!$C$3,G79-F79,'Vergi Oranları'!$C$3-F79)))))","v":0},{"$f":"IF(I79=0,0,IF(ROUND((I79-$J$3)*'Vergi Oranları'!$G$3/100,2)<0,0,ROUND((I79-$M$3)*'Vergi Oranları'!$G$3/100,2)))","v":0},{"$f":"IF(E79=0,0,IF(D79=0,0,IF(G79=0,0,IF(F79>+'Vergi Oranları'!$C$4,0,IF(OR(G79<='Vergi Oranları'!$C$4,F79+E79<'Vergi Oranları'!$C$4),20,IF(G79-(E79+F79)<='Vergi Oranları'!$C$4,20,))))))","v":0},{"$f":"IF(E79=0,0,IF(D79=0,0,IF(G79=0,0,IF(K79=0,0,IF(F79+E79<=+'Vergi Oranları'!$C$4,G79-(F79+I79),+'Vergi Oranları'!$C$4-(F79+I79))))))","v":0},{"$f":"IF(L79=0,0,IF(ROUND((L79-$M$3)*+'Vergi Oranları'!$G$4/100,2)<0,0,ROUND((L79-$M$3)*+'Vergi Oranları'!$G$4/100,2)))","v":0},{"$f":"IF(E79=0,0,IF(D79=0,0,IF(G79=0,0,IF(OR(G79>+'Vergi Oranları'!$C$4,G79<=+'Vergi Oranları'!$C$5),27))))","v":0},{"$f":"IF(E79=0,0,IF(D79=0,0,IF(G79=0,0,IF(N79=0,0,IF(F79>'Vergi Oranları'!$C$5,0,IF(G79<=+'Vergi Oranları'!$C$5,G79-(F79+I79+L79),+'Vergi Oranları'!$C$5-(F79+I79+L79)))))))","v":0},{"$f":"ROUND(IF(N79=0,0,IF(E79<O79,(E79-$P$3)*'Vergi Oranları'!$G$5/100,(O79-$P$3)*'Vergi Oranları'!$G$5/100)),2)","v":0},{"$f":"IF(E79=0,0,IF(D79=0,0,IF(G79=0,0,IF(G79<=+'Vergi Oranları'!$C$5,0,IF(OR(G79>+'Vergi Oranları'!$C$5,F79+E79<=+'Vergi Oranları'!$C$5),35)))))","v":0},{"$f":"IF(E79=0,0,IF(D79=0,0,IF(G79=0,0,IF(Q79=0,0,IF(F79+E79>=+'Vergi Oranları'!$C$5,G79-(F79+I79+L79+O79),+'Vergi Oranları'!$C$5-(F79+I79+L79+O79))))))","v":0},{"$f":"IF(Q79=0,0,ROUND((R79-$S$3)*+'Vergi Oranları'!$G$6/100,2))","v":0},0]
[null,null,null,null,null,null,0,{"$f":"IF(E80=0,0,IF(D80=0,0,IF(G80=0,0,IF(F80>+'Vergi Oranları'!$C$3,0,IF(OR(G80<='Vergi Oranları'!$C$3,F80+E80<+'Vergi Oranları'!$C$3),15,IF(G80-(E80+F80)<='Vergi Oranları'!$C$3,15,))))))","v":0},{"$f":"IF(E80=0,0,IF(D80=0,0,IF(G80=0,0,IF(H80=0,0,IF(F80+E80<='Vergi Oranları'!$C$3,G80-F80,'Vergi Oranları'!$C$3-F80)))))","v":0},{"$f":"IF(I80=0,0,IF(ROUND((I80-$J$3)*'Vergi Oranları'!$G$3/100,2)<0,0,ROUND((I80-$M$3)*'Vergi Oranları'!$G$3/100,2)))","v":0},{"$f":"IF(E80=0,0,IF(D80=0,0,IF(G80=0,0,IF(F80>+'Vergi Oranları'!$C$4,0,IF(OR(G80<='Vergi Oranları'!$C$4,F80+E80<'Vergi Oranları'!$C$4),20,IF(G80-(E80+F80)<='Vergi Oranları'!$C$4,20,))))))","v":0},{"$f":"IF(E80=0,0,IF(D80=0,0,IF(G80=0,0,IF(K80=0,0,IF(F80+E80<=+'Vergi Oranları'!$C$4,G80-(F80+I80),+'Vergi Oranları'!$C$4-(F80+I80))))))","v":0},{"$f":"IF(L80=0,0,IF(ROUND((L80-$M$3)*+'Vergi Oranları'!$G$4/100,2)<0,0,ROUND((L80-$M$3)*+'Vergi Oranları'!$G$4/100,2)))","v":0},{"$f":"IF(E80=0,0,IF(D80=0,0,IF(G80=0,0,IF(OR(G80>+'Vergi Oranları'!$C$4,G80<=+'Vergi Oranları'!$C$5),27))))","v":0},{"$f":"IF(E80=0,0,IF(D80=0,0,IF(G80=0,0,IF(N80=0,0,IF(F80>'Vergi Oranları'!$C$5,0,IF(G80<=+'Vergi Oranları'!$C$5,G80-(F80+I80+L80),+'Vergi Oranları'!$C$5-(F80+I80+L80)))))))","v":0},{"$f":"ROUND(IF(N80=0,0,IF(E80<O80,(E80-$P$3)*'Vergi Oranları'!$G$5/100,(O80-$P$3)*'Vergi Oranları'!$G$5/100)),2)","v":0},{"$f":"IF(E80=0,0,IF(D80=0,0,IF(G80=0,0,IF(G80<=+'Vergi Oranları'!$C$5,0,IF(OR(G80>+'Vergi Oranları'!$C$5,F80+E80<=+'Vergi Oranları'!$C$5),35)))))","v":0},{"$f":"IF(E80=0,0,IF(D80=0,0,IF(G80=0,0,IF(Q80=0,0,IF(F80+E80>=+'Vergi Oranları'!$C$5,G80-(F80+I80+L80+O80),+'Vergi Oranları'!$C$5-(F80+I80+L80+O80))))))","v":0},{"$f":"IF(Q80=0,0,ROUND((R80-$S$3)*+'Vergi Oranları'!$G$6/100,2))","v":0},0]
[null,null,null,null,null,null,0,{"$f":"IF(E81=0,0,IF(D81=0,0,IF(G81=0,0,IF(F81>+'Vergi Oranları'!$C$3,0,IF(OR(G81<='Vergi Oranları'!$C$3,F81+E81<+'Vergi Oranları'!$C$3),15,IF(G81-(E81+F81)<='Vergi Oranları'!$C$3,15,))))))","v":0},{"$f":"IF(E81=0,0,IF(D81=0,0,IF(G81=0,0,IF(H81=0,0,IF(F81+E81<='Vergi Oranları'!$C$3,G81-F81,'Vergi Oranları'!$C$3-F81)))))","v":0},{"$f":"IF(I81=0,0,IF(ROUND((I81-$J$3)*'Vergi Oranları'!$G$3/100,2)<0,0,ROUND((I81-$M$3)*'Vergi Oranları'!$G$3/100,2)))","v":0},{"$f":"IF(E81=0,0,IF(D81=0,0,IF(G81=0,0,IF(F81>+'Vergi Oranları'!$C$4,0,IF(OR(G81<='Vergi Oranları'!$C$4,F81+E81<'Vergi Oranları'!$C$4),20,IF(G81-(E81+F81)<='Vergi Oranları'!$C$4,20,))))))","v":0},{"$f":"IF(E81=0,0,IF(D81=0,0,IF(G81=0,0,IF(K81=0,0,IF(F81+E81<=+'Vergi Oranları'!$C$4,G81-(F81+I81),+'Vergi Oranları'!$C$4-(F81+I81))))))","v":0},{"$f":"IF(L81=0,0,IF(ROUND((L81-$M$3)*+'Vergi Oranları'!$G$4/100,2)<0,0,ROUND((L81-$M$3)*+'Vergi Oranları'!$G$4/100,2)))","v":0},{"$f":"IF(E81=0,0,IF(D81=0,0,IF(G81=0,0,IF(OR(G81>+'Vergi Oranları'!$C$4,G81<=+'Vergi Oranları'!$C$5),27))))","v":0},{"$f":"IF(E81=0,0,IF(D81=0,0,IF(G81=0,0,IF(N81=0,0,IF(F81>'Vergi Oranları'!$C$5,0,IF(G81<=+'Vergi Oranları'!$C$5,G81-(F81+I81+L81),+'Vergi Oranları'!$C$5-(F81+I81+L81)))))))","v":0},{"$f":"ROUND(IF(N81=0,0,IF(E81<O81,(E81-$P$3)*'Vergi Oranları'!$G$5/100,(O81-$P$3)*'Vergi Oranları'!$G$5/100)),2)","v":0},{"$f":"IF(E81=0,0,IF(D81=0,0,IF(G81=0,0,IF(G81<=+'Vergi Oranları'!$C$5,0,IF(OR(G81>+'Vergi Oranları'!$C$5,F81+E81<=+'Vergi Oranları'!$C$5),35)))))","v":0},{"$f":"IF(E81=0,0,IF(D81=0,0,IF(G81=0,0,IF(Q81=0,0,IF(F81+E81>=+'Vergi Oranları'!$C$5,G81-(F81+I81+L81+O81),+'Vergi Oranları'!$C$5-(F81+I81+L81+O81))))))","v":0},{"$f":"IF(Q81=0,0,ROUND((R81-$S$3)*+'Vergi Oranları'!$G$6/100,2))","v":0},0]
[null,null,null,null,null,null,0,{"$f":"IF(E82=0,0,IF(D82=0,0,IF(G82=0,0,IF(F82>+'Vergi Oranları'!$C$3,0,IF(OR(G82<='Vergi Oranları'!$C$3,F82+E82<+'Vergi Oranları'!$C$3),15,IF(G82-(E82+F82)<='Vergi Oranları'!$C$3,15,))))))","v":0},{"$f":"IF(E82=0,0,IF(D82=0,0,IF(G82=0,0,IF(H82=0,0,IF(F82+E82<='Vergi Oranları'!$C$3,G82-F82,'Vergi Oranları'!$C$3-F82)))))","v":0},{"$f":"IF(I82=0,0,IF(ROUND((I82-$J$3)*'Vergi Oranları'!$G$3/100,2)<0,0,ROUND((I82-$M$3)*'Vergi Oranları'!$G$3/100,2)))","v":0},{"$f":"IF(E82=0,0,IF(D82=0,0,IF(G82=0,0,IF(F82>+'Vergi Oranları'!$C$4,0,IF(OR(G82<='Vergi Oranları'!$C$4,F82+E82<'Vergi Oranları'!$C$4),20,IF(G82-(E82+F82)<='Vergi Oranları'!$C$4,20,))))))","v":0},{"$f":"IF(E82=0,0,IF(D82=0,0,IF(G82=0,0,IF(K82=0,0,IF(F82+E82<=+'Vergi Oranları'!$C$4,G82-(F82+I82),+'Vergi Oranları'!$C$4-(F82+I82))))))","v":0},{"$f":"IF(L82=0,0,IF(ROUND((L82-$M$3)*+'Vergi Oranları'!$G$4/100,2)<0,0,ROUND((L82-$M$3)*+'Vergi Oranları'!$G$4/100,2)))","v":0},{"$f":"IF(E82=0,0,IF(D82=0,0,IF(G82=0,0,IF(OR(G82>+'Vergi Oranları'!$C$4,G82<=+'Vergi Oranları'!$C$5),27))))","v":0},{"$f":"IF(E82=0,0,IF(D82=0,0,IF(G82=0,0,IF(N82=0,0,IF(F82>'Vergi Oranları'!$C$5,0,IF(G82<=+'Vergi Oranları'!$C$5,G82-(F82+I82+L82),+'Vergi Oranları'!$C$5-(F82+I82+L82)))))))","v":0},{"$f":"ROUND(IF(N82=0,0,IF(E82<O82,(E82-$P$3)*'Vergi Oranları'!$G$5/100,(O82-$P$3)*'Vergi Oranları'!$G$5/100)),2)","v":0},{"$f":"IF(E82=0,0,IF(D82=0,0,IF(G82=0,0,IF(G82<=+'Vergi Oranları'!$C$5,0,IF(OR(G82>+'Vergi Oranları'!$C$5,F82+E82<=+'Vergi Oranları'!$C$5),35)))))","v":0},{"$f":"IF(E82=0,0,IF(D82=0,0,IF(G82=0,0,IF(Q82=0,0,IF(F82+E82>=+'Vergi Oranları'!$C$5,G82-(F82+I82+L82+O82),+'Vergi Oranları'!$C$5-(F82+I82+L82+O82))))))","v":0},{"$f":"IF(Q82=0,0,ROUND((R82-$S$3)*+'Vergi Oranları'!$G$6/100,2))","v":0},0]
[null,null,null,null,null,null,0,{"$f":"IF(E83=0,0,IF(D83=0,0,IF(G83=0,0,IF(F83>+'Vergi Oranları'!$C$3,0,IF(OR(G83<='Vergi Oranları'!$C$3,F83+E83<+'Vergi Oranları'!$C$3),15,IF(G83-(E83+F83)<='Vergi Oranları'!$C$3,15,))))))","v":0},{"$f":"IF(E83=0,0,IF(D83=0,0,IF(G83=0,0,IF(H83=0,0,IF(F83+E83<='Vergi Oranları'!$C$3,G83-F83,'Vergi Oranları'!$C$3-F83)))))","v":0},{"$f":"IF(I83=0,0,IF(ROUND((I83-$J$3)*'Vergi Oranları'!$G$3/100,2)<0,0,ROUND((I83-$M$3)*'Vergi Oranları'!$G$3/100,2)))","v":0},{"$f":"IF(E83=0,0,IF(D83=0,0,IF(G83=0,0,IF(F83>+'Vergi Oranları'!$C$4,0,IF(OR(G83<='Vergi Oranları'!$C$4,F83+E83<'Vergi Oranları'!$C$4),20,IF(G83-(E83+F83)<='Vergi Oranları'!$C$4,20,))))))","v":0},{"$f":"IF(E83=0,0,IF(D83=0,0,IF(G83=0,0,IF(K83=0,0,IF(F83+E83<=+'Vergi Oranları'!$C$4,G83-(F83+I83),+'Vergi Oranları'!$C$4-(F83+I83))))))","v":0},{"$f":"IF(L83=0,0,IF(ROUND((L83-$M$3)*+'Vergi Oranları'!$G$4/100,2)<0,0,ROUND((L83-$M$3)*+'Vergi Oranları'!$G$4/100,2)))","v":0},{"$f":"IF(E83=0,0,IF(D83=0,0,IF(G83=0,0,IF(OR(G83>+'Vergi Oranları'!$C$4,G83<=+'Vergi Oranları'!$C$5),27))))","v":0},{"$f":"IF(E83=0,0,IF(D83=0,0,IF(G83=0,0,IF(N83=0,0,IF(F83>'Vergi Oranları'!$C$5,0,IF(G83<=+'Vergi Oranları'!$C$5,G83-(F83+I83+L83),+'Vergi Oranları'!$C$5-(F83+I83+L83)))))))","v":0},{"$f":"ROUND(IF(N83=0,0,IF(E83<O83,(E83-$P$3)*'Vergi Oranları'!$G$5/100,(O83-$P$3)*'Vergi Oranları'!$G$5/100)),2)","v":0},{"$f":"IF(E83=0,0,IF(D83=0,0,IF(G83=0,0,IF(G83<=+'Vergi Oranları'!$C$5,0,IF(OR(G83>+'Vergi Oranları'!$C$5,F83+E83<=+'Vergi Oranları'!$C$5),35)))))","v":0},{"$f":"IF(E83=0,0,IF(D83=0,0,IF(G83=0,0,IF(Q83=0,0,IF(F83+E83>=+'Vergi Oranları'!$C$5,G83-(F83+I83+L83+O83),+'Vergi Oranları'!$C$5-(F83+I83+L83+O83))))))","v":0},{"$f":"IF(Q83=0,0,ROUND((R83-$S$3)*+'Vergi Oranları'!$G$6/100,2))","v":0},0]
[null,null,null,null,null,null,0,{"$f":"IF(E84=0,0,IF(D84=0,0,IF(G84=0,0,IF(F84>+'Vergi Oranları'!$C$3,0,IF(OR(G84<='Vergi Oranları'!$C$3,F84+E84<+'Vergi Oranları'!$C$3),15,IF(G84-(E84+F84)<='Vergi Oranları'!$C$3,15,))))))","v":0},{"$f":"IF(E84=0,0,IF(D84=0,0,IF(G84=0,0,IF(H84=0,0,IF(F84+E84<='Vergi Oranları'!$C$3,G84-F84,'Vergi Oranları'!$C$3-F84)))))","v":0},{"$f":"IF(I84=0,0,IF(ROUND((I84-$J$3)*'Vergi Oranları'!$G$3/100,2)<0,0,ROUND((I84-$M$3)*'Vergi Oranları'!$G$3/100,2)))","v":0},{"$f":"IF(E84=0,0,IF(D84=0,0,IF(G84=0,0,IF(F84>+'Vergi Oranları'!$C$4,0,IF(OR(G84<='Vergi Oranları'!$C$4,F84+E84<'Vergi Oranları'!$C$4),20,IF(G84-(E84+F84)<='Vergi Oranları'!$C$4,20,))))))","v":0},{"$f":"IF(E84=0,0,IF(D84=0,0,IF(G84=0,0,IF(K84=0,0,IF(F84+E84<=+'Vergi Oranları'!$C$4,G84-(F84+I84),+'Vergi Oranları'!$C$4-(F84+I84))))))","v":0},{"$f":"IF(L84=0,0,IF(ROUND((L84-$M$3)*+'Vergi Oranları'!$G$4/100,2)<0,0,ROUND((L84-$M$3)*+'Vergi Oranları'!$G$4/100,2)))","v":0},{"$f":"IF(E84=0,0,IF(D84=0,0,IF(G84=0,0,IF(OR(G84>+'Vergi Oranları'!$C$4,G84<=+'Vergi Oranları'!$C$5),27))))","v":0},{"$f":"IF(E84=0,0,IF(D84=0,0,IF(G84=0,0,IF(N84=0,0,IF(F84>'Vergi Oranları'!$C$5,0,IF(G84<=+'Vergi Oranları'!$C$5,G84-(F84+I84+L84),+'Vergi Oranları'!$C$5-(F84+I84+L84)))))))","v":0},{"$f":"ROUND(IF(N84=0,0,IF(E84<O84,(E84-$P$3)*'Vergi Oranları'!$G$5/100,(O84-$P$3)*'Vergi Oranları'!$G$5/100)),2)","v":0},{"$f":"IF(E84=0,0,IF(D84=0,0,IF(G84=0,0,IF(G84<=+'Vergi Oranları'!$C$5,0,IF(OR(G84>+'Vergi Oranları'!$C$5,F84+E84<=+'Vergi Oranları'!$C$5),35)))))","v":0},{"$f":"IF(E84=0,0,IF(D84=0,0,IF(G84=0,0,IF(Q84=0,0,IF(F84+E84>=+'Vergi Oranları'!$C$5,G84-(F84+I84+L84+O84),+'Vergi Oranları'!$C$5-(F84+I84+L84+O84))))))","v":0},{"$f":"IF(Q84=0,0,ROUND((R84-$S$3)*+'Vergi Oranları'!$G$6/100,2))","v":0},0]
[null,null,null,null,null,null,0,{"$f":"IF(E85=0,0,IF(D85=0,0,IF(G85=0,0,IF(F85>+'Vergi Oranları'!$C$3,0,IF(OR(G85<='Vergi Oranları'!$C$3,F85+E85<+'Vergi Oranları'!$C$3),15,IF(G85-(E85+F85)<='Vergi Oranları'!$C$3,15,))))))","v":0},{"$f":"IF(E85=0,0,IF(D85=0,0,IF(G85=0,0,IF(H85=0,0,IF(F85+E85<='Vergi Oranları'!$C$3,G85-F85,'Vergi Oranları'!$C$3-F85)))))","v":0},{"$f":"IF(I85=0,0,IF(ROUND((I85-$J$3)*'Vergi Oranları'!$G$3/100,2)<0,0,ROUND((I85-$M$3)*'Vergi Oranları'!$G$3/100,2)))","v":0},{"$f":"IF(E85=0,0,IF(D85=0,0,IF(G85=0,0,IF(F85>+'Vergi Oranları'!$C$4,0,IF(OR(G85<='Vergi Oranları'!$C$4,F85+E85<'Vergi Oranları'!$C$4),20,IF(G85-(E85+F85)<='Vergi Oranları'!$C$4,20,))))))","v":0},{"$f":"IF(E85=0,0,IF(D85=0,0,IF(G85=0,0,IF(K85=0,0,IF(F85+E85<=+'Vergi Oranları'!$C$4,G85-(F85+I85),+'Vergi Oranları'!$C$4-(F85+I85))))))","v":0},{"$f":"IF(L85=0,0,IF(ROUND((L85-$M$3)*+'Vergi Oranları'!$G$4/100,2)<0,0,ROUND((L85-$M$3)*+'Vergi Oranları'!$G$4/100,2)))","v":0},{"$f":"IF(E85=0,0,IF(D85=0,0,IF(G85=0,0,IF(OR(G85>+'Vergi Oranları'!$C$4,G85<=+'Vergi Oranları'!$C$5),27))))","v":0},{"$f":"IF(E85=0,0,IF(D85=0,0,IF(G85=0,0,IF(N85=0,0,IF(F85>'Vergi Oranları'!$C$5,0,IF(G85<=+'Vergi Oranları'!$C$5,G85-(F85+I85+L85),+'Vergi Oranları'!$C$5-(F85+I85+L85)))))))","v":0},{"$f":"ROUND(IF(N85=0,0,IF(E85<O85,(E85-$P$3)*'Vergi Oranları'!$G$5/100,(O85-$P$3)*'Vergi Oranları'!$G$5/100)),2)","v":0},{"$f":"IF(E85=0,0,IF(D85=0,0,IF(G85=0,0,IF(G85<=+'Vergi Oranları'!$C$5,0,IF(OR(G85>+'Vergi Oranları'!$C$5,F85+E85<=+'Vergi Oranları'!$C$5),35)))))","v":0},{"$f":"IF(E85=0,0,IF(D85=0,0,IF(G85=0,0,IF(Q85=0,0,IF(F85+E85>=+'Vergi Oranları'!$C$5,G85-(F85+I85+L85+O85),+'Vergi Oranları'!$C$5-(F85+I85+L85+O85))))))","v":0},{"$f":"IF(Q85=0,0,ROUND((R85-$S$3)*+'Vergi Oranları'!$G$6/100,2))","v":0},0]
[null,null,null,null,null,null,0,{"$f":"IF(E86=0,0,IF(D86=0,0,IF(G86=0,0,IF(F86>+'Vergi Oranları'!$C$3,0,IF(OR(G86<='Vergi Oranları'!$C$3,F86+E86<+'Vergi Oranları'!$C$3),15,IF(G86-(E86+F86)<='Vergi Oranları'!$C$3,15,))))))","v":0},{"$f":"IF(E86=0,0,IF(D86=0,0,IF(G86=0,0,IF(H86=0,0,IF(F86+E86<='Vergi Oranları'!$C$3,G86-F86,'Vergi Oranları'!$C$3-F86)))))","v":0},{"$f":"IF(I86=0,0,IF(ROUND((I86-$J$3)*'Vergi Oranları'!$G$3/100,2)<0,0,ROUND((I86-$M$3)*'Vergi Oranları'!$G$3/100,2)))","v":0},{"$f":"IF(E86=0,0,IF(D86=0,0,IF(G86=0,0,IF(F86>+'Vergi Oranları'!$C$4,0,IF(OR(G86<='Vergi Oranları'!$C$4,F86+E86<'Vergi Oranları'!$C$4),20,IF(G86-(E86+F86)<='Vergi Oranları'!$C$4,20,))))))","v":0},{"$f":"IF(E86=0,0,IF(D86=0,0,IF(G86=0,0,IF(K86=0,0,IF(F86+E86<=+'Vergi Oranları'!$C$4,G86-(F86+I86),+'Vergi Oranları'!$C$4-(F86+I86))))))","v":0},{"$f":"IF(L86=0,0,IF(ROUND((L86-$M$3)*+'Vergi Oranları'!$G$4/100,2)<0,0,ROUND((L86-$M$3)*+'Vergi Oranları'!$G$4/100,2)))","v":0},{"$f":"IF(E86=0,0,IF(D86=0,0,IF(G86=0,0,IF(OR(G86>+'Vergi Oranları'!$C$4,G86<=+'Vergi Oranları'!$C$5),27))))","v":0},{"$f":"IF(E86=0,0,IF(D86=0,0,IF(G86=0,0,IF(N86=0,0,IF(F86>'Vergi Oranları'!$C$5,0,IF(G86<=+'Vergi Oranları'!$C$5,G86-(F86+I86+L86),+'Vergi Oranları'!$C$5-(F86+I86+L86)))))))","v":0},{"$f":"ROUND(IF(N86=0,0,IF(E86<O86,(E86-$P$3)*'Vergi Oranları'!$G$5/100,(O86-$P$3)*'Vergi Oranları'!$G$5/100)),2)","v":0},{"$f":"IF(E86=0,0,IF(D86=0,0,IF(G86=0,0,IF(G86<=+'Vergi Oranları'!$C$5,0,IF(OR(G86>+'Vergi Oranları'!$C$5,F86+E86<=+'Vergi Oranları'!$C$5),35)))))","v":0},{"$f":"IF(E86=0,0,IF(D86=0,0,IF(G86=0,0,IF(Q86=0,0,IF(F86+E86>=+'Vergi Oranları'!$C$5,G86-(F86+I86+L86+O86),+'Vergi Oranları'!$C$5-(F86+I86+L86+O86))))))","v":0},{"$f":"IF(Q86=0,0,ROUND((R86-$S$3)*+'Vergi Oranları'!$G$6/100,2))","v":0},0]
[null,null,null,null,null,null,0,{"$f":"IF(E87=0,0,IF(D87=0,0,IF(G87=0,0,IF(F87>+'Vergi Oranları'!$C$3,0,IF(OR(G87<='Vergi Oranları'!$C$3,F87+E87<+'Vergi Oranları'!$C$3),15,IF(G87-(E87+F87)<='Vergi Oranları'!$C$3,15,))))))","v":0},{"$f":"IF(E87=0,0,IF(D87=0,0,IF(G87=0,0,IF(H87=0,0,IF(F87+E87<='Vergi Oranları'!$C$3,G87-F87,'Vergi Oranları'!$C$3-F87)))))","v":0},{"$f":"IF(I87=0,0,IF(ROUND((I87-$J$3)*'Vergi Oranları'!$G$3/100,2)<0,0,ROUND((I87-$M$3)*'Vergi Oranları'!$G$3/100,2)))","v":0},{"$f":"IF(E87=0,0,IF(D87=0,0,IF(G87=0,0,IF(F87>+'Vergi Oranları'!$C$4,0,IF(OR(G87<='Vergi Oranları'!$C$4,F87+E87<'Vergi Oranları'!$C$4),20,IF(G87-(E87+F87)<='Vergi Oranları'!$C$4,20,))))))","v":0},{"$f":"IF(E87=0,0,IF(D87=0,0,IF(G87=0,0,IF(K87=0,0,IF(F87+E87<=+'Vergi Oranları'!$C$4,G87-(F87+I87),+'Vergi Oranları'!$C$4-(F87+I87))))))","v":0},{"$f":"IF(L87=0,0,IF(ROUND((L87-$M$3)*+'Vergi Oranları'!$G$4/100,2)<0,0,ROUND((L87-$M$3)*+'Vergi Oranları'!$G$4/100,2)))","v":0},{"$f":"IF(E87=0,0,IF(D87=0,0,IF(G87=0,0,IF(OR(G87>+'Vergi Oranları'!$C$4,G87<=+'Vergi Oranları'!$C$5),27))))","v":0},{"$f":"IF(E87=0,0,IF(D87=0,0,IF(G87=0,0,IF(N87=0,0,IF(F87>'Vergi Oranları'!$C$5,0,IF(G87<=+'Vergi Oranları'!$C$5,G87-(F87+I87+L87),+'Vergi Oranları'!$C$5-(F87+I87+L87)))))))","v":0},{"$f":"ROUND(IF(N87=0,0,IF(E87<O87,(E87-$P$3)*'Vergi Oranları'!$G$5/100,(O87-$P$3)*'Vergi Oranları'!$G$5/100)),2)","v":0},{"$f":"IF(E87=0,0,IF(D87=0,0,IF(G87=0,0,IF(G87<=+'Vergi Oranları'!$C$5,0,IF(OR(G87>+'Vergi Oranları'!$C$5,F87+E87<=+'Vergi Oranları'!$C$5),35)))))","v":0},{"$f":"IF(E87=0,0,IF(D87=0,0,IF(G87=0,0,IF(Q87=0,0,IF(F87+E87>=+'Vergi Oranları'!$C$5,G87-(F87+I87+L87+O87),+'Vergi Oranları'!$C$5-(F87+I87+L87+O87))))))","v":0},{"$f":"IF(Q87=0,0,ROUND((R87-$S$3)*+'Vergi Oranları'!$G$6/100,2))","v":0},0]
[null,null,null,null,null,null,0,{"$f":"IF(E88=0,0,IF(D88=0,0,IF(G88=0,0,IF(F88>+'Vergi Oranları'!$C$3,0,IF(OR(G88<='Vergi Oranları'!$C$3,F88+E88<+'Vergi Oranları'!$C$3),15,IF(G88-(E88+F88)<='Vergi Oranları'!$C$3,15,))))))","v":0},{"$f":"IF(E88=0,0,IF(D88=0,0,IF(G88=0,0,IF(H88=0,0,IF(F88+E88<='Vergi Oranları'!$C$3,G88-F88,'Vergi Oranları'!$C$3-F88)))))","v":0},{"$f":"IF(I88=0,0,IF(ROUND((I88-$J$3)*'Vergi Oranları'!$G$3/100,2)<0,0,ROUND((I88-$M$3)*'Vergi Oranları'!$G$3/100,2)))","v":0},{"$f":"IF(E88=0,0,IF(D88=0,0,IF(G88=0,0,IF(F88>+'Vergi Oranları'!$C$4,0,IF(OR(G88<='Vergi Oranları'!$C$4,F88+E88<'Vergi Oranları'!$C$4),20,IF(G88-(E88+F88)<='Vergi Oranları'!$C$4,20,))))))","v":0},{"$f":"IF(E88=0,0,IF(D88=0,0,IF(G88=0,0,IF(K88=0,0,IF(F88+E88<=+'Vergi Oranları'!$C$4,G88-(F88+I88),+'Vergi Oranları'!$C$4-(F88+I88))))))","v":0},{"$f":"IF(L88=0,0,IF(ROUND((L88-$M$3)*+'Vergi Oranları'!$G$4/100,2)<0,0,ROUND((L88-$M$3)*+'Vergi Oranları'!$G$4/100,2)))","v":0},{"$f":"IF(E88=0,0,IF(D88=0,0,IF(G88=0,0,IF(OR(G88>+'Vergi Oranları'!$C$4,G88<=+'Vergi Oranları'!$C$5),27))))","v":0},{"$f":"IF(E88=0,0,IF(D88=0,0,IF(G88=0,0,IF(N88=0,0,IF(F88>'Vergi Oranları'!$C$5,0,IF(G88<=+'Vergi Oranları'!$C$5,G88-(F88+I88+L88),+'Vergi Oranları'!$C$5-(F88+I88+L88)))))))","v":0},{"$f":"ROUND(IF(N88=0,0,IF(E88<O88,(E88-$P$3)*'Vergi Oranları'!$G$5/100,(O88-$P$3)*'Vergi Oranları'!$G$5/100)),2)","v":0},{"$f":"IF(E88=0,0,IF(D88=0,0,IF(G88=0,0,IF(G88<=+'Vergi Oranları'!$C$5,0,IF(OR(G88>+'Vergi Oranları'!$C$5,F88+E88<=+'Vergi Oranları'!$C$5),35)))))","v":0},{"$f":"IF(E88=0,0,IF(D88=0,0,IF(G88=0,0,IF(Q88=0,0,IF(F88+E88>=+'Vergi Oranları'!$C$5,G88-(F88+I88+L88+O88),+'Vergi Oranları'!$C$5-(F88+I88+L88+O88))))))","v":0},{"$f":"IF(Q88=0,0,ROUND((R88-$S$3)*+'Vergi Oranları'!$G$6/100,2))","v":0},0]
[null,null,null,null,null,null,0,{"$f":"IF(E89=0,0,IF(D89=0,0,IF(G89=0,0,IF(F89>+'Vergi Oranları'!$C$3,0,IF(OR(G89<='Vergi Oranları'!$C$3,F89+E89<+'Vergi Oranları'!$C$3),15,IF(G89-(E89+F89)<='Vergi Oranları'!$C$3,15,))))))","v":0},{"$f":"IF(E89=0,0,IF(D89=0,0,IF(G89=0,0,IF(H89=0,0,IF(F89+E89<='Vergi Oranları'!$C$3,G89-F89,'Vergi Oranları'!$C$3-F89)))))","v":0},{"$f":"IF(I89=0,0,IF(ROUND((I89-$J$3)*'Vergi Oranları'!$G$3/100,2)<0,0,ROUND((I89-$M$3)*'Vergi Oranları'!$G$3/100,2)))","v":0},{"$f":"IF(E89=0,0,IF(D89=0,0,IF(G89=0,0,IF(F89>+'Vergi Oranları'!$C$4,0,IF(OR(G89<='Vergi Oranları'!$C$4,F89+E89<'Vergi Oranları'!$C$4),20,IF(G89-(E89+F89)<='Vergi Oranları'!$C$4,20,))))))","v":0},{"$f":"IF(E89=0,0,IF(D89=0,0,IF(G89=0,0,IF(K89=0,0,IF(F89+E89<=+'Vergi Oranları'!$C$4,G89-(F89+I89),+'Vergi Oranları'!$C$4-(F89+I89))))))","v":0},{"$f":"IF(L89=0,0,IF(ROUND((L89-$M$3)*+'Vergi Oranları'!$G$4/100,2)<0,0,ROUND((L89-$M$3)*+'Vergi Oranları'!$G$4/100,2)))","v":0},{"$f":"IF(E89=0,0,IF(D89=0,0,IF(G89=0,0,IF(OR(G89>+'Vergi Oranları'!$C$4,G89<=+'Vergi Oranları'!$C$5),27))))","v":0},{"$f":"IF(E89=0,0,IF(D89=0,0,IF(G89=0,0,IF(N89=0,0,IF(F89>'Vergi Oranları'!$C$5,0,IF(G89<=+'Vergi Oranları'!$C$5,G89-(F89+I89+L89),+'Vergi Oranları'!$C$5-(F89+I89+L89)))))))","v":0},{"$f":"ROUND(IF(N89=0,0,IF(E89<O89,(E89-$P$3)*'Vergi Oranları'!$G$5/100,(O89-$P$3)*'Vergi Oranları'!$G$5/100)),2)","v":0},{"$f":"IF(E89=0,0,IF(D89=0,0,IF(G89=0,0,IF(G89<=+'Vergi Oranları'!$C$5,0,IF(OR(G89>+'Vergi Oranları'!$C$5,F89+E89<=+'Vergi Oranları'!$C$5),35)))))","v":0},{"$f":"IF(E89=0,0,IF(D89=0,0,IF(G89=0,0,IF(Q89=0,0,IF(F89+E89>=+'Vergi Oranları'!$C$5,G89-(F89+I89+L89+O89),+'Vergi Oranları'!$C$5-(F89+I89+L89+O89))))))","v":0},{"$f":"IF(Q89=0,0,ROUND((R89-$S$3)*+'Vergi Oranları'!$G$6/100,2))","v":0},0]
[null,null,null,null,null,null,0,{"$f":"IF(E90=0,0,IF(D90=0,0,IF(G90=0,0,IF(F90>+'Vergi Oranları'!$C$3,0,IF(OR(G90<='Vergi Oranları'!$C$3,F90+E90<+'Vergi Oranları'!$C$3),15,IF(G90-(E90+F90)<='Vergi Oranları'!$C$3,15,))))))","v":0},{"$f":"IF(E90=0,0,IF(D90=0,0,IF(G90=0,0,IF(H90=0,0,IF(F90+E90<='Vergi Oranları'!$C$3,G90-F90,'Vergi Oranları'!$C$3-F90)))))","v":0},{"$f":"IF(I90=0,0,IF(ROUND((I90-$J$3)*'Vergi Oranları'!$G$3/100,2)<0,0,ROUND((I90-$M$3)*'Vergi Oranları'!$G$3/100,2)))","v":0},{"$f":"IF(E90=0,0,IF(D90=0,0,IF(G90=0,0,IF(F90>+'Vergi Oranları'!$C$4,0,IF(OR(G90<='Vergi Oranları'!$C$4,F90+E90<'Vergi Oranları'!$C$4),20,IF(G90-(E90+F90)<='Vergi Oranları'!$C$4,20,))))))","v":0},{"$f":"IF(E90=0,0,IF(D90=0,0,IF(G90=0,0,IF(K90=0,0,IF(F90+E90<=+'Vergi Oranları'!$C$4,G90-(F90+I90),+'Vergi Oranları'!$C$4-(F90+I90))))))","v":0},{"$f":"IF(L90=0,0,IF(ROUND((L90-$M$3)*+'Vergi Oranları'!$G$4/100,2)<0,0,ROUND((L90-$M$3)*+'Vergi Oranları'!$G$4/100,2)))","v":0},{"$f":"IF(E90=0,0,IF(D90=0,0,IF(G90=0,0,IF(OR(G90>+'Vergi Oranları'!$C$4,G90<=+'Vergi Oranları'!$C$5),27))))","v":0},{"$f":"IF(E90=0,0,IF(D90=0,0,IF(G90=0,0,IF(N90=0,0,IF(F90>'Vergi Oranları'!$C$5,0,IF(G90<=+'Vergi Oranları'!$C$5,G90-(F90+I90+L90),+'Vergi Oranları'!$C$5-(F90+I90+L90)))))))","v":0},{"$f":"ROUND(IF(N90=0,0,IF(E90<O90,(E90-$P$3)*'Vergi Oranları'!$G$5/100,(O90-$P$3)*'Vergi Oranları'!$G$5/100)),2)","v":0},{"$f":"IF(E90=0,0,IF(D90=0,0,IF(G90=0,0,IF(G90<=+'Vergi Oranları'!$C$5,0,IF(OR(G90>+'Vergi Oranları'!$C$5,F90+E90<=+'Vergi Oranları'!$C$5),35)))))","v":0},{"$f":"IF(E90=0,0,IF(D90=0,0,IF(G90=0,0,IF(Q90=0,0,IF(F90+E90>=+'Vergi Oranları'!$C$5,G90-(F90+I90+L90+O90),+'Vergi Oranları'!$C$5-(F90+I90+L90+O90))))))","v":0},{"$f":"IF(Q90=0,0,ROUND((R90-$S$3)*+'Vergi Oranları'!$G$6/100,2))","v":0},0]
[null,null,null,null,null,null,0,{"$f":"IF(E91=0,0,IF(D91=0,0,IF(G91=0,0,IF(F91>+'Vergi Oranları'!$C$3,0,IF(OR(G91<='Vergi Oranları'!$C$3,F91+E91<+'Vergi Oranları'!$C$3),15,IF(G91-(E91+F91)<='Vergi Oranları'!$C$3,15,))))))","v":0},{"$f":"IF(E91=0,0,IF(D91=0,0,IF(G91=0,0,IF(H91=0,0,IF(F91+E91<='Vergi Oranları'!$C$3,G91-F91,'Vergi Oranları'!$C$3-F91)))))","v":0},{"$f":"IF(I91=0,0,IF(ROUND((I91-$J$3)*'Vergi Oranları'!$G$3/100,2)<0,0,ROUND((I91-$M$3)*'Vergi Oranları'!$G$3/100,2)))","v":0},{"$f":"IF(E91=0,0,IF(D91=0,0,IF(G91=0,0,IF(F91>+'Vergi Oranları'!$C$4,0,IF(OR(G91<='Vergi Oranları'!$C$4,F91+E91<'Vergi Oranları'!$C$4),20,IF(G91-(E91+F91)<='Vergi Oranları'!$C$4,20,))))))","v":0},{"$f":"IF(E91=0,0,IF(D91=0,0,IF(G91=0,0,IF(K91=0,0,IF(F91+E91<=+'Vergi Oranları'!$C$4,G91-(F91+I91),+'Vergi Oranları'!$C$4-(F91+I91))))))","v":0},{"$f":"IF(L91=0,0,IF(ROUND((L91-$M$3)*+'Vergi Oranları'!$G$4/100,2)<0,0,ROUND((L91-$M$3)*+'Vergi Oranları'!$G$4/100,2)))","v":0},{"$f":"IF(E91=0,0,IF(D91=0,0,IF(G91=0,0,IF(OR(G91>+'Vergi Oranları'!$C$4,G91<=+'Vergi Oranları'!$C$5),27))))","v":0},{"$f":"IF(E91=0,0,IF(D91=0,0,IF(G91=0,0,IF(N91=0,0,IF(F91>'Vergi Oranları'!$C$5,0,IF(G91<=+'Vergi Oranları'!$C$5,G91-(F91+I91+L91),+'Vergi Oranları'!$C$5-(F91+I91+L91)))))))","v":0},{"$f":"ROUND(IF(N91=0,0,IF(E91<O91,(E91-$P$3)*'Vergi Oranları'!$G$5/100,(O91-$P$3)*'Vergi Oranları'!$G$5/100)),2)","v":0},{"$f":"IF(E91=0,0,IF(D91=0,0,IF(G91=0,0,IF(G91<=+'Vergi Oranları'!$C$5,0,IF(OR(G91>+'Vergi Oranları'!$C$5,F91+E91<=+'Vergi Oranları'!$C$5),35)))))","v":0},{"$f":"IF(E91=0,0,IF(D91=0,0,IF(G91=0,0,IF(Q91=0,0,IF(F91+E91>=+'Vergi Oranları'!$C$5,G91-(F91+I91+L91+O91),+'Vergi Oranları'!$C$5-(F91+I91+L91+O91))))))","v":0},{"$f":"IF(Q91=0,0,ROUND((R91-$S$3)*+'Vergi Oranları'!$G$6/100,2))","v":0},0]
[null,null,null,null,null,null,0,{"$f":"IF(E92=0,0,IF(D92=0,0,IF(G92=0,0,IF(F92>+'Vergi Oranları'!$C$3,0,IF(OR(G92<='Vergi Oranları'!$C$3,F92+E92<+'Vergi Oranları'!$C$3),15,IF(G92-(E92+F92)<='Vergi Oranları'!$C$3,15,))))))","v":0},{"$f":"IF(E92=0,0,IF(D92=0,0,IF(G92=0,0,IF(H92=0,0,IF(F92+E92<='Vergi Oranları'!$C$3,G92-F92,'Vergi Oranları'!$C$3-F92)))))","v":0},{"$f":"IF(I92=0,0,IF(ROUND((I92-$J$3)*'Vergi Oranları'!$G$3/100,2)<0,0,ROUND((I92-$M$3)*'Vergi Oranları'!$G$3/100,2)))","v":0},{"$f":"IF(E92=0,0,IF(D92=0,0,IF(G92=0,0,IF(F92>+'Vergi Oranları'!$C$4,0,IF(OR(G92<='Vergi Oranları'!$C$4,F92+E92<'Vergi Oranları'!$C$4),20,IF(G92-(E92+F92)<='Vergi Oranları'!$C$4,20,))))))","v":0},{"$f":"IF(E92=0,0,IF(D92=0,0,IF(G92=0,0,IF(K92=0,0,IF(F92+E92<=+'Vergi Oranları'!$C$4,G92-(F92+I92),+'Vergi Oranları'!$C$4-(F92+I92))))))","v":0},{"$f":"IF(L92=0,0,IF(ROUND((L92-$M$3)*+'Vergi Oranları'!$G$4/100,2)<0,0,ROUND((L92-$M$3)*+'Vergi Oranları'!$G$4/100,2)))","v":0},{"$f":"IF(E92=0,0,IF(D92=0,0,IF(G92=0,0,IF(OR(G92>+'Vergi Oranları'!$C$4,G92<=+'Vergi Oranları'!$C$5),27))))","v":0},{"$f":"IF(E92=0,0,IF(D92=0,0,IF(G92=0,0,IF(N92=0,0,IF(F92>'Vergi Oranları'!$C$5,0,IF(G92<=+'Vergi Oranları'!$C$5,G92-(F92+I92+L92),+'Vergi Oranları'!$C$5-(F92+I92+L92)))))))","v":0},{"$f":"ROUND(IF(N92=0,0,IF(E92<O92,(E92-$P$3)*'Vergi Oranları'!$G$5/100,(O92-$P$3)*'Vergi Oranları'!$G$5/100)),2)","v":0},{"$f":"IF(E92=0,0,IF(D92=0,0,IF(G92=0,0,IF(G92<=+'Vergi Oranları'!$C$5,0,IF(OR(G92>+'Vergi Oranları'!$C$5,F92+E92<=+'Vergi Oranları'!$C$5),35)))))","v":0},{"$f":"IF(E92=0,0,IF(D92=0,0,IF(G92=0,0,IF(Q92=0,0,IF(F92+E92>=+'Vergi Oranları'!$C$5,G92-(F92+I92+L92+O92),+'Vergi Oranları'!$C$5-(F92+I92+L92+O92))))))","v":0},{"$f":"IF(Q92=0,0,ROUND((R92-$S$3)*+'Vergi Oranları'!$G$6/100,2))","v":0},0]
[null,null,null,null,null,null,0,{"$f":"IF(E93=0,0,IF(D93=0,0,IF(G93=0,0,IF(F93>+'Vergi Oranları'!$C$3,0,IF(OR(G93<='Vergi Oranları'!$C$3,F93+E93<+'Vergi Oranları'!$C$3),15,IF(G93-(E93+F93)<='Vergi Oranları'!$C$3,15,))))))","v":0},{"$f":"IF(E93=0,0,IF(D93=0,0,IF(G93=0,0,IF(H93=0,0,IF(F93+E93<='Vergi Oranları'!$C$3,G93-F93,'Vergi Oranları'!$C$3-F93)))))","v":0},{"$f":"IF(I93=0,0,IF(ROUND((I93-$J$3)*'Vergi Oranları'!$G$3/100,2)<0,0,ROUND((I93-$M$3)*'Vergi Oranları'!$G$3/100,2)))","v":0},{"$f":"IF(E93=0,0,IF(D93=0,0,IF(G93=0,0,IF(F93>+'Vergi Oranları'!$C$4,0,IF(OR(G93<='Vergi Oranları'!$C$4,F93+E93<'Vergi Oranları'!$C$4),20,IF(G93-(E93+F93)<='Vergi Oranları'!$C$4,20,))))))","v":0},{"$f":"IF(E93=0,0,IF(D93=0,0,IF(G93=0,0,IF(K93=0,0,IF(F93+E93<=+'Vergi Oranları'!$C$4,G93-(F93+I93),+'Vergi Oranları'!$C$4-(F93+I93))))))","v":0},{"$f":"IF(L93=0,0,IF(ROUND((L93-$M$3)*+'Vergi Oranları'!$G$4/100,2)<0,0,ROUND((L93-$M$3)*+'Vergi Oranları'!$G$4/100,2)))","v":0},{"$f":"IF(E93=0,0,IF(D93=0,0,IF(G93=0,0,IF(OR(G93>+'Vergi Oranları'!$C$4,G93<=+'Vergi Oranları'!$C$5),27))))","v":0},{"$f":"IF(E93=0,0,IF(D93=0,0,IF(G93=0,0,IF(N93=0,0,IF(F93>'Vergi Oranları'!$C$5,0,IF(G93<=+'Vergi Oranları'!$C$5,G93-(F93+I93+L93),+'Vergi Oranları'!$C$5-(F93+I93+L93)))))))","v":0},{"$f":"ROUND(IF(N93=0,0,IF(E93<O93,(E93-$P$3)*'Vergi Oranları'!$G$5/100,(O93-$P$3)*'Vergi Oranları'!$G$5/100)),2)","v":0},{"$f":"IF(E93=0,0,IF(D93=0,0,IF(G93=0,0,IF(G93<=+'Vergi Oranları'!$C$5,0,IF(OR(G93>+'Vergi Oranları'!$C$5,F93+E93<=+'Vergi Oranları'!$C$5),35)))))","v":0},{"$f":"IF(E93=0,0,IF(D93=0,0,IF(G93=0,0,IF(Q93=0,0,IF(F93+E93>=+'Vergi Oranları'!$C$5,G93-(F93+I93+L93+O93),+'Vergi Oranları'!$C$5-(F93+I93+L93+O93))))))","v":0},{"$f":"IF(Q93=0,0,ROUND((R93-$S$3)*+'Vergi Oranları'!$G$6/100,2))","v":0},0]
[null,null,null,null,null,null,0,{"$f":"IF(E94=0,0,IF(D94=0,0,IF(G94=0,0,IF(F94>+'Vergi Oranları'!$C$3,0,IF(OR(G94<='Vergi Oranları'!$C$3,F94+E94<+'Vergi Oranları'!$C$3),15,IF(G94-(E94+F94)<='Vergi Oranları'!$C$3,15,))))))","v":0},{"$f":"IF(E94=0,0,IF(D94=0,0,IF(G94=0,0,IF(H94=0,0,IF(F94+E94<='Vergi Oranları'!$C$3,G94-F94,'Vergi Oranları'!$C$3-F94)))))","v":0},{"$f":"IF(I94=0,0,IF(ROUND((I94-$J$3)*'Vergi Oranları'!$G$3/100,2)<0,0,ROUND((I94-$M$3)*'Vergi Oranları'!$G$3/100,2)))","v":0},{"$f":"IF(E94=0,0,IF(D94=0,0,IF(G94=0,0,IF(F94>+'Vergi Oranları'!$C$4,0,IF(OR(G94<='Vergi Oranları'!$C$4,F94+E94<'Vergi Oranları'!$C$4),20,IF(G94-(E94+F94)<='Vergi Oranları'!$C$4,20,))))))","v":0},{"$f":"IF(E94=0,0,IF(D94=0,0,IF(G94=0,0,IF(K94=0,0,IF(F94+E94<=+'Vergi Oranları'!$C$4,G94-(F94+I94),+'Vergi Oranları'!$C$4-(F94+I94))))))","v":0},{"$f":"IF(L94=0,0,IF(ROUND((L94-$M$3)*+'Vergi Oranları'!$G$4/100,2)<0,0,ROUND((L94-$M$3)*+'Vergi Oranları'!$G$4/100,2)))","v":0},{"$f":"IF(E94=0,0,IF(D94=0,0,IF(G94=0,0,IF(OR(G94>+'Vergi Oranları'!$C$4,G94<=+'Vergi Oranları'!$C$5),27))))","v":0},{"$f":"IF(E94=0,0,IF(D94=0,0,IF(G94=0,0,IF(N94=0,0,IF(F94>'Vergi Oranları'!$C$5,0,IF(G94<=+'Vergi Oranları'!$C$5,G94-(F94+I94+L94),+'Vergi Oranları'!$C$5-(F94+I94+L94)))))))","v":0},{"$f":"ROUND(IF(N94=0,0,IF(E94<O94,(E94-$P$3)*'Vergi Oranları'!$G$5/100,(O94-$P$3)*'Vergi Oranları'!$G$5/100)),2)","v":0},{"$f":"IF(E94=0,0,IF(D94=0,0,IF(G94=0,0,IF(G94<=+'Vergi Oranları'!$C$5,0,IF(OR(G94>+'Vergi Oranları'!$C$5,F94+E94<=+'Vergi Oranları'!$C$5),35)))))","v":0},{"$f":"IF(E94=0,0,IF(D94=0,0,IF(G94=0,0,IF(Q94=0,0,IF(F94+E94>=+'Vergi Oranları'!$C$5,G94-(F94+I94+L94+O94),+'Vergi Oranları'!$C$5-(F94+I94+L94+O94))))))","v":0},{"$f":"IF(Q94=0,0,ROUND((R94-$S$3)*+'Vergi Oranları'!$G$6/100,2))","v":0},0]
[null,null,null,null,null,null,0,{"$f":"IF(E95=0,0,IF(D95=0,0,IF(G95=0,0,IF(F95>+'Vergi Oranları'!$C$3,0,IF(OR(G95<='Vergi Oranları'!$C$3,F95+E95<+'Vergi Oranları'!$C$3),15,IF(G95-(E95+F95)<='Vergi Oranları'!$C$3,15,))))))","v":0},{"$f":"IF(E95=0,0,IF(D95=0,0,IF(G95=0,0,IF(H95=0,0,IF(F95+E95<='Vergi Oranları'!$C$3,G95-F95,'Vergi Oranları'!$C$3-F95)))))","v":0},{"$f":"IF(I95=0,0,IF(ROUND((I95-$J$3)*'Vergi Oranları'!$G$3/100,2)<0,0,ROUND((I95-$M$3)*'Vergi Oranları'!$G$3/100,2)))","v":0},{"$f":"IF(E95=0,0,IF(D95=0,0,IF(G95=0,0,IF(F95>+'Vergi Oranları'!$C$4,0,IF(OR(G95<='Vergi Oranları'!$C$4,F95+E95<'Vergi Oranları'!$C$4),20,IF(G95-(E95+F95)<='Vergi Oranları'!$C$4,20,))))))","v":0},{"$f":"IF(E95=0,0,IF(D95=0,0,IF(G95=0,0,IF(K95=0,0,IF(F95+E95<=+'Vergi Oranları'!$C$4,G95-(F95+I95),+'Vergi Oranları'!$C$4-(F95+I95))))))","v":0},{"$f":"IF(L95=0,0,IF(ROUND((L95-$M$3)*+'Vergi Oranları'!$G$4/100,2)<0,0,ROUND((L95-$M$3)*+'Vergi Oranları'!$G$4/100,2)))","v":0},{"$f":"IF(E95=0,0,IF(D95=0,0,IF(G95=0,0,IF(OR(G95>+'Vergi Oranları'!$C$4,G95<=+'Vergi Oranları'!$C$5),27))))","v":0},{"$f":"IF(E95=0,0,IF(D95=0,0,IF(G95=0,0,IF(N95=0,0,IF(F95>'Vergi Oranları'!$C$5,0,IF(G95<=+'Vergi Oranları'!$C$5,G95-(F95+I95+L95),+'Vergi Oranları'!$C$5-(F95+I95+L95)))))))","v":0},{"$f":"ROUND(IF(N95=0,0,IF(E95<O95,(E95-$P$3)*'Vergi Oranları'!$G$5/100,(O95-$P$3)*'Vergi Oranları'!$G$5/100)),2)","v":0},{"$f":"IF(E95=0,0,IF(D95=0,0,IF(G95=0,0,IF(G95<=+'Vergi Oranları'!$C$5,0,IF(OR(G95>+'Vergi Oranları'!$C$5,F95+E95<=+'Vergi Oranları'!$C$5),35)))))","v":0},{"$f":"IF(E95=0,0,IF(D95=0,0,IF(G95=0,0,IF(Q95=0,0,IF(F95+E95>=+'Vergi Oranları'!$C$5,G95-(F95+I95+L95+O95),+'Vergi Oranları'!$C$5-(F95+I95+L95+O95))))))","v":0},{"$f":"IF(Q95=0,0,ROUND((R95-$S$3)*+'Vergi Oranları'!$G$6/100,2))","v":0},0]
[null,null,null,null,null,null,0,{"$f":"IF(E96=0,0,IF(D96=0,0,IF(G96=0,0,IF(F96>+'Vergi Oranları'!$C$3,0,IF(OR(G96<='Vergi Oranları'!$C$3,F96+E96<+'Vergi Oranları'!$C$3),15,IF(G96-(E96+F96)<='Vergi Oranları'!$C$3,15,))))))","v":0},{"$f":"IF(E96=0,0,IF(D96=0,0,IF(G96=0,0,IF(H96=0,0,IF(F96+E96<='Vergi Oranları'!$C$3,G96-F96,'Vergi Oranları'!$C$3-F96)))))","v":0},{"$f":"IF(I96=0,0,IF(ROUND((I96-$J$3)*'Vergi Oranları'!$G$3/100,2)<0,0,ROUND((I96-$M$3)*'Vergi Oranları'!$G$3/100,2)))","v":0},{"$f":"IF(E96=0,0,IF(D96=0,0,IF(G96=0,0,IF(F96>+'Vergi Oranları'!$C$4,0,IF(OR(G96<='Vergi Oranları'!$C$4,F96+E96<'Vergi Oranları'!$C$4),20,IF(G96-(E96+F96)<='Vergi Oranları'!$C$4,20,))))))","v":0},{"$f":"IF(E96=0,0,IF(D96=0,0,IF(G96=0,0,IF(K96=0,0,IF(F96+E96<=+'Vergi Oranları'!$C$4,G96-(F96+I96),+'Vergi Oranları'!$C$4-(F96+I96))))))","v":0},{"$f":"IF(L96=0,0,IF(ROUND((L96-$M$3)*+'Vergi Oranları'!$G$4/100,2)<0,0,ROUND((L96-$M$3)*+'Vergi Oranları'!$G$4/100,2)))","v":0},{"$f":"IF(E96=0,0,IF(D96=0,0,IF(G96=0,0,IF(OR(G96>+'Vergi Oranları'!$C$4,G96<=+'Vergi Oranları'!$C$5),27))))","v":0},{"$f":"IF(E96=0,0,IF(D96=0,0,IF(G96=0,0,IF(N96=0,0,IF(F96>'Vergi Oranları'!$C$5,0,IF(G96<=+'Vergi Oranları'!$C$5,G96-(F96+I96+L96),+'Vergi Oranları'!$C$5-(F96+I96+L96)))))))","v":0},{"$f":"ROUND(IF(N96=0,0,IF(E96<O96,(E96-$P$3)*'Vergi Oranları'!$G$5/100,(O96-$P$3)*'Vergi Oranları'!$G$5/100)),2)","v":0},{"$f":"IF(E96=0,0,IF(D96=0,0,IF(G96=0,0,IF(G96<=+'Vergi Oranları'!$C$5,0,IF(OR(G96>+'Vergi Oranları'!$C$5,F96+E96<=+'Vergi Oranları'!$C$5),35)))))","v":0},{"$f":"IF(E96=0,0,IF(D96=0,0,IF(G96=0,0,IF(Q96=0,0,IF(F96+E96>=+'Vergi Oranları'!$C$5,G96-(F96+I96+L96+O96),+'Vergi Oranları'!$C$5-(F96+I96+L96+O96))))))","v":0},{"$f":"IF(Q96=0,0,ROUND((R96-$S$3)*+'Vergi Oranları'!$G$6/100,2))","v":0},0]
[null,null,null,null,null,null,0,{"$f":"IF(E97=0,0,IF(D97=0,0,IF(G97=0,0,IF(F97>+'Vergi Oranları'!$C$3,0,IF(OR(G97<='Vergi Oranları'!$C$3,F97+E97<+'Vergi Oranları'!$C$3),15,IF(G97-(E97+F97)<='Vergi Oranları'!$C$3,15,))))))","v":0},{"$f":"IF(E97=0,0,IF(D97=0,0,IF(G97=0,0,IF(H97=0,0,IF(F97+E97<='Vergi Oranları'!$C$3,G97-F97,'Vergi Oranları'!$C$3-F97)))))","v":0},{"$f":"IF(I97=0,0,IF(ROUND((I97-$J$3)*'Vergi Oranları'!$G$3/100,2)<0,0,ROUND((I97-$M$3)*'Vergi Oranları'!$G$3/100,2)))","v":0},{"$f":"IF(E97=0,0,IF(D97=0,0,IF(G97=0,0,IF(F97>+'Vergi Oranları'!$C$4,0,IF(OR(G97<='Vergi Oranları'!$C$4,F97+E97<'Vergi Oranları'!$C$4),20,IF(G97-(E97+F97)<='Vergi Oranları'!$C$4,20,))))))","v":0},{"$f":"IF(E97=0,0,IF(D97=0,0,IF(G97=0,0,IF(K97=0,0,IF(F97+E97<=+'Vergi Oranları'!$C$4,G97-(F97+I97),+'Vergi Oranları'!$C$4-(F97+I97))))))","v":0},{"$f":"IF(L97=0,0,IF(ROUND((L97-$M$3)*+'Vergi Oranları'!$G$4/100,2)<0,0,ROUND((L97-$M$3)*+'Vergi Oranları'!$G$4/100,2)))","v":0},{"$f":"IF(E97=0,0,IF(D97=0,0,IF(G97=0,0,IF(OR(G97>+'Vergi Oranları'!$C$4,G97<=+'Vergi Oranları'!$C$5),27))))","v":0},{"$f":"IF(E97=0,0,IF(D97=0,0,IF(G97=0,0,IF(N97=0,0,IF(F97>'Vergi Oranları'!$C$5,0,IF(G97<=+'Vergi Oranları'!$C$5,G97-(F97+I97+L97),+'Vergi Oranları'!$C$5-(F97+I97+L97)))))))","v":0},{"$f":"ROUND(IF(N97=0,0,IF(E97<O97,(E97-$P$3)*'Vergi Oranları'!$G$5/100,(O97-$P$3)*'Vergi Oranları'!$G$5/100)),2)","v":0},{"$f":"IF(E97=0,0,IF(D97=0,0,IF(G97=0,0,IF(G97<=+'Vergi Oranları'!$C$5,0,IF(OR(G97>+'Vergi Oranları'!$C$5,F97+E97<=+'Vergi Oranları'!$C$5),35)))))","v":0},{"$f":"IF(E97=0,0,IF(D97=0,0,IF(G97=0,0,IF(Q97=0,0,IF(F97+E97>=+'Vergi Oranları'!$C$5,G97-(F97+I97+L97+O97),+'Vergi Oranları'!$C$5-(F97+I97+L97+O97))))))","v":0},{"$f":"IF(Q97=0,0,ROUND((R97-$S$3)*+'Vergi Oranları'!$G$6/100,2))","v":0},0]
[null,null,null,null,null,null,0,{"$f":"IF(E98=0,0,IF(D98=0,0,IF(G98=0,0,IF(F98>+'Vergi Oranları'!$C$3,0,IF(OR(G98<='Vergi Oranları'!$C$3,F98+E98<+'Vergi Oranları'!$C$3),15,IF(G98-(E98+F98)<='Vergi Oranları'!$C$3,15,))))))","v":0},{"$f":"IF(E98=0,0,IF(D98=0,0,IF(G98=0,0,IF(H98=0,0,IF(F98+E98<='Vergi Oranları'!$C$3,G98-F98,'Vergi Oranları'!$C$3-F98)))))","v":0},{"$f":"IF(I98=0,0,IF(ROUND((I98-$J$3)*'Vergi Oranları'!$G$3/100,2)<0,0,ROUND((I98-$M$3)*'Vergi Oranları'!$G$3/100,2)))","v":0},{"$f":"IF(E98=0,0,IF(D98=0,0,IF(G98=0,0,IF(F98>+'Vergi Oranları'!$C$4,0,IF(OR(G98<='Vergi Oranları'!$C$4,F98+E98<'Vergi Oranları'!$C$4),20,IF(G98-(E98+F98)<='Vergi Oranları'!$C$4,20,))))))","v":0},{"$f":"IF(E98=0,0,IF(D98=0,0,IF(G98=0,0,IF(K98=0,0,IF(F98+E98<=+'Vergi Oranları'!$C$4,G98-(F98+I98),+'Vergi Oranları'!$C$4-(F98+I98))))))","v":0},{"$f":"IF(L98=0,0,IF(ROUND((L98-$M$3)*+'Vergi Oranları'!$G$4/100,2)<0,0,ROUND((L98-$M$3)*+'Vergi Oranları'!$G$4/100,2)))","v":0},{"$f":"IF(E98=0,0,IF(D98=0,0,IF(G98=0,0,IF(OR(G98>+'Vergi Oranları'!$C$4,G98<=+'Vergi Oranları'!$C$5),27))))","v":0},{"$f":"IF(E98=0,0,IF(D98=0,0,IF(G98=0,0,IF(N98=0,0,IF(F98>'Vergi Oranları'!$C$5,0,IF(G98<=+'Vergi Oranları'!$C$5,G98-(F98+I98+L98),+'Vergi Oranları'!$C$5-(F98+I98+L98)))))))","v":0},{"$f":"ROUND(IF(N98=0,0,IF(E98<O98,(E98-$P$3)*'Vergi Oranları'!$G$5/100,(O98-$P$3)*'Vergi Oranları'!$G$5/100)),2)","v":0},{"$f":"IF(E98=0,0,IF(D98=0,0,IF(G98=0,0,IF(G98<=+'Vergi Oranları'!$C$5,0,IF(OR(G98>+'Vergi Oranları'!$C$5,F98+E98<=+'Vergi Oranları'!$C$5),35)))))","v":0},{"$f":"IF(E98=0,0,IF(D98=0,0,IF(G98=0,0,IF(Q98=0,0,IF(F98+E98>=+'Vergi Oranları'!$C$5,G98-(F98+I98+L98+O98),+'Vergi Oranları'!$C$5-(F98+I98+L98+O98))))))","v":0},{"$f":"IF(Q98=0,0,ROUND((R98-$S$3)*+'Vergi Oranları'!$G$6/100,2))","v":0},0]
[null,null,null,null,null,null,0,{"$f":"IF(E99=0,0,IF(D99=0,0,IF(G99=0,0,IF(F99>+'Vergi Oranları'!$C$3,0,IF(OR(G99<='Vergi Oranları'!$C$3,F99+E99<+'Vergi Oranları'!$C$3),15,IF(G99-(E99+F99)<='Vergi Oranları'!$C$3,15,))))))","v":0},{"$f":"IF(E99=0,0,IF(D99=0,0,IF(G99=0,0,IF(H99=0,0,IF(F99+E99<='Vergi Oranları'!$C$3,G99-F99,'Vergi Oranları'!$C$3-F99)))))","v":0},{"$f":"IF(I99=0,0,IF(ROUND((I99-$J$3)*'Vergi Oranları'!$G$3/100,2)<0,0,ROUND((I99-$M$3)*'Vergi Oranları'!$G$3/100,2)))","v":0},{"$f":"IF(E99=0,0,IF(D99=0,0,IF(G99=0,0,IF(F99>+'Vergi Oranları'!$C$4,0,IF(OR(G99<='Vergi Oranları'!$C$4,F99+E99<'Vergi Oranları'!$C$4),20,IF(G99-(E99+F99)<='Vergi Oranları'!$C$4,20,))))))","v":0},{"$f":"IF(E99=0,0,IF(D99=0,0,IF(G99=0,0,IF(K99=0,0,IF(F99+E99<=+'Vergi Oranları'!$C$4,G99-(F99+I99),+'Vergi Oranları'!$C$4-(F99+I99))))))","v":0},{"$f":"IF(L99=0,0,IF(ROUND((L99-$M$3)*+'Vergi Oranları'!$G$4/100,2)<0,0,ROUND((L99-$M$3)*+'Vergi Oranları'!$G$4/100,2)))","v":0},{"$f":"IF(E99=0,0,IF(D99=0,0,IF(G99=0,0,IF(OR(G99>+'Vergi Oranları'!$C$4,G99<=+'Vergi Oranları'!$C$5),27))))","v":0},{"$f":"IF(E99=0,0,IF(D99=0,0,IF(G99=0,0,IF(N99=0,0,IF(F99>'Vergi Oranları'!$C$5,0,IF(G99<=+'Vergi Oranları'!$C$5,G99-(F99+I99+L99),+'Vergi Oranları'!$C$5-(F99+I99+L99)))))))","v":0},{"$f":"ROUND(IF(N99=0,0,IF(E99<O99,(E99-$P$3)*'Vergi Oranları'!$G$5/100,(O99-$P$3)*'Vergi Oranları'!$G$5/100)),2)","v":0},{"$f":"IF(E99=0,0,IF(D99=0,0,IF(G99=0,0,IF(G99<=+'Vergi Oranları'!$C$5,0,IF(OR(G99>+'Vergi Oranları'!$C$5,F99+E99<=+'Vergi Oranları'!$C$5),35)))))","v":0},{"$f":"IF(E99=0,0,IF(D99=0,0,IF(G99=0,0,IF(Q99=0,0,IF(F99+E99>=+'Vergi Oranları'!$C$5,G99-(F99+I99+L99+O99),+'Vergi Oranları'!$C$5-(F99+I99+L99+O99))))))","v":0},{"$f":"IF(Q99=0,0,ROUND((R99-$S$3)*+'Vergi Oranları'!$G$6/100,2))","v":0},0]
[null,null,null,null,null,null,0,{"$f":"IF(E100=0,0,IF(D100=0,0,IF(G100=0,0,IF(F100>+'Vergi Oranları'!$C$3,0,IF(OR(G100<='Vergi Oranları'!$C$3,F100+E100<+'Vergi Oranları'!$C$3),15,IF(G100-(E100+F100)<='Vergi Oranları'!$C$3,15,))))))","v":0},{"$f":"IF(E100=0,0,IF(D100=0,0,IF(G100=0,0,IF(H100=0,0,IF(F100+E100<='Vergi Oranları'!$C$3,G100-F100,'Vergi Oranları'!$C$3-F100)))))","v":0},{"$f":"IF(I100=0,0,IF(ROUND((I100-$J$3)*'Vergi Oranları'!$G$3/100,2)<0,0,ROUND((I100-$M$3)*'Vergi Oranları'!$G$3/100,2)))","v":0},{"$f":"IF(E100=0,0,IF(D100=0,0,IF(G100=0,0,IF(F100>+'Vergi Oranları'!$C$4,0,IF(OR(G100<='Vergi Oranları'!$C$4,F100+E100<'Vergi Oranları'!$C$4),20,IF(G100-(E100+F100)<='Vergi Oranları'!$C$4,20,))))))","v":0},{"$f":"IF(E100=0,0,IF(D100=0,0,IF(G100=0,0,IF(K100=0,0,IF(F100+E100<=+'Vergi Oranları'!$C$4,G100-(F100+I100),+'Vergi Oranları'!$C$4-(F100+I100))))))","v":0},{"$f":"IF(L100=0,0,IF(ROUND((L100-$M$3)*+'Vergi Oranları'!$G$4/100,2)<0,0,ROUND((L100-$M$3)*+'Vergi Oranları'!$G$4/100,2)))","v":0},{"$f":"IF(E100=0,0,IF(D100=0,0,IF(G100=0,0,IF(OR(G100>+'Vergi Oranları'!$C$4,G100<=+'Vergi Oranları'!$C$5),27))))","v":0},{"$f":"IF(E100=0,0,IF(D100=0,0,IF(G100=0,0,IF(N100=0,0,IF(F100>'Vergi Oranları'!$C$5,0,IF(G100<=+'Vergi Oranları'!$C$5,G100-(F100+I100+L100),+'Vergi Oranları'!$C$5-(F100+I100+L100)))))))","v":0},{"$f":"ROUND(IF(N100=0,0,IF(E100<O100,(E100-$P$3)*'Vergi Oranları'!$G$5/100,(O100-$P$3)*'Vergi Oranları'!$G$5/100)),2)","v":0},{"$f":"IF(E100=0,0,IF(D100=0,0,IF(G100=0,0,IF(G100<=+'Vergi Oranları'!$C$5,0,IF(OR(G100>+'Vergi Oranları'!$C$5,F100+E100<=+'Vergi Oranları'!$C$5),35)))))","v":0},{"$f":"IF(E100=0,0,IF(D100=0,0,IF(G100=0,0,IF(Q100=0,0,IF(F100+E100>=+'Vergi Oranları'!$C$5,G100-(F100+I100+L100+O100),+'Vergi Oranları'!$C$5-(F100+I100+L100+O100))))))","v":0},{"$f":"IF(Q100=0,0,ROUND((R100-$S$3)*+'Vergi Oranları'!$G$6/100,2))","v":0},0]
[null,null,null,null,null,null,0,{"$f":"IF(E101=0,0,IF(D101=0,0,IF(G101=0,0,IF(F101>+'Vergi Oranları'!$C$3,0,IF(OR(G101<='Vergi Oranları'!$C$3,F101+E101<+'Vergi Oranları'!$C$3),15,IF(G101-(E101+F101)<='Vergi Oranları'!$C$3,15,))))))","v":0},{"$f":"IF(E101=0,0,IF(D101=0,0,IF(G101=0,0,IF(H101=0,0,IF(F101+E101<='Vergi Oranları'!$C$3,G101-F101,'Vergi Oranları'!$C$3-F101)))))","v":0},{"$f":"IF(I101=0,0,IF(ROUND((I101-$J$3)*'Vergi Oranları'!$G$3/100,2)<0,0,ROUND((I101-$M$3)*'Vergi Oranları'!$G$3/100,2)))","v":0},{"$f":"IF(E101=0,0,IF(D101=0,0,IF(G101=0,0,IF(F101>+'Vergi Oranları'!$C$4,0,IF(OR(G101<='Vergi Oranları'!$C$4,F101+E101<'Vergi Oranları'!$C$4),20,IF(G101-(E101+F101)<='Vergi Oranları'!$C$4,20,))))))","v":0},{"$f":"IF(E101=0,0,IF(D101=0,0,IF(G101=0,0,IF(K101=0,0,IF(F101+E101<=+'Vergi Oranları'!$C$4,G101-(F101+I101),+'Vergi Oranları'!$C$4-(F101+I101))))))","v":0},{"$f":"IF(L101=0,0,IF(ROUND((L101-$M$3)*+'Vergi Oranları'!$G$4/100,2)<0,0,ROUND((L101-$M$3)*+'Vergi Oranları'!$G$4/100,2)))","v":0},{"$f":"IF(E101=0,0,IF(D101=0,0,IF(G101=0,0,IF(OR(G101>+'Vergi Oranları'!$C$4,G101<=+'Vergi Oranları'!$C$5),27))))","v":0},{"$f":"IF(E101=0,0,IF(D101=0,0,IF(G101=0,0,IF(N101=0,0,IF(F101>'Vergi Oranları'!$C$5,0,IF(G101<=+'Vergi Oranları'!$C$5,G101-(F101+I101+L101),+'Vergi Oranları'!$C$5-(F101+I101+L101)))))))","v":0},{"$f":"ROUND(IF(N101=0,0,IF(E101<O101,(E101-$P$3)*'Vergi Oranları'!$G$5/100,(O101-$P$3)*'Vergi Oranları'!$G$5/100)),2)","v":0},{"$f":"IF(E101=0,0,IF(D101=0,0,IF(G101=0,0,IF(G101<=+'Vergi Oranları'!$C$5,0,IF(OR(G101>+'Vergi Oranları'!$C$5,F101+E101<=+'Vergi Oranları'!$C$5),35)))))","v":0},{"$f":"IF(E101=0,0,IF(D101=0,0,IF(G101=0,0,IF(Q101=0,0,IF(F101+E101>=+'Vergi Oranları'!$C$5,G101-(F101+I101+L101+O101),+'Vergi Oranları'!$C$5-(F101+I101+L101+O101))))))","v":0},{"$f":"IF(Q101=0,0,ROUND((R101-$S$3)*+'Vergi Oranları'!$G$6/100,2))","v":0},0]
[null,null,null,null,null,null,0,{"$f":"IF(E102=0,0,IF(D102=0,0,IF(G102=0,0,IF(F102>+'Vergi Oranları'!$C$3,0,IF(OR(G102<='Vergi Oranları'!$C$3,F102+E102<+'Vergi Oranları'!$C$3),15,IF(G102-(E102+F102)<='Vergi Oranları'!$C$3,15,))))))","v":0},{"$f":"IF(E102=0,0,IF(D102=0,0,IF(G102=0,0,IF(H102=0,0,IF(F102+E102<='Vergi Oranları'!$C$3,G102-F102,'Vergi Oranları'!$C$3-F102)))))","v":0},{"$f":"IF(I102=0,0,IF(ROUND((I102-$J$3)*'Vergi Oranları'!$G$3/100,2)<0,0,ROUND((I102-$M$3)*'Vergi Oranları'!$G$3/100,2)))","v":0},{"$f":"IF(E102=0,0,IF(D102=0,0,IF(G102=0,0,IF(F102>+'Vergi Oranları'!$C$4,0,IF(OR(G102<='Vergi Oranları'!$C$4,F102+E102<'Vergi Oranları'!$C$4),20,IF(G102-(E102+F102)<='Vergi Oranları'!$C$4,20,))))))","v":0},{"$f":"IF(E102=0,0,IF(D102=0,0,IF(G102=0,0,IF(K102=0,0,IF(F102+E102<=+'Vergi Oranları'!$C$4,G102-(F102+I102),+'Vergi Oranları'!$C$4-(F102+I102))))))","v":0},{"$f":"IF(L102=0,0,IF(ROUND((L102-$M$3)*+'Vergi Oranları'!$G$4/100,2)<0,0,ROUND((L102-$M$3)*+'Vergi Oranları'!$G$4/100,2)))","v":0},{"$f":"IF(E102=0,0,IF(D102=0,0,IF(G102=0,0,IF(OR(G102>+'Vergi Oranları'!$C$4,G102<=+'Vergi Oranları'!$C$5),27))))","v":0},{"$f":"IF(E102=0,0,IF(D102=0,0,IF(G102=0,0,IF(N102=0,0,IF(F102>'Vergi Oranları'!$C$5,0,IF(G102<=+'Vergi Oranları'!$C$5,G102-(F102+I102+L102),+'Vergi Oranları'!$C$5-(F102+I102+L102)))))))","v":0},{"$f":"ROUND(IF(N102=0,0,IF(E102<O102,(E102-$P$3)*'Vergi Oranları'!$G$5/100,(O102-$P$3)*'Vergi Oranları'!$G$5/100)),2)","v":0},{"$f":"IF(E102=0,0,IF(D102=0,0,IF(G102=0,0,IF(G102<=+'Vergi Oranları'!$C$5,0,IF(OR(G102>+'Vergi Oranları'!$C$5,F102+E102<=+'Vergi Oranları'!$C$5),35)))))","v":0},{"$f":"IF(E102=0,0,IF(D102=0,0,IF(G102=0,0,IF(Q102=0,0,IF(F102+E102>=+'Vergi Oranları'!$C$5,G102-(F102+I102+L102+O102),+'Vergi Oranları'!$C$5-(F102+I102+L102+O102))))))","v":0},{"$f":"IF(Q102=0,0,ROUND((R102-$S$3)*+'Vergi Oranları'!$G$6/100,2))","v":0},0]
[null,null,null,null,null,null,0,{"$f":"IF(E103=0,0,IF(D103=0,0,IF(G103=0,0,IF(F103>+'Vergi Oranları'!$C$3,0,IF(OR(G103<='Vergi Oranları'!$C$3,F103+E103<+'Vergi Oranları'!$C$3),15,IF(G103-(E103+F103)<='Vergi Oranları'!$C$3,15,))))))","v":0},{"$f":"IF(E103=0,0,IF(D103=0,0,IF(G103=0,0,IF(H103=0,0,IF(F103+E103<='Vergi Oranları'!$C$3,G103-F103,'Vergi Oranları'!$C$3-F103)))))","v":0},{"$f":"IF(I103=0,0,IF(ROUND((I103-$J$3)*'Vergi Oranları'!$G$3/100,2)<0,0,ROUND((I103-$M$3)*'Vergi Oranları'!$G$3/100,2)))","v":0},{"$f":"IF(E103=0,0,IF(D103=0,0,IF(G103=0,0,IF(F103>+'Vergi Oranları'!$C$4,0,IF(OR(G103<='Vergi Oranları'!$C$4,F103+E103<'Vergi Oranları'!$C$4),20,IF(G103-(E103+F103)<='Vergi Oranları'!$C$4,20,))))))","v":0},{"$f":"IF(E103=0,0,IF(D103=0,0,IF(G103=0,0,IF(K103=0,0,IF(F103+E103<=+'Vergi Oranları'!$C$4,G103-(F103+I103),+'Vergi Oranları'!$C$4-(F103+I103))))))","v":0},{"$f":"IF(L103=0,0,IF(ROUND((L103-$M$3)*+'Vergi Oranları'!$G$4/100,2)<0,0,ROUND((L103-$M$3)*+'Vergi Oranları'!$G$4/100,2)))","v":0},{"$f":"IF(E103=0,0,IF(D103=0,0,IF(G103=0,0,IF(OR(G103>+'Vergi Oranları'!$C$4,G103<=+'Vergi Oranları'!$C$5),27))))","v":0},{"$f":"IF(E103=0,0,IF(D103=0,0,IF(G103=0,0,IF(N103=0,0,IF(F103>'Vergi Oranları'!$C$5,0,IF(G103<=+'Vergi Oranları'!$C$5,G103-(F103+I103+L103),+'Vergi Oranları'!$C$5-(F103+I103+L103)))))))","v":0},{"$f":"ROUND(IF(N103=0,0,IF(E103<O103,(E103-$P$3)*'Vergi Oranları'!$G$5/100,(O103-$P$3)*'Vergi Oranları'!$G$5/100)),2)","v":0},{"$f":"IF(E103=0,0,IF(D103=0,0,IF(G103=0,0,IF(G103<=+'Vergi Oranları'!$C$5,0,IF(OR(G103>+'Vergi Oranları'!$C$5,F103+E103<=+'Vergi Oranları'!$C$5),35)))))","v":0},{"$f":"IF(E103=0,0,IF(D103=0,0,IF(G103=0,0,IF(Q103=0,0,IF(F103+E103>=+'Vergi Oranları'!$C$5,G103-(F103+I103+L103+O103),+'Vergi Oranları'!$C$5-(F103+I103+L103+O103))))))","v":0},{"$f":"IF(Q103=0,0,ROUND((R103-$S$3)*+'Vergi Oranları'!$G$6/100,2))","v":0},0]
[null,null,null,null,null,null,0,{"$f":"IF(E104=0,0,IF(D104=0,0,IF(G104=0,0,IF(F104>+'Vergi Oranları'!$C$3,0,IF(OR(G104<='Vergi Oranları'!$C$3,F104+E104<+'Vergi Oranları'!$C$3),15,IF(G104-(E104+F104)<='Vergi Oranları'!$C$3,15,))))))","v":0},{"$f":"IF(E104=0,0,IF(D104=0,0,IF(G104=0,0,IF(H104=0,0,IF(F104+E104<='Vergi Oranları'!$C$3,G104-F104,'Vergi Oranları'!$C$3-F104)))))","v":0},{"$f":"IF(I104=0,0,IF(ROUND((I104-$J$3)*'Vergi Oranları'!$G$3/100,2)<0,0,ROUND((I104-$M$3)*'Vergi Oranları'!$G$3/100,2)))","v":0},{"$f":"IF(E104=0,0,IF(D104=0,0,IF(G104=0,0,IF(F104>+'Vergi Oranları'!$C$4,0,IF(OR(G104<='Vergi Oranları'!$C$4,F104+E104<'Vergi Oranları'!$C$4),20,IF(G104-(E104+F104)<='Vergi Oranları'!$C$4,20,))))))","v":0},{"$f":"IF(E104=0,0,IF(D104=0,0,IF(G104=0,0,IF(K104=0,0,IF(F104+E104<=+'Vergi Oranları'!$C$4,G104-(F104+I104),+'Vergi Oranları'!$C$4-(F104+I104))))))","v":0},{"$f":"IF(L104=0,0,IF(ROUND((L104-$M$3)*+'Vergi Oranları'!$G$4/100,2)<0,0,ROUND((L104-$M$3)*+'Vergi Oranları'!$G$4/100,2)))","v":0},{"$f":"IF(E104=0,0,IF(D104=0,0,IF(G104=0,0,IF(OR(G104>+'Vergi Oranları'!$C$4,G104<=+'Vergi Oranları'!$C$5),27))))","v":0},{"$f":"IF(E104=0,0,IF(D104=0,0,IF(G104=0,0,IF(N104=0,0,IF(F104>'Vergi Oranları'!$C$5,0,IF(G104<=+'Vergi Oranları'!$C$5,G104-(F104+I104+L104),+'Vergi Oranları'!$C$5-(F104+I104+L104)))))))","v":0},{"$f":"ROUND(IF(N104=0,0,IF(E104<O104,(E104-$P$3)*'Vergi Oranları'!$G$5/100,(O104-$P$3)*'Vergi Oranları'!$G$5/100)),2)","v":0},{"$f":"IF(E104=0,0,IF(D104=0,0,IF(G104=0,0,IF(G104<=+'Vergi Oranları'!$C$5,0,IF(OR(G104>+'Vergi Oranları'!$C$5,F104+E104<=+'Vergi Oranları'!$C$5),35)))))","v":0},{"$f":"IF(E104=0,0,IF(D104=0,0,IF(G104=0,0,IF(Q104=0,0,IF(F104+E104>=+'Vergi Oranları'!$C$5,G104-(F104+I104+L104+O104),+'Vergi Oranları'!$C$5-(F104+I104+L104+O104))))))","v":0},{"$f":"IF(Q104=0,0,ROUND((R104-$S$3)*+'Vergi Oranları'!$G$6/100,2))","v":0},0]
[null,null,null,null,null,null,0,{"$f":"IF(E105=0,0,IF(D105=0,0,IF(G105=0,0,IF(F105>+'Vergi Oranları'!$C$3,0,IF(OR(G105<='Vergi Oranları'!$C$3,F105+E105<+'Vergi Oranları'!$C$3),15,IF(G105-(E105+F105)<='Vergi Oranları'!$C$3,15,))))))","v":0},{"$f":"IF(E105=0,0,IF(D105=0,0,IF(G105=0,0,IF(H105=0,0,IF(F105+E105<='Vergi Oranları'!$C$3,G105-F105,'Vergi Oranları'!$C$3-F105)))))","v":0},{"$f":"IF(I105=0,0,IF(ROUND((I105-$J$3)*'Vergi Oranları'!$G$3/100,2)<0,0,ROUND((I105-$M$3)*'Vergi Oranları'!$G$3/100,2)))","v":0},{"$f":"IF(E105=0,0,IF(D105=0,0,IF(G105=0,0,IF(F105>+'Vergi Oranları'!$C$4,0,IF(OR(G105<='Vergi Oranları'!$C$4,F105+E105<'Vergi Oranları'!$C$4),20,IF(G105-(E105+F105)<='Vergi Oranları'!$C$4,20,))))))","v":0},{"$f":"IF(E105=0,0,IF(D105=0,0,IF(G105=0,0,IF(K105=0,0,IF(F105+E105<=+'Vergi Oranları'!$C$4,G105-(F105+I105),+'Vergi Oranları'!$C$4-(F105+I105))))))","v":0},{"$f":"IF(L105=0,0,IF(ROUND((L105-$M$3)*+'Vergi Oranları'!$G$4/100,2)<0,0,ROUND((L105-$M$3)*+'Vergi Oranları'!$G$4/100,2)))","v":0},{"$f":"IF(E105=0,0,IF(D105=0,0,IF(G105=0,0,IF(OR(G105>+'Vergi Oranları'!$C$4,G105<=+'Vergi Oranları'!$C$5),27))))","v":0},{"$f":"IF(E105=0,0,IF(D105=0,0,IF(G105=0,0,IF(N105=0,0,IF(F105>'Vergi Oranları'!$C$5,0,IF(G105<=+'Vergi Oranları'!$C$5,G105-(F105+I105+L105),+'Vergi Oranları'!$C$5-(F105+I105+L105)))))))","v":0},{"$f":"ROUND(IF(N105=0,0,IF(E105<O105,(E105-$P$3)*'Vergi Oranları'!$G$5/100,(O105-$P$3)*'Vergi Oranları'!$G$5/100)),2)","v":0},{"$f":"IF(E105=0,0,IF(D105=0,0,IF(G105=0,0,IF(G105<=+'Vergi Oranları'!$C$5,0,IF(OR(G105>+'Vergi Oranları'!$C$5,F105+E105<=+'Vergi Oranları'!$C$5),35)))))","v":0},{"$f":"IF(E105=0,0,IF(D105=0,0,IF(G105=0,0,IF(Q105=0,0,IF(F105+E105>=+'Vergi Oranları'!$C$5,G105-(F105+I105+L105+O105),+'Vergi Oranları'!$C$5-(F105+I105+L105+O105))))))","v":0},{"$f":"IF(Q105=0,0,ROUND((R105-$S$3)*+'Vergi Oranları'!$G$6/100,2))","v":0},0]
[null,null,null,null,null,null,0,{"$f":"IF(E106=0,0,IF(D106=0,0,IF(G106=0,0,IF(F106>+'Vergi Oranları'!$C$3,0,IF(OR(G106<='Vergi Oranları'!$C$3,F106+E106<+'Vergi Oranları'!$C$3),15,IF(G106-(E106+F106)<='Vergi Oranları'!$C$3,15,))))))","v":0},{"$f":"IF(E106=0,0,IF(D106=0,0,IF(G106=0,0,IF(H106=0,0,IF(F106+E106<='Vergi Oranları'!$C$3,G106-F106,'Vergi Oranları'!$C$3-F106)))))","v":0},{"$f":"IF(I106=0,0,IF(ROUND((I106-$J$3)*'Vergi Oranları'!$G$3/100,2)<0,0,ROUND((I106-$M$3)*'Vergi Oranları'!$G$3/100,2)))","v":0},{"$f":"IF(E106=0,0,IF(D106=0,0,IF(G106=0,0,IF(F106>+'Vergi Oranları'!$C$4,0,IF(OR(G106<='Vergi Oranları'!$C$4,F106+E106<'Vergi Oranları'!$C$4),20,IF(G106-(E106+F106)<='Vergi Oranları'!$C$4,20,))))))","v":0},{"$f":"IF(E106=0,0,IF(D106=0,0,IF(G106=0,0,IF(K106=0,0,IF(F106+E106<=+'Vergi Oranları'!$C$4,G106-(F106+I106),+'Vergi Oranları'!$C$4-(F106+I106))))))","v":0},{"$f":"IF(L106=0,0,IF(ROUND((L106-$M$3)*+'Vergi Oranları'!$G$4/100,2)<0,0,ROUND((L106-$M$3)*+'Vergi Oranları'!$G$4/100,2)))","v":0},{"$f":"IF(E106=0,0,IF(D106=0,0,IF(G106=0,0,IF(OR(G106>+'Vergi Oranları'!$C$4,G106<=+'Vergi Oranları'!$C$5),27))))","v":0},{"$f":"IF(E106=0,0,IF(D106=0,0,IF(G106=0,0,IF(N106=0,0,IF(F106>'Vergi Oranları'!$C$5,0,IF(G106<=+'Vergi Oranları'!$C$5,G106-(F106+I106+L106),+'Vergi Oranları'!$C$5-(F106+I106+L106)))))))","v":0},{"$f":"ROUND(IF(N106=0,0,IF(E106<O106,(E106-$P$3)*'Vergi Oranları'!$G$5/100,(O106-$P$3)*'Vergi Oranları'!$G$5/100)),2)","v":0},{"$f":"IF(E106=0,0,IF(D106=0,0,IF(G106=0,0,IF(G106<=+'Vergi Oranları'!$C$5,0,IF(OR(G106>+'Vergi Oranları'!$C$5,F106+E106<=+'Vergi Oranları'!$C$5),35)))))","v":0},{"$f":"IF(E106=0,0,IF(D106=0,0,IF(G106=0,0,IF(Q106=0,0,IF(F106+E106>=+'Vergi Oranları'!$C$5,G106-(F106+I106+L106+O106),+'Vergi Oranları'!$C$5-(F106+I106+L106+O106))))))","v":0},{"$f":"IF(Q106=0,0,ROUND((R106-$S$3)*+'Vergi Oranları'!$G$6/100,2))","v":0},0]
[null,null,null,null,null,null,0,{"$f":"IF(E107=0,0,IF(D107=0,0,IF(G107=0,0,IF(F107>+'Vergi Oranları'!$C$3,0,IF(OR(G107<='Vergi Oranları'!$C$3,F107+E107<+'Vergi Oranları'!$C$3),15,IF(G107-(E107+F107)<='Vergi Oranları'!$C$3,15,))))))","v":0},{"$f":"IF(E107=0,0,IF(D107=0,0,IF(G107=0,0,IF(H107=0,0,IF(F107+E107<='Vergi Oranları'!$C$3,G107-F107,'Vergi Oranları'!$C$3-F107)))))","v":0},{"$f":"IF(I107=0,0,IF(ROUND((I107-$J$3)*'Vergi Oranları'!$G$3/100,2)<0,0,ROUND((I107-$M$3)*'Vergi Oranları'!$G$3/100,2)))","v":0},{"$f":"IF(E107=0,0,IF(D107=0,0,IF(G107=0,0,IF(F107>+'Vergi Oranları'!$C$4,0,IF(OR(G107<='Vergi Oranları'!$C$4,F107+E107<'Vergi Oranları'!$C$4),20,IF(G107-(E107+F107)<='Vergi Oranları'!$C$4,20,))))))","v":0},{"$f":"IF(E107=0,0,IF(D107=0,0,IF(G107=0,0,IF(K107=0,0,IF(F107+E107<=+'Vergi Oranları'!$C$4,G107-(F107+I107),+'Vergi Oranları'!$C$4-(F107+I107))))))","v":0},{"$f":"IF(L107=0,0,IF(ROUND((L107-$M$3)*+'Vergi Oranları'!$G$4/100,2)<0,0,ROUND((L107-$M$3)*+'Vergi Oranları'!$G$4/100,2)))","v":0},{"$f":"IF(E107=0,0,IF(D107=0,0,IF(G107=0,0,IF(OR(G107>+'Vergi Oranları'!$C$4,G107<=+'Vergi Oranları'!$C$5),27))))","v":0},{"$f":"IF(E107=0,0,IF(D107=0,0,IF(G107=0,0,IF(N107=0,0,IF(F107>'Vergi Oranları'!$C$5,0,IF(G107<=+'Vergi Oranları'!$C$5,G107-(F107+I107+L107),+'Vergi Oranları'!$C$5-(F107+I107+L107)))))))","v":0},{"$f":"ROUND(IF(N107=0,0,IF(E107<O107,(E107-$P$3)*'Vergi Oranları'!$G$5/100,(O107-$P$3)*'Vergi Oranları'!$G$5/100)),2)","v":0},{"$f":"IF(E107=0,0,IF(D107=0,0,IF(G107=0,0,IF(G107<=+'Vergi Oranları'!$C$5,0,IF(OR(G107>+'Vergi Oranları'!$C$5,F107+E107<=+'Vergi Oranları'!$C$5),35)))))","v":0},{"$f":"IF(E107=0,0,IF(D107=0,0,IF(G107=0,0,IF(Q107=0,0,IF(F107+E107>=+'Vergi Oranları'!$C$5,G107-(F107+I107+L107+O107),+'Vergi Oranları'!$C$5-(F107+I107+L107+O107))))))","v":0},{"$f":"IF(Q107=0,0,ROUND((R107-$S$3)*+'Vergi Oranları'!$G$6/100,2))","v":0},0]
[null,null,null,null,null,null,0,{"$f":"IF(E108=0,0,IF(D108=0,0,IF(G108=0,0,IF(F108>+'Vergi Oranları'!$C$3,0,IF(OR(G108<='Vergi Oranları'!$C$3,F108+E108<+'Vergi Oranları'!$C$3),15,IF(G108-(E108+F108)<='Vergi Oranları'!$C$3,15,))))))","v":0},{"$f":"IF(E108=0,0,IF(D108=0,0,IF(G108=0,0,IF(H108=0,0,IF(F108+E108<='Vergi Oranları'!$C$3,G108-F108,'Vergi Oranları'!$C$3-F108)))))","v":0},{"$f":"IF(I108=0,0,IF(ROUND((I108-$J$3)*'Vergi Oranları'!$G$3/100,2)<0,0,ROUND((I108-$M$3)*'Vergi Oranları'!$G$3/100,2)))","v":0},{"$f":"IF(E108=0,0,IF(D108=0,0,IF(G108=0,0,IF(F108>+'Vergi Oranları'!$C$4,0,IF(OR(G108<='Vergi Oranları'!$C$4,F108+E108<'Vergi Oranları'!$C$4),20,IF(G108-(E108+F108)<='Vergi Oranları'!$C$4,20,))))))","v":0},{"$f":"IF(E108=0,0,IF(D108=0,0,IF(G108=0,0,IF(K108=0,0,IF(F108+E108<=+'Vergi Oranları'!$C$4,G108-(F108+I108),+'Vergi Oranları'!$C$4-(F108+I108))))))","v":0},{"$f":"IF(L108=0,0,IF(ROUND((L108-$M$3)*+'Vergi Oranları'!$G$4/100,2)<0,0,ROUND((L108-$M$3)*+'Vergi Oranları'!$G$4/100,2)))","v":0},{"$f":"IF(E108=0,0,IF(D108=0,0,IF(G108=0,0,IF(OR(G108>+'Vergi Oranları'!$C$4,G108<=+'Vergi Oranları'!$C$5),27))))","v":0},{"$f":"IF(E108=0,0,IF(D108=0,0,IF(G108=0,0,IF(N108=0,0,IF(F108>'Vergi Oranları'!$C$5,0,IF(G108<=+'Vergi Oranları'!$C$5,G108-(F108+I108+L108),+'Vergi Oranları'!$C$5-(F108+I108+L108)))))))","v":0},{"$f":"ROUND(IF(N108=0,0,IF(E108<O108,(E108-$P$3)*'Vergi Oranları'!$G$5/100,(O108-$P$3)*'Vergi Oranları'!$G$5/100)),2)","v":0},{"$f":"IF(E108=0,0,IF(D108=0,0,IF(G108=0,0,IF(G108<=+'Vergi Oranları'!$C$5,0,IF(OR(G108>+'Vergi Oranları'!$C$5,F108+E108<=+'Vergi Oranları'!$C$5),35)))))","v":0},{"$f":"IF(E108=0,0,IF(D108=0,0,IF(G108=0,0,IF(Q108=0,0,IF(F108+E108>=+'Vergi Oranları'!$C$5,G108-(F108+I108+L108+O108),+'Vergi Oranları'!$C$5-(F108+I108+L108+O108))))))","v":0},{"$f":"IF(Q108=0,0,ROUND((R108-$S$3)*+'Vergi Oranları'!$G$6/100,2))","v":0},0]
[null,null,null,null,null,null,0,{"$f":"IF(E109=0,0,IF(D109=0,0,IF(G109=0,0,IF(F109>+'Vergi Oranları'!$C$3,0,IF(OR(G109<='Vergi Oranları'!$C$3,F109+E109<+'Vergi Oranları'!$C$3),15,IF(G109-(E109+F109)<='Vergi Oranları'!$C$3,15,))))))","v":0},{"$f":"IF(E109=0,0,IF(D109=0,0,IF(G109=0,0,IF(H109=0,0,IF(F109+E109<='Vergi Oranları'!$C$3,G109-F109,'Vergi Oranları'!$C$3-F109)))))","v":0},{"$f":"IF(I109=0,0,IF(ROUND((I109-$J$3)*'Vergi Oranları'!$G$3/100,2)<0,0,ROUND((I109-$M$3)*'Vergi Oranları'!$G$3/100,2)))","v":0},{"$f":"IF(E109=0,0,IF(D109=0,0,IF(G109=0,0,IF(F109>+'Vergi Oranları'!$C$4,0,IF(OR(G109<='Vergi Oranları'!$C$4,F109+E109<'Vergi Oranları'!$C$4),20,IF(G109-(E109+F109)<='Vergi Oranları'!$C$4,20,))))))","v":0},{"$f":"IF(E109=0,0,IF(D109=0,0,IF(G109=0,0,IF(K109=0,0,IF(F109+E109<=+'Vergi Oranları'!$C$4,G109-(F109+I109),+'Vergi Oranları'!$C$4-(F109+I109))))))","v":0},{"$f":"IF(L109=0,0,IF(ROUND((L109-$M$3)*+'Vergi Oranları'!$G$4/100,2)<0,0,ROUND((L109-$M$3)*+'Vergi Oranları'!$G$4/100,2)))","v":0},{"$f":"IF(E109=0,0,IF(D109=0,0,IF(G109=0,0,IF(OR(G109>+'Vergi Oranları'!$C$4,G109<=+'Vergi Oranları'!$C$5),27))))","v":0},{"$f":"IF(E109=0,0,IF(D109=0,0,IF(G109=0,0,IF(N109=0,0,IF(F109>'Vergi Oranları'!$C$5,0,IF(G109<=+'Vergi Oranları'!$C$5,G109-(F109+I109+L109),+'Vergi Oranları'!$C$5-(F109+I109+L109)))))))","v":0},{"$f":"ROUND(IF(N109=0,0,IF(E109<O109,(E109-$P$3)*'Vergi Oranları'!$G$5/100,(O109-$P$3)*'Vergi Oranları'!$G$5/100)),2)","v":0},{"$f":"IF(E109=0,0,IF(D109=0,0,IF(G109=0,0,IF(G109<=+'Vergi Oranları'!$C$5,0,IF(OR(G109>+'Vergi Oranları'!$C$5,F109+E109<=+'Vergi Oranları'!$C$5),35)))))","v":0},{"$f":"IF(E109=0,0,IF(D109=0,0,IF(G109=0,0,IF(Q109=0,0,IF(F109+E109>=+'Vergi Oranları'!$C$5,G109-(F109+I109+L109+O109),+'Vergi Oranları'!$C$5-(F109+I109+L109+O109))))))","v":0},{"$f":"IF(Q109=0,0,ROUND((R109-$S$3)*+'Vergi Oranları'!$G$6/100,2))","v":0},0]
[null,null,null,null,null,null,0,{"$f":"IF(E110=0,0,IF(D110=0,0,IF(G110=0,0,IF(F110>+'Vergi Oranları'!$C$3,0,IF(OR(G110<='Vergi Oranları'!$C$3,F110+E110<+'Vergi Oranları'!$C$3),15,IF(G110-(E110+F110)<='Vergi Oranları'!$C$3,15,))))))","v":0},{"$f":"IF(E110=0,0,IF(D110=0,0,IF(G110=0,0,IF(H110=0,0,IF(F110+E110<='Vergi Oranları'!$C$3,G110-F110,'Vergi Oranları'!$C$3-F110)))))","v":0},{"$f":"IF(I110=0,0,IF(ROUND((I110-$J$3)*'Vergi Oranları'!$G$3/100,2)<0,0,ROUND((I110-$M$3)*'Vergi Oranları'!$G$3/100,2)))","v":0},{"$f":"IF(E110=0,0,IF(D110=0,0,IF(G110=0,0,IF(F110>+'Vergi Oranları'!$C$4,0,IF(OR(G110<='Vergi Oranları'!$C$4,F110+E110<'Vergi Oranları'!$C$4),20,IF(G110-(E110+F110)<='Vergi Oranları'!$C$4,20,))))))","v":0},{"$f":"IF(E110=0,0,IF(D110=0,0,IF(G110=0,0,IF(K110=0,0,IF(F110+E110<=+'Vergi Oranları'!$C$4,G110-(F110+I110),+'Vergi Oranları'!$C$4-(F110+I110))))))","v":0},{"$f":"IF(L110=0,0,IF(ROUND((L110-$M$3)*+'Vergi Oranları'!$G$4/100,2)<0,0,ROUND((L110-$M$3)*+'Vergi Oranları'!$G$4/100,2)))","v":0},{"$f":"IF(E110=0,0,IF(D110=0,0,IF(G110=0,0,IF(OR(G110>+'Vergi Oranları'!$C$4,G110<=+'Vergi Oranları'!$C$5),27))))","v":0},{"$f":"IF(E110=0,0,IF(D110=0,0,IF(G110=0,0,IF(N110=0,0,IF(F110>'Vergi Oranları'!$C$5,0,IF(G110<=+'Vergi Oranları'!$C$5,G110-(F110+I110+L110),+'Vergi Oranları'!$C$5-(F110+I110+L110)))))))","v":0},{"$f":"ROUND(IF(N110=0,0,IF(E110<O110,(E110-$P$3)*'Vergi Oranları'!$G$5/100,(O110-$P$3)*'Vergi Oranları'!$G$5/100)),2)","v":0},{"$f":"IF(E110=0,0,IF(D110=0,0,IF(G110=0,0,IF(G110<=+'Vergi Oranları'!$C$5,0,IF(OR(G110>+'Vergi Oranları'!$C$5,F110+E110<=+'Vergi Oranları'!$C$5),35)))))","v":0},{"$f":"IF(E110=0,0,IF(D110=0,0,IF(G110=0,0,IF(Q110=0,0,IF(F110+E110>=+'Vergi Oranları'!$C$5,G110-(F110+I110+L110+O110),+'Vergi Oranları'!$C$5-(F110+I110+L110+O110))))))","v":0},{"$f":"IF(Q110=0,0,ROUND((R110-$S$3)*+'Vergi Oranları'!$G$6/100,2))","v":0},0]
[null,null,null,null,null,null,0,{"$f":"IF(E111=0,0,IF(D111=0,0,IF(G111=0,0,IF(F111>+'Vergi Oranları'!$C$3,0,IF(OR(G111<='Vergi Oranları'!$C$3,F111+E111<+'Vergi Oranları'!$C$3),15,IF(G111-(E111+F111)<='Vergi Oranları'!$C$3,15,))))))","v":0},{"$f":"IF(E111=0,0,IF(D111=0,0,IF(G111=0,0,IF(H111=0,0,IF(F111+E111<='Vergi Oranları'!$C$3,G111-F111,'Vergi Oranları'!$C$3-F111)))))","v":0},{"$f":"IF(I111=0,0,IF(ROUND((I111-$J$3)*'Vergi Oranları'!$G$3/100,2)<0,0,ROUND((I111-$M$3)*'Vergi Oranları'!$G$3/100,2)))","v":0},{"$f":"IF(E111=0,0,IF(D111=0,0,IF(G111=0,0,IF(F111>+'Vergi Oranları'!$C$4,0,IF(OR(G111<='Vergi Oranları'!$C$4,F111+E111<'Vergi Oranları'!$C$4),20,IF(G111-(E111+F111)<='Vergi Oranları'!$C$4,20,))))))","v":0},{"$f":"IF(E111=0,0,IF(D111=0,0,IF(G111=0,0,IF(K111=0,0,IF(F111+E111<=+'Vergi Oranları'!$C$4,G111-(F111+I111),+'Vergi Oranları'!$C$4-(F111+I111))))))","v":0},{"$f":"IF(L111=0,0,IF(ROUND((L111-$M$3)*+'Vergi Oranları'!$G$4/100,2)<0,0,ROUND((L111-$M$3)*+'Vergi Oranları'!$G$4/100,2)))","v":0},{"$f":"IF(E111=0,0,IF(D111=0,0,IF(G111=0,0,IF(OR(G111>+'Vergi Oranları'!$C$4,G111<=+'Vergi Oranları'!$C$5),27))))","v":0},{"$f":"IF(E111=0,0,IF(D111=0,0,IF(G111=0,0,IF(N111=0,0,IF(F111>'Vergi Oranları'!$C$5,0,IF(G111<=+'Vergi Oranları'!$C$5,G111-(F111+I111+L111),+'Vergi Oranları'!$C$5-(F111+I111+L111)))))))","v":0},{"$f":"ROUND(IF(N111=0,0,IF(E111<O111,(E111-$P$3)*'Vergi Oranları'!$G$5/100,(O111-$P$3)*'Vergi Oranları'!$G$5/100)),2)","v":0},{"$f":"IF(E111=0,0,IF(D111=0,0,IF(G111=0,0,IF(G111<=+'Vergi Oranları'!$C$5,0,IF(OR(G111>+'Vergi Oranları'!$C$5,F111+E111<=+'Vergi Oranları'!$C$5),35)))))","v":0},{"$f":"IF(E111=0,0,IF(D111=0,0,IF(G111=0,0,IF(Q111=0,0,IF(F111+E111>=+'Vergi Oranları'!$C$5,G111-(F111+I111+L111+O111),+'Vergi Oranları'!$C$5-(F111+I111+L111+O111))))))","v":0},{"$f":"IF(Q111=0,0,ROUND((R111-$S$3)*+'Vergi Oranları'!$G$6/100,2))","v":0},0]
[null,null,null,null,null,null,0,{"$f":"IF(E112=0,0,IF(D112=0,0,IF(G112=0,0,IF(F112>+'Vergi Oranları'!$C$3,0,IF(OR(G112<='Vergi Oranları'!$C$3,F112+E112<+'Vergi Oranları'!$C$3),15,IF(G112-(E112+F112)<='Vergi Oranları'!$C$3,15,))))))","v":0},{"$f":"IF(E112=0,0,IF(D112=0,0,IF(G112=0,0,IF(H112=0,0,IF(F112+E112<='Vergi Oranları'!$C$3,G112-F112,'Vergi Oranları'!$C$3-F112)))))","v":0},{"$f":"IF(I112=0,0,IF(ROUND((I112-$J$3)*'Vergi Oranları'!$G$3/100,2)<0,0,ROUND((I112-$M$3)*'Vergi Oranları'!$G$3/100,2)))","v":0},{"$f":"IF(E112=0,0,IF(D112=0,0,IF(G112=0,0,IF(F112>+'Vergi Oranları'!$C$4,0,IF(OR(G112<='Vergi Oranları'!$C$4,F112+E112<'Vergi Oranları'!$C$4),20,IF(G112-(E112+F112)<='Vergi Oranları'!$C$4,20,))))))","v":0},{"$f":"IF(E112=0,0,IF(D112=0,0,IF(G112=0,0,IF(K112=0,0,IF(F112+E112<=+'Vergi Oranları'!$C$4,G112-(F112+I112),+'Vergi Oranları'!$C$4-(F112+I112))))))","v":0},{"$f":"IF(L112=0,0,IF(ROUND((L112-$M$3)*+'Vergi Oranları'!$G$4/100,2)<0,0,ROUND((L112-$M$3)*+'Vergi Oranları'!$G$4/100,2)))","v":0},{"$f":"IF(E112=0,0,IF(D112=0,0,IF(G112=0,0,IF(OR(G112>+'Vergi Oranları'!$C$4,G112<=+'Vergi Oranları'!$C$5),27))))","v":0},{"$f":"IF(E112=0,0,IF(D112=0,0,IF(G112=0,0,IF(N112=0,0,IF(F112>'Vergi Oranları'!$C$5,0,IF(G112<=+'Vergi Oranları'!$C$5,G112-(F112+I112+L112),+'Vergi Oranları'!$C$5-(F112+I112+L112)))))))","v":0},{"$f":"ROUND(IF(N112=0,0,IF(E112<O112,(E112-$P$3)*'Vergi Oranları'!$G$5/100,(O112-$P$3)*'Vergi Oranları'!$G$5/100)),2)","v":0},{"$f":"IF(E112=0,0,IF(D112=0,0,IF(G112=0,0,IF(G112<=+'Vergi Oranları'!$C$5,0,IF(OR(G112>+'Vergi Oranları'!$C$5,F112+E112<=+'Vergi Oranları'!$C$5),35)))))","v":0},{"$f":"IF(E112=0,0,IF(D112=0,0,IF(G112=0,0,IF(Q112=0,0,IF(F112+E112>=+'Vergi Oranları'!$C$5,G112-(F112+I112+L112+O112),+'Vergi Oranları'!$C$5-(F112+I112+L112+O112))))))","v":0},{"$f":"IF(Q112=0,0,ROUND((R112-$S$3)*+'Vergi Oranları'!$G$6/100,2))","v":0},0]
[null,null,null,null,null,null,0,{"$f":"IF(E113=0,0,IF(D113=0,0,IF(G113=0,0,IF(F113>+'Vergi Oranları'!$C$3,0,IF(OR(G113<='Vergi Oranları'!$C$3,F113+E113<+'Vergi Oranları'!$C$3),15,IF(G113-(E113+F113)<='Vergi Oranları'!$C$3,15,))))))","v":0},{"$f":"IF(E113=0,0,IF(D113=0,0,IF(G113=0,0,IF(H113=0,0,IF(F113+E113<='Vergi Oranları'!$C$3,G113-F113,'Vergi Oranları'!$C$3-F113)))))","v":0},{"$f":"IF(I113=0,0,IF(ROUND((I113-$J$3)*'Vergi Oranları'!$G$3/100,2)<0,0,ROUND((I113-$M$3)*'Vergi Oranları'!$G$3/100,2)))","v":0},{"$f":"IF(E113=0,0,IF(D113=0,0,IF(G113=0,0,IF(F113>+'Vergi Oranları'!$C$4,0,IF(OR(G113<='Vergi Oranları'!$C$4,F113+E113<'Vergi Oranları'!$C$4),20,IF(G113-(E113+F113)<='Vergi Oranları'!$C$4,20,))))))","v":0},{"$f":"IF(E113=0,0,IF(D113=0,0,IF(G113=0,0,IF(K113=0,0,IF(F113+E113<=+'Vergi Oranları'!$C$4,G113-(F113+I113),+'Vergi Oranları'!$C$4-(F113+I113))))))","v":0},{"$f":"IF(L113=0,0,IF(ROUND((L113-$M$3)*+'Vergi Oranları'!$G$4/100,2)<0,0,ROUND((L113-$M$3)*+'Vergi Oranları'!$G$4/100,2)))","v":0},{"$f":"IF(E113=0,0,IF(D113=0,0,IF(G113=0,0,IF(OR(G113>+'Vergi Oranları'!$C$4,G113<=+'Vergi Oranları'!$C$5),27))))","v":0},{"$f":"IF(E113=0,0,IF(D113=0,0,IF(G113=0,0,IF(N113=0,0,IF(F113>'Vergi Oranları'!$C$5,0,IF(G113<=+'Vergi Oranları'!$C$5,G113-(F113+I113+L113),+'Vergi Oranları'!$C$5-(F113+I113+L113)))))))","v":0},{"$f":"ROUND(IF(N113=0,0,IF(E113<O113,(E113-$P$3)*'Vergi Oranları'!$G$5/100,(O113-$P$3)*'Vergi Oranları'!$G$5/100)),2)","v":0},{"$f":"IF(E113=0,0,IF(D113=0,0,IF(G113=0,0,IF(G113<=+'Vergi Oranları'!$C$5,0,IF(OR(G113>+'Vergi Oranları'!$C$5,F113+E113<=+'Vergi Oranları'!$C$5),35)))))","v":0},{"$f":"IF(E113=0,0,IF(D113=0,0,IF(G113=0,0,IF(Q113=0,0,IF(F113+E113>=+'Vergi Oranları'!$C$5,G113-(F113+I113+L113+O113),+'Vergi Oranları'!$C$5-(F113+I113+L113+O113))))))","v":0},{"$f":"IF(Q113=0,0,ROUND((R113-$S$3)*+'Vergi Oranları'!$G$6/100,2))","v":0},0]
[null,null,null,null,null,null,0,{"$f":"IF(E114=0,0,IF(D114=0,0,IF(G114=0,0,IF(F114>+'Vergi Oranları'!$C$3,0,IF(OR(G114<='Vergi Oranları'!$C$3,F114+E114<+'Vergi Oranları'!$C$3),15,IF(G114-(E114+F114)<='Vergi Oranları'!$C$3,15,))))))","v":0},{"$f":"IF(E114=0,0,IF(D114=0,0,IF(G114=0,0,IF(H114=0,0,IF(F114+E114<='Vergi Oranları'!$C$3,G114-F114,'Vergi Oranları'!$C$3-F114)))))","v":0},{"$f":"IF(I114=0,0,IF(ROUND((I114-$J$3)*'Vergi Oranları'!$G$3/100,2)<0,0,ROUND((I114-$M$3)*'Vergi Oranları'!$G$3/100,2)))","v":0},{"$f":"IF(E114=0,0,IF(D114=0,0,IF(G114=0,0,IF(F114>+'Vergi Oranları'!$C$4,0,IF(OR(G114<='Vergi Oranları'!$C$4,F114+E114<'Vergi Oranları'!$C$4),20,IF(G114-(E114+F114)<='Vergi Oranları'!$C$4,20,))))))","v":0},{"$f":"IF(E114=0,0,IF(D114=0,0,IF(G114=0,0,IF(K114=0,0,IF(F114+E114<=+'Vergi Oranları'!$C$4,G114-(F114+I114),+'Vergi Oranları'!$C$4-(F114+I114))))))","v":0},{"$f":"IF(L114=0,0,IF(ROUND((L114-$M$3)*+'Vergi Oranları'!$G$4/100,2)<0,0,ROUND((L114-$M$3)*+'Vergi Oranları'!$G$4/100,2)))","v":0},{"$f":"IF(E114=0,0,IF(D114=0,0,IF(G114=0,0,IF(OR(G114>+'Vergi Oranları'!$C$4,G114<=+'Vergi Oranları'!$C$5),27))))","v":0},{"$f":"IF(E114=0,0,IF(D114=0,0,IF(G114=0,0,IF(N114=0,0,IF(F114>'Vergi Oranları'!$C$5,0,IF(G114<=+'Vergi Oranları'!$C$5,G114-(F114+I114+L114),+'Vergi Oranları'!$C$5-(F114+I114+L114)))))))","v":0},{"$f":"ROUND(IF(N114=0,0,IF(E114<O114,(E114-$P$3)*'Vergi Oranları'!$G$5/100,(O114-$P$3)*'Vergi Oranları'!$G$5/100)),2)","v":0},{"$f":"IF(E114=0,0,IF(D114=0,0,IF(G114=0,0,IF(G114<=+'Vergi Oranları'!$C$5,0,IF(OR(G114>+'Vergi Oranları'!$C$5,F114+E114<=+'Vergi Oranları'!$C$5),35)))))","v":0},{"$f":"IF(E114=0,0,IF(D114=0,0,IF(G114=0,0,IF(Q114=0,0,IF(F114+E114>=+'Vergi Oranları'!$C$5,G114-(F114+I114+L114+O114),+'Vergi Oranları'!$C$5-(F114+I114+L114+O114))))))","v":0},{"$f":"IF(Q114=0,0,ROUND((R114-$S$3)*+'Vergi Oranları'!$G$6/100,2))","v":0},0]
[null,null,null,null,null,null,0,{"$f":"IF(E115=0,0,IF(D115=0,0,IF(G115=0,0,IF(F115>+'Vergi Oranları'!$C$3,0,IF(OR(G115<='Vergi Oranları'!$C$3,F115+E115<+'Vergi Oranları'!$C$3),15,IF(G115-(E115+F115)<='Vergi Oranları'!$C$3,15,))))))","v":0},{"$f":"IF(E115=0,0,IF(D115=0,0,IF(G115=0,0,IF(H115=0,0,IF(F115+E115<='Vergi Oranları'!$C$3,G115-F115,'Vergi Oranları'!$C$3-F115)))))","v":0},{"$f":"IF(I115=0,0,IF(ROUND((I115-$J$3)*'Vergi Oranları'!$G$3/100,2)<0,0,ROUND((I115-$M$3)*'Vergi Oranları'!$G$3/100,2)))","v":0},{"$f":"IF(E115=0,0,IF(D115=0,0,IF(G115=0,0,IF(F115>+'Vergi Oranları'!$C$4,0,IF(OR(G115<='Vergi Oranları'!$C$4,F115+E115<'Vergi Oranları'!$C$4),20,IF(G115-(E115+F115)<='Vergi Oranları'!$C$4,20,))))))","v":0},{"$f":"IF(E115=0,0,IF(D115=0,0,IF(G115=0,0,IF(K115=0,0,IF(F115+E115<=+'Vergi Oranları'!$C$4,G115-(F115+I115),+'Vergi Oranları'!$C$4-(F115+I115))))))","v":0},{"$f":"IF(L115=0,0,IF(ROUND((L115-$M$3)*+'Vergi Oranları'!$G$4/100,2)<0,0,ROUND((L115-$M$3)*+'Vergi Oranları'!$G$4/100,2)))","v":0},{"$f":"IF(E115=0,0,IF(D115=0,0,IF(G115=0,0,IF(OR(G115>+'Vergi Oranları'!$C$4,G115<=+'Vergi Oranları'!$C$5),27))))","v":0},{"$f":"IF(E115=0,0,IF(D115=0,0,IF(G115=0,0,IF(N115=0,0,IF(F115>'Vergi Oranları'!$C$5,0,IF(G115<=+'Vergi Oranları'!$C$5,G115-(F115+I115+L115),+'Vergi Oranları'!$C$5-(F115+I115+L115)))))))","v":0},{"$f":"ROUND(IF(N115=0,0,IF(E115<O115,(E115-$P$3)*'Vergi Oranları'!$G$5/100,(O115-$P$3)*'Vergi Oranları'!$G$5/100)),2)","v":0},{"$f":"IF(E115=0,0,IF(D115=0,0,IF(G115=0,0,IF(G115<=+'Vergi Oranları'!$C$5,0,IF(OR(G115>+'Vergi Oranları'!$C$5,F115+E115<=+'Vergi Oranları'!$C$5),35)))))","v":0},{"$f":"IF(E115=0,0,IF(D115=0,0,IF(G115=0,0,IF(Q115=0,0,IF(F115+E115>=+'Vergi Oranları'!$C$5,G115-(F115+I115+L115+O115),+'Vergi Oranları'!$C$5-(F115+I115+L115+O115))))))","v":0},{"$f":"IF(Q115=0,0,ROUND((R115-$S$3)*+'Vergi Oranları'!$G$6/100,2))","v":0},0]
[null,null,null,null,null,null,0,{"$f":"IF(E116=0,0,IF(D116=0,0,IF(G116=0,0,IF(F116>+'Vergi Oranları'!$C$3,0,IF(OR(G116<='Vergi Oranları'!$C$3,F116+E116<+'Vergi Oranları'!$C$3),15,IF(G116-(E116+F116)<='Vergi Oranları'!$C$3,15,))))))","v":0},{"$f":"IF(E116=0,0,IF(D116=0,0,IF(G116=0,0,IF(H116=0,0,IF(F116+E116<='Vergi Oranları'!$C$3,G116-F116,'Vergi Oranları'!$C$3-F116)))))","v":0},{"$f":"IF(I116=0,0,IF(ROUND((I116-$J$3)*'Vergi Oranları'!$G$3/100,2)<0,0,ROUND((I116-$M$3)*'Vergi Oranları'!$G$3/100,2)))","v":0},{"$f":"IF(E116=0,0,IF(D116=0,0,IF(G116=0,0,IF(F116>+'Vergi Oranları'!$C$4,0,IF(OR(G116<='Vergi Oranları'!$C$4,F116+E116<'Vergi Oranları'!$C$4),20,IF(G116-(E116+F116)<='Vergi Oranları'!$C$4,20,))))))","v":0},{"$f":"IF(E116=0,0,IF(D116=0,0,IF(G116=0,0,IF(K116=0,0,IF(F116+E116<=+'Vergi Oranları'!$C$4,G116-(F116+I116),+'Vergi Oranları'!$C$4-(F116+I116))))))","v":0},{"$f":"IF(L116=0,0,IF(ROUND((L116-$M$3)*+'Vergi Oranları'!$G$4/100,2)<0,0,ROUND((L116-$M$3)*+'Vergi Oranları'!$G$4/100,2)))","v":0},{"$f":"IF(E116=0,0,IF(D116=0,0,IF(G116=0,0,IF(OR(G116>+'Vergi Oranları'!$C$4,G116<=+'Vergi Oranları'!$C$5),27))))","v":0},{"$f":"IF(E116=0,0,IF(D116=0,0,IF(G116=0,0,IF(N116=0,0,IF(F116>'Vergi Oranları'!$C$5,0,IF(G116<=+'Vergi Oranları'!$C$5,G116-(F116+I116+L116),+'Vergi Oranları'!$C$5-(F116+I116+L116)))))))","v":0},{"$f":"ROUND(IF(N116=0,0,IF(E116<O116,(E116-$P$3)*'Vergi Oranları'!$G$5/100,(O116-$P$3)*'Vergi Oranları'!$G$5/100)),2)","v":0},{"$f":"IF(E116=0,0,IF(D116=0,0,IF(G116=0,0,IF(G116<=+'Vergi Oranları'!$C$5,0,IF(OR(G116>+'Vergi Oranları'!$C$5,F116+E116<=+'Vergi Oranları'!$C$5),35)))))","v":0},{"$f":"IF(E116=0,0,IF(D116=0,0,IF(G116=0,0,IF(Q116=0,0,IF(F116+E116>=+'Vergi Oranları'!$C$5,G116-(F116+I116+L116+O116),+'Vergi Oranları'!$C$5-(F116+I116+L116+O116))))))","v":0},{"$f":"IF(Q116=0,0,ROUND((R116-$S$3)*+'Vergi Oranları'!$G$6/100,2))","v":0},0]
[null,null,null,null,null,null,0,{"$f":"IF(E117=0,0,IF(D117=0,0,IF(G117=0,0,IF(F117>+'Vergi Oranları'!$C$3,0,IF(OR(G117<='Vergi Oranları'!$C$3,F117+E117<+'Vergi Oranları'!$C$3),15,IF(G117-(E117+F117)<='Vergi Oranları'!$C$3,15,))))))","v":0},{"$f":"IF(E117=0,0,IF(D117=0,0,IF(G117=0,0,IF(H117=0,0,IF(F117+E117<='Vergi Oranları'!$C$3,G117-F117,'Vergi Oranları'!$C$3-F117)))))","v":0},{"$f":"IF(I117=0,0,IF(ROUND((I117-$J$3)*'Vergi Oranları'!$G$3/100,2)<0,0,ROUND((I117-$M$3)*'Vergi Oranları'!$G$3/100,2)))","v":0},{"$f":"IF(E117=0,0,IF(D117=0,0,IF(G117=0,0,IF(F117>+'Vergi Oranları'!$C$4,0,IF(OR(G117<='Vergi Oranları'!$C$4,F117+E117<'Vergi Oranları'!$C$4),20,IF(G117-(E117+F117)<='Vergi Oranları'!$C$4,20,))))))","v":0},{"$f":"IF(E117=0,0,IF(D117=0,0,IF(G117=0,0,IF(K117=0,0,IF(F117+E117<=+'Vergi Oranları'!$C$4,G117-(F117+I117),+'Vergi Oranları'!$C$4-(F117+I117))))))","v":0},{"$f":"IF(L117=0,0,IF(ROUND((L117-$M$3)*+'Vergi Oranları'!$G$4/100,2)<0,0,ROUND((L117-$M$3)*+'Vergi Oranları'!$G$4/100,2)))","v":0},{"$f":"IF(E117=0,0,IF(D117=0,0,IF(G117=0,0,IF(OR(G117>+'Vergi Oranları'!$C$4,G117<=+'Vergi Oranları'!$C$5),27))))","v":0},{"$f":"IF(E117=0,0,IF(D117=0,0,IF(G117=0,0,IF(N117=0,0,IF(F117>'Vergi Oranları'!$C$5,0,IF(G117<=+'Vergi Oranları'!$C$5,G117-(F117+I117+L117),+'Vergi Oranları'!$C$5-(F117+I117+L117)))))))","v":0},{"$f":"ROUND(IF(N117=0,0,IF(E117<O117,(E117-$P$3)*'Vergi Oranları'!$G$5/100,(O117-$P$3)*'Vergi Oranları'!$G$5/100)),2)","v":0},{"$f":"IF(E117=0,0,IF(D117=0,0,IF(G117=0,0,IF(G117<=+'Vergi Oranları'!$C$5,0,IF(OR(G117>+'Vergi Oranları'!$C$5,F117+E117<=+'Vergi Oranları'!$C$5),35)))))","v":0},{"$f":"IF(E117=0,0,IF(D117=0,0,IF(G117=0,0,IF(Q117=0,0,IF(F117+E117>=+'Vergi Oranları'!$C$5,G117-(F117+I117+L117+O117),+'Vergi Oranları'!$C$5-(F117+I117+L117+O117))))))","v":0},{"$f":"IF(Q117=0,0,ROUND((R117-$S$3)*+'Vergi Oranları'!$G$6/100,2))","v":0},0]
[null,null,null,null,null,null,0,{"$f":"IF(E118=0,0,IF(D118=0,0,IF(G118=0,0,IF(F118>+'Vergi Oranları'!$C$3,0,IF(OR(G118<='Vergi Oranları'!$C$3,F118+E118<+'Vergi Oranları'!$C$3),15,IF(G118-(E118+F118)<='Vergi Oranları'!$C$3,15,))))))","v":0},{"$f":"IF(E118=0,0,IF(D118=0,0,IF(G118=0,0,IF(H118=0,0,IF(F118+E118<='Vergi Oranları'!$C$3,G118-F118,'Vergi Oranları'!$C$3-F118)))))","v":0},{"$f":"IF(I118=0,0,IF(ROUND((I118-$J$3)*'Vergi Oranları'!$G$3/100,2)<0,0,ROUND((I118-$M$3)*'Vergi Oranları'!$G$3/100,2)))","v":0},{"$f":"IF(E118=0,0,IF(D118=0,0,IF(G118=0,0,IF(F118>+'Vergi Oranları'!$C$4,0,IF(OR(G118<='Vergi Oranları'!$C$4,F118+E118<'Vergi Oranları'!$C$4),20,IF(G118-(E118+F118)<='Vergi Oranları'!$C$4,20,))))))","v":0},{"$f":"IF(E118=0,0,IF(D118=0,0,IF(G118=0,0,IF(K118=0,0,IF(F118+E118<=+'Vergi Oranları'!$C$4,G118-(F118+I118),+'Vergi Oranları'!$C$4-(F118+I118))))))","v":0},{"$f":"IF(L118=0,0,IF(ROUND((L118-$M$3)*+'Vergi Oranları'!$G$4/100,2)<0,0,ROUND((L118-$M$3)*+'Vergi Oranları'!$G$4/100,2)))","v":0},{"$f":"IF(E118=0,0,IF(D118=0,0,IF(G118=0,0,IF(OR(G118>+'Vergi Oranları'!$C$4,G118<=+'Vergi Oranları'!$C$5),27))))","v":0},{"$f":"IF(E118=0,0,IF(D118=0,0,IF(G118=0,0,IF(N118=0,0,IF(F118>'Vergi Oranları'!$C$5,0,IF(G118<=+'Vergi Oranları'!$C$5,G118-(F118+I118+L118),+'Vergi Oranları'!$C$5-(F118+I118+L118)))))))","v":0},{"$f":"ROUND(IF(N118=0,0,IF(E118<O118,(E118-$P$3)*'Vergi Oranları'!$G$5/100,(O118-$P$3)*'Vergi Oranları'!$G$5/100)),2)","v":0},{"$f":"IF(E118=0,0,IF(D118=0,0,IF(G118=0,0,IF(G118<=+'Vergi Oranları'!$C$5,0,IF(OR(G118>+'Vergi Oranları'!$C$5,F118+E118<=+'Vergi Oranları'!$C$5),35)))))","v":0},{"$f":"IF(E118=0,0,IF(D118=0,0,IF(G118=0,0,IF(Q118=0,0,IF(F118+E118>=+'Vergi Oranları'!$C$5,G118-(F118+I118+L118+O118),+'Vergi Oranları'!$C$5-(F118+I118+L118+O118))))))","v":0},{"$f":"IF(Q118=0,0,ROUND((R118-$S$3)*+'Vergi Oranları'!$G$6/100,2))","v":0},0]
[null,null,null,null,null,null,0,{"$f":"IF(E119=0,0,IF(D119=0,0,IF(G119=0,0,IF(F119>+'Vergi Oranları'!$C$3,0,IF(OR(G119<='Vergi Oranları'!$C$3,F119+E119<+'Vergi Oranları'!$C$3),15,IF(G119-(E119+F119)<='Vergi Oranları'!$C$3,15,))))))","v":0},{"$f":"IF(E119=0,0,IF(D119=0,0,IF(G119=0,0,IF(H119=0,0,IF(F119+E119<='Vergi Oranları'!$C$3,G119-F119,'Vergi Oranları'!$C$3-F119)))))","v":0},{"$f":"IF(I119=0,0,IF(ROUND((I119-$J$3)*'Vergi Oranları'!$G$3/100,2)<0,0,ROUND((I119-$M$3)*'Vergi Oranları'!$G$3/100,2)))","v":0},{"$f":"IF(E119=0,0,IF(D119=0,0,IF(G119=0,0,IF(F119>+'Vergi Oranları'!$C$4,0,IF(OR(G119<='Vergi Oranları'!$C$4,F119+E119<'Vergi Oranları'!$C$4),20,IF(G119-(E119+F119)<='Vergi Oranları'!$C$4,20,))))))","v":0},{"$f":"IF(E119=0,0,IF(D119=0,0,IF(G119=0,0,IF(K119=0,0,IF(F119+E119<=+'Vergi Oranları'!$C$4,G119-(F119+I119),+'Vergi Oranları'!$C$4-(F119+I119))))))","v":0},{"$f":"IF(L119=0,0,IF(ROUND((L119-$M$3)*+'Vergi Oranları'!$G$4/100,2)<0,0,ROUND((L119-$M$3)*+'Vergi Oranları'!$G$4/100,2)))","v":0},{"$f":"IF(E119=0,0,IF(D119=0,0,IF(G119=0,0,IF(OR(G119>+'Vergi Oranları'!$C$4,G119<=+'Vergi Oranları'!$C$5),27))))","v":0},{"$f":"IF(E119=0,0,IF(D119=0,0,IF(G119=0,0,IF(N119=0,0,IF(F119>'Vergi Oranları'!$C$5,0,IF(G119<=+'Vergi Oranları'!$C$5,G119-(F119+I119+L119),+'Vergi Oranları'!$C$5-(F119+I119+L119)))))))","v":0},{"$f":"ROUND(IF(N119=0,0,IF(E119<O119,(E119-$P$3)*'Vergi Oranları'!$G$5/100,(O119-$P$3)*'Vergi Oranları'!$G$5/100)),2)","v":0},{"$f":"IF(E119=0,0,IF(D119=0,0,IF(G119=0,0,IF(G119<=+'Vergi Oranları'!$C$5,0,IF(OR(G119>+'Vergi Oranları'!$C$5,F119+E119<=+'Vergi Oranları'!$C$5),35)))))","v":0},{"$f":"IF(E119=0,0,IF(D119=0,0,IF(G119=0,0,IF(Q119=0,0,IF(F119+E119>=+'Vergi Oranları'!$C$5,G119-(F119+I119+L119+O119),+'Vergi Oranları'!$C$5-(F119+I119+L119+O119))))))","v":0},{"$f":"IF(Q119=0,0,ROUND((R119-$S$3)*+'Vergi Oranları'!$G$6/100,2))","v":0},0]
[null,null,null,null,null,null,0,{"$f":"IF(E120=0,0,IF(D120=0,0,IF(G120=0,0,IF(F120>+'Vergi Oranları'!$C$3,0,IF(OR(G120<='Vergi Oranları'!$C$3,F120+E120<+'Vergi Oranları'!$C$3),15,IF(G120-(E120+F120)<='Vergi Oranları'!$C$3,15,))))))","v":0},{"$f":"IF(E120=0,0,IF(D120=0,0,IF(G120=0,0,IF(H120=0,0,IF(F120+E120<='Vergi Oranları'!$C$3,G120-F120,'Vergi Oranları'!$C$3-F120)))))","v":0},{"$f":"IF(I120=0,0,IF(ROUND((I120-$J$3)*'Vergi Oranları'!$G$3/100,2)<0,0,ROUND((I120-$M$3)*'Vergi Oranları'!$G$3/100,2)))","v":0},{"$f":"IF(E120=0,0,IF(D120=0,0,IF(G120=0,0,IF(F120>+'Vergi Oranları'!$C$4,0,IF(OR(G120<='Vergi Oranları'!$C$4,F120+E120<'Vergi Oranları'!$C$4),20,IF(G120-(E120+F120)<='Vergi Oranları'!$C$4,20,))))))","v":0},{"$f":"IF(E120=0,0,IF(D120=0,0,IF(G120=0,0,IF(K120=0,0,IF(F120+E120<=+'Vergi Oranları'!$C$4,G120-(F120+I120),+'Vergi Oranları'!$C$4-(F120+I120))))))","v":0},{"$f":"IF(L120=0,0,IF(ROUND((L120-$M$3)*+'Vergi Oranları'!$G$4/100,2)<0,0,ROUND((L120-$M$3)*+'Vergi Oranları'!$G$4/100,2)))","v":0},{"$f":"IF(E120=0,0,IF(D120=0,0,IF(G120=0,0,IF(OR(G120>+'Vergi Oranları'!$C$4,G120<=+'Vergi Oranları'!$C$5),27))))","v":0},{"$f":"IF(E120=0,0,IF(D120=0,0,IF(G120=0,0,IF(N120=0,0,IF(F120>'Vergi Oranları'!$C$5,0,IF(G120<=+'Vergi Oranları'!$C$5,G120-(F120+I120+L120),+'Vergi Oranları'!$C$5-(F120+I120+L120)))))))","v":0},{"$f":"ROUND(IF(N120=0,0,IF(E120<O120,(E120-$P$3)*'Vergi Oranları'!$G$5/100,(O120-$P$3)*'Vergi Oranları'!$G$5/100)),2)","v":0},{"$f":"IF(E120=0,0,IF(D120=0,0,IF(G120=0,0,IF(G120<=+'Vergi Oranları'!$C$5,0,IF(OR(G120>+'Vergi Oranları'!$C$5,F120+E120<=+'Vergi Oranları'!$C$5),35)))))","v":0},{"$f":"IF(E120=0,0,IF(D120=0,0,IF(G120=0,0,IF(Q120=0,0,IF(F120+E120>=+'Vergi Oranları'!$C$5,G120-(F120+I120+L120+O120),+'Vergi Oranları'!$C$5-(F120+I120+L120+O120))))))","v":0},{"$f":"IF(Q120=0,0,ROUND((R120-$S$3)*+'Vergi Oranları'!$G$6/100,2))","v":0},0]
[null,null,null,null,null,null,0,{"$f":"IF(E121=0,0,IF(D121=0,0,IF(G121=0,0,IF(F121>+'Vergi Oranları'!$C$3,0,IF(OR(G121<='Vergi Oranları'!$C$3,F121+E121<+'Vergi Oranları'!$C$3),15,IF(G121-(E121+F121)<='Vergi Oranları'!$C$3,15,))))))","v":0},{"$f":"IF(E121=0,0,IF(D121=0,0,IF(G121=0,0,IF(H121=0,0,IF(F121+E121<='Vergi Oranları'!$C$3,G121-F121,'Vergi Oranları'!$C$3-F121)))))","v":0},{"$f":"IF(I121=0,0,IF(ROUND((I121-$J$3)*'Vergi Oranları'!$G$3/100,2)<0,0,ROUND((I121-$M$3)*'Vergi Oranları'!$G$3/100,2)))","v":0},{"$f":"IF(E121=0,0,IF(D121=0,0,IF(G121=0,0,IF(F121>+'Vergi Oranları'!$C$4,0,IF(OR(G121<='Vergi Oranları'!$C$4,F121+E121<'Vergi Oranları'!$C$4),20,IF(G121-(E121+F121)<='Vergi Oranları'!$C$4,20,))))))","v":0},{"$f":"IF(E121=0,0,IF(D121=0,0,IF(G121=0,0,IF(K121=0,0,IF(F121+E121<=+'Vergi Oranları'!$C$4,G121-(F121+I121),+'Vergi Oranları'!$C$4-(F121+I121))))))","v":0},{"$f":"IF(L121=0,0,IF(ROUND((L121-$M$3)*+'Vergi Oranları'!$G$4/100,2)<0,0,ROUND((L121-$M$3)*+'Vergi Oranları'!$G$4/100,2)))","v":0},{"$f":"IF(E121=0,0,IF(D121=0,0,IF(G121=0,0,IF(OR(G121>+'Vergi Oranları'!$C$4,G121<=+'Vergi Oranları'!$C$5),27))))","v":0},{"$f":"IF(E121=0,0,IF(D121=0,0,IF(G121=0,0,IF(N121=0,0,IF(F121>'Vergi Oranları'!$C$5,0,IF(G121<=+'Vergi Oranları'!$C$5,G121-(F121+I121+L121),+'Vergi Oranları'!$C$5-(F121+I121+L121)))))))","v":0},{"$f":"ROUND(IF(N121=0,0,IF(E121<O121,(E121-$P$3)*'Vergi Oranları'!$G$5/100,(O121-$P$3)*'Vergi Oranları'!$G$5/100)),2)","v":0},{"$f":"IF(E121=0,0,IF(D121=0,0,IF(G121=0,0,IF(G121<=+'Vergi Oranları'!$C$5,0,IF(OR(G121>+'Vergi Oranları'!$C$5,F121+E121<=+'Vergi Oranları'!$C$5),35)))))","v":0},{"$f":"IF(E121=0,0,IF(D121=0,0,IF(G121=0,0,IF(Q121=0,0,IF(F121+E121>=+'Vergi Oranları'!$C$5,G121-(F121+I121+L121+O121),+'Vergi Oranları'!$C$5-(F121+I121+L121+O121))))))","v":0},{"$f":"IF(Q121=0,0,ROUND((R121-$S$3)*+'Vergi Oranları'!$G$6/100,2))","v":0},0]
[null,null,null,null,null,null,0,{"$f":"IF(E122=0,0,IF(D122=0,0,IF(G122=0,0,IF(F122>+'Vergi Oranları'!$C$3,0,IF(OR(G122<='Vergi Oranları'!$C$3,F122+E122<+'Vergi Oranları'!$C$3),15,IF(G122-(E122+F122)<='Vergi Oranları'!$C$3,15,))))))","v":0},{"$f":"IF(E122=0,0,IF(D122=0,0,IF(G122=0,0,IF(H122=0,0,IF(F122+E122<='Vergi Oranları'!$C$3,G122-F122,'Vergi Oranları'!$C$3-F122)))))","v":0},{"$f":"IF(I122=0,0,IF(ROUND((I122-$J$3)*'Vergi Oranları'!$G$3/100,2)<0,0,ROUND((I122-$M$3)*'Vergi Oranları'!$G$3/100,2)))","v":0},{"$f":"IF(E122=0,0,IF(D122=0,0,IF(G122=0,0,IF(F122>+'Vergi Oranları'!$C$4,0,IF(OR(G122<='Vergi Oranları'!$C$4,F122+E122<'Vergi Oranları'!$C$4),20,IF(G122-(E122+F122)<='Vergi Oranları'!$C$4,20,))))))","v":0},{"$f":"IF(E122=0,0,IF(D122=0,0,IF(G122=0,0,IF(K122=0,0,IF(F122+E122<=+'Vergi Oranları'!$C$4,G122-(F122+I122),+'Vergi Oranları'!$C$4-(F122+I122))))))","v":0},{"$f":"IF(L122=0,0,IF(ROUND((L122-$M$3)*+'Vergi Oranları'!$G$4/100,2)<0,0,ROUND((L122-$M$3)*+'Vergi Oranları'!$G$4/100,2)))","v":0},{"$f":"IF(E122=0,0,IF(D122=0,0,IF(G122=0,0,IF(OR(G122>+'Vergi Oranları'!$C$4,G122<=+'Vergi Oranları'!$C$5),27))))","v":0},{"$f":"IF(E122=0,0,IF(D122=0,0,IF(G122=0,0,IF(N122=0,0,IF(F122>'Vergi Oranları'!$C$5,0,IF(G122<=+'Vergi Oranları'!$C$5,G122-(F122+I122+L122),+'Vergi Oranları'!$C$5-(F122+I122+L122)))))))","v":0},{"$f":"ROUND(IF(N122=0,0,IF(E122<O122,(E122-$P$3)*'Vergi Oranları'!$G$5/100,(O122-$P$3)*'Vergi Oranları'!$G$5/100)),2)","v":0},{"$f":"IF(E122=0,0,IF(D122=0,0,IF(G122=0,0,IF(G122<=+'Vergi Oranları'!$C$5,0,IF(OR(G122>+'Vergi Oranları'!$C$5,F122+E122<=+'Vergi Oranları'!$C$5),35)))))","v":0},{"$f":"IF(E122=0,0,IF(D122=0,0,IF(G122=0,0,IF(Q122=0,0,IF(F122+E122>=+'Vergi Oranları'!$C$5,G122-(F122+I122+L122+O122),+'Vergi Oranları'!$C$5-(F122+I122+L122+O122))))))","v":0},{"$f":"IF(Q122=0,0,ROUND((R122-$S$3)*+'Vergi Oranları'!$G$6/100,2))","v":0},0]
[null,null,null,null,null,null,0,{"$f":"IF(E123=0,0,IF(D123=0,0,IF(G123=0,0,IF(F123>+'Vergi Oranları'!$C$3,0,IF(OR(G123<='Vergi Oranları'!$C$3,F123+E123<+'Vergi Oranları'!$C$3),15,IF(G123-(E123+F123)<='Vergi Oranları'!$C$3,15,))))))","v":0},{"$f":"IF(E123=0,0,IF(D123=0,0,IF(G123=0,0,IF(H123=0,0,IF(F123+E123<='Vergi Oranları'!$C$3,G123-F123,'Vergi Oranları'!$C$3-F123)))))","v":0},{"$f":"IF(I123=0,0,IF(ROUND((I123-$J$3)*'Vergi Oranları'!$G$3/100,2)<0,0,ROUND((I123-$M$3)*'Vergi Oranları'!$G$3/100,2)))","v":0},{"$f":"IF(E123=0,0,IF(D123=0,0,IF(G123=0,0,IF(F123>+'Vergi Oranları'!$C$4,0,IF(OR(G123<='Vergi Oranları'!$C$4,F123+E123<'Vergi Oranları'!$C$4),20,IF(G123-(E123+F123)<='Vergi Oranları'!$C$4,20,))))))","v":0},{"$f":"IF(E123=0,0,IF(D123=0,0,IF(G123=0,0,IF(K123=0,0,IF(F123+E123<=+'Vergi Oranları'!$C$4,G123-(F123+I123),+'Vergi Oranları'!$C$4-(F123+I123))))))","v":0},{"$f":"IF(L123=0,0,IF(ROUND((L123-$M$3)*+'Vergi Oranları'!$G$4/100,2)<0,0,ROUND((L123-$M$3)*+'Vergi Oranları'!$G$4/100,2)))","v":0},{"$f":"IF(E123=0,0,IF(D123=0,0,IF(G123=0,0,IF(OR(G123>+'Vergi Oranları'!$C$4,G123<=+'Vergi Oranları'!$C$5),27))))","v":0},{"$f":"IF(E123=0,0,IF(D123=0,0,IF(G123=0,0,IF(N123=0,0,IF(F123>'Vergi Oranları'!$C$5,0,IF(G123<=+'Vergi Oranları'!$C$5,G123-(F123+I123+L123),+'Vergi Oranları'!$C$5-(F123+I123+L123)))))))","v":0},{"$f":"ROUND(IF(N123=0,0,IF(E123<O123,(E123-$P$3)*'Vergi Oranları'!$G$5/100,(O123-$P$3)*'Vergi Oranları'!$G$5/100)),2)","v":0},{"$f":"IF(E123=0,0,IF(D123=0,0,IF(G123=0,0,IF(G123<=+'Vergi Oranları'!$C$5,0,IF(OR(G123>+'Vergi Oranları'!$C$5,F123+E123<=+'Vergi Oranları'!$C$5),35)))))","v":0},{"$f":"IF(E123=0,0,IF(D123=0,0,IF(G123=0,0,IF(Q123=0,0,IF(F123+E123>=+'Vergi Oranları'!$C$5,G123-(F123+I123+L123+O123),+'Vergi Oranları'!$C$5-(F123+I123+L123+O123))))))","v":0},{"$f":"IF(Q123=0,0,ROUND((R123-$S$3)*+'Vergi Oranları'!$G$6/100,2))","v":0},0]
[null,null,null,null,null,null,0,{"$f":"IF(E124=0,0,IF(D124=0,0,IF(G124=0,0,IF(F124>+'Vergi Oranları'!$C$3,0,IF(OR(G124<='Vergi Oranları'!$C$3,F124+E124<+'Vergi Oranları'!$C$3),15,IF(G124-(E124+F124)<='Vergi Oranları'!$C$3,15,))))))","v":0},{"$f":"IF(E124=0,0,IF(D124=0,0,IF(G124=0,0,IF(H124=0,0,IF(F124+E124<='Vergi Oranları'!$C$3,G124-F124,'Vergi Oranları'!$C$3-F124)))))","v":0},{"$f":"IF(I124=0,0,IF(ROUND((I124-$J$3)*'Vergi Oranları'!$G$3/100,2)<0,0,ROUND((I124-$M$3)*'Vergi Oranları'!$G$3/100,2)))","v":0},{"$f":"IF(E124=0,0,IF(D124=0,0,IF(G124=0,0,IF(F124>+'Vergi Oranları'!$C$4,0,IF(OR(G124<='Vergi Oranları'!$C$4,F124+E124<'Vergi Oranları'!$C$4),20,IF(G124-(E124+F124)<='Vergi Oranları'!$C$4,20,))))))","v":0},{"$f":"IF(E124=0,0,IF(D124=0,0,IF(G124=0,0,IF(K124=0,0,IF(F124+E124<=+'Vergi Oranları'!$C$4,G124-(F124+I124),+'Vergi Oranları'!$C$4-(F124+I124))))))","v":0},{"$f":"IF(L124=0,0,IF(ROUND((L124-$M$3)*+'Vergi Oranları'!$G$4/100,2)<0,0,ROUND((L124-$M$3)*+'Vergi Oranları'!$G$4/100,2)))","v":0},{"$f":"IF(E124=0,0,IF(D124=0,0,IF(G124=0,0,IF(OR(G124>+'Vergi Oranları'!$C$4,G124<=+'Vergi Oranları'!$C$5),27))))","v":0},{"$f":"IF(E124=0,0,IF(D124=0,0,IF(G124=0,0,IF(N124=0,0,IF(F124>'Vergi Oranları'!$C$5,0,IF(G124<=+'Vergi Oranları'!$C$5,G124-(F124+I124+L124),+'Vergi Oranları'!$C$5-(F124+I124+L124)))))))","v":0},{"$f":"ROUND(IF(N124=0,0,IF(E124<O124,(E124-$P$3)*'Vergi Oranları'!$G$5/100,(O124-$P$3)*'Vergi Oranları'!$G$5/100)),2)","v":0},{"$f":"IF(E124=0,0,IF(D124=0,0,IF(G124=0,0,IF(G124<=+'Vergi Oranları'!$C$5,0,IF(OR(G124>+'Vergi Oranları'!$C$5,F124+E124<=+'Vergi Oranları'!$C$5),35)))))","v":0},{"$f":"IF(E124=0,0,IF(D124=0,0,IF(G124=0,0,IF(Q124=0,0,IF(F124+E124>=+'Vergi Oranları'!$C$5,G124-(F124+I124+L124+O124),+'Vergi Oranları'!$C$5-(F124+I124+L124+O124))))))","v":0},{"$f":"IF(Q124=0,0,ROUND((R124-$S$3)*+'Vergi Oranları'!$G$6/100,2))","v":0},0]
[null,null,null,null,null,null,0,{"$f":"IF(E125=0,0,IF(D125=0,0,IF(G125=0,0,IF(F125>+'Vergi Oranları'!$C$3,0,IF(OR(G125<='Vergi Oranları'!$C$3,F125+E125<+'Vergi Oranları'!$C$3),15,IF(G125-(E125+F125)<='Vergi Oranları'!$C$3,15,))))))","v":0},{"$f":"IF(E125=0,0,IF(D125=0,0,IF(G125=0,0,IF(H125=0,0,IF(F125+E125<='Vergi Oranları'!$C$3,G125-F125,'Vergi Oranları'!$C$3-F125)))))","v":0},{"$f":"IF(I125=0,0,IF(ROUND((I125-$J$3)*'Vergi Oranları'!$G$3/100,2)<0,0,ROUND((I125-$M$3)*'Vergi Oranları'!$G$3/100,2)))","v":0},{"$f":"IF(E125=0,0,IF(D125=0,0,IF(G125=0,0,IF(F125>+'Vergi Oranları'!$C$4,0,IF(OR(G125<='Vergi Oranları'!$C$4,F125+E125<'Vergi Oranları'!$C$4),20,IF(G125-(E125+F125)<='Vergi Oranları'!$C$4,20,))))))","v":0},{"$f":"IF(E125=0,0,IF(D125=0,0,IF(G125=0,0,IF(K125=0,0,IF(F125+E125<=+'Vergi Oranları'!$C$4,G125-(F125+I125),+'Vergi Oranları'!$C$4-(F125+I125))))))","v":0},{"$f":"IF(L125=0,0,IF(ROUND((L125-$M$3)*+'Vergi Oranları'!$G$4/100,2)<0,0,ROUND((L125-$M$3)*+'Vergi Oranları'!$G$4/100,2)))","v":0},{"$f":"IF(E125=0,0,IF(D125=0,0,IF(G125=0,0,IF(OR(G125>+'Vergi Oranları'!$C$4,G125<=+'Vergi Oranları'!$C$5),27))))","v":0},{"$f":"IF(E125=0,0,IF(D125=0,0,IF(G125=0,0,IF(N125=0,0,IF(F125>'Vergi Oranları'!$C$5,0,IF(G125<=+'Vergi Oranları'!$C$5,G125-(F125+I125+L125),+'Vergi Oranları'!$C$5-(F125+I125+L125)))))))","v":0},{"$f":"ROUND(IF(N125=0,0,IF(E125<O125,(E125-$P$3)*'Vergi Oranları'!$G$5/100,(O125-$P$3)*'Vergi Oranları'!$G$5/100)),2)","v":0},{"$f":"IF(E125=0,0,IF(D125=0,0,IF(G125=0,0,IF(G125<=+'Vergi Oranları'!$C$5,0,IF(OR(G125>+'Vergi Oranları'!$C$5,F125+E125<=+'Vergi Oranları'!$C$5),35)))))","v":0},{"$f":"IF(E125=0,0,IF(D125=0,0,IF(G125=0,0,IF(Q125=0,0,IF(F125+E125>=+'Vergi Oranları'!$C$5,G125-(F125+I125+L125+O125),+'Vergi Oranları'!$C$5-(F125+I125+L125+O125))))))","v":0},{"$f":"IF(Q125=0,0,ROUND((R125-$S$3)*+'Vergi Oranları'!$G$6/100,2))","v":0},0]
[null,null,null,null,null,null,0,{"$f":"IF(E126=0,0,IF(D126=0,0,IF(G126=0,0,IF(F126>+'Vergi Oranları'!$C$3,0,IF(OR(G126<='Vergi Oranları'!$C$3,F126+E126<+'Vergi Oranları'!$C$3),15,IF(G126-(E126+F126)<='Vergi Oranları'!$C$3,15,))))))","v":0},{"$f":"IF(E126=0,0,IF(D126=0,0,IF(G126=0,0,IF(H126=0,0,IF(F126+E126<='Vergi Oranları'!$C$3,G126-F126,'Vergi Oranları'!$C$3-F126)))))","v":0},{"$f":"IF(I126=0,0,IF(ROUND((I126-$J$3)*'Vergi Oranları'!$G$3/100,2)<0,0,ROUND((I126-$M$3)*'Vergi Oranları'!$G$3/100,2)))","v":0},{"$f":"IF(E126=0,0,IF(D126=0,0,IF(G126=0,0,IF(F126>+'Vergi Oranları'!$C$4,0,IF(OR(G126<='Vergi Oranları'!$C$4,F126+E126<'Vergi Oranları'!$C$4),20,IF(G126-(E126+F126)<='Vergi Oranları'!$C$4,20,))))))","v":0},{"$f":"IF(E126=0,0,IF(D126=0,0,IF(G126=0,0,IF(K126=0,0,IF(F126+E126<=+'Vergi Oranları'!$C$4,G126-(F126+I126),+'Vergi Oranları'!$C$4-(F126+I126))))))","v":0},{"$f":"IF(L126=0,0,IF(ROUND((L126-$M$3)*+'Vergi Oranları'!$G$4/100,2)<0,0,ROUND((L126-$M$3)*+'Vergi Oranları'!$G$4/100,2)))","v":0},{"$f":"IF(E126=0,0,IF(D126=0,0,IF(G126=0,0,IF(OR(G126>+'Vergi Oranları'!$C$4,G126<=+'Vergi Oranları'!$C$5),27))))","v":0},{"$f":"IF(E126=0,0,IF(D126=0,0,IF(G126=0,0,IF(N126=0,0,IF(F126>'Vergi Oranları'!$C$5,0,IF(G126<=+'Vergi Oranları'!$C$5,G126-(F126+I126+L126),+'Vergi Oranları'!$C$5-(F126+I126+L126)))))))","v":0},{"$f":"ROUND(IF(N126=0,0,IF(E126<O126,(E126-$P$3)*'Vergi Oranları'!$G$5/100,(O126-$P$3)*'Vergi Oranları'!$G$5/100)),2)","v":0},{"$f":"IF(E126=0,0,IF(D126=0,0,IF(G126=0,0,IF(G126<=+'Vergi Oranları'!$C$5,0,IF(OR(G126>+'Vergi Oranları'!$C$5,F126+E126<=+'Vergi Oranları'!$C$5),35)))))","v":0},{"$f":"IF(E126=0,0,IF(D126=0,0,IF(G126=0,0,IF(Q126=0,0,IF(F126+E126>=+'Vergi Oranları'!$C$5,G126-(F126+I126+L126+O126),+'Vergi Oranları'!$C$5-(F126+I126+L126+O126))))))","v":0},{"$f":"IF(Q126=0,0,ROUND((R126-$S$3)*+'Vergi Oranları'!$G$6/100,2))","v":0},0]
[null,null,null,null,null,null,0,{"$f":"IF(E127=0,0,IF(D127=0,0,IF(G127=0,0,IF(F127>+'Vergi Oranları'!$C$3,0,IF(OR(G127<='Vergi Oranları'!$C$3,F127+E127<+'Vergi Oranları'!$C$3),15,IF(G127-(E127+F127)<='Vergi Oranları'!$C$3,15,))))))","v":0},{"$f":"IF(E127=0,0,IF(D127=0,0,IF(G127=0,0,IF(H127=0,0,IF(F127+E127<='Vergi Oranları'!$C$3,G127-F127,'Vergi Oranları'!$C$3-F127)))))","v":0},{"$f":"IF(I127=0,0,IF(ROUND((I127-$J$3)*'Vergi Oranları'!$G$3/100,2)<0,0,ROUND((I127-$M$3)*'Vergi Oranları'!$G$3/100,2)))","v":0},{"$f":"IF(E127=0,0,IF(D127=0,0,IF(G127=0,0,IF(F127>+'Vergi Oranları'!$C$4,0,IF(OR(G127<='Vergi Oranları'!$C$4,F127+E127<'Vergi Oranları'!$C$4),20,IF(G127-(E127+F127)<='Vergi Oranları'!$C$4,20,))))))","v":0},{"$f":"IF(E127=0,0,IF(D127=0,0,IF(G127=0,0,IF(K127=0,0,IF(F127+E127<=+'Vergi Oranları'!$C$4,G127-(F127+I127),+'Vergi Oranları'!$C$4-(F127+I127))))))","v":0},{"$f":"IF(L127=0,0,IF(ROUND((L127-$M$3)*+'Vergi Oranları'!$G$4/100,2)<0,0,ROUND((L127-$M$3)*+'Vergi Oranları'!$G$4/100,2)))","v":0},{"$f":"IF(E127=0,0,IF(D127=0,0,IF(G127=0,0,IF(OR(G127>+'Vergi Oranları'!$C$4,G127<=+'Vergi Oranları'!$C$5),27))))","v":0},{"$f":"IF(E127=0,0,IF(D127=0,0,IF(G127=0,0,IF(N127=0,0,IF(F127>'Vergi Oranları'!$C$5,0,IF(G127<=+'Vergi Oranları'!$C$5,G127-(F127+I127+L127),+'Vergi Oranları'!$C$5-(F127+I127+L127)))))))","v":0},{"$f":"ROUND(IF(N127=0,0,IF(E127<O127,(E127-$P$3)*'Vergi Oranları'!$G$5/100,(O127-$P$3)*'Vergi Oranları'!$G$5/100)),2)","v":0},{"$f":"IF(E127=0,0,IF(D127=0,0,IF(G127=0,0,IF(G127<=+'Vergi Oranları'!$C$5,0,IF(OR(G127>+'Vergi Oranları'!$C$5,F127+E127<=+'Vergi Oranları'!$C$5),35)))))","v":0},{"$f":"IF(E127=0,0,IF(D127=0,0,IF(G127=0,0,IF(Q127=0,0,IF(F127+E127>=+'Vergi Oranları'!$C$5,G127-(F127+I127+L127+O127),+'Vergi Oranları'!$C$5-(F127+I127+L127+O127))))))","v":0},{"$f":"IF(Q127=0,0,ROUND((R127-$S$3)*+'Vergi Oranları'!$G$6/100,2))","v":0},0]
[null,null,null,null,null,null,0,{"$f":"IF(E128=0,0,IF(D128=0,0,IF(G128=0,0,IF(F128>+'Vergi Oranları'!$C$3,0,IF(OR(G128<='Vergi Oranları'!$C$3,F128+E128<+'Vergi Oranları'!$C$3),15,IF(G128-(E128+F128)<='Vergi Oranları'!$C$3,15,))))))","v":0},{"$f":"IF(E128=0,0,IF(D128=0,0,IF(G128=0,0,IF(H128=0,0,IF(F128+E128<='Vergi Oranları'!$C$3,G128-F128,'Vergi Oranları'!$C$3-F128)))))","v":0},{"$f":"IF(I128=0,0,IF(ROUND((I128-$J$3)*'Vergi Oranları'!$G$3/100,2)<0,0,ROUND((I128-$M$3)*'Vergi Oranları'!$G$3/100,2)))","v":0},{"$f":"IF(E128=0,0,IF(D128=0,0,IF(G128=0,0,IF(F128>+'Vergi Oranları'!$C$4,0,IF(OR(G128<='Vergi Oranları'!$C$4,F128+E128<'Vergi Oranları'!$C$4),20,IF(G128-(E128+F128)<='Vergi Oranları'!$C$4,20,))))))","v":0},{"$f":"IF(E128=0,0,IF(D128=0,0,IF(G128=0,0,IF(K128=0,0,IF(F128+E128<=+'Vergi Oranları'!$C$4,G128-(F128+I128),+'Vergi Oranları'!$C$4-(F128+I128))))))","v":0},{"$f":"IF(L128=0,0,IF(ROUND((L128-$M$3)*+'Vergi Oranları'!$G$4/100,2)<0,0,ROUND((L128-$M$3)*+'Vergi Oranları'!$G$4/100,2)))","v":0},{"$f":"IF(E128=0,0,IF(D128=0,0,IF(G128=0,0,IF(OR(G128>+'Vergi Oranları'!$C$4,G128<=+'Vergi Oranları'!$C$5),27))))","v":0},{"$f":"IF(E128=0,0,IF(D128=0,0,IF(G128=0,0,IF(N128=0,0,IF(F128>'Vergi Oranları'!$C$5,0,IF(G128<=+'Vergi Oranları'!$C$5,G128-(F128+I128+L128),+'Vergi Oranları'!$C$5-(F128+I128+L128)))))))","v":0},{"$f":"ROUND(IF(N128=0,0,IF(E128<O128,(E128-$P$3)*'Vergi Oranları'!$G$5/100,(O128-$P$3)*'Vergi Oranları'!$G$5/100)),2)","v":0},{"$f":"IF(E128=0,0,IF(D128=0,0,IF(G128=0,0,IF(G128<=+'Vergi Oranları'!$C$5,0,IF(OR(G128>+'Vergi Oranları'!$C$5,F128+E128<=+'Vergi Oranları'!$C$5),35)))))","v":0},{"$f":"IF(E128=0,0,IF(D128=0,0,IF(G128=0,0,IF(Q128=0,0,IF(F128+E128>=+'Vergi Oranları'!$C$5,G128-(F128+I128+L128+O128),+'Vergi Oranları'!$C$5-(F128+I128+L128+O128))))))","v":0},{"$f":"IF(Q128=0,0,ROUND((R128-$S$3)*+'Vergi Oranları'!$G$6/100,2))","v":0},0]
[null,null,null,null,null,null,0,{"$f":"IF(E129=0,0,IF(D129=0,0,IF(G129=0,0,IF(F129>+'Vergi Oranları'!$C$3,0,IF(OR(G129<='Vergi Oranları'!$C$3,F129+E129<+'Vergi Oranları'!$C$3),15,IF(G129-(E129+F129)<='Vergi Oranları'!$C$3,15,))))))","v":0},{"$f":"IF(E129=0,0,IF(D129=0,0,IF(G129=0,0,IF(H129=0,0,IF(F129+E129<='Vergi Oranları'!$C$3,G129-F129,'Vergi Oranları'!$C$3-F129)))))","v":0},{"$f":"IF(I129=0,0,IF(ROUND((I129-$J$3)*'Vergi Oranları'!$G$3/100,2)<0,0,ROUND((I129-$M$3)*'Vergi Oranları'!$G$3/100,2)))","v":0},{"$f":"IF(E129=0,0,IF(D129=0,0,IF(G129=0,0,IF(F129>+'Vergi Oranları'!$C$4,0,IF(OR(G129<='Vergi Oranları'!$C$4,F129+E129<'Vergi Oranları'!$C$4),20,IF(G129-(E129+F129)<='Vergi Oranları'!$C$4,20,))))))","v":0},{"$f":"IF(E129=0,0,IF(D129=0,0,IF(G129=0,0,IF(K129=0,0,IF(F129+E129<=+'Vergi Oranları'!$C$4,G129-(F129+I129),+'Vergi Oranları'!$C$4-(F129+I129))))))","v":0},{"$f":"IF(L129=0,0,IF(ROUND((L129-$M$3)*+'Vergi Oranları'!$G$4/100,2)<0,0,ROUND((L129-$M$3)*+'Vergi Oranları'!$G$4/100,2)))","v":0},{"$f":"IF(E129=0,0,IF(D129=0,0,IF(G129=0,0,IF(OR(G129>+'Vergi Oranları'!$C$4,G129<=+'Vergi Oranları'!$C$5),27))))","v":0},{"$f":"IF(E129=0,0,IF(D129=0,0,IF(G129=0,0,IF(N129=0,0,IF(F129>'Vergi Oranları'!$C$5,0,IF(G129<=+'Vergi Oranları'!$C$5,G129-(F129+I129+L129),+'Vergi Oranları'!$C$5-(F129+I129+L129)))))))","v":0},{"$f":"ROUND(IF(N129=0,0,IF(E129<O129,(E129-$P$3)*'Vergi Oranları'!$G$5/100,(O129-$P$3)*'Vergi Oranları'!$G$5/100)),2)","v":0},{"$f":"IF(E129=0,0,IF(D129=0,0,IF(G129=0,0,IF(G129<=+'Vergi Oranları'!$C$5,0,IF(OR(G129>+'Vergi Oranları'!$C$5,F129+E129<=+'Vergi Oranları'!$C$5),35)))))","v":0},{"$f":"IF(E129=0,0,IF(D129=0,0,IF(G129=0,0,IF(Q129=0,0,IF(F129+E129>=+'Vergi Oranları'!$C$5,G129-(F129+I129+L129+O129),+'Vergi Oranları'!$C$5-(F129+I129+L129+O129))))))","v":0},{"$f":"IF(Q129=0,0,ROUND((R129-$S$3)*+'Vergi Oranları'!$G$6/100,2))","v":0},0]
[null,null,null,null,null,null,0,{"$f":"IF(E130=0,0,IF(D130=0,0,IF(G130=0,0,IF(F130>+'Vergi Oranları'!$C$3,0,IF(OR(G130<='Vergi Oranları'!$C$3,F130+E130<+'Vergi Oranları'!$C$3),15,IF(G130-(E130+F130)<='Vergi Oranları'!$C$3,15,))))))","v":0},{"$f":"IF(E130=0,0,IF(D130=0,0,IF(G130=0,0,IF(H130=0,0,IF(F130+E130<='Vergi Oranları'!$C$3,G130-F130,'Vergi Oranları'!$C$3-F130)))))","v":0},{"$f":"IF(I130=0,0,IF(ROUND((I130-$J$3)*'Vergi Oranları'!$G$3/100,2)<0,0,ROUND((I130-$M$3)*'Vergi Oranları'!$G$3/100,2)))","v":0},{"$f":"IF(E130=0,0,IF(D130=0,0,IF(G130=0,0,IF(F130>+'Vergi Oranları'!$C$4,0,IF(OR(G130<='Vergi Oranları'!$C$4,F130+E130<'Vergi Oranları'!$C$4),20,IF(G130-(E130+F130)<='Vergi Oranları'!$C$4,20,))))))","v":0},{"$f":"IF(E130=0,0,IF(D130=0,0,IF(G130=0,0,IF(K130=0,0,IF(F130+E130<=+'Vergi Oranları'!$C$4,G130-(F130+I130),+'Vergi Oranları'!$C$4-(F130+I130))))))","v":0},{"$f":"IF(L130=0,0,IF(ROUND((L130-$M$3)*+'Vergi Oranları'!$G$4/100,2)<0,0,ROUND((L130-$M$3)*+'Vergi Oranları'!$G$4/100,2)))","v":0},{"$f":"IF(E130=0,0,IF(D130=0,0,IF(G130=0,0,IF(OR(G130>+'Vergi Oranları'!$C$4,G130<=+'Vergi Oranları'!$C$5),27))))","v":0},{"$f":"IF(E130=0,0,IF(D130=0,0,IF(G130=0,0,IF(N130=0,0,IF(F130>'Vergi Oranları'!$C$5,0,IF(G130<=+'Vergi Oranları'!$C$5,G130-(F130+I130+L130),+'Vergi Oranları'!$C$5-(F130+I130+L130)))))))","v":0},{"$f":"ROUND(IF(N130=0,0,IF(E130<O130,(E130-$P$3)*'Vergi Oranları'!$G$5/100,(O130-$P$3)*'Vergi Oranları'!$G$5/100)),2)","v":0},{"$f":"IF(E130=0,0,IF(D130=0,0,IF(G130=0,0,IF(G130<=+'Vergi Oranları'!$C$5,0,IF(OR(G130>+'Vergi Oranları'!$C$5,F130+E130<=+'Vergi Oranları'!$C$5),35)))))","v":0},{"$f":"IF(E130=0,0,IF(D130=0,0,IF(G130=0,0,IF(Q130=0,0,IF(F130+E130>=+'Vergi Oranları'!$C$5,G130-(F130+I130+L130+O130),+'Vergi Oranları'!$C$5-(F130+I130+L130+O130))))))","v":0},{"$f":"IF(Q130=0,0,ROUND((R130-$S$3)*+'Vergi Oranları'!$G$6/100,2))","v":0},0]
[null,null,null,null,null,null,0,{"$f":"IF(E131=0,0,IF(D131=0,0,IF(G131=0,0,IF(F131>+'Vergi Oranları'!$C$3,0,IF(OR(G131<='Vergi Oranları'!$C$3,F131+E131<+'Vergi Oranları'!$C$3),15,IF(G131-(E131+F131)<='Vergi Oranları'!$C$3,15,))))))","v":0},{"$f":"IF(E131=0,0,IF(D131=0,0,IF(G131=0,0,IF(H131=0,0,IF(F131+E131<='Vergi Oranları'!$C$3,G131-F131,'Vergi Oranları'!$C$3-F131)))))","v":0},{"$f":"IF(I131=0,0,IF(ROUND((I131-$J$3)*'Vergi Oranları'!$G$3/100,2)<0,0,ROUND((I131-$M$3)*'Vergi Oranları'!$G$3/100,2)))","v":0},{"$f":"IF(E131=0,0,IF(D131=0,0,IF(G131=0,0,IF(F131>+'Vergi Oranları'!$C$4,0,IF(OR(G131<='Vergi Oranları'!$C$4,F131+E131<'Vergi Oranları'!$C$4),20,IF(G131-(E131+F131)<='Vergi Oranları'!$C$4,20,))))))","v":0},{"$f":"IF(E131=0,0,IF(D131=0,0,IF(G131=0,0,IF(K131=0,0,IF(F131+E131<=+'Vergi Oranları'!$C$4,G131-(F131+I131),+'Vergi Oranları'!$C$4-(F131+I131))))))","v":0},{"$f":"IF(L131=0,0,IF(ROUND((L131-$M$3)*+'Vergi Oranları'!$G$4/100,2)<0,0,ROUND((L131-$M$3)*+'Vergi Oranları'!$G$4/100,2)))","v":0},{"$f":"IF(E131=0,0,IF(D131=0,0,IF(G131=0,0,IF(OR(G131>+'Vergi Oranları'!$C$4,G131<=+'Vergi Oranları'!$C$5),27))))","v":0},{"$f":"IF(E131=0,0,IF(D131=0,0,IF(G131=0,0,IF(N131=0,0,IF(F131>'Vergi Oranları'!$C$5,0,IF(G131<=+'Vergi Oranları'!$C$5,G131-(F131+I131+L131),+'Vergi Oranları'!$C$5-(F131+I131+L131)))))))","v":0},{"$f":"ROUND(IF(N131=0,0,IF(E131<O131,(E131-$P$3)*'Vergi Oranları'!$G$5/100,(O131-$P$3)*'Vergi Oranları'!$G$5/100)),2)","v":0},{"$f":"IF(E131=0,0,IF(D131=0,0,IF(G131=0,0,IF(G131<=+'Vergi Oranları'!$C$5,0,IF(OR(G131>+'Vergi Oranları'!$C$5,F131+E131<=+'Vergi Oranları'!$C$5),35)))))","v":0},{"$f":"IF(E131=0,0,IF(D131=0,0,IF(G131=0,0,IF(Q131=0,0,IF(F131+E131>=+'Vergi Oranları'!$C$5,G131-(F131+I131+L131+O131),+'Vergi Oranları'!$C$5-(F131+I131+L131+O131))))))","v":0},{"$f":"IF(Q131=0,0,ROUND((R131-$S$3)*+'Vergi Oranları'!$G$6/100,2))","v":0},0]
[null,null,null,null,null,null,0,{"$f":"IF(E132=0,0,IF(D132=0,0,IF(G132=0,0,IF(F132>+'Vergi Oranları'!$C$3,0,IF(OR(G132<='Vergi Oranları'!$C$3,F132+E132<+'Vergi Oranları'!$C$3),15,IF(G132-(E132+F132)<='Vergi Oranları'!$C$3,15,))))))","v":0},{"$f":"IF(E132=0,0,IF(D132=0,0,IF(G132=0,0,IF(H132=0,0,IF(F132+E132<='Vergi Oranları'!$C$3,G132-F132,'Vergi Oranları'!$C$3-F132)))))","v":0},{"$f":"IF(I132=0,0,IF(ROUND((I132-$J$3)*'Vergi Oranları'!$G$3/100,2)<0,0,ROUND((I132-$M$3)*'Vergi Oranları'!$G$3/100,2)))","v":0},{"$f":"IF(E132=0,0,IF(D132=0,0,IF(G132=0,0,IF(F132>+'Vergi Oranları'!$C$4,0,IF(OR(G132<='Vergi Oranları'!$C$4,F132+E132<'Vergi Oranları'!$C$4),20,IF(G132-(E132+F132)<='Vergi Oranları'!$C$4,20,))))))","v":0},{"$f":"IF(E132=0,0,IF(D132=0,0,IF(G132=0,0,IF(K132=0,0,IF(F132+E132<=+'Vergi Oranları'!$C$4,G132-(F132+I132),+'Vergi Oranları'!$C$4-(F132+I132))))))","v":0},{"$f":"IF(L132=0,0,IF(ROUND((L132-$M$3)*+'Vergi Oranları'!$G$4/100,2)<0,0,ROUND((L132-$M$3)*+'Vergi Oranları'!$G$4/100,2)))","v":0},{"$f":"IF(E132=0,0,IF(D132=0,0,IF(G132=0,0,IF(OR(G132>+'Vergi Oranları'!$C$4,G132<=+'Vergi Oranları'!$C$5),27))))","v":0},{"$f":"IF(E132=0,0,IF(D132=0,0,IF(G132=0,0,IF(N132=0,0,IF(F132>'Vergi Oranları'!$C$5,0,IF(G132<=+'Vergi Oranları'!$C$5,G132-(F132+I132+L132),+'Vergi Oranları'!$C$5-(F132+I132+L132)))))))","v":0},{"$f":"ROUND(IF(N132=0,0,IF(E132<O132,(E132-$P$3)*'Vergi Oranları'!$G$5/100,(O132-$P$3)*'Vergi Oranları'!$G$5/100)),2)","v":0},{"$f":"IF(E132=0,0,IF(D132=0,0,IF(G132=0,0,IF(G132<=+'Vergi Oranları'!$C$5,0,IF(OR(G132>+'Vergi Oranları'!$C$5,F132+E132<=+'Vergi Oranları'!$C$5),35)))))","v":0},{"$f":"IF(E132=0,0,IF(D132=0,0,IF(G132=0,0,IF(Q132=0,0,IF(F132+E132>=+'Vergi Oranları'!$C$5,G132-(F132+I132+L132+O132),+'Vergi Oranları'!$C$5-(F132+I132+L132+O132))))))","v":0},{"$f":"IF(Q132=0,0,ROUND((R132-$S$3)*+'Vergi Oranları'!$G$6/100,2))","v":0},0]
[null,null,null,null,null,null,0,{"$f":"IF(E133=0,0,IF(D133=0,0,IF(G133=0,0,IF(F133>+'Vergi Oranları'!$C$3,0,IF(OR(G133<='Vergi Oranları'!$C$3,F133+E133<+'Vergi Oranları'!$C$3),15,IF(G133-(E133+F133)<='Vergi Oranları'!$C$3,15,))))))","v":0},{"$f":"IF(E133=0,0,IF(D133=0,0,IF(G133=0,0,IF(H133=0,0,IF(F133+E133<='Vergi Oranları'!$C$3,G133-F133,'Vergi Oranları'!$C$3-F133)))))","v":0},{"$f":"IF(I133=0,0,IF(ROUND((I133-$J$3)*'Vergi Oranları'!$G$3/100,2)<0,0,ROUND((I133-$M$3)*'Vergi Oranları'!$G$3/100,2)))","v":0},{"$f":"IF(E133=0,0,IF(D133=0,0,IF(G133=0,0,IF(F133>+'Vergi Oranları'!$C$4,0,IF(OR(G133<='Vergi Oranları'!$C$4,F133+E133<'Vergi Oranları'!$C$4),20,IF(G133-(E133+F133)<='Vergi Oranları'!$C$4,20,))))))","v":0},{"$f":"IF(E133=0,0,IF(D133=0,0,IF(G133=0,0,IF(K133=0,0,IF(F133+E133<=+'Vergi Oranları'!$C$4,G133-(F133+I133),+'Vergi Oranları'!$C$4-(F133+I133))))))","v":0},{"$f":"IF(L133=0,0,IF(ROUND((L133-$M$3)*+'Vergi Oranları'!$G$4/100,2)<0,0,ROUND((L133-$M$3)*+'Vergi Oranları'!$G$4/100,2)))","v":0},{"$f":"IF(E133=0,0,IF(D133=0,0,IF(G133=0,0,IF(OR(G133>+'Vergi Oranları'!$C$4,G133<=+'Vergi Oranları'!$C$5),27))))","v":0},{"$f":"IF(E133=0,0,IF(D133=0,0,IF(G133=0,0,IF(N133=0,0,IF(F133>'Vergi Oranları'!$C$5,0,IF(G133<=+'Vergi Oranları'!$C$5,G133-(F133+I133+L133),+'Vergi Oranları'!$C$5-(F133+I133+L133)))))))","v":0},{"$f":"ROUND(IF(N133=0,0,IF(E133<O133,(E133-$P$3)*'Vergi Oranları'!$G$5/100,(O133-$P$3)*'Vergi Oranları'!$G$5/100)),2)","v":0},{"$f":"IF(E133=0,0,IF(D133=0,0,IF(G133=0,0,IF(G133<=+'Vergi Oranları'!$C$5,0,IF(OR(G133>+'Vergi Oranları'!$C$5,F133+E133<=+'Vergi Oranları'!$C$5),35)))))","v":0},{"$f":"IF(E133=0,0,IF(D133=0,0,IF(G133=0,0,IF(Q133=0,0,IF(F133+E133>=+'Vergi Oranları'!$C$5,G133-(F133+I133+L133+O133),+'Vergi Oranları'!$C$5-(F133+I133+L133+O133))))))","v":0},{"$f":"IF(Q133=0,0,ROUND((R133-$S$3)*+'Vergi Oranları'!$G$6/100,2))","v":0},0]
[null,null,null,null,null,null,{"$f":"F134+E134","v":0},{"$f":"IF(E134=0,0,IF(D134=0,0,IF(G134=0,0,IF(F134>+'Vergi Oranları'!$C$3,0,IF(OR(G134<='Vergi Oranları'!$C$3,F134+E134<+'Vergi Oranları'!$C$3),15,IF(G134-(E134+F134)<='Vergi Oranları'!$C$3,15,))))))","v":0},{"$f":"IF(E134=0,0,IF(D134=0,0,IF(G134=0,0,IF(H134=0,0,IF(F134+E134<='Vergi Oranları'!$C$3,G134-F134,'Vergi Oranları'!$C$3-F134)))))","v":0},{"$f":"IF(I134=0,0,IF(ROUND((I134-$J$3)*'Vergi Oranları'!$G$3/100,2)<0,0,ROUND((I134-$M$3)*'Vergi Oranları'!$G$3/100,2)))","v":0},{"$f":"IF(E134=0,0,IF(D134=0,0,IF(G134=0,0,IF(F134>+'Vergi Oranları'!$C$4,0,IF(OR(G134<='Vergi Oranları'!$C$4,F134+E134<'Vergi Oranları'!$C$4),20,IF(G134-(E134+F134)<='Vergi Oranları'!$C$4,20,))))))","v":0},{"$f":"IF(E134=0,0,IF(D134=0,0,IF(G134=0,0,IF(K134=0,0,IF(F134+E134<=+'Vergi Oranları'!$C$4,G134-(F134+I134),+'Vergi Oranları'!$C$4-(F134+I134))))))","v":0},{"$f":"IF(L134=0,0,IF(ROUND((L134-$M$3)*+'Vergi Oranları'!$G$4/100,2)<0,0,ROUND((L134-$M$3)*+'Vergi Oranları'!$G$4/100,2)))","v":0},{"$f":"IF(E134=0,0,IF(D134=0,0,IF(G134=0,0,IF(OR(G134>+'Vergi Oranları'!$C$4,G134<=+'Vergi Oranları'!$C$5),27))))","v":0},{"$f":"IF(E134=0,0,IF(D134=0,0,IF(G134=0,0,IF(N134=0,0,IF(F134>'Vergi Oranları'!$C$5,0,IF(G134<=+'Vergi Oranları'!$C$5,G134-(F134+I134+L134),+'Vergi Oranları'!$C$5-(F134+I134+L134)))))))","v":0},{"$f":"ROUND(IF(N134=0,0,IF(E134<O134,(E134-$P$3)*'Vergi Oranları'!$G$5/100,(O134-$P$3)*'Vergi Oranları'!$G$5/100)),2)","v":0},{"$f":"IF(E134=0,0,IF(D134=0,0,IF(G134=0,0,IF(G134<=+'Vergi Oranları'!$C$5,0,IF(OR(G134>+'Vergi Oranları'!$C$5,F134+E134<=+'Vergi Oranları'!$C$5),35)))))","v":0},{"$f":"IF(E134=0,0,IF(D134=0,0,IF(G134=0,0,IF(Q134=0,0,IF(F134+E134>=+'Vergi Oranları'!$C$5,G134-(F134+I134+L134+O134),+'Vergi Oranları'!$C$5-(F134+I134+L134+O134))))))","v":0},{"$f":"IF(Q134=0,0,ROUND((R134-$S$3)*+'Vergi Oranları'!$G$6/100,2))","v":0},{"$f":"SUM(J134+M134+P134+S134)","v":0}]
[null,null,null,null,null,null,0,{"$f":"IF(E135=0,0,IF(D135=0,0,IF(G135=0,0,IF(F135>+'Vergi Oranları'!$C$3,0,IF(OR(G135<='Vergi Oranları'!$C$3,F135+E135<+'Vergi Oranları'!$C$3),15,IF(G135-(E135+F135)<='Vergi Oranları'!$C$3,15,))))))","v":0},{"$f":"IF(E135=0,0,IF(D135=0,0,IF(G135=0,0,IF(H135=0,0,IF(F135+E135<='Vergi Oranları'!$C$3,G135-F135,'Vergi Oranları'!$C$3-F135)))))","v":0},{"$f":"IF(I135=0,0,IF(ROUND((I135-$J$3)*'Vergi Oranları'!$G$3/100,2)<0,0,ROUND((I135-$M$3)*'Vergi Oranları'!$G$3/100,2)))","v":0},{"$f":"IF(E135=0,0,IF(D135=0,0,IF(G135=0,0,IF(F135>+'Vergi Oranları'!$C$4,0,IF(OR(G135<='Vergi Oranları'!$C$4,F135+E135<'Vergi Oranları'!$C$4),20,IF(G135-(E135+F135)<='Vergi Oranları'!$C$4,20,))))))","v":0},{"$f":"IF(E135=0,0,IF(D135=0,0,IF(G135=0,0,IF(K135=0,0,IF(F135+E135<=+'Vergi Oranları'!$C$4,G135-(F135+I135),+'Vergi Oranları'!$C$4-(F135+I135))))))","v":0},{"$f":"IF(L135=0,0,IF(ROUND((L135-$M$3)*+'Vergi Oranları'!$G$4/100,2)<0,0,ROUND((L135-$M$3)*+'Vergi Oranları'!$G$4/100,2)))","v":0},{"$f":"IF(E135=0,0,IF(D135=0,0,IF(G135=0,0,IF(OR(G135>+'Vergi Oranları'!$C$4,G135<=+'Vergi Oranları'!$C$5),27))))","v":0},{"$f":"IF(E135=0,0,IF(D135=0,0,IF(G135=0,0,IF(N135=0,0,IF(F135>'Vergi Oranları'!$C$5,0,IF(G135<=+'Vergi Oranları'!$C$5,G135-(F135+I135+L135),+'Vergi Oranları'!$C$5-(F135+I135+L135)))))))","v":0},{"$f":"ROUND(IF(N135=0,0,IF(E135<O135,(E135-$P$3)*'Vergi Oranları'!$G$5/100,(O135-$P$3)*'Vergi Oranları'!$G$5/100)),2)","v":0},{"$f":"IF(E135=0,0,IF(D135=0,0,IF(G135=0,0,IF(G135<=+'Vergi Oranları'!$C$5,0,IF(OR(G135>+'Vergi Oranları'!$C$5,F135+E135<=+'Vergi Oranları'!$C$5),35)))))","v":0},{"$f":"IF(E135=0,0,IF(D135=0,0,IF(G135=0,0,IF(Q135=0,0,IF(F135+E135>=+'Vergi Oranları'!$C$5,G135-(F135+I135+L135+O135),+'Vergi Oranları'!$C$5-(F135+I135+L135+O135))))))","v":0},{"$f":"IF(Q135=0,0,ROUND((R135-$S$3)*+'Vergi Oranları'!$G$6/100,2))","v":0},0]
[null,null,null,null,null,null,0,{"$f":"IF(E136=0,0,IF(D136=0,0,IF(G136=0,0,IF(F136>+'Vergi Oranları'!$C$3,0,IF(OR(G136<='Vergi Oranları'!$C$3,F136+E136<+'Vergi Oranları'!$C$3),15,IF(G136-(E136+F136)<='Vergi Oranları'!$C$3,15,))))))","v":0},{"$f":"IF(E136=0,0,IF(D136=0,0,IF(G136=0,0,IF(H136=0,0,IF(F136+E136<='Vergi Oranları'!$C$3,G136-F136,'Vergi Oranları'!$C$3-F136)))))","v":0},{"$f":"IF(I136=0,0,IF(ROUND((I136-$J$3)*'Vergi Oranları'!$G$3/100,2)<0,0,ROUND((I136-$M$3)*'Vergi Oranları'!$G$3/100,2)))","v":0},{"$f":"IF(E136=0,0,IF(D136=0,0,IF(G136=0,0,IF(F136>+'Vergi Oranları'!$C$4,0,IF(OR(G136<='Vergi Oranları'!$C$4,F136+E136<'Vergi Oranları'!$C$4),20,IF(G136-(E136+F136)<='Vergi Oranları'!$C$4,20,))))))","v":0},{"$f":"IF(E136=0,0,IF(D136=0,0,IF(G136=0,0,IF(K136=0,0,IF(F136+E136<=+'Vergi Oranları'!$C$4,G136-(F136+I136),+'Vergi Oranları'!$C$4-(F136+I136))))))","v":0},{"$f":"IF(L136=0,0,IF(ROUND((L136-$M$3)*+'Vergi Oranları'!$G$4/100,2)<0,0,ROUND((L136-$M$3)*+'Vergi Oranları'!$G$4/100,2)))","v":0},{"$f":"IF(E136=0,0,IF(D136=0,0,IF(G136=0,0,IF(OR(G136>+'Vergi Oranları'!$C$4,G136<=+'Vergi Oranları'!$C$5),27))))","v":0},{"$f":"IF(E136=0,0,IF(D136=0,0,IF(G136=0,0,IF(N136=0,0,IF(F136>'Vergi Oranları'!$C$5,0,IF(G136<=+'Vergi Oranları'!$C$5,G136-(F136+I136+L136),+'Vergi Oranları'!$C$5-(F136+I136+L136)))))))","v":0},{"$f":"ROUND(IF(N136=0,0,IF(E136<O136,(E136-$P$3)*'Vergi Oranları'!$G$5/100,(O136-$P$3)*'Vergi Oranları'!$G$5/100)),2)","v":0},{"$f":"IF(E136=0,0,IF(D136=0,0,IF(G136=0,0,IF(G136<=+'Vergi Oranları'!$C$5,0,IF(OR(G136>+'Vergi Oranları'!$C$5,F136+E136<=+'Vergi Oranları'!$C$5),35)))))","v":0},{"$f":"IF(E136=0,0,IF(D136=0,0,IF(G136=0,0,IF(Q136=0,0,IF(F136+E136>=+'Vergi Oranları'!$C$5,G136-(F136+I136+L136+O136),+'Vergi Oranları'!$C$5-(F136+I136+L136+O136))))))","v":0},{"$f":"IF(Q136=0,0,ROUND((R136-$S$3)*+'Vergi Oranları'!$G$6/100,2))","v":0},0]
[null,null,null,null,null,null,0,{"$f":"IF(E137=0,0,IF(D137=0,0,IF(G137=0,0,IF(F137>+'Vergi Oranları'!$C$3,0,IF(OR(G137<='Vergi Oranları'!$C$3,F137+E137<+'Vergi Oranları'!$C$3),15,IF(G137-(E137+F137)<='Vergi Oranları'!$C$3,15,))))))","v":0},{"$f":"IF(E137=0,0,IF(D137=0,0,IF(G137=0,0,IF(H137=0,0,IF(F137+E137<='Vergi Oranları'!$C$3,G137-F137,'Vergi Oranları'!$C$3-F137)))))","v":0},{"$f":"IF(I137=0,0,IF(ROUND((I137-$J$3)*'Vergi Oranları'!$G$3/100,2)<0,0,ROUND((I137-$M$3)*'Vergi Oranları'!$G$3/100,2)))","v":0},{"$f":"IF(E137=0,0,IF(D137=0,0,IF(G137=0,0,IF(F137>+'Vergi Oranları'!$C$4,0,IF(OR(G137<='Vergi Oranları'!$C$4,F137+E137<'Vergi Oranları'!$C$4),20,IF(G137-(E137+F137)<='Vergi Oranları'!$C$4,20,))))))","v":0},{"$f":"IF(E137=0,0,IF(D137=0,0,IF(G137=0,0,IF(K137=0,0,IF(F137+E137<=+'Vergi Oranları'!$C$4,G137-(F137+I137),+'Vergi Oranları'!$C$4-(F137+I137))))))","v":0},{"$f":"IF(L137=0,0,IF(ROUND((L137-$M$3)*+'Vergi Oranları'!$G$4/100,2)<0,0,ROUND((L137-$M$3)*+'Vergi Oranları'!$G$4/100,2)))","v":0},{"$f":"IF(E137=0,0,IF(D137=0,0,IF(G137=0,0,IF(OR(G137>+'Vergi Oranları'!$C$4,G137<=+'Vergi Oranları'!$C$5),27))))","v":0},{"$f":"IF(E137=0,0,IF(D137=0,0,IF(G137=0,0,IF(N137=0,0,IF(F137>'Vergi Oranları'!$C$5,0,IF(G137<=+'Vergi Oranları'!$C$5,G137-(F137+I137+L137),+'Vergi Oranları'!$C$5-(F137+I137+L137)))))))","v":0},{"$f":"ROUND(IF(N137=0,0,IF(E137<O137,(E137-$P$3)*'Vergi Oranları'!$G$5/100,(O137-$P$3)*'Vergi Oranları'!$G$5/100)),2)","v":0},{"$f":"IF(E137=0,0,IF(D137=0,0,IF(G137=0,0,IF(G137<=+'Vergi Oranları'!$C$5,0,IF(OR(G137>+'Vergi Oranları'!$C$5,F137+E137<=+'Vergi Oranları'!$C$5),35)))))","v":0},{"$f":"IF(E137=0,0,IF(D137=0,0,IF(G137=0,0,IF(Q137=0,0,IF(F137+E137>=+'Vergi Oranları'!$C$5,G137-(F137+I137+L137+O137),+'Vergi Oranları'!$C$5-(F137+I137+L137+O137))))))","v":0},{"$f":"IF(Q137=0,0,ROUND((R137-$S$3)*+'Vergi Oranları'!$G$6/100,2))","v":0},0]
[null,null,null,null,null,null,0,{"$f":"IF(E138=0,0,IF(D138=0,0,IF(G138=0,0,IF(F138>+'Vergi Oranları'!$C$3,0,IF(OR(G138<='Vergi Oranları'!$C$3,F138+E138<+'Vergi Oranları'!$C$3),15,IF(G138-(E138+F138)<='Vergi Oranları'!$C$3,15,))))))","v":0},{"$f":"IF(E138=0,0,IF(D138=0,0,IF(G138=0,0,IF(H138=0,0,IF(F138+E138<='Vergi Oranları'!$C$3,G138-F138,'Vergi Oranları'!$C$3-F138)))))","v":0},{"$f":"IF(I138=0,0,IF(ROUND((I138-$J$3)*'Vergi Oranları'!$G$3/100,2)<0,0,ROUND((I138-$M$3)*'Vergi Oranları'!$G$3/100,2)))","v":0},{"$f":"IF(E138=0,0,IF(D138=0,0,IF(G138=0,0,IF(F138>+'Vergi Oranları'!$C$4,0,IF(OR(G138<='Vergi Oranları'!$C$4,F138+E138<'Vergi Oranları'!$C$4),20,IF(G138-(E138+F138)<='Vergi Oranları'!$C$4,20,))))))","v":0},{"$f":"IF(E138=0,0,IF(D138=0,0,IF(G138=0,0,IF(K138=0,0,IF(F138+E138<=+'Vergi Oranları'!$C$4,G138-(F138+I138),+'Vergi Oranları'!$C$4-(F138+I138))))))","v":0},{"$f":"IF(L138=0,0,IF(ROUND((L138-$M$3)*+'Vergi Oranları'!$G$4/100,2)<0,0,ROUND((L138-$M$3)*+'Vergi Oranları'!$G$4/100,2)))","v":0},{"$f":"IF(E138=0,0,IF(D138=0,0,IF(G138=0,0,IF(OR(G138>+'Vergi Oranları'!$C$4,G138<=+'Vergi Oranları'!$C$5),27))))","v":0},{"$f":"IF(E138=0,0,IF(D138=0,0,IF(G138=0,0,IF(N138=0,0,IF(F138>'Vergi Oranları'!$C$5,0,IF(G138<=+'Vergi Oranları'!$C$5,G138-(F138+I138+L138),+'Vergi Oranları'!$C$5-(F138+I138+L138)))))))","v":0},{"$f":"ROUND(IF(N138=0,0,IF(E138<O138,(E138-$P$3)*'Vergi Oranları'!$G$5/100,(O138-$P$3)*'Vergi Oranları'!$G$5/100)),2)","v":0},{"$f":"IF(E138=0,0,IF(D138=0,0,IF(G138=0,0,IF(G138<=+'Vergi Oranları'!$C$5,0,IF(OR(G138>+'Vergi Oranları'!$C$5,F138+E138<=+'Vergi Oranları'!$C$5),35)))))","v":0},{"$f":"IF(E138=0,0,IF(D138=0,0,IF(G138=0,0,IF(Q138=0,0,IF(F138+E138>=+'Vergi Oranları'!$C$5,G138-(F138+I138+L138+O138),+'Vergi Oranları'!$C$5-(F138+I138+L138+O138))))))","v":0},{"$f":"IF(Q138=0,0,ROUND((R138-$S$3)*+'Vergi Oranları'!$G$6/100,2))","v":0},0]
[null,null,null,null,null,null,0,{"$f":"IF(E139=0,0,IF(D139=0,0,IF(G139=0,0,IF(F139>+'Vergi Oranları'!$C$3,0,IF(OR(G139<='Vergi Oranları'!$C$3,F139+E139<+'Vergi Oranları'!$C$3),15,IF(G139-(E139+F139)<='Vergi Oranları'!$C$3,15,))))))","v":0},{"$f":"IF(E139=0,0,IF(D139=0,0,IF(G139=0,0,IF(H139=0,0,IF(F139+E139<='Vergi Oranları'!$C$3,G139-F139,'Vergi Oranları'!$C$3-F139)))))","v":0},{"$f":"IF(I139=0,0,IF(ROUND((I139-$J$3)*'Vergi Oranları'!$G$3/100,2)<0,0,ROUND((I139-$M$3)*'Vergi Oranları'!$G$3/100,2)))","v":0},{"$f":"IF(E139=0,0,IF(D139=0,0,IF(G139=0,0,IF(F139>+'Vergi Oranları'!$C$4,0,IF(OR(G139<='Vergi Oranları'!$C$4,F139+E139<'Vergi Oranları'!$C$4),20,IF(G139-(E139+F139)<='Vergi Oranları'!$C$4,20,))))))","v":0},{"$f":"IF(E139=0,0,IF(D139=0,0,IF(G139=0,0,IF(K139=0,0,IF(F139+E139<=+'Vergi Oranları'!$C$4,G139-(F139+I139),+'Vergi Oranları'!$C$4-(F139+I139))))))","v":0},{"$f":"IF(L139=0,0,IF(ROUND((L139-$M$3)*+'Vergi Oranları'!$G$4/100,2)<0,0,ROUND((L139-$M$3)*+'Vergi Oranları'!$G$4/100,2)))","v":0},{"$f":"IF(E139=0,0,IF(D139=0,0,IF(G139=0,0,IF(OR(G139>+'Vergi Oranları'!$C$4,G139<=+'Vergi Oranları'!$C$5),27))))","v":0},{"$f":"IF(E139=0,0,IF(D139=0,0,IF(G139=0,0,IF(N139=0,0,IF(F139>'Vergi Oranları'!$C$5,0,IF(G139<=+'Vergi Oranları'!$C$5,G139-(F139+I139+L139),+'Vergi Oranları'!$C$5-(F139+I139+L139)))))))","v":0},{"$f":"ROUND(IF(N139=0,0,IF(E139<O139,(E139-$P$3)*'Vergi Oranları'!$G$5/100,(O139-$P$3)*'Vergi Oranları'!$G$5/100)),2)","v":0},{"$f":"IF(E139=0,0,IF(D139=0,0,IF(G139=0,0,IF(G139<=+'Vergi Oranları'!$C$5,0,IF(OR(G139>+'Vergi Oranları'!$C$5,F139+E139<=+'Vergi Oranları'!$C$5),35)))))","v":0},{"$f":"IF(E139=0,0,IF(D139=0,0,IF(G139=0,0,IF(Q139=0,0,IF(F139+E139>=+'Vergi Oranları'!$C$5,G139-(F139+I139+L139+O139),+'Vergi Oranları'!$C$5-(F139+I139+L139+O139))))))","v":0},{"$f":"IF(Q139=0,0,ROUND((R139-$S$3)*+'Vergi Oranları'!$G$6/100,2))","v":0},0]
[null,null,null,null,null,null,0,{"$f":"IF(E140=0,0,IF(D140=0,0,IF(G140=0,0,IF(F140>+'Vergi Oranları'!$C$3,0,IF(OR(G140<='Vergi Oranları'!$C$3,F140+E140<+'Vergi Oranları'!$C$3),15,IF(G140-(E140+F140)<='Vergi Oranları'!$C$3,15,))))))","v":0},{"$f":"IF(E140=0,0,IF(D140=0,0,IF(G140=0,0,IF(H140=0,0,IF(F140+E140<='Vergi Oranları'!$C$3,G140-F140,'Vergi Oranları'!$C$3-F140)))))","v":0},{"$f":"IF(I140=0,0,IF(ROUND((I140-$J$3)*'Vergi Oranları'!$G$3/100,2)<0,0,ROUND((I140-$M$3)*'Vergi Oranları'!$G$3/100,2)))","v":0},{"$f":"IF(E140=0,0,IF(D140=0,0,IF(G140=0,0,IF(F140>+'Vergi Oranları'!$C$4,0,IF(OR(G140<='Vergi Oranları'!$C$4,F140+E140<'Vergi Oranları'!$C$4),20,IF(G140-(E140+F140)<='Vergi Oranları'!$C$4,20,))))))","v":0},{"$f":"IF(E140=0,0,IF(D140=0,0,IF(G140=0,0,IF(K140=0,0,IF(F140+E140<=+'Vergi Oranları'!$C$4,G140-(F140+I140),+'Vergi Oranları'!$C$4-(F140+I140))))))","v":0},{"$f":"IF(L140=0,0,IF(ROUND((L140-$M$3)*+'Vergi Oranları'!$G$4/100,2)<0,0,ROUND((L140-$M$3)*+'Vergi Oranları'!$G$4/100,2)))","v":0},{"$f":"IF(E140=0,0,IF(D140=0,0,IF(G140=0,0,IF(OR(G140>+'Vergi Oranları'!$C$4,G140<=+'Vergi Oranları'!$C$5),27))))","v":0},{"$f":"IF(E140=0,0,IF(D140=0,0,IF(G140=0,0,IF(N140=0,0,IF(F140>'Vergi Oranları'!$C$5,0,IF(G140<=+'Vergi Oranları'!$C$5,G140-(F140+I140+L140),+'Vergi Oranları'!$C$5-(F140+I140+L140)))))))","v":0},{"$f":"ROUND(IF(N140=0,0,IF(E140<O140,(E140-$P$3)*'Vergi Oranları'!$G$5/100,(O140-$P$3)*'Vergi Oranları'!$G$5/100)),2)","v":0},{"$f":"IF(E140=0,0,IF(D140=0,0,IF(G140=0,0,IF(G140<=+'Vergi Oranları'!$C$5,0,IF(OR(G140>+'Vergi Oranları'!$C$5,F140+E140<=+'Vergi Oranları'!$C$5),35)))))","v":0},{"$f":"IF(E140=0,0,IF(D140=0,0,IF(G140=0,0,IF(Q140=0,0,IF(F140+E140>=+'Vergi Oranları'!$C$5,G140-(F140+I140+L140+O140),+'Vergi Oranları'!$C$5-(F140+I140+L140+O140))))))","v":0},{"$f":"IF(Q140=0,0,ROUND((R140-$S$3)*+'Vergi Oranları'!$G$6/100,2))","v":0},0]
[null,null,null,null,null,null,0,{"$f":"IF(E141=0,0,IF(D141=0,0,IF(G141=0,0,IF(F141>+'Vergi Oranları'!$C$3,0,IF(OR(G141<='Vergi Oranları'!$C$3,F141+E141<+'Vergi Oranları'!$C$3),15,IF(G141-(E141+F141)<='Vergi Oranları'!$C$3,15,))))))","v":0},{"$f":"IF(E141=0,0,IF(D141=0,0,IF(G141=0,0,IF(H141=0,0,IF(F141+E141<='Vergi Oranları'!$C$3,G141-F141,'Vergi Oranları'!$C$3-F141)))))","v":0},{"$f":"IF(I141=0,0,IF(ROUND((I141-$J$3)*'Vergi Oranları'!$G$3/100,2)<0,0,ROUND((I141-$M$3)*'Vergi Oranları'!$G$3/100,2)))","v":0},{"$f":"IF(E141=0,0,IF(D141=0,0,IF(G141=0,0,IF(F141>+'Vergi Oranları'!$C$4,0,IF(OR(G141<='Vergi Oranları'!$C$4,F141+E141<'Vergi Oranları'!$C$4),20,IF(G141-(E141+F141)<='Vergi Oranları'!$C$4,20,))))))","v":0},{"$f":"IF(E141=0,0,IF(D141=0,0,IF(G141=0,0,IF(K141=0,0,IF(F141+E141<=+'Vergi Oranları'!$C$4,G141-(F141+I141),+'Vergi Oranları'!$C$4-(F141+I141))))))","v":0},{"$f":"IF(L141=0,0,IF(ROUND((L141-$M$3)*+'Vergi Oranları'!$G$4/100,2)<0,0,ROUND((L141-$M$3)*+'Vergi Oranları'!$G$4/100,2)))","v":0},{"$f":"IF(E141=0,0,IF(D141=0,0,IF(G141=0,0,IF(OR(G141>+'Vergi Oranları'!$C$4,G141<=+'Vergi Oranları'!$C$5),27))))","v":0},{"$f":"IF(E141=0,0,IF(D141=0,0,IF(G141=0,0,IF(N141=0,0,IF(F141>'Vergi Oranları'!$C$5,0,IF(G141<=+'Vergi Oranları'!$C$5,G141-(F141+I141+L141),+'Vergi Oranları'!$C$5-(F141+I141+L141)))))))","v":0},{"$f":"ROUND(IF(N141=0,0,IF(E141<O141,(E141-$P$3)*'Vergi Oranları'!$G$5/100,(O141-$P$3)*'Vergi Oranları'!$G$5/100)),2)","v":0},{"$f":"IF(E141=0,0,IF(D141=0,0,IF(G141=0,0,IF(G141<=+'Vergi Oranları'!$C$5,0,IF(OR(G141>+'Vergi Oranları'!$C$5,F141+E141<=+'Vergi Oranları'!$C$5),35)))))","v":0},{"$f":"IF(E141=0,0,IF(D141=0,0,IF(G141=0,0,IF(Q141=0,0,IF(F141+E141>=+'Vergi Oranları'!$C$5,G141-(F141+I141+L141+O141),+'Vergi Oranları'!$C$5-(F141+I141+L141+O141))))))","v":0},{"$f":"IF(Q141=0,0,ROUND((R141-$S$3)*+'Vergi Oranları'!$G$6/100,2))","v":0},0]
[null,null,null,null,null,null,0,{"$f":"IF(E142=0,0,IF(D142=0,0,IF(G142=0,0,IF(F142>+'Vergi Oranları'!$C$3,0,IF(OR(G142<='Vergi Oranları'!$C$3,F142+E142<+'Vergi Oranları'!$C$3),15,IF(G142-(E142+F142)<='Vergi Oranları'!$C$3,15,))))))","v":0},{"$f":"IF(E142=0,0,IF(D142=0,0,IF(G142=0,0,IF(H142=0,0,IF(F142+E142<='Vergi Oranları'!$C$3,G142-F142,'Vergi Oranları'!$C$3-F142)))))","v":0},{"$f":"IF(I142=0,0,IF(ROUND((I142-$J$3)*'Vergi Oranları'!$G$3/100,2)<0,0,ROUND((I142-$M$3)*'Vergi Oranları'!$G$3/100,2)))","v":0},{"$f":"IF(E142=0,0,IF(D142=0,0,IF(G142=0,0,IF(F142>+'Vergi Oranları'!$C$4,0,IF(OR(G142<='Vergi Oranları'!$C$4,F142+E142<'Vergi Oranları'!$C$4),20,IF(G142-(E142+F142)<='Vergi Oranları'!$C$4,20,))))))","v":0},{"$f":"IF(E142=0,0,IF(D142=0,0,IF(G142=0,0,IF(K142=0,0,IF(F142+E142<=+'Vergi Oranları'!$C$4,G142-(F142+I142),+'Vergi Oranları'!$C$4-(F142+I142))))))","v":0},{"$f":"IF(L142=0,0,IF(ROUND((L142-$M$3)*+'Vergi Oranları'!$G$4/100,2)<0,0,ROUND((L142-$M$3)*+'Vergi Oranları'!$G$4/100,2)))","v":0},{"$f":"IF(E142=0,0,IF(D142=0,0,IF(G142=0,0,IF(OR(G142>+'Vergi Oranları'!$C$4,G142<=+'Vergi Oranları'!$C$5),27))))","v":0},{"$f":"IF(E142=0,0,IF(D142=0,0,IF(G142=0,0,IF(N142=0,0,IF(F142>'Vergi Oranları'!$C$5,0,IF(G142<=+'Vergi Oranları'!$C$5,G142-(F142+I142+L142),+'Vergi Oranları'!$C$5-(F142+I142+L142)))))))","v":0},{"$f":"ROUND(IF(N142=0,0,IF(E142<O142,(E142-$P$3)*'Vergi Oranları'!$G$5/100,(O142-$P$3)*'Vergi Oranları'!$G$5/100)),2)","v":0},{"$f":"IF(E142=0,0,IF(D142=0,0,IF(G142=0,0,IF(G142<=+'Vergi Oranları'!$C$5,0,IF(OR(G142>+'Vergi Oranları'!$C$5,F142+E142<=+'Vergi Oranları'!$C$5),35)))))","v":0},{"$f":"IF(E142=0,0,IF(D142=0,0,IF(G142=0,0,IF(Q142=0,0,IF(F142+E142>=+'Vergi Oranları'!$C$5,G142-(F142+I142+L142+O142),+'Vergi Oranları'!$C$5-(F142+I142+L142+O142))))))","v":0},{"$f":"IF(Q142=0,0,ROUND((R142-$S$3)*+'Vergi Oranları'!$G$6/100,2))","v":0},0]
[null,null,null,null,null,null,0,{"$f":"IF(E143=0,0,IF(D143=0,0,IF(G143=0,0,IF(F143>+'Vergi Oranları'!$C$3,0,IF(OR(G143<='Vergi Oranları'!$C$3,F143+E143<+'Vergi Oranları'!$C$3),15,IF(G143-(E143+F143)<='Vergi Oranları'!$C$3,15,))))))","v":0},{"$f":"IF(E143=0,0,IF(D143=0,0,IF(G143=0,0,IF(H143=0,0,IF(F143+E143<='Vergi Oranları'!$C$3,G143-F143,'Vergi Oranları'!$C$3-F143)))))","v":0},{"$f":"IF(I143=0,0,IF(ROUND((I143-$J$3)*'Vergi Oranları'!$G$3/100,2)<0,0,ROUND((I143-$M$3)*'Vergi Oranları'!$G$3/100,2)))","v":0},{"$f":"IF(E143=0,0,IF(D143=0,0,IF(G143=0,0,IF(F143>+'Vergi Oranları'!$C$4,0,IF(OR(G143<='Vergi Oranları'!$C$4,F143+E143<'Vergi Oranları'!$C$4),20,IF(G143-(E143+F143)<='Vergi Oranları'!$C$4,20,))))))","v":0},{"$f":"IF(E143=0,0,IF(D143=0,0,IF(G143=0,0,IF(K143=0,0,IF(F143+E143<=+'Vergi Oranları'!$C$4,G143-(F143+I143),+'Vergi Oranları'!$C$4-(F143+I143))))))","v":0},{"$f":"IF(L143=0,0,IF(ROUND((L143-$M$3)*+'Vergi Oranları'!$G$4/100,2)<0,0,ROUND((L143-$M$3)*+'Vergi Oranları'!$G$4/100,2)))","v":0},{"$f":"IF(E143=0,0,IF(D143=0,0,IF(G143=0,0,IF(OR(G143>+'Vergi Oranları'!$C$4,G143<=+'Vergi Oranları'!$C$5),27))))","v":0},{"$f":"IF(E143=0,0,IF(D143=0,0,IF(G143=0,0,IF(N143=0,0,IF(F143>'Vergi Oranları'!$C$5,0,IF(G143<=+'Vergi Oranları'!$C$5,G143-(F143+I143+L143),+'Vergi Oranları'!$C$5-(F143+I143+L143)))))))","v":0},{"$f":"ROUND(IF(N143=0,0,IF(E143<O143,(E143-$P$3)*'Vergi Oranları'!$G$5/100,(O143-$P$3)*'Vergi Oranları'!$G$5/100)),2)","v":0},{"$f":"IF(E143=0,0,IF(D143=0,0,IF(G143=0,0,IF(G143<=+'Vergi Oranları'!$C$5,0,IF(OR(G143>+'Vergi Oranları'!$C$5,F143+E143<=+'Vergi Oranları'!$C$5),35)))))","v":0},{"$f":"IF(E143=0,0,IF(D143=0,0,IF(G143=0,0,IF(Q143=0,0,IF(F143+E143>=+'Vergi Oranları'!$C$5,G143-(F143+I143+L143+O143),+'Vergi Oranları'!$C$5-(F143+I143+L143+O143))))))","v":0},{"$f":"IF(Q143=0,0,ROUND((R143-$S$3)*+'Vergi Oranları'!$G$6/100,2))","v":0},0]
[null,null,null,null,null,null,0,{"$f":"IF(E144=0,0,IF(D144=0,0,IF(G144=0,0,IF(F144>+'Vergi Oranları'!$C$3,0,IF(OR(G144<='Vergi Oranları'!$C$3,F144+E144<+'Vergi Oranları'!$C$3),15,IF(G144-(E144+F144)<='Vergi Oranları'!$C$3,15,))))))","v":0},{"$f":"IF(E144=0,0,IF(D144=0,0,IF(G144=0,0,IF(H144=0,0,IF(F144+E144<='Vergi Oranları'!$C$3,G144-F144,'Vergi Oranları'!$C$3-F144)))))","v":0},{"$f":"IF(I144=0,0,IF(ROUND((I144-$J$3)*'Vergi Oranları'!$G$3/100,2)<0,0,ROUND((I144-$M$3)*'Vergi Oranları'!$G$3/100,2)))","v":0},{"$f":"IF(E144=0,0,IF(D144=0,0,IF(G144=0,0,IF(F144>+'Vergi Oranları'!$C$4,0,IF(OR(G144<='Vergi Oranları'!$C$4,F144+E144<'Vergi Oranları'!$C$4),20,IF(G144-(E144+F144)<='Vergi Oranları'!$C$4,20,))))))","v":0},{"$f":"IF(E144=0,0,IF(D144=0,0,IF(G144=0,0,IF(K144=0,0,IF(F144+E144<=+'Vergi Oranları'!$C$4,G144-(F144+I144),+'Vergi Oranları'!$C$4-(F144+I144))))))","v":0},{"$f":"IF(L144=0,0,IF(ROUND((L144-$M$3)*+'Vergi Oranları'!$G$4/100,2)<0,0,ROUND((L144-$M$3)*+'Vergi Oranları'!$G$4/100,2)))","v":0},{"$f":"IF(E144=0,0,IF(D144=0,0,IF(G144=0,0,IF(OR(G144>+'Vergi Oranları'!$C$4,G144<=+'Vergi Oranları'!$C$5),27))))","v":0},{"$f":"IF(E144=0,0,IF(D144=0,0,IF(G144=0,0,IF(N144=0,0,IF(F144>'Vergi Oranları'!$C$5,0,IF(G144<=+'Vergi Oranları'!$C$5,G144-(F144+I144+L144),+'Vergi Oranları'!$C$5-(F144+I144+L144)))))))","v":0},{"$f":"ROUND(IF(N144=0,0,IF(E144<O144,(E144-$P$3)*'Vergi Oranları'!$G$5/100,(O144-$P$3)*'Vergi Oranları'!$G$5/100)),2)","v":0},{"$f":"IF(E144=0,0,IF(D144=0,0,IF(G144=0,0,IF(G144<=+'Vergi Oranları'!$C$5,0,IF(OR(G144>+'Vergi Oranları'!$C$5,F144+E144<=+'Vergi Oranları'!$C$5),35)))))","v":0},{"$f":"IF(E144=0,0,IF(D144=0,0,IF(G144=0,0,IF(Q144=0,0,IF(F144+E144>=+'Vergi Oranları'!$C$5,G144-(F144+I144+L144+O144),+'Vergi Oranları'!$C$5-(F144+I144+L144+O144))))))","v":0},{"$f":"IF(Q144=0,0,ROUND((R144-$S$3)*+'Vergi Oranları'!$G$6/100,2))","v":0},0]
[null,null,null,null,null,null,0,{"$f":"IF(E145=0,0,IF(D145=0,0,IF(G145=0,0,IF(F145>+'Vergi Oranları'!$C$3,0,IF(OR(G145<='Vergi Oranları'!$C$3,F145+E145<+'Vergi Oranları'!$C$3),15,IF(G145-(E145+F145)<='Vergi Oranları'!$C$3,15,))))))","v":0},{"$f":"IF(E145=0,0,IF(D145=0,0,IF(G145=0,0,IF(H145=0,0,IF(F145+E145<='Vergi Oranları'!$C$3,G145-F145,'Vergi Oranları'!$C$3-F145)))))","v":0},{"$f":"IF(I145=0,0,IF(ROUND((I145-$J$3)*'Vergi Oranları'!$G$3/100,2)<0,0,ROUND((I145-$M$3)*'Vergi Oranları'!$G$3/100,2)))","v":0},{"$f":"IF(E145=0,0,IF(D145=0,0,IF(G145=0,0,IF(F145>+'Vergi Oranları'!$C$4,0,IF(OR(G145<='Vergi Oranları'!$C$4,F145+E145<'Vergi Oranları'!$C$4),20,IF(G145-(E145+F145)<='Vergi Oranları'!$C$4,20,))))))","v":0},{"$f":"IF(E145=0,0,IF(D145=0,0,IF(G145=0,0,IF(K145=0,0,IF(F145+E145<=+'Vergi Oranları'!$C$4,G145-(F145+I145),+'Vergi Oranları'!$C$4-(F145+I145))))))","v":0},{"$f":"IF(L145=0,0,IF(ROUND((L145-$M$3)*+'Vergi Oranları'!$G$4/100,2)<0,0,ROUND((L145-$M$3)*+'Vergi Oranları'!$G$4/100,2)))","v":0},{"$f":"IF(E145=0,0,IF(D145=0,0,IF(G145=0,0,IF(OR(G145>+'Vergi Oranları'!$C$4,G145<=+'Vergi Oranları'!$C$5),27))))","v":0},{"$f":"IF(E145=0,0,IF(D145=0,0,IF(G145=0,0,IF(N145=0,0,IF(F145>'Vergi Oranları'!$C$5,0,IF(G145<=+'Vergi Oranları'!$C$5,G145-(F145+I145+L145),+'Vergi Oranları'!$C$5-(F145+I145+L145)))))))","v":0},{"$f":"ROUND(IF(N145=0,0,IF(E145<O145,(E145-$P$3)*'Vergi Oranları'!$G$5/100,(O145-$P$3)*'Vergi Oranları'!$G$5/100)),2)","v":0},{"$f":"IF(E145=0,0,IF(D145=0,0,IF(G145=0,0,IF(G145<=+'Vergi Oranları'!$C$5,0,IF(OR(G145>+'Vergi Oranları'!$C$5,F145+E145<=+'Vergi Oranları'!$C$5),35)))))","v":0},{"$f":"IF(E145=0,0,IF(D145=0,0,IF(G145=0,0,IF(Q145=0,0,IF(F145+E145>=+'Vergi Oranları'!$C$5,G145-(F145+I145+L145+O145),+'Vergi Oranları'!$C$5-(F145+I145+L145+O145))))))","v":0},{"$f":"IF(Q145=0,0,ROUND((R145-$S$3)*+'Vergi Oranları'!$G$6/100,2))","v":0},0]
[null,null,null,null,null,null,0,{"$f":"IF(E146=0,0,IF(D146=0,0,IF(G146=0,0,IF(F146>+'Vergi Oranları'!$C$3,0,IF(OR(G146<='Vergi Oranları'!$C$3,F146+E146<+'Vergi Oranları'!$C$3),15,IF(G146-(E146+F146)<='Vergi Oranları'!$C$3,15,))))))","v":0},{"$f":"IF(E146=0,0,IF(D146=0,0,IF(G146=0,0,IF(H146=0,0,IF(F146+E146<='Vergi Oranları'!$C$3,G146-F146,'Vergi Oranları'!$C$3-F146)))))","v":0},{"$f":"IF(I146=0,0,IF(ROUND((I146-$J$3)*'Vergi Oranları'!$G$3/100,2)<0,0,ROUND((I146-$M$3)*'Vergi Oranları'!$G$3/100,2)))","v":0},{"$f":"IF(E146=0,0,IF(D146=0,0,IF(G146=0,0,IF(F146>+'Vergi Oranları'!$C$4,0,IF(OR(G146<='Vergi Oranları'!$C$4,F146+E146<'Vergi Oranları'!$C$4),20,IF(G146-(E146+F146)<='Vergi Oranları'!$C$4,20,))))))","v":0},{"$f":"IF(E146=0,0,IF(D146=0,0,IF(G146=0,0,IF(K146=0,0,IF(F146+E146<=+'Vergi Oranları'!$C$4,G146-(F146+I146),+'Vergi Oranları'!$C$4-(F146+I146))))))","v":0},{"$f":"IF(L146=0,0,IF(ROUND((L146-$M$3)*+'Vergi Oranları'!$G$4/100,2)<0,0,ROUND((L146-$M$3)*+'Vergi Oranları'!$G$4/100,2)))","v":0},{"$f":"IF(E146=0,0,IF(D146=0,0,IF(G146=0,0,IF(OR(G146>+'Vergi Oranları'!$C$4,G146<=+'Vergi Oranları'!$C$5),27))))","v":0},{"$f":"IF(E146=0,0,IF(D146=0,0,IF(G146=0,0,IF(N146=0,0,IF(F146>'Vergi Oranları'!$C$5,0,IF(G146<=+'Vergi Oranları'!$C$5,G146-(F146+I146+L146),+'Vergi Oranları'!$C$5-(F146+I146+L146)))))))","v":0},{"$f":"ROUND(IF(N146=0,0,IF(E146<O146,(E146-$P$3)*'Vergi Oranları'!$G$5/100,(O146-$P$3)*'Vergi Oranları'!$G$5/100)),2)","v":0},{"$f":"IF(E146=0,0,IF(D146=0,0,IF(G146=0,0,IF(G146<=+'Vergi Oranları'!$C$5,0,IF(OR(G146>+'Vergi Oranları'!$C$5,F146+E146<=+'Vergi Oranları'!$C$5),35)))))","v":0},{"$f":"IF(E146=0,0,IF(D146=0,0,IF(G146=0,0,IF(Q146=0,0,IF(F146+E146>=+'Vergi Oranları'!$C$5,G146-(F146+I146+L146+O146),+'Vergi Oranları'!$C$5-(F146+I146+L146+O146))))))","v":0},{"$f":"IF(Q146=0,0,ROUND((R146-$S$3)*+'Vergi Oranları'!$G$6/100,2))","v":0},0]
[null,null,null,null,null,null,0,{"$f":"IF(E147=0,0,IF(D147=0,0,IF(G147=0,0,IF(F147>+'Vergi Oranları'!$C$3,0,IF(OR(G147<='Vergi Oranları'!$C$3,F147+E147<+'Vergi Oranları'!$C$3),15,IF(G147-(E147+F147)<='Vergi Oranları'!$C$3,15,))))))","v":0},{"$f":"IF(E147=0,0,IF(D147=0,0,IF(G147=0,0,IF(H147=0,0,IF(F147+E147<='Vergi Oranları'!$C$3,G147-F147,'Vergi Oranları'!$C$3-F147)))))","v":0},{"$f":"IF(I147=0,0,IF(ROUND((I147-$J$3)*'Vergi Oranları'!$G$3/100,2)<0,0,ROUND((I147-$M$3)*'Vergi Oranları'!$G$3/100,2)))","v":0},{"$f":"IF(E147=0,0,IF(D147=0,0,IF(G147=0,0,IF(F147>+'Vergi Oranları'!$C$4,0,IF(OR(G147<='Vergi Oranları'!$C$4,F147+E147<'Vergi Oranları'!$C$4),20,IF(G147-(E147+F147)<='Vergi Oranları'!$C$4,20,))))))","v":0},{"$f":"IF(E147=0,0,IF(D147=0,0,IF(G147=0,0,IF(K147=0,0,IF(F147+E147<=+'Vergi Oranları'!$C$4,G147-(F147+I147),+'Vergi Oranları'!$C$4-(F147+I147))))))","v":0},{"$f":"IF(L147=0,0,IF(ROUND((L147-$M$3)*+'Vergi Oranları'!$G$4/100,2)<0,0,ROUND((L147-$M$3)*+'Vergi Oranları'!$G$4/100,2)))","v":0},{"$f":"IF(E147=0,0,IF(D147=0,0,IF(G147=0,0,IF(OR(G147>+'Vergi Oranları'!$C$4,G147<=+'Vergi Oranları'!$C$5),27))))","v":0},{"$f":"IF(E147=0,0,IF(D147=0,0,IF(G147=0,0,IF(N147=0,0,IF(F147>'Vergi Oranları'!$C$5,0,IF(G147<=+'Vergi Oranları'!$C$5,G147-(F147+I147+L147),+'Vergi Oranları'!$C$5-(F147+I147+L147)))))))","v":0},{"$f":"ROUND(IF(N147=0,0,IF(E147<O147,(E147-$P$3)*'Vergi Oranları'!$G$5/100,(O147-$P$3)*'Vergi Oranları'!$G$5/100)),2)","v":0},{"$f":"IF(E147=0,0,IF(D147=0,0,IF(G147=0,0,IF(G147<=+'Vergi Oranları'!$C$5,0,IF(OR(G147>+'Vergi Oranları'!$C$5,F147+E147<=+'Vergi Oranları'!$C$5),35)))))","v":0},{"$f":"IF(E147=0,0,IF(D147=0,0,IF(G147=0,0,IF(Q147=0,0,IF(F147+E147>=+'Vergi Oranları'!$C$5,G147-(F147+I147+L147+O147),+'Vergi Oranları'!$C$5-(F147+I147+L147+O147))))))","v":0},{"$f":"IF(Q147=0,0,ROUND((R147-$S$3)*+'Vergi Oranları'!$G$6/100,2))","v":0},0]
[null,null,null,null,null,null,0,{"$f":"IF(E148=0,0,IF(D148=0,0,IF(G148=0,0,IF(F148>+'Vergi Oranları'!$C$3,0,IF(OR(G148<='Vergi Oranları'!$C$3,F148+E148<+'Vergi Oranları'!$C$3),15,IF(G148-(E148+F148)<='Vergi Oranları'!$C$3,15,))))))","v":0},{"$f":"IF(E148=0,0,IF(D148=0,0,IF(G148=0,0,IF(H148=0,0,IF(F148+E148<='Vergi Oranları'!$C$3,G148-F148,'Vergi Oranları'!$C$3-F148)))))","v":0},{"$f":"IF(I148=0,0,IF(ROUND((I148-$J$3)*'Vergi Oranları'!$G$3/100,2)<0,0,ROUND((I148-$M$3)*'Vergi Oranları'!$G$3/100,2)))","v":0},{"$f":"IF(E148=0,0,IF(D148=0,0,IF(G148=0,0,IF(F148>+'Vergi Oranları'!$C$4,0,IF(OR(G148<='Vergi Oranları'!$C$4,F148+E148<'Vergi Oranları'!$C$4),20,IF(G148-(E148+F148)<='Vergi Oranları'!$C$4,20,))))))","v":0},{"$f":"IF(E148=0,0,IF(D148=0,0,IF(G148=0,0,IF(K148=0,0,IF(F148+E148<=+'Vergi Oranları'!$C$4,G148-(F148+I148),+'Vergi Oranları'!$C$4-(F148+I148))))))","v":0},{"$f":"IF(L148=0,0,IF(ROUND((L148-$M$3)*+'Vergi Oranları'!$G$4/100,2)<0,0,ROUND((L148-$M$3)*+'Vergi Oranları'!$G$4/100,2)))","v":0},{"$f":"IF(E148=0,0,IF(D148=0,0,IF(G148=0,0,IF(OR(G148>+'Vergi Oranları'!$C$4,G148<=+'Vergi Oranları'!$C$5),27))))","v":0},{"$f":"IF(E148=0,0,IF(D148=0,0,IF(G148=0,0,IF(N148=0,0,IF(F148>'Vergi Oranları'!$C$5,0,IF(G148<=+'Vergi Oranları'!$C$5,G148-(F148+I148+L148),+'Vergi Oranları'!$C$5-(F148+I148+L148)))))))","v":0},{"$f":"ROUND(IF(N148=0,0,IF(E148<O148,(E148-$P$3)*'Vergi Oranları'!$G$5/100,(O148-$P$3)*'Vergi Oranları'!$G$5/100)),2)","v":0},{"$f":"IF(E148=0,0,IF(D148=0,0,IF(G148=0,0,IF(G148<=+'Vergi Oranları'!$C$5,0,IF(OR(G148>+'Vergi Oranları'!$C$5,F148+E148<=+'Vergi Oranları'!$C$5),35)))))","v":0},{"$f":"IF(E148=0,0,IF(D148=0,0,IF(G148=0,0,IF(Q148=0,0,IF(F148+E148>=+'Vergi Oranları'!$C$5,G148-(F148+I148+L148+O148),+'Vergi Oranları'!$C$5-(F148+I148+L148+O148))))))","v":0},{"$f":"IF(Q148=0,0,ROUND((R148-$S$3)*+'Vergi Oranları'!$G$6/100,2))","v":0},0]
[null,null,null,null,null,null,0,{"$f":"IF(E149=0,0,IF(D149=0,0,IF(G149=0,0,IF(F149>+'Vergi Oranları'!$C$3,0,IF(OR(G149<='Vergi Oranları'!$C$3,F149+E149<+'Vergi Oranları'!$C$3),15,IF(G149-(E149+F149)<='Vergi Oranları'!$C$3,15,))))))","v":0},{"$f":"IF(E149=0,0,IF(D149=0,0,IF(G149=0,0,IF(H149=0,0,IF(F149+E149<='Vergi Oranları'!$C$3,G149-F149,'Vergi Oranları'!$C$3-F149)))))","v":0},{"$f":"IF(I149=0,0,IF(ROUND((I149-$J$3)*'Vergi Oranları'!$G$3/100,2)<0,0,ROUND((I149-$M$3)*'Vergi Oranları'!$G$3/100,2)))","v":0},{"$f":"IF(E149=0,0,IF(D149=0,0,IF(G149=0,0,IF(F149>+'Vergi Oranları'!$C$4,0,IF(OR(G149<='Vergi Oranları'!$C$4,F149+E149<'Vergi Oranları'!$C$4),20,IF(G149-(E149+F149)<='Vergi Oranları'!$C$4,20,))))))","v":0},{"$f":"IF(E149=0,0,IF(D149=0,0,IF(G149=0,0,IF(K149=0,0,IF(F149+E149<=+'Vergi Oranları'!$C$4,G149-(F149+I149),+'Vergi Oranları'!$C$4-(F149+I149))))))","v":0},{"$f":"IF(L149=0,0,IF(ROUND((L149-$M$3)*+'Vergi Oranları'!$G$4/100,2)<0,0,ROUND((L149-$M$3)*+'Vergi Oranları'!$G$4/100,2)))","v":0},{"$f":"IF(E149=0,0,IF(D149=0,0,IF(G149=0,0,IF(OR(G149>+'Vergi Oranları'!$C$4,G149<=+'Vergi Oranları'!$C$5),27))))","v":0},{"$f":"IF(E149=0,0,IF(D149=0,0,IF(G149=0,0,IF(N149=0,0,IF(F149>'Vergi Oranları'!$C$5,0,IF(G149<=+'Vergi Oranları'!$C$5,G149-(F149+I149+L149),+'Vergi Oranları'!$C$5-(F149+I149+L149)))))))","v":0},{"$f":"ROUND(IF(N149=0,0,IF(E149<O149,(E149-$P$3)*'Vergi Oranları'!$G$5/100,(O149-$P$3)*'Vergi Oranları'!$G$5/100)),2)","v":0},{"$f":"IF(E149=0,0,IF(D149=0,0,IF(G149=0,0,IF(G149<=+'Vergi Oranları'!$C$5,0,IF(OR(G149>+'Vergi Oranları'!$C$5,F149+E149<=+'Vergi Oranları'!$C$5),35)))))","v":0},{"$f":"IF(E149=0,0,IF(D149=0,0,IF(G149=0,0,IF(Q149=0,0,IF(F149+E149>=+'Vergi Oranları'!$C$5,G149-(F149+I149+L149+O149),+'Vergi Oranları'!$C$5-(F149+I149+L149+O149))))))","v":0},{"$f":"IF(Q149=0,0,ROUND((R149-$S$3)*+'Vergi Oranları'!$G$6/100,2))","v":0},0]
[null,null,null,null,null,null,0,{"$f":"IF(E150=0,0,IF(D150=0,0,IF(G150=0,0,IF(F150>+'Vergi Oranları'!$C$3,0,IF(OR(G150<='Vergi Oranları'!$C$3,F150+E150<+'Vergi Oranları'!$C$3),15,IF(G150-(E150+F150)<='Vergi Oranları'!$C$3,15,))))))","v":0},{"$f":"IF(E150=0,0,IF(D150=0,0,IF(G150=0,0,IF(H150=0,0,IF(F150+E150<='Vergi Oranları'!$C$3,G150-F150,'Vergi Oranları'!$C$3-F150)))))","v":0},{"$f":"IF(I150=0,0,IF(ROUND((I150-$J$3)*'Vergi Oranları'!$G$3/100,2)<0,0,ROUND((I150-$M$3)*'Vergi Oranları'!$G$3/100,2)))","v":0},{"$f":"IF(E150=0,0,IF(D150=0,0,IF(G150=0,0,IF(F150>+'Vergi Oranları'!$C$4,0,IF(OR(G150<='Vergi Oranları'!$C$4,F150+E150<'Vergi Oranları'!$C$4),20,IF(G150-(E150+F150)<='Vergi Oranları'!$C$4,20,))))))","v":0},{"$f":"IF(E150=0,0,IF(D150=0,0,IF(G150=0,0,IF(K150=0,0,IF(F150+E150<=+'Vergi Oranları'!$C$4,G150-(F150+I150),+'Vergi Oranları'!$C$4-(F150+I150))))))","v":0},{"$f":"IF(L150=0,0,IF(ROUND((L150-$M$3)*+'Vergi Oranları'!$G$4/100,2)<0,0,ROUND((L150-$M$3)*+'Vergi Oranları'!$G$4/100,2)))","v":0},{"$f":"IF(E150=0,0,IF(D150=0,0,IF(G150=0,0,IF(OR(G150>+'Vergi Oranları'!$C$4,G150<=+'Vergi Oranları'!$C$5),27))))","v":0},{"$f":"IF(E150=0,0,IF(D150=0,0,IF(G150=0,0,IF(N150=0,0,IF(F150>'Vergi Oranları'!$C$5,0,IF(G150<=+'Vergi Oranları'!$C$5,G150-(F150+I150+L150),+'Vergi Oranları'!$C$5-(F150+I150+L150)))))))","v":0},{"$f":"ROUND(IF(N150=0,0,IF(E150<O150,(E150-$P$3)*'Vergi Oranları'!$G$5/100,(O150-$P$3)*'Vergi Oranları'!$G$5/100)),2)","v":0},{"$f":"IF(E150=0,0,IF(D150=0,0,IF(G150=0,0,IF(G150<=+'Vergi Oranları'!$C$5,0,IF(OR(G150>+'Vergi Oranları'!$C$5,F150+E150<=+'Vergi Oranları'!$C$5),35)))))","v":0},{"$f":"IF(E150=0,0,IF(D150=0,0,IF(G150=0,0,IF(Q150=0,0,IF(F150+E150>=+'Vergi Oranları'!$C$5,G150-(F150+I150+L150+O150),+'Vergi Oranları'!$C$5-(F150+I150+L150+O150))))))","v":0},{"$f":"IF(Q150=0,0,ROUND((R150-$S$3)*+'Vergi Oranları'!$G$6/100,2))","v":0},0]
[null,null,null,null,null,null,0,{"$f":"IF(E151=0,0,IF(D151=0,0,IF(G151=0,0,IF(F151>+'Vergi Oranları'!$C$3,0,IF(OR(G151<='Vergi Oranları'!$C$3,F151+E151<+'Vergi Oranları'!$C$3),15,IF(G151-(E151+F151)<='Vergi Oranları'!$C$3,15,))))))","v":0},{"$f":"IF(E151=0,0,IF(D151=0,0,IF(G151=0,0,IF(H151=0,0,IF(F151+E151<='Vergi Oranları'!$C$3,G151-F151,'Vergi Oranları'!$C$3-F151)))))","v":0},{"$f":"IF(I151=0,0,IF(ROUND((I151-$J$3)*'Vergi Oranları'!$G$3/100,2)<0,0,ROUND((I151-$M$3)*'Vergi Oranları'!$G$3/100,2)))","v":0},{"$f":"IF(E151=0,0,IF(D151=0,0,IF(G151=0,0,IF(F151>+'Vergi Oranları'!$C$4,0,IF(OR(G151<='Vergi Oranları'!$C$4,F151+E151<'Vergi Oranları'!$C$4),20,IF(G151-(E151+F151)<='Vergi Oranları'!$C$4,20,))))))","v":0},{"$f":"IF(E151=0,0,IF(D151=0,0,IF(G151=0,0,IF(K151=0,0,IF(F151+E151<=+'Vergi Oranları'!$C$4,G151-(F151+I151),+'Vergi Oranları'!$C$4-(F151+I151))))))","v":0},{"$f":"IF(L151=0,0,IF(ROUND((L151-$M$3)*+'Vergi Oranları'!$G$4/100,2)<0,0,ROUND((L151-$M$3)*+'Vergi Oranları'!$G$4/100,2)))","v":0},{"$f":"IF(E151=0,0,IF(D151=0,0,IF(G151=0,0,IF(OR(G151>+'Vergi Oranları'!$C$4,G151<=+'Vergi Oranları'!$C$5),27))))","v":0},{"$f":"IF(E151=0,0,IF(D151=0,0,IF(G151=0,0,IF(N151=0,0,IF(F151>'Vergi Oranları'!$C$5,0,IF(G151<=+'Vergi Oranları'!$C$5,G151-(F151+I151+L151),+'Vergi Oranları'!$C$5-(F151+I151+L151)))))))","v":0},{"$f":"ROUND(IF(N151=0,0,IF(E151<O151,(E151-$P$3)*'Vergi Oranları'!$G$5/100,(O151-$P$3)*'Vergi Oranları'!$G$5/100)),2)","v":0},{"$f":"IF(E151=0,0,IF(D151=0,0,IF(G151=0,0,IF(G151<=+'Vergi Oranları'!$C$5,0,IF(OR(G151>+'Vergi Oranları'!$C$5,F151+E151<=+'Vergi Oranları'!$C$5),35)))))","v":0},{"$f":"IF(E151=0,0,IF(D151=0,0,IF(G151=0,0,IF(Q151=0,0,IF(F151+E151>=+'Vergi Oranları'!$C$5,G151-(F151+I151+L151+O151),+'Vergi Oranları'!$C$5-(F151+I151+L151+O151))))))","v":0},{"$f":"IF(Q151=0,0,ROUND((R151-$S$3)*+'Vergi Oranları'!$G$6/100,2))","v":0},0]
[null,null,null,null,null,null,0,{"$f":"IF(E152=0,0,IF(D152=0,0,IF(G152=0,0,IF(F152>+'Vergi Oranları'!$C$3,0,IF(OR(G152<='Vergi Oranları'!$C$3,F152+E152<+'Vergi Oranları'!$C$3),15,IF(G152-(E152+F152)<='Vergi Oranları'!$C$3,15,))))))","v":0},{"$f":"IF(E152=0,0,IF(D152=0,0,IF(G152=0,0,IF(H152=0,0,IF(F152+E152<='Vergi Oranları'!$C$3,G152-F152,'Vergi Oranları'!$C$3-F152)))))","v":0},{"$f":"IF(I152=0,0,IF(ROUND((I152-$J$3)*'Vergi Oranları'!$G$3/100,2)<0,0,ROUND((I152-$M$3)*'Vergi Oranları'!$G$3/100,2)))","v":0},{"$f":"IF(E152=0,0,IF(D152=0,0,IF(G152=0,0,IF(F152>+'Vergi Oranları'!$C$4,0,IF(OR(G152<='Vergi Oranları'!$C$4,F152+E152<'Vergi Oranları'!$C$4),20,IF(G152-(E152+F152)<='Vergi Oranları'!$C$4,20,))))))","v":0},{"$f":"IF(E152=0,0,IF(D152=0,0,IF(G152=0,0,IF(K152=0,0,IF(F152+E152<=+'Vergi Oranları'!$C$4,G152-(F152+I152),+'Vergi Oranları'!$C$4-(F152+I152))))))","v":0},{"$f":"IF(L152=0,0,IF(ROUND((L152-$M$3)*+'Vergi Oranları'!$G$4/100,2)<0,0,ROUND((L152-$M$3)*+'Vergi Oranları'!$G$4/100,2)))","v":0},{"$f":"IF(E152=0,0,IF(D152=0,0,IF(G152=0,0,IF(OR(G152>+'Vergi Oranları'!$C$4,G152<=+'Vergi Oranları'!$C$5),27))))","v":0},{"$f":"IF(E152=0,0,IF(D152=0,0,IF(G152=0,0,IF(N152=0,0,IF(F152>'Vergi Oranları'!$C$5,0,IF(G152<=+'Vergi Oranları'!$C$5,G152-(F152+I152+L152),+'Vergi Oranları'!$C$5-(F152+I152+L152)))))))","v":0},{"$f":"ROUND(IF(N152=0,0,IF(E152<O152,(E152-$P$3)*'Vergi Oranları'!$G$5/100,(O152-$P$3)*'Vergi Oranları'!$G$5/100)),2)","v":0},{"$f":"IF(E152=0,0,IF(D152=0,0,IF(G152=0,0,IF(G152<=+'Vergi Oranları'!$C$5,0,IF(OR(G152>+'Vergi Oranları'!$C$5,F152+E152<=+'Vergi Oranları'!$C$5),35)))))","v":0},{"$f":"IF(E152=0,0,IF(D152=0,0,IF(G152=0,0,IF(Q152=0,0,IF(F152+E152>=+'Vergi Oranları'!$C$5,G152-(F152+I152+L152+O152),+'Vergi Oranları'!$C$5-(F152+I152+L152+O152))))))","v":0},{"$f":"IF(Q152=0,0,ROUND((R152-$S$3)*+'Vergi Oranları'!$G$6/100,2))","v":0},0]
[null,null,null,null,null,null,0,{"$f":"IF(E153=0,0,IF(D153=0,0,IF(G153=0,0,IF(F153>+'Vergi Oranları'!$C$3,0,IF(OR(G153<='Vergi Oranları'!$C$3,F153+E153<+'Vergi Oranları'!$C$3),15,IF(G153-(E153+F153)<='Vergi Oranları'!$C$3,15,))))))","v":0},{"$f":"IF(E153=0,0,IF(D153=0,0,IF(G153=0,0,IF(H153=0,0,IF(F153+E153<='Vergi Oranları'!$C$3,G153-F153,'Vergi Oranları'!$C$3-F153)))))","v":0},{"$f":"IF(I153=0,0,IF(ROUND((I153-$J$3)*'Vergi Oranları'!$G$3/100,2)<0,0,ROUND((I153-$M$3)*'Vergi Oranları'!$G$3/100,2)))","v":0},{"$f":"IF(E153=0,0,IF(D153=0,0,IF(G153=0,0,IF(F153>+'Vergi Oranları'!$C$4,0,IF(OR(G153<='Vergi Oranları'!$C$4,F153+E153<'Vergi Oranları'!$C$4),20,IF(G153-(E153+F153)<='Vergi Oranları'!$C$4,20,))))))","v":0},{"$f":"IF(E153=0,0,IF(D153=0,0,IF(G153=0,0,IF(K153=0,0,IF(F153+E153<=+'Vergi Oranları'!$C$4,G153-(F153+I153),+'Vergi Oranları'!$C$4-(F153+I153))))))","v":0},{"$f":"IF(L153=0,0,IF(ROUND((L153-$M$3)*+'Vergi Oranları'!$G$4/100,2)<0,0,ROUND((L153-$M$3)*+'Vergi Oranları'!$G$4/100,2)))","v":0},{"$f":"IF(E153=0,0,IF(D153=0,0,IF(G153=0,0,IF(OR(G153>+'Vergi Oranları'!$C$4,G153<=+'Vergi Oranları'!$C$5),27))))","v":0},{"$f":"IF(E153=0,0,IF(D153=0,0,IF(G153=0,0,IF(N153=0,0,IF(F153>'Vergi Oranları'!$C$5,0,IF(G153<=+'Vergi Oranları'!$C$5,G153-(F153+I153+L153),+'Vergi Oranları'!$C$5-(F153+I153+L153)))))))","v":0},{"$f":"ROUND(IF(N153=0,0,IF(E153<O153,(E153-$P$3)*'Vergi Oranları'!$G$5/100,(O153-$P$3)*'Vergi Oranları'!$G$5/100)),2)","v":0},{"$f":"IF(E153=0,0,IF(D153=0,0,IF(G153=0,0,IF(G153<=+'Vergi Oranları'!$C$5,0,IF(OR(G153>+'Vergi Oranları'!$C$5,F153+E153<=+'Vergi Oranları'!$C$5),35)))))","v":0},{"$f":"IF(E153=0,0,IF(D153=0,0,IF(G153=0,0,IF(Q153=0,0,IF(F153+E153>=+'Vergi Oranları'!$C$5,G153-(F153+I153+L153+O153),+'Vergi Oranları'!$C$5-(F153+I153+L153+O153))))))","v":0},{"$f":"IF(Q153=0,0,ROUND((R153-$S$3)*+'Vergi Oranları'!$G$6/100,2))","v":0},0]
[null,null,null,null,null,null,0,{"$f":"IF(E154=0,0,IF(D154=0,0,IF(G154=0,0,IF(F154>+'Vergi Oranları'!$C$3,0,IF(OR(G154<='Vergi Oranları'!$C$3,F154+E154<+'Vergi Oranları'!$C$3),15,IF(G154-(E154+F154)<='Vergi Oranları'!$C$3,15,))))))","v":0},{"$f":"IF(E154=0,0,IF(D154=0,0,IF(G154=0,0,IF(H154=0,0,IF(F154+E154<='Vergi Oranları'!$C$3,G154-F154,'Vergi Oranları'!$C$3-F154)))))","v":0},{"$f":"IF(I154=0,0,IF(ROUND((I154-$J$3)*'Vergi Oranları'!$G$3/100,2)<0,0,ROUND((I154-$M$3)*'Vergi Oranları'!$G$3/100,2)))","v":0},{"$f":"IF(E154=0,0,IF(D154=0,0,IF(G154=0,0,IF(F154>+'Vergi Oranları'!$C$4,0,IF(OR(G154<='Vergi Oranları'!$C$4,F154+E154<'Vergi Oranları'!$C$4),20,IF(G154-(E154+F154)<='Vergi Oranları'!$C$4,20,))))))","v":0},{"$f":"IF(E154=0,0,IF(D154=0,0,IF(G154=0,0,IF(K154=0,0,IF(F154+E154<=+'Vergi Oranları'!$C$4,G154-(F154+I154),+'Vergi Oranları'!$C$4-(F154+I154))))))","v":0},{"$f":"IF(L154=0,0,IF(ROUND((L154-$M$3)*+'Vergi Oranları'!$G$4/100,2)<0,0,ROUND((L154-$M$3)*+'Vergi Oranları'!$G$4/100,2)))","v":0},{"$f":"IF(E154=0,0,IF(D154=0,0,IF(G154=0,0,IF(OR(G154>+'Vergi Oranları'!$C$4,G154<=+'Vergi Oranları'!$C$5),27))))","v":0},{"$f":"IF(E154=0,0,IF(D154=0,0,IF(G154=0,0,IF(N154=0,0,IF(F154>'Vergi Oranları'!$C$5,0,IF(G154<=+'Vergi Oranları'!$C$5,G154-(F154+I154+L154),+'Vergi Oranları'!$C$5-(F154+I154+L154)))))))","v":0},{"$f":"ROUND(IF(N154=0,0,IF(E154<O154,(E154-$P$3)*'Vergi Oranları'!$G$5/100,(O154-$P$3)*'Vergi Oranları'!$G$5/100)),2)","v":0},{"$f":"IF(E154=0,0,IF(D154=0,0,IF(G154=0,0,IF(G154<=+'Vergi Oranları'!$C$5,0,IF(OR(G154>+'Vergi Oranları'!$C$5,F154+E154<=+'Vergi Oranları'!$C$5),35)))))","v":0},{"$f":"IF(E154=0,0,IF(D154=0,0,IF(G154=0,0,IF(Q154=0,0,IF(F154+E154>=+'Vergi Oranları'!$C$5,G154-(F154+I154+L154+O154),+'Vergi Oranları'!$C$5-(F154+I154+L154+O154))))))","v":0},{"$f":"IF(Q154=0,0,ROUND((R154-$S$3)*+'Vergi Oranları'!$G$6/100,2))","v":0},0]
[null,null,null,null,null,null,0,{"$f":"IF(E155=0,0,IF(D155=0,0,IF(G155=0,0,IF(F155>+'Vergi Oranları'!$C$3,0,IF(OR(G155<='Vergi Oranları'!$C$3,F155+E155<+'Vergi Oranları'!$C$3),15,IF(G155-(E155+F155)<='Vergi Oranları'!$C$3,15,))))))","v":0},{"$f":"IF(E155=0,0,IF(D155=0,0,IF(G155=0,0,IF(H155=0,0,IF(F155+E155<='Vergi Oranları'!$C$3,G155-F155,'Vergi Oranları'!$C$3-F155)))))","v":0},{"$f":"IF(I155=0,0,IF(ROUND((I155-$J$3)*'Vergi Oranları'!$G$3/100,2)<0,0,ROUND((I155-$M$3)*'Vergi Oranları'!$G$3/100,2)))","v":0},{"$f":"IF(E155=0,0,IF(D155=0,0,IF(G155=0,0,IF(F155>+'Vergi Oranları'!$C$4,0,IF(OR(G155<='Vergi Oranları'!$C$4,F155+E155<'Vergi Oranları'!$C$4),20,IF(G155-(E155+F155)<='Vergi Oranları'!$C$4,20,))))))","v":0},{"$f":"IF(E155=0,0,IF(D155=0,0,IF(G155=0,0,IF(K155=0,0,IF(F155+E155<=+'Vergi Oranları'!$C$4,G155-(F155+I155),+'Vergi Oranları'!$C$4-(F155+I155))))))","v":0},{"$f":"IF(L155=0,0,IF(ROUND((L155-$M$3)*+'Vergi Oranları'!$G$4/100,2)<0,0,ROUND((L155-$M$3)*+'Vergi Oranları'!$G$4/100,2)))","v":0},{"$f":"IF(E155=0,0,IF(D155=0,0,IF(G155=0,0,IF(OR(G155>+'Vergi Oranları'!$C$4,G155<=+'Vergi Oranları'!$C$5),27))))","v":0},{"$f":"IF(E155=0,0,IF(D155=0,0,IF(G155=0,0,IF(N155=0,0,IF(F155>'Vergi Oranları'!$C$5,0,IF(G155<=+'Vergi Oranları'!$C$5,G155-(F155+I155+L155),+'Vergi Oranları'!$C$5-(F155+I155+L155)))))))","v":0},{"$f":"ROUND(IF(N155=0,0,IF(E155<O155,(E155-$P$3)*'Vergi Oranları'!$G$5/100,(O155-$P$3)*'Vergi Oranları'!$G$5/100)),2)","v":0},{"$f":"IF(E155=0,0,IF(D155=0,0,IF(G155=0,0,IF(G155<=+'Vergi Oranları'!$C$5,0,IF(OR(G155>+'Vergi Oranları'!$C$5,F155+E155<=+'Vergi Oranları'!$C$5),35)))))","v":0},{"$f":"IF(E155=0,0,IF(D155=0,0,IF(G155=0,0,IF(Q155=0,0,IF(F155+E155>=+'Vergi Oranları'!$C$5,G155-(F155+I155+L155+O155),+'Vergi Oranları'!$C$5-(F155+I155+L155+O155))))))","v":0},{"$f":"IF(Q155=0,0,ROUND((R155-$S$3)*+'Vergi Oranları'!$G$6/100,2))","v":0},0]
[null,null,null,null,null,null,0,{"$f":"IF(E156=0,0,IF(D156=0,0,IF(G156=0,0,IF(F156>+'Vergi Oranları'!$C$3,0,IF(OR(G156<='Vergi Oranları'!$C$3,F156+E156<+'Vergi Oranları'!$C$3),15,IF(G156-(E156+F156)<='Vergi Oranları'!$C$3,15,))))))","v":0},{"$f":"IF(E156=0,0,IF(D156=0,0,IF(G156=0,0,IF(H156=0,0,IF(F156+E156<='Vergi Oranları'!$C$3,G156-F156,'Vergi Oranları'!$C$3-F156)))))","v":0},{"$f":"IF(I156=0,0,IF(ROUND((I156-$J$3)*'Vergi Oranları'!$G$3/100,2)<0,0,ROUND((I156-$M$3)*'Vergi Oranları'!$G$3/100,2)))","v":0},{"$f":"IF(E156=0,0,IF(D156=0,0,IF(G156=0,0,IF(F156>+'Vergi Oranları'!$C$4,0,IF(OR(G156<='Vergi Oranları'!$C$4,F156+E156<'Vergi Oranları'!$C$4),20,IF(G156-(E156+F156)<='Vergi Oranları'!$C$4,20,))))))","v":0},{"$f":"IF(E156=0,0,IF(D156=0,0,IF(G156=0,0,IF(K156=0,0,IF(F156+E156<=+'Vergi Oranları'!$C$4,G156-(F156+I156),+'Vergi Oranları'!$C$4-(F156+I156))))))","v":0},{"$f":"IF(L156=0,0,IF(ROUND((L156-$M$3)*+'Vergi Oranları'!$G$4/100,2)<0,0,ROUND((L156-$M$3)*+'Vergi Oranları'!$G$4/100,2)))","v":0},{"$f":"IF(E156=0,0,IF(D156=0,0,IF(G156=0,0,IF(OR(G156>+'Vergi Oranları'!$C$4,G156<=+'Vergi Oranları'!$C$5),27))))","v":0},{"$f":"IF(E156=0,0,IF(D156=0,0,IF(G156=0,0,IF(N156=0,0,IF(F156>'Vergi Oranları'!$C$5,0,IF(G156<=+'Vergi Oranları'!$C$5,G156-(F156+I156+L156),+'Vergi Oranları'!$C$5-(F156+I156+L156)))))))","v":0},{"$f":"ROUND(IF(N156=0,0,IF(E156<O156,(E156-$P$3)*'Vergi Oranları'!$G$5/100,(O156-$P$3)*'Vergi Oranları'!$G$5/100)),2)","v":0},{"$f":"IF(E156=0,0,IF(D156=0,0,IF(G156=0,0,IF(G156<=+'Vergi Oranları'!$C$5,0,IF(OR(G156>+'Vergi Oranları'!$C$5,F156+E156<=+'Vergi Oranları'!$C$5),35)))))","v":0},{"$f":"IF(E156=0,0,IF(D156=0,0,IF(G156=0,0,IF(Q156=0,0,IF(F156+E156>=+'Vergi Oranları'!$C$5,G156-(F156+I156+L156+O156),+'Vergi Oranları'!$C$5-(F156+I156+L156+O156))))))","v":0},{"$f":"IF(Q156=0,0,ROUND((R156-$S$3)*+'Vergi Oranları'!$G$6/100,2))","v":0},0]
[null,null,null,null,null,null,0,{"$f":"IF(E157=0,0,IF(D157=0,0,IF(G157=0,0,IF(F157>+'Vergi Oranları'!$C$3,0,IF(OR(G157<='Vergi Oranları'!$C$3,F157+E157<+'Vergi Oranları'!$C$3),15,IF(G157-(E157+F157)<='Vergi Oranları'!$C$3,15,))))))","v":0},{"$f":"IF(E157=0,0,IF(D157=0,0,IF(G157=0,0,IF(H157=0,0,IF(F157+E157<='Vergi Oranları'!$C$3,G157-F157,'Vergi Oranları'!$C$3-F157)))))","v":0},{"$f":"IF(I157=0,0,IF(ROUND((I157-$J$3)*'Vergi Oranları'!$G$3/100,2)<0,0,ROUND((I157-$M$3)*'Vergi Oranları'!$G$3/100,2)))","v":0},{"$f":"IF(E157=0,0,IF(D157=0,0,IF(G157=0,0,IF(F157>+'Vergi Oranları'!$C$4,0,IF(OR(G157<='Vergi Oranları'!$C$4,F157+E157<'Vergi Oranları'!$C$4),20,IF(G157-(E157+F157)<='Vergi Oranları'!$C$4,20,))))))","v":0},{"$f":"IF(E157=0,0,IF(D157=0,0,IF(G157=0,0,IF(K157=0,0,IF(F157+E157<=+'Vergi Oranları'!$C$4,G157-(F157+I157),+'Vergi Oranları'!$C$4-(F157+I157))))))","v":0},{"$f":"IF(L157=0,0,IF(ROUND((L157-$M$3)*+'Vergi Oranları'!$G$4/100,2)<0,0,ROUND((L157-$M$3)*+'Vergi Oranları'!$G$4/100,2)))","v":0},{"$f":"IF(E157=0,0,IF(D157=0,0,IF(G157=0,0,IF(OR(G157>+'Vergi Oranları'!$C$4,G157<=+'Vergi Oranları'!$C$5),27))))","v":0},{"$f":"IF(E157=0,0,IF(D157=0,0,IF(G157=0,0,IF(N157=0,0,IF(F157>'Vergi Oranları'!$C$5,0,IF(G157<=+'Vergi Oranları'!$C$5,G157-(F157+I157+L157),+'Vergi Oranları'!$C$5-(F157+I157+L157)))))))","v":0},{"$f":"ROUND(IF(N157=0,0,IF(E157<O157,(E157-$P$3)*'Vergi Oranları'!$G$5/100,(O157-$P$3)*'Vergi Oranları'!$G$5/100)),2)","v":0},{"$f":"IF(E157=0,0,IF(D157=0,0,IF(G157=0,0,IF(G157<=+'Vergi Oranları'!$C$5,0,IF(OR(G157>+'Vergi Oranları'!$C$5,F157+E157<=+'Vergi Oranları'!$C$5),35)))))","v":0},{"$f":"IF(E157=0,0,IF(D157=0,0,IF(G157=0,0,IF(Q157=0,0,IF(F157+E157>=+'Vergi Oranları'!$C$5,G157-(F157+I157+L157+O157),+'Vergi Oranları'!$C$5-(F157+I157+L157+O157))))))","v":0},{"$f":"IF(Q157=0,0,ROUND((R157-$S$3)*+'Vergi Oranları'!$G$6/100,2))","v":0},0]
[null,null,null,null,null,null,0,{"$f":"IF(E158=0,0,IF(D158=0,0,IF(G158=0,0,IF(F158>+'Vergi Oranları'!$C$3,0,IF(OR(G158<='Vergi Oranları'!$C$3,F158+E158<+'Vergi Oranları'!$C$3),15,IF(G158-(E158+F158)<='Vergi Oranları'!$C$3,15,))))))","v":0},{"$f":"IF(E158=0,0,IF(D158=0,0,IF(G158=0,0,IF(H158=0,0,IF(F158+E158<='Vergi Oranları'!$C$3,G158-F158,'Vergi Oranları'!$C$3-F158)))))","v":0},{"$f":"IF(I158=0,0,IF(ROUND((I158-$J$3)*'Vergi Oranları'!$G$3/100,2)<0,0,ROUND((I158-$M$3)*'Vergi Oranları'!$G$3/100,2)))","v":0},{"$f":"IF(E158=0,0,IF(D158=0,0,IF(G158=0,0,IF(F158>+'Vergi Oranları'!$C$4,0,IF(OR(G158<='Vergi Oranları'!$C$4,F158+E158<'Vergi Oranları'!$C$4),20,IF(G158-(E158+F158)<='Vergi Oranları'!$C$4,20,))))))","v":0},{"$f":"IF(E158=0,0,IF(D158=0,0,IF(G158=0,0,IF(K158=0,0,IF(F158+E158<=+'Vergi Oranları'!$C$4,G158-(F158+I158),+'Vergi Oranları'!$C$4-(F158+I158))))))","v":0},{"$f":"IF(L158=0,0,IF(ROUND((L158-$M$3)*+'Vergi Oranları'!$G$4/100,2)<0,0,ROUND((L158-$M$3)*+'Vergi Oranları'!$G$4/100,2)))","v":0},{"$f":"IF(E158=0,0,IF(D158=0,0,IF(G158=0,0,IF(OR(G158>+'Vergi Oranları'!$C$4,G158<=+'Vergi Oranları'!$C$5),27))))","v":0},{"$f":"IF(E158=0,0,IF(D158=0,0,IF(G158=0,0,IF(N158=0,0,IF(F158>'Vergi Oranları'!$C$5,0,IF(G158<=+'Vergi Oranları'!$C$5,G158-(F158+I158+L158),+'Vergi Oranları'!$C$5-(F158+I158+L158)))))))","v":0},{"$f":"ROUND(IF(N158=0,0,IF(E158<O158,(E158-$P$3)*'Vergi Oranları'!$G$5/100,(O158-$P$3)*'Vergi Oranları'!$G$5/100)),2)","v":0},{"$f":"IF(E158=0,0,IF(D158=0,0,IF(G158=0,0,IF(G158<=+'Vergi Oranları'!$C$5,0,IF(OR(G158>+'Vergi Oranları'!$C$5,F158+E158<=+'Vergi Oranları'!$C$5),35)))))","v":0},{"$f":"IF(E158=0,0,IF(D158=0,0,IF(G158=0,0,IF(Q158=0,0,IF(F158+E158>=+'Vergi Oranları'!$C$5,G158-(F158+I158+L158+O158),+'Vergi Oranları'!$C$5-(F158+I158+L158+O158))))))","v":0},{"$f":"IF(Q158=0,0,ROUND((R158-$S$3)*+'Vergi Oranları'!$G$6/100,2))","v":0},0]
[null,null,null,null,null,null,0,{"$f":"IF(E159=0,0,IF(D159=0,0,IF(G159=0,0,IF(F159>+'Vergi Oranları'!$C$3,0,IF(OR(G159<='Vergi Oranları'!$C$3,F159+E159<+'Vergi Oranları'!$C$3),15,IF(G159-(E159+F159)<='Vergi Oranları'!$C$3,15,))))))","v":0},{"$f":"IF(E159=0,0,IF(D159=0,0,IF(G159=0,0,IF(H159=0,0,IF(F159+E159<='Vergi Oranları'!$C$3,G159-F159,'Vergi Oranları'!$C$3-F159)))))","v":0},{"$f":"IF(I159=0,0,IF(ROUND((I159-$J$3)*'Vergi Oranları'!$G$3/100,2)<0,0,ROUND((I159-$M$3)*'Vergi Oranları'!$G$3/100,2)))","v":0},{"$f":"IF(E159=0,0,IF(D159=0,0,IF(G159=0,0,IF(F159>+'Vergi Oranları'!$C$4,0,IF(OR(G159<='Vergi Oranları'!$C$4,F159+E159<'Vergi Oranları'!$C$4),20,IF(G159-(E159+F159)<='Vergi Oranları'!$C$4,20,))))))","v":0},{"$f":"IF(E159=0,0,IF(D159=0,0,IF(G159=0,0,IF(K159=0,0,IF(F159+E159<=+'Vergi Oranları'!$C$4,G159-(F159+I159),+'Vergi Oranları'!$C$4-(F159+I159))))))","v":0},{"$f":"IF(L159=0,0,IF(ROUND((L159-$M$3)*+'Vergi Oranları'!$G$4/100,2)<0,0,ROUND((L159-$M$3)*+'Vergi Oranları'!$G$4/100,2)))","v":0},{"$f":"IF(E159=0,0,IF(D159=0,0,IF(G159=0,0,IF(OR(G159>+'Vergi Oranları'!$C$4,G159<=+'Vergi Oranları'!$C$5),27))))","v":0},{"$f":"IF(E159=0,0,IF(D159=0,0,IF(G159=0,0,IF(N159=0,0,IF(F159>'Vergi Oranları'!$C$5,0,IF(G159<=+'Vergi Oranları'!$C$5,G159-(F159+I159+L159),+'Vergi Oranları'!$C$5-(F159+I159+L159)))))))","v":0},{"$f":"ROUND(IF(N159=0,0,IF(E159<O159,(E159-$P$3)*'Vergi Oranları'!$G$5/100,(O159-$P$3)*'Vergi Oranları'!$G$5/100)),2)","v":0},{"$f":"IF(E159=0,0,IF(D159=0,0,IF(G159=0,0,IF(G159<=+'Vergi Oranları'!$C$5,0,IF(OR(G159>+'Vergi Oranları'!$C$5,F159+E159<=+'Vergi Oranları'!$C$5),35)))))","v":0},{"$f":"IF(E159=0,0,IF(D159=0,0,IF(G159=0,0,IF(Q159=0,0,IF(F159+E159>=+'Vergi Oranları'!$C$5,G159-(F159+I159+L159+O159),+'Vergi Oranları'!$C$5-(F159+I159+L159+O159))))))","v":0},{"$f":"IF(Q159=0,0,ROUND((R159-$S$3)*+'Vergi Oranları'!$G$6/100,2))","v":0},0]
[null,null,null,null,null,null,0,{"$f":"IF(E160=0,0,IF(D160=0,0,IF(G160=0,0,IF(F160>+'Vergi Oranları'!$C$3,0,IF(OR(G160<='Vergi Oranları'!$C$3,F160+E160<+'Vergi Oranları'!$C$3),15,IF(G160-(E160+F160)<='Vergi Oranları'!$C$3,15,))))))","v":0},{"$f":"IF(E160=0,0,IF(D160=0,0,IF(G160=0,0,IF(H160=0,0,IF(F160+E160<='Vergi Oranları'!$C$3,G160-F160,'Vergi Oranları'!$C$3-F160)))))","v":0},{"$f":"IF(I160=0,0,IF(ROUND((I160-$J$3)*'Vergi Oranları'!$G$3/100,2)<0,0,ROUND((I160-$M$3)*'Vergi Oranları'!$G$3/100,2)))","v":0},{"$f":"IF(E160=0,0,IF(D160=0,0,IF(G160=0,0,IF(F160>+'Vergi Oranları'!$C$4,0,IF(OR(G160<='Vergi Oranları'!$C$4,F160+E160<'Vergi Oranları'!$C$4),20,IF(G160-(E160+F160)<='Vergi Oranları'!$C$4,20,))))))","v":0},{"$f":"IF(E160=0,0,IF(D160=0,0,IF(G160=0,0,IF(K160=0,0,IF(F160+E160<=+'Vergi Oranları'!$C$4,G160-(F160+I160),+'Vergi Oranları'!$C$4-(F160+I160))))))","v":0},{"$f":"IF(L160=0,0,IF(ROUND((L160-$M$3)*+'Vergi Oranları'!$G$4/100,2)<0,0,ROUND((L160-$M$3)*+'Vergi Oranları'!$G$4/100,2)))","v":0},{"$f":"IF(E160=0,0,IF(D160=0,0,IF(G160=0,0,IF(OR(G160>+'Vergi Oranları'!$C$4,G160<=+'Vergi Oranları'!$C$5),27))))","v":0},{"$f":"IF(E160=0,0,IF(D160=0,0,IF(G160=0,0,IF(N160=0,0,IF(F160>'Vergi Oranları'!$C$5,0,IF(G160<=+'Vergi Oranları'!$C$5,G160-(F160+I160+L160),+'Vergi Oranları'!$C$5-(F160+I160+L160)))))))","v":0},{"$f":"ROUND(IF(N160=0,0,IF(E160<O160,(E160-$P$3)*'Vergi Oranları'!$G$5/100,(O160-$P$3)*'Vergi Oranları'!$G$5/100)),2)","v":0},{"$f":"IF(E160=0,0,IF(D160=0,0,IF(G160=0,0,IF(G160<=+'Vergi Oranları'!$C$5,0,IF(OR(G160>+'Vergi Oranları'!$C$5,F160+E160<=+'Vergi Oranları'!$C$5),35)))))","v":0},{"$f":"IF(E160=0,0,IF(D160=0,0,IF(G160=0,0,IF(Q160=0,0,IF(F160+E160>=+'Vergi Oranları'!$C$5,G160-(F160+I160+L160+O160),+'Vergi Oranları'!$C$5-(F160+I160+L160+O160))))))","v":0},{"$f":"IF(Q160=0,0,ROUND((R160-$S$3)*+'Vergi Oranları'!$G$6/100,2))","v":0},0]
[null,null,null,null,null,null,0,{"$f":"IF(E161=0,0,IF(D161=0,0,IF(G161=0,0,IF(F161>+'Vergi Oranları'!$C$3,0,IF(OR(G161<='Vergi Oranları'!$C$3,F161+E161<+'Vergi Oranları'!$C$3),15,IF(G161-(E161+F161)<='Vergi Oranları'!$C$3,15,))))))","v":0},{"$f":"IF(E161=0,0,IF(D161=0,0,IF(G161=0,0,IF(H161=0,0,IF(F161+E161<='Vergi Oranları'!$C$3,G161-F161,'Vergi Oranları'!$C$3-F161)))))","v":0},{"$f":"IF(I161=0,0,IF(ROUND((I161-$J$3)*'Vergi Oranları'!$G$3/100,2)<0,0,ROUND((I161-$M$3)*'Vergi Oranları'!$G$3/100,2)))","v":0},{"$f":"IF(E161=0,0,IF(D161=0,0,IF(G161=0,0,IF(F161>+'Vergi Oranları'!$C$4,0,IF(OR(G161<='Vergi Oranları'!$C$4,F161+E161<'Vergi Oranları'!$C$4),20,IF(G161-(E161+F161)<='Vergi Oranları'!$C$4,20,))))))","v":0},{"$f":"IF(E161=0,0,IF(D161=0,0,IF(G161=0,0,IF(K161=0,0,IF(F161+E161<=+'Vergi Oranları'!$C$4,G161-(F161+I161),+'Vergi Oranları'!$C$4-(F161+I161))))))","v":0},{"$f":"IF(L161=0,0,IF(ROUND((L161-$M$3)*+'Vergi Oranları'!$G$4/100,2)<0,0,ROUND((L161-$M$3)*+'Vergi Oranları'!$G$4/100,2)))","v":0},{"$f":"IF(E161=0,0,IF(D161=0,0,IF(G161=0,0,IF(OR(G161>+'Vergi Oranları'!$C$4,G161<=+'Vergi Oranları'!$C$5),27))))","v":0},{"$f":"IF(E161=0,0,IF(D161=0,0,IF(G161=0,0,IF(N161=0,0,IF(F161>'Vergi Oranları'!$C$5,0,IF(G161<=+'Vergi Oranları'!$C$5,G161-(F161+I161+L161),+'Vergi Oranları'!$C$5-(F161+I161+L161)))))))","v":0},{"$f":"ROUND(IF(N161=0,0,IF(E161<O161,(E161-$P$3)*'Vergi Oranları'!$G$5/100,(O161-$P$3)*'Vergi Oranları'!$G$5/100)),2)","v":0},{"$f":"IF(E161=0,0,IF(D161=0,0,IF(G161=0,0,IF(G161<=+'Vergi Oranları'!$C$5,0,IF(OR(G161>+'Vergi Oranları'!$C$5,F161+E161<=+'Vergi Oranları'!$C$5),35)))))","v":0},{"$f":"IF(E161=0,0,IF(D161=0,0,IF(G161=0,0,IF(Q161=0,0,IF(F161+E161>=+'Vergi Oranları'!$C$5,G161-(F161+I161+L161+O161),+'Vergi Oranları'!$C$5-(F161+I161+L161+O161))))))","v":0},{"$f":"IF(Q161=0,0,ROUND((R161-$S$3)*+'Vergi Oranları'!$G$6/100,2))","v":0},0]
[null,null,null,null,null,null,0,{"$f":"IF(E162=0,0,IF(D162=0,0,IF(G162=0,0,IF(F162>+'Vergi Oranları'!$C$3,0,IF(OR(G162<='Vergi Oranları'!$C$3,F162+E162<+'Vergi Oranları'!$C$3),15,IF(G162-(E162+F162)<='Vergi Oranları'!$C$3,15,))))))","v":0},{"$f":"IF(E162=0,0,IF(D162=0,0,IF(G162=0,0,IF(H162=0,0,IF(F162+E162<='Vergi Oranları'!$C$3,G162-F162,'Vergi Oranları'!$C$3-F162)))))","v":0},{"$f":"IF(I162=0,0,IF(ROUND((I162-$J$3)*'Vergi Oranları'!$G$3/100,2)<0,0,ROUND((I162-$M$3)*'Vergi Oranları'!$G$3/100,2)))","v":0},{"$f":"IF(E162=0,0,IF(D162=0,0,IF(G162=0,0,IF(F162>+'Vergi Oranları'!$C$4,0,IF(OR(G162<='Vergi Oranları'!$C$4,F162+E162<'Vergi Oranları'!$C$4),20,IF(G162-(E162+F162)<='Vergi Oranları'!$C$4,20,))))))","v":0},{"$f":"IF(E162=0,0,IF(D162=0,0,IF(G162=0,0,IF(K162=0,0,IF(F162+E162<=+'Vergi Oranları'!$C$4,G162-(F162+I162),+'Vergi Oranları'!$C$4-(F162+I162))))))","v":0},{"$f":"IF(L162=0,0,IF(ROUND((L162-$M$3)*+'Vergi Oranları'!$G$4/100,2)<0,0,ROUND((L162-$M$3)*+'Vergi Oranları'!$G$4/100,2)))","v":0},{"$f":"IF(E162=0,0,IF(D162=0,0,IF(G162=0,0,IF(OR(G162>+'Vergi Oranları'!$C$4,G162<=+'Vergi Oranları'!$C$5),27))))","v":0},{"$f":"IF(E162=0,0,IF(D162=0,0,IF(G162=0,0,IF(N162=0,0,IF(F162>'Vergi Oranları'!$C$5,0,IF(G162<=+'Vergi Oranları'!$C$5,G162-(F162+I162+L162),+'Vergi Oranları'!$C$5-(F162+I162+L162)))))))","v":0},{"$f":"ROUND(IF(N162=0,0,IF(E162<O162,(E162-$P$3)*'Vergi Oranları'!$G$5/100,(O162-$P$3)*'Vergi Oranları'!$G$5/100)),2)","v":0},{"$f":"IF(E162=0,0,IF(D162=0,0,IF(G162=0,0,IF(G162<=+'Vergi Oranları'!$C$5,0,IF(OR(G162>+'Vergi Oranları'!$C$5,F162+E162<=+'Vergi Oranları'!$C$5),35)))))","v":0},{"$f":"IF(E162=0,0,IF(D162=0,0,IF(G162=0,0,IF(Q162=0,0,IF(F162+E162>=+'Vergi Oranları'!$C$5,G162-(F162+I162+L162+O162),+'Vergi Oranları'!$C$5-(F162+I162+L162+O162))))))","v":0},{"$f":"IF(Q162=0,0,ROUND((R162-$S$3)*+'Vergi Oranları'!$G$6/100,2))","v":0},0]
[null,null,null,null,null,null,0,{"$f":"IF(E163=0,0,IF(D163=0,0,IF(G163=0,0,IF(F163>+'Vergi Oranları'!$C$3,0,IF(OR(G163<='Vergi Oranları'!$C$3,F163+E163<+'Vergi Oranları'!$C$3),15,IF(G163-(E163+F163)<='Vergi Oranları'!$C$3,15,))))))","v":0},{"$f":"IF(E163=0,0,IF(D163=0,0,IF(G163=0,0,IF(H163=0,0,IF(F163+E163<='Vergi Oranları'!$C$3,G163-F163,'Vergi Oranları'!$C$3-F163)))))","v":0},{"$f":"IF(I163=0,0,IF(ROUND((I163-$J$3)*'Vergi Oranları'!$G$3/100,2)<0,0,ROUND((I163-$M$3)*'Vergi Oranları'!$G$3/100,2)))","v":0},{"$f":"IF(E163=0,0,IF(D163=0,0,IF(G163=0,0,IF(F163>+'Vergi Oranları'!$C$4,0,IF(OR(G163<='Vergi Oranları'!$C$4,F163+E163<'Vergi Oranları'!$C$4),20,IF(G163-(E163+F163)<='Vergi Oranları'!$C$4,20,))))))","v":0},{"$f":"IF(E163=0,0,IF(D163=0,0,IF(G163=0,0,IF(K163=0,0,IF(F163+E163<=+'Vergi Oranları'!$C$4,G163-(F163+I163),+'Vergi Oranları'!$C$4-(F163+I163))))))","v":0},{"$f":"IF(L163=0,0,IF(ROUND((L163-$M$3)*+'Vergi Oranları'!$G$4/100,2)<0,0,ROUND((L163-$M$3)*+'Vergi Oranları'!$G$4/100,2)))","v":0},{"$f":"IF(E163=0,0,IF(D163=0,0,IF(G163=0,0,IF(OR(G163>+'Vergi Oranları'!$C$4,G163<=+'Vergi Oranları'!$C$5),27))))","v":0},{"$f":"IF(E163=0,0,IF(D163=0,0,IF(G163=0,0,IF(N163=0,0,IF(F163>'Vergi Oranları'!$C$5,0,IF(G163<=+'Vergi Oranları'!$C$5,G163-(F163+I163+L163),+'Vergi Oranları'!$C$5-(F163+I163+L163)))))))","v":0},{"$f":"ROUND(IF(N163=0,0,IF(E163<O163,(E163-$P$3)*'Vergi Oranları'!$G$5/100,(O163-$P$3)*'Vergi Oranları'!$G$5/100)),2)","v":0},{"$f":"IF(E163=0,0,IF(D163=0,0,IF(G163=0,0,IF(G163<=+'Vergi Oranları'!$C$5,0,IF(OR(G163>+'Vergi Oranları'!$C$5,F163+E163<=+'Vergi Oranları'!$C$5),35)))))","v":0},{"$f":"IF(E163=0,0,IF(D163=0,0,IF(G163=0,0,IF(Q163=0,0,IF(F163+E163>=+'Vergi Oranları'!$C$5,G163-(F163+I163+L163+O163),+'Vergi Oranları'!$C$5-(F163+I163+L163+O163))))))","v":0},{"$f":"IF(Q163=0,0,ROUND((R163-$S$3)*+'Vergi Oranları'!$G$6/100,2))","v":0},0]
[null,null,null,null,null,null,0,{"$f":"IF(E164=0,0,IF(D164=0,0,IF(G164=0,0,IF(F164>+'Vergi Oranları'!$C$3,0,IF(OR(G164<='Vergi Oranları'!$C$3,F164+E164<+'Vergi Oranları'!$C$3),15,IF(G164-(E164+F164)<='Vergi Oranları'!$C$3,15,))))))","v":0},{"$f":"IF(E164=0,0,IF(D164=0,0,IF(G164=0,0,IF(H164=0,0,IF(F164+E164<='Vergi Oranları'!$C$3,G164-F164,'Vergi Oranları'!$C$3-F164)))))","v":0},{"$f":"IF(I164=0,0,IF(ROUND((I164-$J$3)*'Vergi Oranları'!$G$3/100,2)<0,0,ROUND((I164-$M$3)*'Vergi Oranları'!$G$3/100,2)))","v":0},{"$f":"IF(E164=0,0,IF(D164=0,0,IF(G164=0,0,IF(F164>+'Vergi Oranları'!$C$4,0,IF(OR(G164<='Vergi Oranları'!$C$4,F164+E164<'Vergi Oranları'!$C$4),20,IF(G164-(E164+F164)<='Vergi Oranları'!$C$4,20,))))))","v":0},{"$f":"IF(E164=0,0,IF(D164=0,0,IF(G164=0,0,IF(K164=0,0,IF(F164+E164<=+'Vergi Oranları'!$C$4,G164-(F164+I164),+'Vergi Oranları'!$C$4-(F164+I164))))))","v":0},{"$f":"IF(L164=0,0,IF(ROUND((L164-$M$3)*+'Vergi Oranları'!$G$4/100,2)<0,0,ROUND((L164-$M$3)*+'Vergi Oranları'!$G$4/100,2)))","v":0},{"$f":"IF(E164=0,0,IF(D164=0,0,IF(G164=0,0,IF(OR(G164>+'Vergi Oranları'!$C$4,G164<=+'Vergi Oranları'!$C$5),27))))","v":0},{"$f":"IF(E164=0,0,IF(D164=0,0,IF(G164=0,0,IF(N164=0,0,IF(F164>'Vergi Oranları'!$C$5,0,IF(G164<=+'Vergi Oranları'!$C$5,G164-(F164+I164+L164),+'Vergi Oranları'!$C$5-(F164+I164+L164)))))))","v":0},{"$f":"ROUND(IF(N164=0,0,IF(E164<O164,(E164-$P$3)*'Vergi Oranları'!$G$5/100,(O164-$P$3)*'Vergi Oranları'!$G$5/100)),2)","v":0},{"$f":"IF(E164=0,0,IF(D164=0,0,IF(G164=0,0,IF(G164<=+'Vergi Oranları'!$C$5,0,IF(OR(G164>+'Vergi Oranları'!$C$5,F164+E164<=+'Vergi Oranları'!$C$5),35)))))","v":0},{"$f":"IF(E164=0,0,IF(D164=0,0,IF(G164=0,0,IF(Q164=0,0,IF(F164+E164>=+'Vergi Oranları'!$C$5,G164-(F164+I164+L164+O164),+'Vergi Oranları'!$C$5-(F164+I164+L164+O164))))))","v":0},{"$f":"IF(Q164=0,0,ROUND((R164-$S$3)*+'Vergi Oranları'!$G$6/100,2))","v":0},0]
[null,null,null,null,null,null,0,{"$f":"IF(E165=0,0,IF(D165=0,0,IF(G165=0,0,IF(F165>+'Vergi Oranları'!$C$3,0,IF(OR(G165<='Vergi Oranları'!$C$3,F165+E165<+'Vergi Oranları'!$C$3),15,IF(G165-(E165+F165)<='Vergi Oranları'!$C$3,15,))))))","v":0},{"$f":"IF(E165=0,0,IF(D165=0,0,IF(G165=0,0,IF(H165=0,0,IF(F165+E165<='Vergi Oranları'!$C$3,G165-F165,'Vergi Oranları'!$C$3-F165)))))","v":0},{"$f":"IF(I165=0,0,IF(ROUND((I165-$J$3)*'Vergi Oranları'!$G$3/100,2)<0,0,ROUND((I165-$M$3)*'Vergi Oranları'!$G$3/100,2)))","v":0},{"$f":"IF(E165=0,0,IF(D165=0,0,IF(G165=0,0,IF(F165>+'Vergi Oranları'!$C$4,0,IF(OR(G165<='Vergi Oranları'!$C$4,F165+E165<'Vergi Oranları'!$C$4),20,IF(G165-(E165+F165)<='Vergi Oranları'!$C$4,20,))))))","v":0},{"$f":"IF(E165=0,0,IF(D165=0,0,IF(G165=0,0,IF(K165=0,0,IF(F165+E165<=+'Vergi Oranları'!$C$4,G165-(F165+I165),+'Vergi Oranları'!$C$4-(F165+I165))))))","v":0},{"$f":"IF(L165=0,0,IF(ROUND((L165-$M$3)*+'Vergi Oranları'!$G$4/100,2)<0,0,ROUND((L165-$M$3)*+'Vergi Oranları'!$G$4/100,2)))","v":0},{"$f":"IF(E165=0,0,IF(D165=0,0,IF(G165=0,0,IF(OR(G165>+'Vergi Oranları'!$C$4,G165<=+'Vergi Oranları'!$C$5),27))))","v":0},{"$f":"IF(E165=0,0,IF(D165=0,0,IF(G165=0,0,IF(N165=0,0,IF(F165>'Vergi Oranları'!$C$5,0,IF(G165<=+'Vergi Oranları'!$C$5,G165-(F165+I165+L165),+'Vergi Oranları'!$C$5-(F165+I165+L165)))))))","v":0},{"$f":"ROUND(IF(N165=0,0,IF(E165<O165,(E165-$P$3)*'Vergi Oranları'!$G$5/100,(O165-$P$3)*'Vergi Oranları'!$G$5/100)),2)","v":0},{"$f":"IF(E165=0,0,IF(D165=0,0,IF(G165=0,0,IF(G165<=+'Vergi Oranları'!$C$5,0,IF(OR(G165>+'Vergi Oranları'!$C$5,F165+E165<=+'Vergi Oranları'!$C$5),35)))))","v":0},{"$f":"IF(E165=0,0,IF(D165=0,0,IF(G165=0,0,IF(Q165=0,0,IF(F165+E165>=+'Vergi Oranları'!$C$5,G165-(F165+I165+L165+O165),+'Vergi Oranları'!$C$5-(F165+I165+L165+O165))))))","v":0},{"$f":"IF(Q165=0,0,ROUND((R165-$S$3)*+'Vergi Oranları'!$G$6/100,2))","v":0},0]
[null,null,null,null,null,null,0,{"$f":"IF(E166=0,0,IF(D166=0,0,IF(G166=0,0,IF(F166>+'Vergi Oranları'!$C$3,0,IF(OR(G166<='Vergi Oranları'!$C$3,F166+E166<+'Vergi Oranları'!$C$3),15,IF(G166-(E166+F166)<='Vergi Oranları'!$C$3,15,))))))","v":0},{"$f":"IF(E166=0,0,IF(D166=0,0,IF(G166=0,0,IF(H166=0,0,IF(F166+E166<='Vergi Oranları'!$C$3,G166-F166,'Vergi Oranları'!$C$3-F166)))))","v":0},{"$f":"IF(I166=0,0,IF(ROUND((I166-$J$3)*'Vergi Oranları'!$G$3/100,2)<0,0,ROUND((I166-$M$3)*'Vergi Oranları'!$G$3/100,2)))","v":0},{"$f":"IF(E166=0,0,IF(D166=0,0,IF(G166=0,0,IF(F166>+'Vergi Oranları'!$C$4,0,IF(OR(G166<='Vergi Oranları'!$C$4,F166+E166<'Vergi Oranları'!$C$4),20,IF(G166-(E166+F166)<='Vergi Oranları'!$C$4,20,))))))","v":0},{"$f":"IF(E166=0,0,IF(D166=0,0,IF(G166=0,0,IF(K166=0,0,IF(F166+E166<=+'Vergi Oranları'!$C$4,G166-(F166+I166),+'Vergi Oranları'!$C$4-(F166+I166))))))","v":0},{"$f":"IF(L166=0,0,IF(ROUND((L166-$M$3)*+'Vergi Oranları'!$G$4/100,2)<0,0,ROUND((L166-$M$3)*+'Vergi Oranları'!$G$4/100,2)))","v":0},{"$f":"IF(E166=0,0,IF(D166=0,0,IF(G166=0,0,IF(OR(G166>+'Vergi Oranları'!$C$4,G166<=+'Vergi Oranları'!$C$5),27))))","v":0},{"$f":"IF(E166=0,0,IF(D166=0,0,IF(G166=0,0,IF(N166=0,0,IF(F166>'Vergi Oranları'!$C$5,0,IF(G166<=+'Vergi Oranları'!$C$5,G166-(F166+I166+L166),+'Vergi Oranları'!$C$5-(F166+I166+L166)))))))","v":0},{"$f":"ROUND(IF(N166=0,0,IF(E166<O166,(E166-$P$3)*'Vergi Oranları'!$G$5/100,(O166-$P$3)*'Vergi Oranları'!$G$5/100)),2)","v":0},{"$f":"IF(E166=0,0,IF(D166=0,0,IF(G166=0,0,IF(G166<=+'Vergi Oranları'!$C$5,0,IF(OR(G166>+'Vergi Oranları'!$C$5,F166+E166<=+'Vergi Oranları'!$C$5),35)))))","v":0},{"$f":"IF(E166=0,0,IF(D166=0,0,IF(G166=0,0,IF(Q166=0,0,IF(F166+E166>=+'Vergi Oranları'!$C$5,G166-(F166+I166+L166+O166),+'Vergi Oranları'!$C$5-(F166+I166+L166+O166))))))","v":0},{"$f":"IF(Q166=0,0,ROUND((R166-$S$3)*+'Vergi Oranları'!$G$6/100,2))","v":0},0]
[null,null,null,null,null,null,0,{"$f":"IF(E167=0,0,IF(D167=0,0,IF(G167=0,0,IF(F167>+'Vergi Oranları'!$C$3,0,IF(OR(G167<='Vergi Oranları'!$C$3,F167+E167<+'Vergi Oranları'!$C$3),15,IF(G167-(E167+F167)<='Vergi Oranları'!$C$3,15,))))))","v":0},{"$f":"IF(E167=0,0,IF(D167=0,0,IF(G167=0,0,IF(H167=0,0,IF(F167+E167<='Vergi Oranları'!$C$3,G167-F167,'Vergi Oranları'!$C$3-F167)))))","v":0},{"$f":"IF(I167=0,0,IF(ROUND((I167-$J$3)*'Vergi Oranları'!$G$3/100,2)<0,0,ROUND((I167-$M$3)*'Vergi Oranları'!$G$3/100,2)))","v":0},{"$f":"IF(E167=0,0,IF(D167=0,0,IF(G167=0,0,IF(F167>+'Vergi Oranları'!$C$4,0,IF(OR(G167<='Vergi Oranları'!$C$4,F167+E167<'Vergi Oranları'!$C$4),20,IF(G167-(E167+F167)<='Vergi Oranları'!$C$4,20,))))))","v":0},{"$f":"IF(E167=0,0,IF(D167=0,0,IF(G167=0,0,IF(K167=0,0,IF(F167+E167<=+'Vergi Oranları'!$C$4,G167-(F167+I167),+'Vergi Oranları'!$C$4-(F167+I167))))))","v":0},{"$f":"IF(L167=0,0,IF(ROUND((L167-$M$3)*+'Vergi Oranları'!$G$4/100,2)<0,0,ROUND((L167-$M$3)*+'Vergi Oranları'!$G$4/100,2)))","v":0},{"$f":"IF(E167=0,0,IF(D167=0,0,IF(G167=0,0,IF(OR(G167>+'Vergi Oranları'!$C$4,G167<=+'Vergi Oranları'!$C$5),27))))","v":0},{"$f":"IF(E167=0,0,IF(D167=0,0,IF(G167=0,0,IF(N167=0,0,IF(F167>'Vergi Oranları'!$C$5,0,IF(G167<=+'Vergi Oranları'!$C$5,G167-(F167+I167+L167),+'Vergi Oranları'!$C$5-(F167+I167+L167)))))))","v":0},{"$f":"ROUND(IF(N167=0,0,IF(E167<O167,(E167-$P$3)*'Vergi Oranları'!$G$5/100,(O167-$P$3)*'Vergi Oranları'!$G$5/100)),2)","v":0},{"$f":"IF(E167=0,0,IF(D167=0,0,IF(G167=0,0,IF(G167<=+'Vergi Oranları'!$C$5,0,IF(OR(G167>+'Vergi Oranları'!$C$5,F167+E167<=+'Vergi Oranları'!$C$5),35)))))","v":0},{"$f":"IF(E167=0,0,IF(D167=0,0,IF(G167=0,0,IF(Q167=0,0,IF(F167+E167>=+'Vergi Oranları'!$C$5,G167-(F167+I167+L167+O167),+'Vergi Oranları'!$C$5-(F167+I167+L167+O167))))))","v":0},{"$f":"IF(Q167=0,0,ROUND((R167-$S$3)*+'Vergi Oranları'!$G$6/100,2))","v":0},0]
[null,null,null,null,null,null,0,{"$f":"IF(E168=0,0,IF(D168=0,0,IF(G168=0,0,IF(F168>+'Vergi Oranları'!$C$3,0,IF(OR(G168<='Vergi Oranları'!$C$3,F168+E168<+'Vergi Oranları'!$C$3),15,IF(G168-(E168+F168)<='Vergi Oranları'!$C$3,15,))))))","v":0},{"$f":"IF(E168=0,0,IF(D168=0,0,IF(G168=0,0,IF(H168=0,0,IF(F168+E168<='Vergi Oranları'!$C$3,G168-F168,'Vergi Oranları'!$C$3-F168)))))","v":0},{"$f":"IF(I168=0,0,IF(ROUND((I168-$J$3)*'Vergi Oranları'!$G$3/100,2)<0,0,ROUND((I168-$M$3)*'Vergi Oranları'!$G$3/100,2)))","v":0},{"$f":"IF(E168=0,0,IF(D168=0,0,IF(G168=0,0,IF(F168>+'Vergi Oranları'!$C$4,0,IF(OR(G168<='Vergi Oranları'!$C$4,F168+E168<'Vergi Oranları'!$C$4),20,IF(G168-(E168+F168)<='Vergi Oranları'!$C$4,20,))))))","v":0},{"$f":"IF(E168=0,0,IF(D168=0,0,IF(G168=0,0,IF(K168=0,0,IF(F168+E168<=+'Vergi Oranları'!$C$4,G168-(F168+I168),+'Vergi Oranları'!$C$4-(F168+I168))))))","v":0},{"$f":"IF(L168=0,0,IF(ROUND((L168-$M$3)*+'Vergi Oranları'!$G$4/100,2)<0,0,ROUND((L168-$M$3)*+'Vergi Oranları'!$G$4/100,2)))","v":0},{"$f":"IF(E168=0,0,IF(D168=0,0,IF(G168=0,0,IF(OR(G168>+'Vergi Oranları'!$C$4,G168<=+'Vergi Oranları'!$C$5),27))))","v":0},{"$f":"IF(E168=0,0,IF(D168=0,0,IF(G168=0,0,IF(N168=0,0,IF(F168>'Vergi Oranları'!$C$5,0,IF(G168<=+'Vergi Oranları'!$C$5,G168-(F168+I168+L168),+'Vergi Oranları'!$C$5-(F168+I168+L168)))))))","v":0},{"$f":"ROUND(IF(N168=0,0,IF(E168<O168,(E168-$P$3)*'Vergi Oranları'!$G$5/100,(O168-$P$3)*'Vergi Oranları'!$G$5/100)),2)","v":0},{"$f":"IF(E168=0,0,IF(D168=0,0,IF(G168=0,0,IF(G168<=+'Vergi Oranları'!$C$5,0,IF(OR(G168>+'Vergi Oranları'!$C$5,F168+E168<=+'Vergi Oranları'!$C$5),35)))))","v":0},{"$f":"IF(E168=0,0,IF(D168=0,0,IF(G168=0,0,IF(Q168=0,0,IF(F168+E168>=+'Vergi Oranları'!$C$5,G168-(F168+I168+L168+O168),+'Vergi Oranları'!$C$5-(F168+I168+L168+O168))))))","v":0},{"$f":"IF(Q168=0,0,ROUND((R168-$S$3)*+'Vergi Oranları'!$G$6/100,2))","v":0},0]
[null,null,null,null,null,null,0,{"$f":"IF(E169=0,0,IF(D169=0,0,IF(G169=0,0,IF(F169>+'Vergi Oranları'!$C$3,0,IF(OR(G169<='Vergi Oranları'!$C$3,F169+E169<+'Vergi Oranları'!$C$3),15,IF(G169-(E169+F169)<='Vergi Oranları'!$C$3,15,))))))","v":0},{"$f":"IF(E169=0,0,IF(D169=0,0,IF(G169=0,0,IF(H169=0,0,IF(F169+E169<='Vergi Oranları'!$C$3,G169-F169,'Vergi Oranları'!$C$3-F169)))))","v":0},{"$f":"IF(I169=0,0,IF(ROUND((I169-$J$3)*'Vergi Oranları'!$G$3/100,2)<0,0,ROUND((I169-$M$3)*'Vergi Oranları'!$G$3/100,2)))","v":0},{"$f":"IF(E169=0,0,IF(D169=0,0,IF(G169=0,0,IF(F169>+'Vergi Oranları'!$C$4,0,IF(OR(G169<='Vergi Oranları'!$C$4,F169+E169<'Vergi Oranları'!$C$4),20,IF(G169-(E169+F169)<='Vergi Oranları'!$C$4,20,))))))","v":0},{"$f":"IF(E169=0,0,IF(D169=0,0,IF(G169=0,0,IF(K169=0,0,IF(F169+E169<=+'Vergi Oranları'!$C$4,G169-(F169+I169),+'Vergi Oranları'!$C$4-(F169+I169))))))","v":0},{"$f":"IF(L169=0,0,IF(ROUND((L169-$M$3)*+'Vergi Oranları'!$G$4/100,2)<0,0,ROUND((L169-$M$3)*+'Vergi Oranları'!$G$4/100,2)))","v":0},{"$f":"IF(E169=0,0,IF(D169=0,0,IF(G169=0,0,IF(OR(G169>+'Vergi Oranları'!$C$4,G169<=+'Vergi Oranları'!$C$5),27))))","v":0},{"$f":"IF(E169=0,0,IF(D169=0,0,IF(G169=0,0,IF(N169=0,0,IF(F169>'Vergi Oranları'!$C$5,0,IF(G169<=+'Vergi Oranları'!$C$5,G169-(F169+I169+L169),+'Vergi Oranları'!$C$5-(F169+I169+L169)))))))","v":0},{"$f":"ROUND(IF(N169=0,0,IF(E169<O169,(E169-$P$3)*'Vergi Oranları'!$G$5/100,(O169-$P$3)*'Vergi Oranları'!$G$5/100)),2)","v":0},{"$f":"IF(E169=0,0,IF(D169=0,0,IF(G169=0,0,IF(G169<=+'Vergi Oranları'!$C$5,0,IF(OR(G169>+'Vergi Oranları'!$C$5,F169+E169<=+'Vergi Oranları'!$C$5),35)))))","v":0},{"$f":"IF(E169=0,0,IF(D169=0,0,IF(G169=0,0,IF(Q169=0,0,IF(F169+E169>=+'Vergi Oranları'!$C$5,G169-(F169+I169+L169+O169),+'Vergi Oranları'!$C$5-(F169+I169+L169+O169))))))","v":0},{"$f":"IF(Q169=0,0,ROUND((R169-$S$3)*+'Vergi Oranları'!$G$6/100,2))","v":0},0]
[null,null,null,null,null,null,0,{"$f":"IF(E170=0,0,IF(D170=0,0,IF(G170=0,0,IF(F170>+'Vergi Oranları'!$C$3,0,IF(OR(G170<='Vergi Oranları'!$C$3,F170+E170<+'Vergi Oranları'!$C$3),15,IF(G170-(E170+F170)<='Vergi Oranları'!$C$3,15,))))))","v":0},{"$f":"IF(E170=0,0,IF(D170=0,0,IF(G170=0,0,IF(H170=0,0,IF(F170+E170<='Vergi Oranları'!$C$3,G170-F170,'Vergi Oranları'!$C$3-F170)))))","v":0},{"$f":"IF(I170=0,0,IF(ROUND((I170-$J$3)*'Vergi Oranları'!$G$3/100,2)<0,0,ROUND((I170-$M$3)*'Vergi Oranları'!$G$3/100,2)))","v":0},{"$f":"IF(E170=0,0,IF(D170=0,0,IF(G170=0,0,IF(F170>+'Vergi Oranları'!$C$4,0,IF(OR(G170<='Vergi Oranları'!$C$4,F170+E170<'Vergi Oranları'!$C$4),20,IF(G170-(E170+F170)<='Vergi Oranları'!$C$4,20,))))))","v":0},{"$f":"IF(E170=0,0,IF(D170=0,0,IF(G170=0,0,IF(K170=0,0,IF(F170+E170<=+'Vergi Oranları'!$C$4,G170-(F170+I170),+'Vergi Oranları'!$C$4-(F170+I170))))))","v":0},{"$f":"IF(L170=0,0,IF(ROUND((L170-$M$3)*+'Vergi Oranları'!$G$4/100,2)<0,0,ROUND((L170-$M$3)*+'Vergi Oranları'!$G$4/100,2)))","v":0},{"$f":"IF(E170=0,0,IF(D170=0,0,IF(G170=0,0,IF(OR(G170>+'Vergi Oranları'!$C$4,G170<=+'Vergi Oranları'!$C$5),27))))","v":0},{"$f":"IF(E170=0,0,IF(D170=0,0,IF(G170=0,0,IF(N170=0,0,IF(F170>'Vergi Oranları'!$C$5,0,IF(G170<=+'Vergi Oranları'!$C$5,G170-(F170+I170+L170),+'Vergi Oranları'!$C$5-(F170+I170+L170)))))))","v":0},{"$f":"ROUND(IF(N170=0,0,IF(E170<O170,(E170-$P$3)*'Vergi Oranları'!$G$5/100,(O170-$P$3)*'Vergi Oranları'!$G$5/100)),2)","v":0},{"$f":"IF(E170=0,0,IF(D170=0,0,IF(G170=0,0,IF(G170<=+'Vergi Oranları'!$C$5,0,IF(OR(G170>+'Vergi Oranları'!$C$5,F170+E170<=+'Vergi Oranları'!$C$5),35)))))","v":0},{"$f":"IF(E170=0,0,IF(D170=0,0,IF(G170=0,0,IF(Q170=0,0,IF(F170+E170>=+'Vergi Oranları'!$C$5,G170-(F170+I170+L170+O170),+'Vergi Oranları'!$C$5-(F170+I170+L170+O170))))))","v":0},{"$f":"IF(Q170=0,0,ROUND((R170-$S$3)*+'Vergi Oranları'!$G$6/100,2))","v":0},0]
[null,null,null,null,null,null,0,{"$f":"IF(E171=0,0,IF(D171=0,0,IF(G171=0,0,IF(F171>+'Vergi Oranları'!$C$3,0,IF(OR(G171<='Vergi Oranları'!$C$3,F171+E171<+'Vergi Oranları'!$C$3),15,IF(G171-(E171+F171)<='Vergi Oranları'!$C$3,15,))))))","v":0},{"$f":"IF(E171=0,0,IF(D171=0,0,IF(G171=0,0,IF(H171=0,0,IF(F171+E171<='Vergi Oranları'!$C$3,G171-F171,'Vergi Oranları'!$C$3-F171)))))","v":0},{"$f":"IF(I171=0,0,IF(ROUND((I171-$J$3)*'Vergi Oranları'!$G$3/100,2)<0,0,ROUND((I171-$M$3)*'Vergi Oranları'!$G$3/100,2)))","v":0},{"$f":"IF(E171=0,0,IF(D171=0,0,IF(G171=0,0,IF(F171>+'Vergi Oranları'!$C$4,0,IF(OR(G171<='Vergi Oranları'!$C$4,F171+E171<'Vergi Oranları'!$C$4),20,IF(G171-(E171+F171)<='Vergi Oranları'!$C$4,20,))))))","v":0},{"$f":"IF(E171=0,0,IF(D171=0,0,IF(G171=0,0,IF(K171=0,0,IF(F171+E171<=+'Vergi Oranları'!$C$4,G171-(F171+I171),+'Vergi Oranları'!$C$4-(F171+I171))))))","v":0},{"$f":"IF(L171=0,0,IF(ROUND((L171-$M$3)*+'Vergi Oranları'!$G$4/100,2)<0,0,ROUND((L171-$M$3)*+'Vergi Oranları'!$G$4/100,2)))","v":0},{"$f":"IF(E171=0,0,IF(D171=0,0,IF(G171=0,0,IF(OR(G171>+'Vergi Oranları'!$C$4,G171<=+'Vergi Oranları'!$C$5),27))))","v":0},{"$f":"IF(E171=0,0,IF(D171=0,0,IF(G171=0,0,IF(N171=0,0,IF(F171>'Vergi Oranları'!$C$5,0,IF(G171<=+'Vergi Oranları'!$C$5,G171-(F171+I171+L171),+'Vergi Oranları'!$C$5-(F171+I171+L171)))))))","v":0},{"$f":"ROUND(IF(N171=0,0,IF(E171<O171,(E171-$P$3)*'Vergi Oranları'!$G$5/100,(O171-$P$3)*'Vergi Oranları'!$G$5/100)),2)","v":0},{"$f":"IF(E171=0,0,IF(D171=0,0,IF(G171=0,0,IF(G171<=+'Vergi Oranları'!$C$5,0,IF(OR(G171>+'Vergi Oranları'!$C$5,F171+E171<=+'Vergi Oranları'!$C$5),35)))))","v":0},{"$f":"IF(E171=0,0,IF(D171=0,0,IF(G171=0,0,IF(Q171=0,0,IF(F171+E171>=+'Vergi Oranları'!$C$5,G171-(F171+I171+L171+O171),+'Vergi Oranları'!$C$5-(F171+I171+L171+O171))))))","v":0},{"$f":"IF(Q171=0,0,ROUND((R171-$S$3)*+'Vergi Oranları'!$G$6/100,2))","v":0},0]
[null,null,null,null,null,null,0,{"$f":"IF(E172=0,0,IF(D172=0,0,IF(G172=0,0,IF(F172>+'Vergi Oranları'!$C$3,0,IF(OR(G172<='Vergi Oranları'!$C$3,F172+E172<+'Vergi Oranları'!$C$3),15,IF(G172-(E172+F172)<='Vergi Oranları'!$C$3,15,))))))","v":0},{"$f":"IF(E172=0,0,IF(D172=0,0,IF(G172=0,0,IF(H172=0,0,IF(F172+E172<='Vergi Oranları'!$C$3,G172-F172,'Vergi Oranları'!$C$3-F172)))))","v":0},{"$f":"IF(I172=0,0,IF(ROUND((I172-$J$3)*'Vergi Oranları'!$G$3/100,2)<0,0,ROUND((I172-$M$3)*'Vergi Oranları'!$G$3/100,2)))","v":0},{"$f":"IF(E172=0,0,IF(D172=0,0,IF(G172=0,0,IF(F172>+'Vergi Oranları'!$C$4,0,IF(OR(G172<='Vergi Oranları'!$C$4,F172+E172<'Vergi Oranları'!$C$4),20,IF(G172-(E172+F172)<='Vergi Oranları'!$C$4,20,))))))","v":0},{"$f":"IF(E172=0,0,IF(D172=0,0,IF(G172=0,0,IF(K172=0,0,IF(F172+E172<=+'Vergi Oranları'!$C$4,G172-(F172+I172),+'Vergi Oranları'!$C$4-(F172+I172))))))","v":0},{"$f":"IF(L172=0,0,IF(ROUND((L172-$M$3)*+'Vergi Oranları'!$G$4/100,2)<0,0,ROUND((L172-$M$3)*+'Vergi Oranları'!$G$4/100,2)))","v":0},{"$f":"IF(E172=0,0,IF(D172=0,0,IF(G172=0,0,IF(OR(G172>+'Vergi Oranları'!$C$4,G172<=+'Vergi Oranları'!$C$5),27))))","v":0},{"$f":"IF(E172=0,0,IF(D172=0,0,IF(G172=0,0,IF(N172=0,0,IF(F172>'Vergi Oranları'!$C$5,0,IF(G172<=+'Vergi Oranları'!$C$5,G172-(F172+I172+L172),+'Vergi Oranları'!$C$5-(F172+I172+L172)))))))","v":0},{"$f":"ROUND(IF(N172=0,0,IF(E172<O172,(E172-$P$3)*'Vergi Oranları'!$G$5/100,(O172-$P$3)*'Vergi Oranları'!$G$5/100)),2)","v":0},{"$f":"IF(E172=0,0,IF(D172=0,0,IF(G172=0,0,IF(G172<=+'Vergi Oranları'!$C$5,0,IF(OR(G172>+'Vergi Oranları'!$C$5,F172+E172<=+'Vergi Oranları'!$C$5),35)))))","v":0},{"$f":"IF(E172=0,0,IF(D172=0,0,IF(G172=0,0,IF(Q172=0,0,IF(F172+E172>=+'Vergi Oranları'!$C$5,G172-(F172+I172+L172+O172),+'Vergi Oranları'!$C$5-(F172+I172+L172+O172))))))","v":0},{"$f":"IF(Q172=0,0,ROUND((R172-$S$3)*+'Vergi Oranları'!$G$6/100,2))","v":0},0]
[null,null,null,null,null,null,0,{"$f":"IF(E173=0,0,IF(D173=0,0,IF(G173=0,0,IF(F173>+'Vergi Oranları'!$C$3,0,IF(OR(G173<='Vergi Oranları'!$C$3,F173+E173<+'Vergi Oranları'!$C$3),15,IF(G173-(E173+F173)<='Vergi Oranları'!$C$3,15,))))))","v":0},{"$f":"IF(E173=0,0,IF(D173=0,0,IF(G173=0,0,IF(H173=0,0,IF(F173+E173<='Vergi Oranları'!$C$3,G173-F173,'Vergi Oranları'!$C$3-F173)))))","v":0},{"$f":"IF(I173=0,0,IF(ROUND((I173-$J$3)*'Vergi Oranları'!$G$3/100,2)<0,0,ROUND((I173-$M$3)*'Vergi Oranları'!$G$3/100,2)))","v":0},{"$f":"IF(E173=0,0,IF(D173=0,0,IF(G173=0,0,IF(F173>+'Vergi Oranları'!$C$4,0,IF(OR(G173<='Vergi Oranları'!$C$4,F173+E173<'Vergi Oranları'!$C$4),20,IF(G173-(E173+F173)<='Vergi Oranları'!$C$4,20,))))))","v":0},{"$f":"IF(E173=0,0,IF(D173=0,0,IF(G173=0,0,IF(K173=0,0,IF(F173+E173<=+'Vergi Oranları'!$C$4,G173-(F173+I173),+'Vergi Oranları'!$C$4-(F173+I173))))))","v":0},{"$f":"IF(L173=0,0,IF(ROUND((L173-$M$3)*+'Vergi Oranları'!$G$4/100,2)<0,0,ROUND((L173-$M$3)*+'Vergi Oranları'!$G$4/100,2)))","v":0},{"$f":"IF(E173=0,0,IF(D173=0,0,IF(G173=0,0,IF(OR(G173>+'Vergi Oranları'!$C$4,G173<=+'Vergi Oranları'!$C$5),27))))","v":0},{"$f":"IF(E173=0,0,IF(D173=0,0,IF(G173=0,0,IF(N173=0,0,IF(F173>'Vergi Oranları'!$C$5,0,IF(G173<=+'Vergi Oranları'!$C$5,G173-(F173+I173+L173),+'Vergi Oranları'!$C$5-(F173+I173+L173)))))))","v":0},{"$f":"ROUND(IF(N173=0,0,IF(E173<O173,(E173-$P$3)*'Vergi Oranları'!$G$5/100,(O173-$P$3)*'Vergi Oranları'!$G$5/100)),2)","v":0},{"$f":"IF(E173=0,0,IF(D173=0,0,IF(G173=0,0,IF(G173<=+'Vergi Oranları'!$C$5,0,IF(OR(G173>+'Vergi Oranları'!$C$5,F173+E173<=+'Vergi Oranları'!$C$5),35)))))","v":0},{"$f":"IF(E173=0,0,IF(D173=0,0,IF(G173=0,0,IF(Q173=0,0,IF(F173+E173>=+'Vergi Oranları'!$C$5,G173-(F173+I173+L173+O173),+'Vergi Oranları'!$C$5-(F173+I173+L173+O173))))))","v":0},{"$f":"IF(Q173=0,0,ROUND((R173-$S$3)*+'Vergi Oranları'!$G$6/100,2))","v":0},0]
[null,null,null,null,null,null,0,{"$f":"IF(E174=0,0,IF(D174=0,0,IF(G174=0,0,IF(F174>+'Vergi Oranları'!$C$3,0,IF(OR(G174<='Vergi Oranları'!$C$3,F174+E174<+'Vergi Oranları'!$C$3),15,IF(G174-(E174+F174)<='Vergi Oranları'!$C$3,15,))))))","v":0},{"$f":"IF(E174=0,0,IF(D174=0,0,IF(G174=0,0,IF(H174=0,0,IF(F174+E174<='Vergi Oranları'!$C$3,G174-F174,'Vergi Oranları'!$C$3-F174)))))","v":0},{"$f":"IF(I174=0,0,IF(ROUND((I174-$J$3)*'Vergi Oranları'!$G$3/100,2)<0,0,ROUND((I174-$M$3)*'Vergi Oranları'!$G$3/100,2)))","v":0},{"$f":"IF(E174=0,0,IF(D174=0,0,IF(G174=0,0,IF(F174>+'Vergi Oranları'!$C$4,0,IF(OR(G174<='Vergi Oranları'!$C$4,F174+E174<'Vergi Oranları'!$C$4),20,IF(G174-(E174+F174)<='Vergi Oranları'!$C$4,20,))))))","v":0},{"$f":"IF(E174=0,0,IF(D174=0,0,IF(G174=0,0,IF(K174=0,0,IF(F174+E174<=+'Vergi Oranları'!$C$4,G174-(F174+I174),+'Vergi Oranları'!$C$4-(F174+I174))))))","v":0},{"$f":"IF(L174=0,0,IF(ROUND((L174-$M$3)*+'Vergi Oranları'!$G$4/100,2)<0,0,ROUND((L174-$M$3)*+'Vergi Oranları'!$G$4/100,2)))","v":0},{"$f":"IF(E174=0,0,IF(D174=0,0,IF(G174=0,0,IF(OR(G174>+'Vergi Oranları'!$C$4,G174<=+'Vergi Oranları'!$C$5),27))))","v":0},{"$f":"IF(E174=0,0,IF(D174=0,0,IF(G174=0,0,IF(N174=0,0,IF(F174>'Vergi Oranları'!$C$5,0,IF(G174<=+'Vergi Oranları'!$C$5,G174-(F174+I174+L174),+'Vergi Oranları'!$C$5-(F174+I174+L174)))))))","v":0},{"$f":"ROUND(IF(N174=0,0,IF(E174<O174,(E174-$P$3)*'Vergi Oranları'!$G$5/100,(O174-$P$3)*'Vergi Oranları'!$G$5/100)),2)","v":0},{"$f":"IF(E174=0,0,IF(D174=0,0,IF(G174=0,0,IF(G174<=+'Vergi Oranları'!$C$5,0,IF(OR(G174>+'Vergi Oranları'!$C$5,F174+E174<=+'Vergi Oranları'!$C$5),35)))))","v":0},{"$f":"IF(E174=0,0,IF(D174=0,0,IF(G174=0,0,IF(Q174=0,0,IF(F174+E174>=+'Vergi Oranları'!$C$5,G174-(F174+I174+L174+O174),+'Vergi Oranları'!$C$5-(F174+I174+L174+O174))))))","v":0},{"$f":"IF(Q174=0,0,ROUND((R174-$S$3)*+'Vergi Oranları'!$G$6/100,2))","v":0},0]
[null,null,null,null,null,null,0,{"$f":"IF(E175=0,0,IF(D175=0,0,IF(G175=0,0,IF(F175>+'Vergi Oranları'!$C$3,0,IF(OR(G175<='Vergi Oranları'!$C$3,F175+E175<+'Vergi Oranları'!$C$3),15,IF(G175-(E175+F175)<='Vergi Oranları'!$C$3,15,))))))","v":0},{"$f":"IF(E175=0,0,IF(D175=0,0,IF(G175=0,0,IF(H175=0,0,IF(F175+E175<='Vergi Oranları'!$C$3,G175-F175,'Vergi Oranları'!$C$3-F175)))))","v":0},{"$f":"IF(I175=0,0,IF(ROUND((I175-$J$3)*'Vergi Oranları'!$G$3/100,2)<0,0,ROUND((I175-$M$3)*'Vergi Oranları'!$G$3/100,2)))","v":0},{"$f":"IF(E175=0,0,IF(D175=0,0,IF(G175=0,0,IF(F175>+'Vergi Oranları'!$C$4,0,IF(OR(G175<='Vergi Oranları'!$C$4,F175+E175<'Vergi Oranları'!$C$4),20,IF(G175-(E175+F175)<='Vergi Oranları'!$C$4,20,))))))","v":0},{"$f":"IF(E175=0,0,IF(D175=0,0,IF(G175=0,0,IF(K175=0,0,IF(F175+E175<=+'Vergi Oranları'!$C$4,G175-(F175+I175),+'Vergi Oranları'!$C$4-(F175+I175))))))","v":0},{"$f":"IF(L175=0,0,IF(ROUND((L175-$M$3)*+'Vergi Oranları'!$G$4/100,2)<0,0,ROUND((L175-$M$3)*+'Vergi Oranları'!$G$4/100,2)))","v":0},{"$f":"IF(E175=0,0,IF(D175=0,0,IF(G175=0,0,IF(OR(G175>+'Vergi Oranları'!$C$4,G175<=+'Vergi Oranları'!$C$5),27))))","v":0},{"$f":"IF(E175=0,0,IF(D175=0,0,IF(G175=0,0,IF(N175=0,0,IF(F175>'Vergi Oranları'!$C$5,0,IF(G175<=+'Vergi Oranları'!$C$5,G175-(F175+I175+L175),+'Vergi Oranları'!$C$5-(F175+I175+L175)))))))","v":0},{"$f":"ROUND(IF(N175=0,0,IF(E175<O175,(E175-$P$3)*'Vergi Oranları'!$G$5/100,(O175-$P$3)*'Vergi Oranları'!$G$5/100)),2)","v":0},{"$f":"IF(E175=0,0,IF(D175=0,0,IF(G175=0,0,IF(G175<=+'Vergi Oranları'!$C$5,0,IF(OR(G175>+'Vergi Oranları'!$C$5,F175+E175<=+'Vergi Oranları'!$C$5),35)))))","v":0},{"$f":"IF(E175=0,0,IF(D175=0,0,IF(G175=0,0,IF(Q175=0,0,IF(F175+E175>=+'Vergi Oranları'!$C$5,G175-(F175+I175+L175+O175),+'Vergi Oranları'!$C$5-(F175+I175+L175+O175))))))","v":0},{"$f":"IF(Q175=0,0,ROUND((R175-$S$3)*+'Vergi Oranları'!$G$6/100,2))","v":0},0]
[null,null,null,null,null,null,0,{"$f":"IF(E176=0,0,IF(D176=0,0,IF(G176=0,0,IF(F176>+'Vergi Oranları'!$C$3,0,IF(OR(G176<='Vergi Oranları'!$C$3,F176+E176<+'Vergi Oranları'!$C$3),15,IF(G176-(E176+F176)<='Vergi Oranları'!$C$3,15,))))))","v":0},{"$f":"IF(E176=0,0,IF(D176=0,0,IF(G176=0,0,IF(H176=0,0,IF(F176+E176<='Vergi Oranları'!$C$3,G176-F176,'Vergi Oranları'!$C$3-F176)))))","v":0},{"$f":"IF(I176=0,0,IF(ROUND((I176-$J$3)*'Vergi Oranları'!$G$3/100,2)<0,0,ROUND((I176-$M$3)*'Vergi Oranları'!$G$3/100,2)))","v":0},{"$f":"IF(E176=0,0,IF(D176=0,0,IF(G176=0,0,IF(F176>+'Vergi Oranları'!$C$4,0,IF(OR(G176<='Vergi Oranları'!$C$4,F176+E176<'Vergi Oranları'!$C$4),20,IF(G176-(E176+F176)<='Vergi Oranları'!$C$4,20,))))))","v":0},{"$f":"IF(E176=0,0,IF(D176=0,0,IF(G176=0,0,IF(K176=0,0,IF(F176+E176<=+'Vergi Oranları'!$C$4,G176-(F176+I176),+'Vergi Oranları'!$C$4-(F176+I176))))))","v":0},{"$f":"IF(L176=0,0,IF(ROUND((L176-$M$3)*+'Vergi Oranları'!$G$4/100,2)<0,0,ROUND((L176-$M$3)*+'Vergi Oranları'!$G$4/100,2)))","v":0},{"$f":"IF(E176=0,0,IF(D176=0,0,IF(G176=0,0,IF(OR(G176>+'Vergi Oranları'!$C$4,G176<=+'Vergi Oranları'!$C$5),27))))","v":0},{"$f":"IF(E176=0,0,IF(D176=0,0,IF(G176=0,0,IF(N176=0,0,IF(F176>'Vergi Oranları'!$C$5,0,IF(G176<=+'Vergi Oranları'!$C$5,G176-(F176+I176+L176),+'Vergi Oranları'!$C$5-(F176+I176+L176)))))))","v":0},{"$f":"ROUND(IF(N176=0,0,IF(E176<O176,(E176-$P$3)*'Vergi Oranları'!$G$5/100,(O176-$P$3)*'Vergi Oranları'!$G$5/100)),2)","v":0},{"$f":"IF(E176=0,0,IF(D176=0,0,IF(G176=0,0,IF(G176<=+'Vergi Oranları'!$C$5,0,IF(OR(G176>+'Vergi Oranları'!$C$5,F176+E176<=+'Vergi Oranları'!$C$5),35)))))","v":0},{"$f":"IF(E176=0,0,IF(D176=0,0,IF(G176=0,0,IF(Q176=0,0,IF(F176+E176>=+'Vergi Oranları'!$C$5,G176-(F176+I176+L176+O176),+'Vergi Oranları'!$C$5-(F176+I176+L176+O176))))))","v":0},{"$f":"IF(Q176=0,0,ROUND((R176-$S$3)*+'Vergi Oranları'!$G$6/100,2))","v":0},0]
[null,null,null,null,null,null,0,{"$f":"IF(E177=0,0,IF(D177=0,0,IF(G177=0,0,IF(F177>+'Vergi Oranları'!$C$3,0,IF(OR(G177<='Vergi Oranları'!$C$3,F177+E177<+'Vergi Oranları'!$C$3),15,IF(G177-(E177+F177)<='Vergi Oranları'!$C$3,15,))))))","v":0},{"$f":"IF(E177=0,0,IF(D177=0,0,IF(G177=0,0,IF(H177=0,0,IF(F177+E177<='Vergi Oranları'!$C$3,G177-F177,'Vergi Oranları'!$C$3-F177)))))","v":0},{"$f":"IF(I177=0,0,IF(ROUND((I177-$J$3)*'Vergi Oranları'!$G$3/100,2)<0,0,ROUND((I177-$M$3)*'Vergi Oranları'!$G$3/100,2)))","v":0},{"$f":"IF(E177=0,0,IF(D177=0,0,IF(G177=0,0,IF(F177>+'Vergi Oranları'!$C$4,0,IF(OR(G177<='Vergi Oranları'!$C$4,F177+E177<'Vergi Oranları'!$C$4),20,IF(G177-(E177+F177)<='Vergi Oranları'!$C$4,20,))))))","v":0},{"$f":"IF(E177=0,0,IF(D177=0,0,IF(G177=0,0,IF(K177=0,0,IF(F177+E177<=+'Vergi Oranları'!$C$4,G177-(F177+I177),+'Vergi Oranları'!$C$4-(F177+I177))))))","v":0},{"$f":"IF(L177=0,0,IF(ROUND((L177-$M$3)*+'Vergi Oranları'!$G$4/100,2)<0,0,ROUND((L177-$M$3)*+'Vergi Oranları'!$G$4/100,2)))","v":0},{"$f":"IF(E177=0,0,IF(D177=0,0,IF(G177=0,0,IF(OR(G177>+'Vergi Oranları'!$C$4,G177<=+'Vergi Oranları'!$C$5),27))))","v":0},{"$f":"IF(E177=0,0,IF(D177=0,0,IF(G177=0,0,IF(N177=0,0,IF(F177>'Vergi Oranları'!$C$5,0,IF(G177<=+'Vergi Oranları'!$C$5,G177-(F177+I177+L177),+'Vergi Oranları'!$C$5-(F177+I177+L177)))))))","v":0},{"$f":"ROUND(IF(N177=0,0,IF(E177<O177,(E177-$P$3)*'Vergi Oranları'!$G$5/100,(O177-$P$3)*'Vergi Oranları'!$G$5/100)),2)","v":0},{"$f":"IF(E177=0,0,IF(D177=0,0,IF(G177=0,0,IF(G177<=+'Vergi Oranları'!$C$5,0,IF(OR(G177>+'Vergi Oranları'!$C$5,F177+E177<=+'Vergi Oranları'!$C$5),35)))))","v":0},{"$f":"IF(E177=0,0,IF(D177=0,0,IF(G177=0,0,IF(Q177=0,0,IF(F177+E177>=+'Vergi Oranları'!$C$5,G177-(F177+I177+L177+O177),+'Vergi Oranları'!$C$5-(F177+I177+L177+O177))))))","v":0},{"$f":"IF(Q177=0,0,ROUND((R177-$S$3)*+'Vergi Oranları'!$G$6/100,2))","v":0},0]
[null,null,null,null,null,null,0,{"$f":"IF(E178=0,0,IF(D178=0,0,IF(G178=0,0,IF(F178>+'Vergi Oranları'!$C$3,0,IF(OR(G178<='Vergi Oranları'!$C$3,F178+E178<+'Vergi Oranları'!$C$3),15,IF(G178-(E178+F178)<='Vergi Oranları'!$C$3,15,))))))","v":0},{"$f":"IF(E178=0,0,IF(D178=0,0,IF(G178=0,0,IF(H178=0,0,IF(F178+E178<='Vergi Oranları'!$C$3,G178-F178,'Vergi Oranları'!$C$3-F178)))))","v":0},{"$f":"IF(I178=0,0,IF(ROUND((I178-$J$3)*'Vergi Oranları'!$G$3/100,2)<0,0,ROUND((I178-$M$3)*'Vergi Oranları'!$G$3/100,2)))","v":0},{"$f":"IF(E178=0,0,IF(D178=0,0,IF(G178=0,0,IF(F178>+'Vergi Oranları'!$C$4,0,IF(OR(G178<='Vergi Oranları'!$C$4,F178+E178<'Vergi Oranları'!$C$4),20,IF(G178-(E178+F178)<='Vergi Oranları'!$C$4,20,))))))","v":0},{"$f":"IF(E178=0,0,IF(D178=0,0,IF(G178=0,0,IF(K178=0,0,IF(F178+E178<=+'Vergi Oranları'!$C$4,G178-(F178+I178),+'Vergi Oranları'!$C$4-(F178+I178))))))","v":0},{"$f":"IF(L178=0,0,IF(ROUND((L178-$M$3)*+'Vergi Oranları'!$G$4/100,2)<0,0,ROUND((L178-$M$3)*+'Vergi Oranları'!$G$4/100,2)))","v":0},{"$f":"IF(E178=0,0,IF(D178=0,0,IF(G178=0,0,IF(OR(G178>+'Vergi Oranları'!$C$4,G178<=+'Vergi Oranları'!$C$5),27))))","v":0},{"$f":"IF(E178=0,0,IF(D178=0,0,IF(G178=0,0,IF(N178=0,0,IF(F178>'Vergi Oranları'!$C$5,0,IF(G178<=+'Vergi Oranları'!$C$5,G178-(F178+I178+L178),+'Vergi Oranları'!$C$5-(F178+I178+L178)))))))","v":0},{"$f":"ROUND(IF(N178=0,0,IF(E178<O178,(E178-$P$3)*'Vergi Oranları'!$G$5/100,(O178-$P$3)*'Vergi Oranları'!$G$5/100)),2)","v":0},{"$f":"IF(E178=0,0,IF(D178=0,0,IF(G178=0,0,IF(G178<=+'Vergi Oranları'!$C$5,0,IF(OR(G178>+'Vergi Oranları'!$C$5,F178+E178<=+'Vergi Oranları'!$C$5),35)))))","v":0},{"$f":"IF(E178=0,0,IF(D178=0,0,IF(G178=0,0,IF(Q178=0,0,IF(F178+E178>=+'Vergi Oranları'!$C$5,G178-(F178+I178+L178+O178),+'Vergi Oranları'!$C$5-(F178+I178+L178+O178))))))","v":0},{"$f":"IF(Q178=0,0,ROUND((R178-$S$3)*+'Vergi Oranları'!$G$6/100,2))","v":0},0]
[null,null,null,null,null,null,0,{"$f":"IF(E179=0,0,IF(D179=0,0,IF(G179=0,0,IF(F179>+'Vergi Oranları'!$C$3,0,IF(OR(G179<='Vergi Oranları'!$C$3,F179+E179<+'Vergi Oranları'!$C$3),15,IF(G179-(E179+F179)<='Vergi Oranları'!$C$3,15,))))))","v":0},{"$f":"IF(E179=0,0,IF(D179=0,0,IF(G179=0,0,IF(H179=0,0,IF(F179+E179<='Vergi Oranları'!$C$3,G179-F179,'Vergi Oranları'!$C$3-F179)))))","v":0},{"$f":"IF(I179=0,0,IF(ROUND((I179-$J$3)*'Vergi Oranları'!$G$3/100,2)<0,0,ROUND((I179-$M$3)*'Vergi Oranları'!$G$3/100,2)))","v":0},{"$f":"IF(E179=0,0,IF(D179=0,0,IF(G179=0,0,IF(F179>+'Vergi Oranları'!$C$4,0,IF(OR(G179<='Vergi Oranları'!$C$4,F179+E179<'Vergi Oranları'!$C$4),20,IF(G179-(E179+F179)<='Vergi Oranları'!$C$4,20,))))))","v":0},{"$f":"IF(E179=0,0,IF(D179=0,0,IF(G179=0,0,IF(K179=0,0,IF(F179+E179<=+'Vergi Oranları'!$C$4,G179-(F179+I179),+'Vergi Oranları'!$C$4-(F179+I179))))))","v":0},{"$f":"IF(L179=0,0,IF(ROUND((L179-$M$3)*+'Vergi Oranları'!$G$4/100,2)<0,0,ROUND((L179-$M$3)*+'Vergi Oranları'!$G$4/100,2)))","v":0},{"$f":"IF(E179=0,0,IF(D179=0,0,IF(G179=0,0,IF(OR(G179>+'Vergi Oranları'!$C$4,G179<=+'Vergi Oranları'!$C$5),27))))","v":0},{"$f":"IF(E179=0,0,IF(D179=0,0,IF(G179=0,0,IF(N179=0,0,IF(F179>'Vergi Oranları'!$C$5,0,IF(G179<=+'Vergi Oranları'!$C$5,G179-(F179+I179+L179),+'Vergi Oranları'!$C$5-(F179+I179+L179)))))))","v":0},{"$f":"ROUND(IF(N179=0,0,IF(E179<O179,(E179-$P$3)*'Vergi Oranları'!$G$5/100,(O179-$P$3)*'Vergi Oranları'!$G$5/100)),2)","v":0},{"$f":"IF(E179=0,0,IF(D179=0,0,IF(G179=0,0,IF(G179<=+'Vergi Oranları'!$C$5,0,IF(OR(G179>+'Vergi Oranları'!$C$5,F179+E179<=+'Vergi Oranları'!$C$5),35)))))","v":0},{"$f":"IF(E179=0,0,IF(D179=0,0,IF(G179=0,0,IF(Q179=0,0,IF(F179+E179>=+'Vergi Oranları'!$C$5,G179-(F179+I179+L179+O179),+'Vergi Oranları'!$C$5-(F179+I179+L179+O179))))))","v":0},{"$f":"IF(Q179=0,0,ROUND((R179-$S$3)*+'Vergi Oranları'!$G$6/100,2))","v":0},0]
[null,null,null,null,null,null,0,{"$f":"IF(E180=0,0,IF(D180=0,0,IF(G180=0,0,IF(F180>+'Vergi Oranları'!$C$3,0,IF(OR(G180<='Vergi Oranları'!$C$3,F180+E180<+'Vergi Oranları'!$C$3),15,IF(G180-(E180+F180)<='Vergi Oranları'!$C$3,15,))))))","v":0},{"$f":"IF(E180=0,0,IF(D180=0,0,IF(G180=0,0,IF(H180=0,0,IF(F180+E180<='Vergi Oranları'!$C$3,G180-F180,'Vergi Oranları'!$C$3-F180)))))","v":0},{"$f":"IF(I180=0,0,IF(ROUND((I180-$J$3)*'Vergi Oranları'!$G$3/100,2)<0,0,ROUND((I180-$M$3)*'Vergi Oranları'!$G$3/100,2)))","v":0},{"$f":"IF(E180=0,0,IF(D180=0,0,IF(G180=0,0,IF(F180>+'Vergi Oranları'!$C$4,0,IF(OR(G180<='Vergi Oranları'!$C$4,F180+E180<'Vergi Oranları'!$C$4),20,IF(G180-(E180+F180)<='Vergi Oranları'!$C$4,20,))))))","v":0},{"$f":"IF(E180=0,0,IF(D180=0,0,IF(G180=0,0,IF(K180=0,0,IF(F180+E180<=+'Vergi Oranları'!$C$4,G180-(F180+I180),+'Vergi Oranları'!$C$4-(F180+I180))))))","v":0},{"$f":"IF(L180=0,0,IF(ROUND((L180-$M$3)*+'Vergi Oranları'!$G$4/100,2)<0,0,ROUND((L180-$M$3)*+'Vergi Oranları'!$G$4/100,2)))","v":0},{"$f":"IF(E180=0,0,IF(D180=0,0,IF(G180=0,0,IF(OR(G180>+'Vergi Oranları'!$C$4,G180<=+'Vergi Oranları'!$C$5),27))))","v":0},{"$f":"IF(E180=0,0,IF(D180=0,0,IF(G180=0,0,IF(N180=0,0,IF(F180>'Vergi Oranları'!$C$5,0,IF(G180<=+'Vergi Oranları'!$C$5,G180-(F180+I180+L180),+'Vergi Oranları'!$C$5-(F180+I180+L180)))))))","v":0},{"$f":"ROUND(IF(N180=0,0,IF(E180<O180,(E180-$P$3)*'Vergi Oranları'!$G$5/100,(O180-$P$3)*'Vergi Oranları'!$G$5/100)),2)","v":0},{"$f":"IF(E180=0,0,IF(D180=0,0,IF(G180=0,0,IF(G180<=+'Vergi Oranları'!$C$5,0,IF(OR(G180>+'Vergi Oranları'!$C$5,F180+E180<=+'Vergi Oranları'!$C$5),35)))))","v":0},{"$f":"IF(E180=0,0,IF(D180=0,0,IF(G180=0,0,IF(Q180=0,0,IF(F180+E180>=+'Vergi Oranları'!$C$5,G180-(F180+I180+L180+O180),+'Vergi Oranları'!$C$5-(F180+I180+L180+O180))))))","v":0},{"$f":"IF(Q180=0,0,ROUND((R180-$S$3)*+'Vergi Oranları'!$G$6/100,2))","v":0},0]
[null,null,null,null,null,null,0,{"$f":"IF(E181=0,0,IF(D181=0,0,IF(G181=0,0,IF(F181>+'Vergi Oranları'!$C$3,0,IF(OR(G181<='Vergi Oranları'!$C$3,F181+E181<+'Vergi Oranları'!$C$3),15,IF(G181-(E181+F181)<='Vergi Oranları'!$C$3,15,))))))","v":0},{"$f":"IF(E181=0,0,IF(D181=0,0,IF(G181=0,0,IF(H181=0,0,IF(F181+E181<='Vergi Oranları'!$C$3,G181-F181,'Vergi Oranları'!$C$3-F181)))))","v":0},{"$f":"IF(I181=0,0,IF(ROUND((I181-$J$3)*'Vergi Oranları'!$G$3/100,2)<0,0,ROUND((I181-$M$3)*'Vergi Oranları'!$G$3/100,2)))","v":0},{"$f":"IF(E181=0,0,IF(D181=0,0,IF(G181=0,0,IF(F181>+'Vergi Oranları'!$C$4,0,IF(OR(G181<='Vergi Oranları'!$C$4,F181+E181<'Vergi Oranları'!$C$4),20,IF(G181-(E181+F181)<='Vergi Oranları'!$C$4,20,))))))","v":0},{"$f":"IF(E181=0,0,IF(D181=0,0,IF(G181=0,0,IF(K181=0,0,IF(F181+E181<=+'Vergi Oranları'!$C$4,G181-(F181+I181),+'Vergi Oranları'!$C$4-(F181+I181))))))","v":0},{"$f":"IF(L181=0,0,IF(ROUND((L181-$M$3)*+'Vergi Oranları'!$G$4/100,2)<0,0,ROUND((L181-$M$3)*+'Vergi Oranları'!$G$4/100,2)))","v":0},{"$f":"IF(E181=0,0,IF(D181=0,0,IF(G181=0,0,IF(OR(G181>+'Vergi Oranları'!$C$4,G181<=+'Vergi Oranları'!$C$5),27))))","v":0},{"$f":"IF(E181=0,0,IF(D181=0,0,IF(G181=0,0,IF(N181=0,0,IF(F181>'Vergi Oranları'!$C$5,0,IF(G181<=+'Vergi Oranları'!$C$5,G181-(F181+I181+L181),+'Vergi Oranları'!$C$5-(F181+I181+L181)))))))","v":0},{"$f":"ROUND(IF(N181=0,0,IF(E181<O181,(E181-$P$3)*'Vergi Oranları'!$G$5/100,(O181-$P$3)*'Vergi Oranları'!$G$5/100)),2)","v":0},{"$f":"IF(E181=0,0,IF(D181=0,0,IF(G181=0,0,IF(G181<=+'Vergi Oranları'!$C$5,0,IF(OR(G181>+'Vergi Oranları'!$C$5,F181+E181<=+'Vergi Oranları'!$C$5),35)))))","v":0},{"$f":"IF(E181=0,0,IF(D181=0,0,IF(G181=0,0,IF(Q181=0,0,IF(F181+E181>=+'Vergi Oranları'!$C$5,G181-(F181+I181+L181+O181),+'Vergi Oranları'!$C$5-(F181+I181+L181+O181))))))","v":0},{"$f":"IF(Q181=0,0,ROUND((R181-$S$3)*+'Vergi Oranları'!$G$6/100,2))","v":0},0]
[null,null,null,null,null,null,0,{"$f":"IF(E182=0,0,IF(D182=0,0,IF(G182=0,0,IF(F182>+'Vergi Oranları'!$C$3,0,IF(OR(G182<='Vergi Oranları'!$C$3,F182+E182<+'Vergi Oranları'!$C$3),15,IF(G182-(E182+F182)<='Vergi Oranları'!$C$3,15,))))))","v":0},{"$f":"IF(E182=0,0,IF(D182=0,0,IF(G182=0,0,IF(H182=0,0,IF(F182+E182<='Vergi Oranları'!$C$3,G182-F182,'Vergi Oranları'!$C$3-F182)))))","v":0},{"$f":"IF(I182=0,0,IF(ROUND((I182-$J$3)*'Vergi Oranları'!$G$3/100,2)<0,0,ROUND((I182-$M$3)*'Vergi Oranları'!$G$3/100,2)))","v":0},{"$f":"IF(E182=0,0,IF(D182=0,0,IF(G182=0,0,IF(F182>+'Vergi Oranları'!$C$4,0,IF(OR(G182<='Vergi Oranları'!$C$4,F182+E182<'Vergi Oranları'!$C$4),20,IF(G182-(E182+F182)<='Vergi Oranları'!$C$4,20,))))))","v":0},{"$f":"IF(E182=0,0,IF(D182=0,0,IF(G182=0,0,IF(K182=0,0,IF(F182+E182<=+'Vergi Oranları'!$C$4,G182-(F182+I182),+'Vergi Oranları'!$C$4-(F182+I182))))))","v":0},{"$f":"IF(L182=0,0,IF(ROUND((L182-$M$3)*+'Vergi Oranları'!$G$4/100,2)<0,0,ROUND((L182-$M$3)*+'Vergi Oranları'!$G$4/100,2)))","v":0},{"$f":"IF(E182=0,0,IF(D182=0,0,IF(G182=0,0,IF(OR(G182>+'Vergi Oranları'!$C$4,G182<=+'Vergi Oranları'!$C$5),27))))","v":0},{"$f":"IF(E182=0,0,IF(D182=0,0,IF(G182=0,0,IF(N182=0,0,IF(F182>'Vergi Oranları'!$C$5,0,IF(G182<=+'Vergi Oranları'!$C$5,G182-(F182+I182+L182),+'Vergi Oranları'!$C$5-(F182+I182+L182)))))))","v":0},{"$f":"ROUND(IF(N182=0,0,IF(E182<O182,(E182-$P$3)*'Vergi Oranları'!$G$5/100,(O182-$P$3)*'Vergi Oranları'!$G$5/100)),2)","v":0},{"$f":"IF(E182=0,0,IF(D182=0,0,IF(G182=0,0,IF(G182<=+'Vergi Oranları'!$C$5,0,IF(OR(G182>+'Vergi Oranları'!$C$5,F182+E182<=+'Vergi Oranları'!$C$5),35)))))","v":0},{"$f":"IF(E182=0,0,IF(D182=0,0,IF(G182=0,0,IF(Q182=0,0,IF(F182+E182>=+'Vergi Oranları'!$C$5,G182-(F182+I182+L182+O182),+'Vergi Oranları'!$C$5-(F182+I182+L182+O182))))))","v":0},{"$f":"IF(Q182=0,0,ROUND((R182-$S$3)*+'Vergi Oranları'!$G$6/100,2))","v":0},0]
[null,null,null,null,null,null,0,{"$f":"IF(E183=0,0,IF(D183=0,0,IF(G183=0,0,IF(F183>+'Vergi Oranları'!$C$3,0,IF(OR(G183<='Vergi Oranları'!$C$3,F183+E183<+'Vergi Oranları'!$C$3),15,IF(G183-(E183+F183)<='Vergi Oranları'!$C$3,15,))))))","v":0},{"$f":"IF(E183=0,0,IF(D183=0,0,IF(G183=0,0,IF(H183=0,0,IF(F183+E183<='Vergi Oranları'!$C$3,G183-F183,'Vergi Oranları'!$C$3-F183)))))","v":0},{"$f":"IF(I183=0,0,IF(ROUND((I183-$J$3)*'Vergi Oranları'!$G$3/100,2)<0,0,ROUND((I183-$M$3)*'Vergi Oranları'!$G$3/100,2)))","v":0},{"$f":"IF(E183=0,0,IF(D183=0,0,IF(G183=0,0,IF(F183>+'Vergi Oranları'!$C$4,0,IF(OR(G183<='Vergi Oranları'!$C$4,F183+E183<'Vergi Oranları'!$C$4),20,IF(G183-(E183+F183)<='Vergi Oranları'!$C$4,20,))))))","v":0},{"$f":"IF(E183=0,0,IF(D183=0,0,IF(G183=0,0,IF(K183=0,0,IF(F183+E183<=+'Vergi Oranları'!$C$4,G183-(F183+I183),+'Vergi Oranları'!$C$4-(F183+I183))))))","v":0},{"$f":"IF(L183=0,0,IF(ROUND((L183-$M$3)*+'Vergi Oranları'!$G$4/100,2)<0,0,ROUND((L183-$M$3)*+'Vergi Oranları'!$G$4/100,2)))","v":0},{"$f":"IF(E183=0,0,IF(D183=0,0,IF(G183=0,0,IF(OR(G183>+'Vergi Oranları'!$C$4,G183<=+'Vergi Oranları'!$C$5),27))))","v":0},{"$f":"IF(E183=0,0,IF(D183=0,0,IF(G183=0,0,IF(N183=0,0,IF(F183>'Vergi Oranları'!$C$5,0,IF(G183<=+'Vergi Oranları'!$C$5,G183-(F183+I183+L183),+'Vergi Oranları'!$C$5-(F183+I183+L183)))))))","v":0},{"$f":"ROUND(IF(N183=0,0,IF(E183<O183,(E183-$P$3)*'Vergi Oranları'!$G$5/100,(O183-$P$3)*'Vergi Oranları'!$G$5/100)),2)","v":0},{"$f":"IF(E183=0,0,IF(D183=0,0,IF(G183=0,0,IF(G183<=+'Vergi Oranları'!$C$5,0,IF(OR(G183>+'Vergi Oranları'!$C$5,F183+E183<=+'Vergi Oranları'!$C$5),35)))))","v":0},{"$f":"IF(E183=0,0,IF(D183=0,0,IF(G183=0,0,IF(Q183=0,0,IF(F183+E183>=+'Vergi Oranları'!$C$5,G183-(F183+I183+L183+O183),+'Vergi Oranları'!$C$5-(F183+I183+L183+O183))))))","v":0},{"$f":"IF(Q183=0,0,ROUND((R183-$S$3)*+'Vergi Oranları'!$G$6/100,2))","v":0},0]
[null,null,null,null,null,null,0,{"$f":"IF(E184=0,0,IF(D184=0,0,IF(G184=0,0,IF(F184>+'Vergi Oranları'!$C$3,0,IF(OR(G184<='Vergi Oranları'!$C$3,F184+E184<+'Vergi Oranları'!$C$3),15,IF(G184-(E184+F184)<='Vergi Oranları'!$C$3,15,))))))","v":0},{"$f":"IF(E184=0,0,IF(D184=0,0,IF(G184=0,0,IF(H184=0,0,IF(F184+E184<='Vergi Oranları'!$C$3,G184-F184,'Vergi Oranları'!$C$3-F184)))))","v":0},{"$f":"IF(I184=0,0,IF(ROUND((I184-$J$3)*'Vergi Oranları'!$G$3/100,2)<0,0,ROUND((I184-$M$3)*'Vergi Oranları'!$G$3/100,2)))","v":0},{"$f":"IF(E184=0,0,IF(D184=0,0,IF(G184=0,0,IF(F184>+'Vergi Oranları'!$C$4,0,IF(OR(G184<='Vergi Oranları'!$C$4,F184+E184<'Vergi Oranları'!$C$4),20,IF(G184-(E184+F184)<='Vergi Oranları'!$C$4,20,))))))","v":0},{"$f":"IF(E184=0,0,IF(D184=0,0,IF(G184=0,0,IF(K184=0,0,IF(F184+E184<=+'Vergi Oranları'!$C$4,G184-(F184+I184),+'Vergi Oranları'!$C$4-(F184+I184))))))","v":0},{"$f":"IF(L184=0,0,IF(ROUND((L184-$M$3)*+'Vergi Oranları'!$G$4/100,2)<0,0,ROUND((L184-$M$3)*+'Vergi Oranları'!$G$4/100,2)))","v":0},{"$f":"IF(E184=0,0,IF(D184=0,0,IF(G184=0,0,IF(OR(G184>+'Vergi Oranları'!$C$4,G184<=+'Vergi Oranları'!$C$5),27))))","v":0},{"$f":"IF(E184=0,0,IF(D184=0,0,IF(G184=0,0,IF(N184=0,0,IF(F184>'Vergi Oranları'!$C$5,0,IF(G184<=+'Vergi Oranları'!$C$5,G184-(F184+I184+L184),+'Vergi Oranları'!$C$5-(F184+I184+L184)))))))","v":0},{"$f":"ROUND(IF(N184=0,0,IF(E184<O184,(E184-$P$3)*'Vergi Oranları'!$G$5/100,(O184-$P$3)*'Vergi Oranları'!$G$5/100)),2)","v":0},{"$f":"IF(E184=0,0,IF(D184=0,0,IF(G184=0,0,IF(G184<=+'Vergi Oranları'!$C$5,0,IF(OR(G184>+'Vergi Oranları'!$C$5,F184+E184<=+'Vergi Oranları'!$C$5),35)))))","v":0},{"$f":"IF(E184=0,0,IF(D184=0,0,IF(G184=0,0,IF(Q184=0,0,IF(F184+E184>=+'Vergi Oranları'!$C$5,G184-(F184+I184+L184+O184),+'Vergi Oranları'!$C$5-(F184+I184+L184+O184))))))","v":0},{"$f":"IF(Q184=0,0,ROUND((R184-$S$3)*+'Vergi Oranları'!$G$6/100,2))","v":0},0]
[null,null,null,null,null,null,0,{"$f":"IF(E185=0,0,IF(D185=0,0,IF(G185=0,0,IF(F185>+'Vergi Oranları'!$C$3,0,IF(OR(G185<='Vergi Oranları'!$C$3,F185+E185<+'Vergi Oranları'!$C$3),15,IF(G185-(E185+F185)<='Vergi Oranları'!$C$3,15,))))))","v":0},{"$f":"IF(E185=0,0,IF(D185=0,0,IF(G185=0,0,IF(H185=0,0,IF(F185+E185<='Vergi Oranları'!$C$3,G185-F185,'Vergi Oranları'!$C$3-F185)))))","v":0},{"$f":"IF(I185=0,0,IF(ROUND((I185-$J$3)*'Vergi Oranları'!$G$3/100,2)<0,0,ROUND((I185-$M$3)*'Vergi Oranları'!$G$3/100,2)))","v":0},{"$f":"IF(E185=0,0,IF(D185=0,0,IF(G185=0,0,IF(F185>+'Vergi Oranları'!$C$4,0,IF(OR(G185<='Vergi Oranları'!$C$4,F185+E185<'Vergi Oranları'!$C$4),20,IF(G185-(E185+F185)<='Vergi Oranları'!$C$4,20,))))))","v":0},{"$f":"IF(E185=0,0,IF(D185=0,0,IF(G185=0,0,IF(K185=0,0,IF(F185+E185<=+'Vergi Oranları'!$C$4,G185-(F185+I185),+'Vergi Oranları'!$C$4-(F185+I185))))))","v":0},{"$f":"IF(L185=0,0,IF(ROUND((L185-$M$3)*+'Vergi Oranları'!$G$4/100,2)<0,0,ROUND((L185-$M$3)*+'Vergi Oranları'!$G$4/100,2)))","v":0},{"$f":"IF(E185=0,0,IF(D185=0,0,IF(G185=0,0,IF(OR(G185>+'Vergi Oranları'!$C$4,G185<=+'Vergi Oranları'!$C$5),27))))","v":0},{"$f":"IF(E185=0,0,IF(D185=0,0,IF(G185=0,0,IF(N185=0,0,IF(F185>'Vergi Oranları'!$C$5,0,IF(G185<=+'Vergi Oranları'!$C$5,G185-(F185+I185+L185),+'Vergi Oranları'!$C$5-(F185+I185+L185)))))))","v":0},{"$f":"ROUND(IF(N185=0,0,IF(E185<O185,(E185-$P$3)*'Vergi Oranları'!$G$5/100,(O185-$P$3)*'Vergi Oranları'!$G$5/100)),2)","v":0},{"$f":"IF(E185=0,0,IF(D185=0,0,IF(G185=0,0,IF(G185<=+'Vergi Oranları'!$C$5,0,IF(OR(G185>+'Vergi Oranları'!$C$5,F185+E185<=+'Vergi Oranları'!$C$5),35)))))","v":0},{"$f":"IF(E185=0,0,IF(D185=0,0,IF(G185=0,0,IF(Q185=0,0,IF(F185+E185>=+'Vergi Oranları'!$C$5,G185-(F185+I185+L185+O185),+'Vergi Oranları'!$C$5-(F185+I185+L185+O185))))))","v":0},{"$f":"IF(Q185=0,0,ROUND((R185-$S$3)*+'Vergi Oranları'!$G$6/100,2))","v":0},0]
[null,null,null,null,null,null,0,{"$f":"IF(E186=0,0,IF(D186=0,0,IF(G186=0,0,IF(F186>+'Vergi Oranları'!$C$3,0,IF(OR(G186<='Vergi Oranları'!$C$3,F186+E186<+'Vergi Oranları'!$C$3),15,IF(G186-(E186+F186)<='Vergi Oranları'!$C$3,15,))))))","v":0},{"$f":"IF(E186=0,0,IF(D186=0,0,IF(G186=0,0,IF(H186=0,0,IF(F186+E186<='Vergi Oranları'!$C$3,G186-F186,'Vergi Oranları'!$C$3-F186)))))","v":0},{"$f":"IF(I186=0,0,IF(ROUND((I186-$J$3)*'Vergi Oranları'!$G$3/100,2)<0,0,ROUND((I186-$M$3)*'Vergi Oranları'!$G$3/100,2)))","v":0},{"$f":"IF(E186=0,0,IF(D186=0,0,IF(G186=0,0,IF(F186>+'Vergi Oranları'!$C$4,0,IF(OR(G186<='Vergi Oranları'!$C$4,F186+E186<'Vergi Oranları'!$C$4),20,IF(G186-(E186+F186)<='Vergi Oranları'!$C$4,20,))))))","v":0},{"$f":"IF(E186=0,0,IF(D186=0,0,IF(G186=0,0,IF(K186=0,0,IF(F186+E186<=+'Vergi Oranları'!$C$4,G186-(F186+I186),+'Vergi Oranları'!$C$4-(F186+I186))))))","v":0},{"$f":"IF(L186=0,0,IF(ROUND((L186-$M$3)*+'Vergi Oranları'!$G$4/100,2)<0,0,ROUND((L186-$M$3)*+'Vergi Oranları'!$G$4/100,2)))","v":0},{"$f":"IF(E186=0,0,IF(D186=0,0,IF(G186=0,0,IF(OR(G186>+'Vergi Oranları'!$C$4,G186<=+'Vergi Oranları'!$C$5),27))))","v":0},{"$f":"IF(E186=0,0,IF(D186=0,0,IF(G186=0,0,IF(N186=0,0,IF(F186>'Vergi Oranları'!$C$5,0,IF(G186<=+'Vergi Oranları'!$C$5,G186-(F186+I186+L186),+'Vergi Oranları'!$C$5-(F186+I186+L186)))))))","v":0},{"$f":"ROUND(IF(N186=0,0,IF(E186<O186,(E186-$P$3)*'Vergi Oranları'!$G$5/100,(O186-$P$3)*'Vergi Oranları'!$G$5/100)),2)","v":0},{"$f":"IF(E186=0,0,IF(D186=0,0,IF(G186=0,0,IF(G186<=+'Vergi Oranları'!$C$5,0,IF(OR(G186>+'Vergi Oranları'!$C$5,F186+E186<=+'Vergi Oranları'!$C$5),35)))))","v":0},{"$f":"IF(E186=0,0,IF(D186=0,0,IF(G186=0,0,IF(Q186=0,0,IF(F186+E186>=+'Vergi Oranları'!$C$5,G186-(F186+I186+L186+O186),+'Vergi Oranları'!$C$5-(F186+I186+L186+O186))))))","v":0},{"$f":"IF(Q186=0,0,ROUND((R186-$S$3)*+'Vergi Oranları'!$G$6/100,2))","v":0},0]
[null,null,null,null,null,null,0,{"$f":"IF(E187=0,0,IF(D187=0,0,IF(G187=0,0,IF(F187>+'Vergi Oranları'!$C$3,0,IF(OR(G187<='Vergi Oranları'!$C$3,F187+E187<+'Vergi Oranları'!$C$3),15,IF(G187-(E187+F187)<='Vergi Oranları'!$C$3,15,))))))","v":0},{"$f":"IF(E187=0,0,IF(D187=0,0,IF(G187=0,0,IF(H187=0,0,IF(F187+E187<='Vergi Oranları'!$C$3,G187-F187,'Vergi Oranları'!$C$3-F187)))))","v":0},{"$f":"IF(I187=0,0,IF(ROUND((I187-$J$3)*'Vergi Oranları'!$G$3/100,2)<0,0,ROUND((I187-$M$3)*'Vergi Oranları'!$G$3/100,2)))","v":0},{"$f":"IF(E187=0,0,IF(D187=0,0,IF(G187=0,0,IF(F187>+'Vergi Oranları'!$C$4,0,IF(OR(G187<='Vergi Oranları'!$C$4,F187+E187<'Vergi Oranları'!$C$4),20,IF(G187-(E187+F187)<='Vergi Oranları'!$C$4,20,))))))","v":0},{"$f":"IF(E187=0,0,IF(D187=0,0,IF(G187=0,0,IF(K187=0,0,IF(F187+E187<=+'Vergi Oranları'!$C$4,G187-(F187+I187),+'Vergi Oranları'!$C$4-(F187+I187))))))","v":0},{"$f":"IF(L187=0,0,IF(ROUND((L187-$M$3)*+'Vergi Oranları'!$G$4/100,2)<0,0,ROUND((L187-$M$3)*+'Vergi Oranları'!$G$4/100,2)))","v":0},{"$f":"IF(E187=0,0,IF(D187=0,0,IF(G187=0,0,IF(OR(G187>+'Vergi Oranları'!$C$4,G187<=+'Vergi Oranları'!$C$5),27))))","v":0},{"$f":"IF(E187=0,0,IF(D187=0,0,IF(G187=0,0,IF(N187=0,0,IF(F187>'Vergi Oranları'!$C$5,0,IF(G187<=+'Vergi Oranları'!$C$5,G187-(F187+I187+L187),+'Vergi Oranları'!$C$5-(F187+I187+L187)))))))","v":0},{"$f":"ROUND(IF(N187=0,0,IF(E187<O187,(E187-$P$3)*'Vergi Oranları'!$G$5/100,(O187-$P$3)*'Vergi Oranları'!$G$5/100)),2)","v":0},{"$f":"IF(E187=0,0,IF(D187=0,0,IF(G187=0,0,IF(G187<=+'Vergi Oranları'!$C$5,0,IF(OR(G187>+'Vergi Oranları'!$C$5,F187+E187<=+'Vergi Oranları'!$C$5),35)))))","v":0},{"$f":"IF(E187=0,0,IF(D187=0,0,IF(G187=0,0,IF(Q187=0,0,IF(F187+E187>=+'Vergi Oranları'!$C$5,G187-(F187+I187+L187+O187),+'Vergi Oranları'!$C$5-(F187+I187+L187+O187))))))","v":0},{"$f":"IF(Q187=0,0,ROUND((R187-$S$3)*+'Vergi Oranları'!$G$6/100,2))","v":0},0]
[null,null,null,null,null,null,0,{"$f":"IF(E188=0,0,IF(D188=0,0,IF(G188=0,0,IF(F188>+'Vergi Oranları'!$C$3,0,IF(OR(G188<='Vergi Oranları'!$C$3,F188+E188<+'Vergi Oranları'!$C$3),15,IF(G188-(E188+F188)<='Vergi Oranları'!$C$3,15,))))))","v":0},{"$f":"IF(E188=0,0,IF(D188=0,0,IF(G188=0,0,IF(H188=0,0,IF(F188+E188<='Vergi Oranları'!$C$3,G188-F188,'Vergi Oranları'!$C$3-F188)))))","v":0},{"$f":"IF(I188=0,0,IF(ROUND((I188-$J$3)*'Vergi Oranları'!$G$3/100,2)<0,0,ROUND((I188-$M$3)*'Vergi Oranları'!$G$3/100,2)))","v":0},{"$f":"IF(E188=0,0,IF(D188=0,0,IF(G188=0,0,IF(F188>+'Vergi Oranları'!$C$4,0,IF(OR(G188<='Vergi Oranları'!$C$4,F188+E188<'Vergi Oranları'!$C$4),20,IF(G188-(E188+F188)<='Vergi Oranları'!$C$4,20,))))))","v":0},{"$f":"IF(E188=0,0,IF(D188=0,0,IF(G188=0,0,IF(K188=0,0,IF(F188+E188<=+'Vergi Oranları'!$C$4,G188-(F188+I188),+'Vergi Oranları'!$C$4-(F188+I188))))))","v":0},{"$f":"IF(L188=0,0,IF(ROUND((L188-$M$3)*+'Vergi Oranları'!$G$4/100,2)<0,0,ROUND((L188-$M$3)*+'Vergi Oranları'!$G$4/100,2)))","v":0},{"$f":"IF(E188=0,0,IF(D188=0,0,IF(G188=0,0,IF(OR(G188>+'Vergi Oranları'!$C$4,G188<=+'Vergi Oranları'!$C$5),27))))","v":0},{"$f":"IF(E188=0,0,IF(D188=0,0,IF(G188=0,0,IF(N188=0,0,IF(F188>'Vergi Oranları'!$C$5,0,IF(G188<=+'Vergi Oranları'!$C$5,G188-(F188+I188+L188),+'Vergi Oranları'!$C$5-(F188+I188+L188)))))))","v":0},{"$f":"ROUND(IF(N188=0,0,IF(E188<O188,(E188-$P$3)*'Vergi Oranları'!$G$5/100,(O188-$P$3)*'Vergi Oranları'!$G$5/100)),2)","v":0},{"$f":"IF(E188=0,0,IF(D188=0,0,IF(G188=0,0,IF(G188<=+'Vergi Oranları'!$C$5,0,IF(OR(G188>+'Vergi Oranları'!$C$5,F188+E188<=+'Vergi Oranları'!$C$5),35)))))","v":0},{"$f":"IF(E188=0,0,IF(D188=0,0,IF(G188=0,0,IF(Q188=0,0,IF(F188+E188>=+'Vergi Oranları'!$C$5,G188-(F188+I188+L188+O188),+'Vergi Oranları'!$C$5-(F188+I188+L188+O188))))))","v":0},{"$f":"IF(Q188=0,0,ROUND((R188-$S$3)*+'Vergi Oranları'!$G$6/100,2))","v":0},0]
[null,null,null,null,null,null,0,{"$f":"IF(E189=0,0,IF(D189=0,0,IF(G189=0,0,IF(F189>+'Vergi Oranları'!$C$3,0,IF(OR(G189<='Vergi Oranları'!$C$3,F189+E189<+'Vergi Oranları'!$C$3),15,IF(G189-(E189+F189)<='Vergi Oranları'!$C$3,15,))))))","v":0},{"$f":"IF(E189=0,0,IF(D189=0,0,IF(G189=0,0,IF(H189=0,0,IF(F189+E189<='Vergi Oranları'!$C$3,G189-F189,'Vergi Oranları'!$C$3-F189)))))","v":0},{"$f":"IF(I189=0,0,IF(ROUND((I189-$J$3)*'Vergi Oranları'!$G$3/100,2)<0,0,ROUND((I189-$M$3)*'Vergi Oranları'!$G$3/100,2)))","v":0},{"$f":"IF(E189=0,0,IF(D189=0,0,IF(G189=0,0,IF(F189>+'Vergi Oranları'!$C$4,0,IF(OR(G189<='Vergi Oranları'!$C$4,F189+E189<'Vergi Oranları'!$C$4),20,IF(G189-(E189+F189)<='Vergi Oranları'!$C$4,20,))))))","v":0},{"$f":"IF(E189=0,0,IF(D189=0,0,IF(G189=0,0,IF(K189=0,0,IF(F189+E189<=+'Vergi Oranları'!$C$4,G189-(F189+I189),+'Vergi Oranları'!$C$4-(F189+I189))))))","v":0},{"$f":"IF(L189=0,0,IF(ROUND((L189-$M$3)*+'Vergi Oranları'!$G$4/100,2)<0,0,ROUND((L189-$M$3)*+'Vergi Oranları'!$G$4/100,2)))","v":0},{"$f":"IF(E189=0,0,IF(D189=0,0,IF(G189=0,0,IF(OR(G189>+'Vergi Oranları'!$C$4,G189<=+'Vergi Oranları'!$C$5),27))))","v":0},{"$f":"IF(E189=0,0,IF(D189=0,0,IF(G189=0,0,IF(N189=0,0,IF(F189>'Vergi Oranları'!$C$5,0,IF(G189<=+'Vergi Oranları'!$C$5,G189-(F189+I189+L189),+'Vergi Oranları'!$C$5-(F189+I189+L189)))))))","v":0},{"$f":"ROUND(IF(N189=0,0,IF(E189<O189,(E189-$P$3)*'Vergi Oranları'!$G$5/100,(O189-$P$3)*'Vergi Oranları'!$G$5/100)),2)","v":0},{"$f":"IF(E189=0,0,IF(D189=0,0,IF(G189=0,0,IF(G189<=+'Vergi Oranları'!$C$5,0,IF(OR(G189>+'Vergi Oranları'!$C$5,F189+E189<=+'Vergi Oranları'!$C$5),35)))))","v":0},{"$f":"IF(E189=0,0,IF(D189=0,0,IF(G189=0,0,IF(Q189=0,0,IF(F189+E189>=+'Vergi Oranları'!$C$5,G189-(F189+I189+L189+O189),+'Vergi Oranları'!$C$5-(F189+I189+L189+O189))))))","v":0},{"$f":"IF(Q189=0,0,ROUND((R189-$S$3)*+'Vergi Oranları'!$G$6/100,2))","v":0},0]
[null,null,null,null,null,null,0,{"$f":"IF(E190=0,0,IF(D190=0,0,IF(G190=0,0,IF(F190>+'Vergi Oranları'!$C$3,0,IF(OR(G190<='Vergi Oranları'!$C$3,F190+E190<+'Vergi Oranları'!$C$3),15,IF(G190-(E190+F190)<='Vergi Oranları'!$C$3,15,))))))","v":0},{"$f":"IF(E190=0,0,IF(D190=0,0,IF(G190=0,0,IF(H190=0,0,IF(F190+E190<='Vergi Oranları'!$C$3,G190-F190,'Vergi Oranları'!$C$3-F190)))))","v":0},{"$f":"IF(I190=0,0,IF(ROUND((I190-$J$3)*'Vergi Oranları'!$G$3/100,2)<0,0,ROUND((I190-$M$3)*'Vergi Oranları'!$G$3/100,2)))","v":0},{"$f":"IF(E190=0,0,IF(D190=0,0,IF(G190=0,0,IF(F190>+'Vergi Oranları'!$C$4,0,IF(OR(G190<='Vergi Oranları'!$C$4,F190+E190<'Vergi Oranları'!$C$4),20,IF(G190-(E190+F190)<='Vergi Oranları'!$C$4,20,))))))","v":0},{"$f":"IF(E190=0,0,IF(D190=0,0,IF(G190=0,0,IF(K190=0,0,IF(F190+E190<=+'Vergi Oranları'!$C$4,G190-(F190+I190),+'Vergi Oranları'!$C$4-(F190+I190))))))","v":0},{"$f":"IF(L190=0,0,IF(ROUND((L190-$M$3)*+'Vergi Oranları'!$G$4/100,2)<0,0,ROUND((L190-$M$3)*+'Vergi Oranları'!$G$4/100,2)))","v":0},{"$f":"IF(E190=0,0,IF(D190=0,0,IF(G190=0,0,IF(OR(G190>+'Vergi Oranları'!$C$4,G190<=+'Vergi Oranları'!$C$5),27))))","v":0},{"$f":"IF(E190=0,0,IF(D190=0,0,IF(G190=0,0,IF(N190=0,0,IF(F190>'Vergi Oranları'!$C$5,0,IF(G190<=+'Vergi Oranları'!$C$5,G190-(F190+I190+L190),+'Vergi Oranları'!$C$5-(F190+I190+L190)))))))","v":0},{"$f":"ROUND(IF(N190=0,0,IF(E190<O190,(E190-$P$3)*'Vergi Oranları'!$G$5/100,(O190-$P$3)*'Vergi Oranları'!$G$5/100)),2)","v":0},{"$f":"IF(E190=0,0,IF(D190=0,0,IF(G190=0,0,IF(G190<=+'Vergi Oranları'!$C$5,0,IF(OR(G190>+'Vergi Oranları'!$C$5,F190+E190<=+'Vergi Oranları'!$C$5),35)))))","v":0},{"$f":"IF(E190=0,0,IF(D190=0,0,IF(G190=0,0,IF(Q190=0,0,IF(F190+E190>=+'Vergi Oranları'!$C$5,G190-(F190+I190+L190+O190),+'Vergi Oranları'!$C$5-(F190+I190+L190+O190))))))","v":0},{"$f":"IF(Q190=0,0,ROUND((R190-$S$3)*+'Vergi Oranları'!$G$6/100,2))","v":0},0]
[null,null,null,null,null,null,0,{"$f":"IF(E191=0,0,IF(D191=0,0,IF(G191=0,0,IF(F191>+'Vergi Oranları'!$C$3,0,IF(OR(G191<='Vergi Oranları'!$C$3,F191+E191<+'Vergi Oranları'!$C$3),15,IF(G191-(E191+F191)<='Vergi Oranları'!$C$3,15,))))))","v":0},{"$f":"IF(E191=0,0,IF(D191=0,0,IF(G191=0,0,IF(H191=0,0,IF(F191+E191<='Vergi Oranları'!$C$3,G191-F191,'Vergi Oranları'!$C$3-F191)))))","v":0},{"$f":"IF(I191=0,0,IF(ROUND((I191-$J$3)*'Vergi Oranları'!$G$3/100,2)<0,0,ROUND((I191-$M$3)*'Vergi Oranları'!$G$3/100,2)))","v":0},{"$f":"IF(E191=0,0,IF(D191=0,0,IF(G191=0,0,IF(F191>+'Vergi Oranları'!$C$4,0,IF(OR(G191<='Vergi Oranları'!$C$4,F191+E191<'Vergi Oranları'!$C$4),20,IF(G191-(E191+F191)<='Vergi Oranları'!$C$4,20,))))))","v":0},{"$f":"IF(E191=0,0,IF(D191=0,0,IF(G191=0,0,IF(K191=0,0,IF(F191+E191<=+'Vergi Oranları'!$C$4,G191-(F191+I191),+'Vergi Oranları'!$C$4-(F191+I191))))))","v":0},{"$f":"IF(L191=0,0,IF(ROUND((L191-$M$3)*+'Vergi Oranları'!$G$4/100,2)<0,0,ROUND((L191-$M$3)*+'Vergi Oranları'!$G$4/100,2)))","v":0},{"$f":"IF(E191=0,0,IF(D191=0,0,IF(G191=0,0,IF(OR(G191>+'Vergi Oranları'!$C$4,G191<=+'Vergi Oranları'!$C$5),27))))","v":0},{"$f":"IF(E191=0,0,IF(D191=0,0,IF(G191=0,0,IF(N191=0,0,IF(F191>'Vergi Oranları'!$C$5,0,IF(G191<=+'Vergi Oranları'!$C$5,G191-(F191+I191+L191),+'Vergi Oranları'!$C$5-(F191+I191+L191)))))))","v":0},{"$f":"ROUND(IF(N191=0,0,IF(E191<O191,(E191-$P$3)*'Vergi Oranları'!$G$5/100,(O191-$P$3)*'Vergi Oranları'!$G$5/100)),2)","v":0},{"$f":"IF(E191=0,0,IF(D191=0,0,IF(G191=0,0,IF(G191<=+'Vergi Oranları'!$C$5,0,IF(OR(G191>+'Vergi Oranları'!$C$5,F191+E191<=+'Vergi Oranları'!$C$5),35)))))","v":0},{"$f":"IF(E191=0,0,IF(D191=0,0,IF(G191=0,0,IF(Q191=0,0,IF(F191+E191>=+'Vergi Oranları'!$C$5,G191-(F191+I191+L191+O191),+'Vergi Oranları'!$C$5-(F191+I191+L191+O191))))))","v":0},{"$f":"IF(Q191=0,0,ROUND((R191-$S$3)*+'Vergi Oranları'!$G$6/100,2))","v":0},0]
[null,null,null,null,null,null,0,{"$f":"IF(E192=0,0,IF(D192=0,0,IF(G192=0,0,IF(F192>+'Vergi Oranları'!$C$3,0,IF(OR(G192<='Vergi Oranları'!$C$3,F192+E192<+'Vergi Oranları'!$C$3),15,IF(G192-(E192+F192)<='Vergi Oranları'!$C$3,15,))))))","v":0},{"$f":"IF(E192=0,0,IF(D192=0,0,IF(G192=0,0,IF(H192=0,0,IF(F192+E192<='Vergi Oranları'!$C$3,G192-F192,'Vergi Oranları'!$C$3-F192)))))","v":0},{"$f":"IF(I192=0,0,IF(ROUND((I192-$J$3)*'Vergi Oranları'!$G$3/100,2)<0,0,ROUND((I192-$M$3)*'Vergi Oranları'!$G$3/100,2)))","v":0},{"$f":"IF(E192=0,0,IF(D192=0,0,IF(G192=0,0,IF(F192>+'Vergi Oranları'!$C$4,0,IF(OR(G192<='Vergi Oranları'!$C$4,F192+E192<'Vergi Oranları'!$C$4),20,IF(G192-(E192+F192)<='Vergi Oranları'!$C$4,20,))))))","v":0},{"$f":"IF(E192=0,0,IF(D192=0,0,IF(G192=0,0,IF(K192=0,0,IF(F192+E192<=+'Vergi Oranları'!$C$4,G192-(F192+I192),+'Vergi Oranları'!$C$4-(F192+I192))))))","v":0},{"$f":"IF(L192=0,0,IF(ROUND((L192-$M$3)*+'Vergi Oranları'!$G$4/100,2)<0,0,ROUND((L192-$M$3)*+'Vergi Oranları'!$G$4/100,2)))","v":0},{"$f":"IF(E192=0,0,IF(D192=0,0,IF(G192=0,0,IF(OR(G192>+'Vergi Oranları'!$C$4,G192<=+'Vergi Oranları'!$C$5),27))))","v":0},{"$f":"IF(E192=0,0,IF(D192=0,0,IF(G192=0,0,IF(N192=0,0,IF(F192>'Vergi Oranları'!$C$5,0,IF(G192<=+'Vergi Oranları'!$C$5,G192-(F192+I192+L192),+'Vergi Oranları'!$C$5-(F192+I192+L192)))))))","v":0},{"$f":"ROUND(IF(N192=0,0,IF(E192<O192,(E192-$P$3)*'Vergi Oranları'!$G$5/100,(O192-$P$3)*'Vergi Oranları'!$G$5/100)),2)","v":0},{"$f":"IF(E192=0,0,IF(D192=0,0,IF(G192=0,0,IF(G192<=+'Vergi Oranları'!$C$5,0,IF(OR(G192>+'Vergi Oranları'!$C$5,F192+E192<=+'Vergi Oranları'!$C$5),35)))))","v":0},{"$f":"IF(E192=0,0,IF(D192=0,0,IF(G192=0,0,IF(Q192=0,0,IF(F192+E192>=+'Vergi Oranları'!$C$5,G192-(F192+I192+L192+O192),+'Vergi Oranları'!$C$5-(F192+I192+L192+O192))))))","v":0},{"$f":"IF(Q192=0,0,ROUND((R192-$S$3)*+'Vergi Oranları'!$G$6/100,2))","v":0},0]
[null,null,null,null,null,null,0,{"$f":"IF(E193=0,0,IF(D193=0,0,IF(G193=0,0,IF(F193>+'Vergi Oranları'!$C$3,0,IF(OR(G193<='Vergi Oranları'!$C$3,F193+E193<+'Vergi Oranları'!$C$3),15,IF(G193-(E193+F193)<='Vergi Oranları'!$C$3,15,))))))","v":0},{"$f":"IF(E193=0,0,IF(D193=0,0,IF(G193=0,0,IF(H193=0,0,IF(F193+E193<='Vergi Oranları'!$C$3,G193-F193,'Vergi Oranları'!$C$3-F193)))))","v":0},{"$f":"IF(I193=0,0,IF(ROUND((I193-$J$3)*'Vergi Oranları'!$G$3/100,2)<0,0,ROUND((I193-$M$3)*'Vergi Oranları'!$G$3/100,2)))","v":0},{"$f":"IF(E193=0,0,IF(D193=0,0,IF(G193=0,0,IF(F193>+'Vergi Oranları'!$C$4,0,IF(OR(G193<='Vergi Oranları'!$C$4,F193+E193<'Vergi Oranları'!$C$4),20,IF(G193-(E193+F193)<='Vergi Oranları'!$C$4,20,))))))","v":0},{"$f":"IF(E193=0,0,IF(D193=0,0,IF(G193=0,0,IF(K193=0,0,IF(F193+E193<=+'Vergi Oranları'!$C$4,G193-(F193+I193),+'Vergi Oranları'!$C$4-(F193+I193))))))","v":0},{"$f":"IF(L193=0,0,IF(ROUND((L193-$M$3)*+'Vergi Oranları'!$G$4/100,2)<0,0,ROUND((L193-$M$3)*+'Vergi Oranları'!$G$4/100,2)))","v":0},{"$f":"IF(E193=0,0,IF(D193=0,0,IF(G193=0,0,IF(OR(G193>+'Vergi Oranları'!$C$4,G193<=+'Vergi Oranları'!$C$5),27))))","v":0},{"$f":"IF(E193=0,0,IF(D193=0,0,IF(G193=0,0,IF(N193=0,0,IF(F193>'Vergi Oranları'!$C$5,0,IF(G193<=+'Vergi Oranları'!$C$5,G193-(F193+I193+L193),+'Vergi Oranları'!$C$5-(F193+I193+L193)))))))","v":0},{"$f":"ROUND(IF(N193=0,0,IF(E193<O193,(E193-$P$3)*'Vergi Oranları'!$G$5/100,(O193-$P$3)*'Vergi Oranları'!$G$5/100)),2)","v":0},{"$f":"IF(E193=0,0,IF(D193=0,0,IF(G193=0,0,IF(G193<=+'Vergi Oranları'!$C$5,0,IF(OR(G193>+'Vergi Oranları'!$C$5,F193+E193<=+'Vergi Oranları'!$C$5),35)))))","v":0},{"$f":"IF(E193=0,0,IF(D193=0,0,IF(G193=0,0,IF(Q193=0,0,IF(F193+E193>=+'Vergi Oranları'!$C$5,G193-(F193+I193+L193+O193),+'Vergi Oranları'!$C$5-(F193+I193+L193+O193))))))","v":0},{"$f":"IF(Q193=0,0,ROUND((R193-$S$3)*+'Vergi Oranları'!$G$6/100,2))","v":0},0]
[null,null,null,null,null,null,0,{"$f":"IF(E194=0,0,IF(D194=0,0,IF(G194=0,0,IF(F194>+'Vergi Oranları'!$C$3,0,IF(OR(G194<='Vergi Oranları'!$C$3,F194+E194<+'Vergi Oranları'!$C$3),15,IF(G194-(E194+F194)<='Vergi Oranları'!$C$3,15,))))))","v":0},{"$f":"IF(E194=0,0,IF(D194=0,0,IF(G194=0,0,IF(H194=0,0,IF(F194+E194<='Vergi Oranları'!$C$3,G194-F194,'Vergi Oranları'!$C$3-F194)))))","v":0},{"$f":"IF(I194=0,0,IF(ROUND((I194-$J$3)*'Vergi Oranları'!$G$3/100,2)<0,0,ROUND((I194-$M$3)*'Vergi Oranları'!$G$3/100,2)))","v":0},{"$f":"IF(E194=0,0,IF(D194=0,0,IF(G194=0,0,IF(F194>+'Vergi Oranları'!$C$4,0,IF(OR(G194<='Vergi Oranları'!$C$4,F194+E194<'Vergi Oranları'!$C$4),20,IF(G194-(E194+F194)<='Vergi Oranları'!$C$4,20,))))))","v":0},{"$f":"IF(E194=0,0,IF(D194=0,0,IF(G194=0,0,IF(K194=0,0,IF(F194+E194<=+'Vergi Oranları'!$C$4,G194-(F194+I194),+'Vergi Oranları'!$C$4-(F194+I194))))))","v":0},{"$f":"IF(L194=0,0,IF(ROUND((L194-$M$3)*+'Vergi Oranları'!$G$4/100,2)<0,0,ROUND((L194-$M$3)*+'Vergi Oranları'!$G$4/100,2)))","v":0},{"$f":"IF(E194=0,0,IF(D194=0,0,IF(G194=0,0,IF(OR(G194>+'Vergi Oranları'!$C$4,G194<=+'Vergi Oranları'!$C$5),27))))","v":0},{"$f":"IF(E194=0,0,IF(D194=0,0,IF(G194=0,0,IF(N194=0,0,IF(F194>'Vergi Oranları'!$C$5,0,IF(G194<=+'Vergi Oranları'!$C$5,G194-(F194+I194+L194),+'Vergi Oranları'!$C$5-(F194+I194+L194)))))))","v":0},{"$f":"ROUND(IF(N194=0,0,IF(E194<O194,(E194-$P$3)*'Vergi Oranları'!$G$5/100,(O194-$P$3)*'Vergi Oranları'!$G$5/100)),2)","v":0},{"$f":"IF(E194=0,0,IF(D194=0,0,IF(G194=0,0,IF(G194<=+'Vergi Oranları'!$C$5,0,IF(OR(G194>+'Vergi Oranları'!$C$5,F194+E194<=+'Vergi Oranları'!$C$5),35)))))","v":0},{"$f":"IF(E194=0,0,IF(D194=0,0,IF(G194=0,0,IF(Q194=0,0,IF(F194+E194>=+'Vergi Oranları'!$C$5,G194-(F194+I194+L194+O194),+'Vergi Oranları'!$C$5-(F194+I194+L194+O194))))))","v":0},{"$f":"IF(Q194=0,0,ROUND((R194-$S$3)*+'Vergi Oranları'!$G$6/100,2))","v":0},0]
[null,null,null,null,null,null,0,{"$f":"IF(E195=0,0,IF(D195=0,0,IF(G195=0,0,IF(F195>+'Vergi Oranları'!$C$3,0,IF(OR(G195<='Vergi Oranları'!$C$3,F195+E195<+'Vergi Oranları'!$C$3),15,IF(G195-(E195+F195)<='Vergi Oranları'!$C$3,15,))))))","v":0},{"$f":"IF(E195=0,0,IF(D195=0,0,IF(G195=0,0,IF(H195=0,0,IF(F195+E195<='Vergi Oranları'!$C$3,G195-F195,'Vergi Oranları'!$C$3-F195)))))","v":0},{"$f":"IF(I195=0,0,IF(ROUND((I195-$J$3)*'Vergi Oranları'!$G$3/100,2)<0,0,ROUND((I195-$M$3)*'Vergi Oranları'!$G$3/100,2)))","v":0},{"$f":"IF(E195=0,0,IF(D195=0,0,IF(G195=0,0,IF(F195>+'Vergi Oranları'!$C$4,0,IF(OR(G195<='Vergi Oranları'!$C$4,F195+E195<'Vergi Oranları'!$C$4),20,IF(G195-(E195+F195)<='Vergi Oranları'!$C$4,20,))))))","v":0},{"$f":"IF(E195=0,0,IF(D195=0,0,IF(G195=0,0,IF(K195=0,0,IF(F195+E195<=+'Vergi Oranları'!$C$4,G195-(F195+I195),+'Vergi Oranları'!$C$4-(F195+I195))))))","v":0},{"$f":"IF(L195=0,0,IF(ROUND((L195-$M$3)*+'Vergi Oranları'!$G$4/100,2)<0,0,ROUND((L195-$M$3)*+'Vergi Oranları'!$G$4/100,2)))","v":0},{"$f":"IF(E195=0,0,IF(D195=0,0,IF(G195=0,0,IF(OR(G195>+'Vergi Oranları'!$C$4,G195<=+'Vergi Oranları'!$C$5),27))))","v":0},{"$f":"IF(E195=0,0,IF(D195=0,0,IF(G195=0,0,IF(N195=0,0,IF(F195>'Vergi Oranları'!$C$5,0,IF(G195<=+'Vergi Oranları'!$C$5,G195-(F195+I195+L195),+'Vergi Oranları'!$C$5-(F195+I195+L195)))))))","v":0},{"$f":"ROUND(IF(N195=0,0,IF(E195<O195,(E195-$P$3)*'Vergi Oranları'!$G$5/100,(O195-$P$3)*'Vergi Oranları'!$G$5/100)),2)","v":0},{"$f":"IF(E195=0,0,IF(D195=0,0,IF(G195=0,0,IF(G195<=+'Vergi Oranları'!$C$5,0,IF(OR(G195>+'Vergi Oranları'!$C$5,F195+E195<=+'Vergi Oranları'!$C$5),35)))))","v":0},{"$f":"IF(E195=0,0,IF(D195=0,0,IF(G195=0,0,IF(Q195=0,0,IF(F195+E195>=+'Vergi Oranları'!$C$5,G195-(F195+I195+L195+O195),+'Vergi Oranları'!$C$5-(F195+I195+L195+O195))))))","v":0},{"$f":"IF(Q195=0,0,ROUND((R195-$S$3)*+'Vergi Oranları'!$G$6/100,2))","v":0},0]
[null,null,null,null,null,null,0,{"$f":"IF(E196=0,0,IF(D196=0,0,IF(G196=0,0,IF(F196>+'Vergi Oranları'!$C$3,0,IF(OR(G196<='Vergi Oranları'!$C$3,F196+E196<+'Vergi Oranları'!$C$3),15,IF(G196-(E196+F196)<='Vergi Oranları'!$C$3,15,))))))","v":0},{"$f":"IF(E196=0,0,IF(D196=0,0,IF(G196=0,0,IF(H196=0,0,IF(F196+E196<='Vergi Oranları'!$C$3,G196-F196,'Vergi Oranları'!$C$3-F196)))))","v":0},{"$f":"IF(I196=0,0,IF(ROUND((I196-$J$3)*'Vergi Oranları'!$G$3/100,2)<0,0,ROUND((I196-$M$3)*'Vergi Oranları'!$G$3/100,2)))","v":0},{"$f":"IF(E196=0,0,IF(D196=0,0,IF(G196=0,0,IF(F196>+'Vergi Oranları'!$C$4,0,IF(OR(G196<='Vergi Oranları'!$C$4,F196+E196<'Vergi Oranları'!$C$4),20,IF(G196-(E196+F196)<='Vergi Oranları'!$C$4,20,))))))","v":0},{"$f":"IF(E196=0,0,IF(D196=0,0,IF(G196=0,0,IF(K196=0,0,IF(F196+E196<=+'Vergi Oranları'!$C$4,G196-(F196+I196),+'Vergi Oranları'!$C$4-(F196+I196))))))","v":0},{"$f":"IF(L196=0,0,IF(ROUND((L196-$M$3)*+'Vergi Oranları'!$G$4/100,2)<0,0,ROUND((L196-$M$3)*+'Vergi Oranları'!$G$4/100,2)))","v":0},{"$f":"IF(E196=0,0,IF(D196=0,0,IF(G196=0,0,IF(OR(G196>+'Vergi Oranları'!$C$4,G196<=+'Vergi Oranları'!$C$5),27))))","v":0},{"$f":"IF(E196=0,0,IF(D196=0,0,IF(G196=0,0,IF(N196=0,0,IF(F196>'Vergi Oranları'!$C$5,0,IF(G196<=+'Vergi Oranları'!$C$5,G196-(F196+I196+L196),+'Vergi Oranları'!$C$5-(F196+I196+L196)))))))","v":0},{"$f":"ROUND(IF(N196=0,0,IF(E196<O196,(E196-$P$3)*'Vergi Oranları'!$G$5/100,(O196-$P$3)*'Vergi Oranları'!$G$5/100)),2)","v":0},{"$f":"IF(E196=0,0,IF(D196=0,0,IF(G196=0,0,IF(G196<=+'Vergi Oranları'!$C$5,0,IF(OR(G196>+'Vergi Oranları'!$C$5,F196+E196<=+'Vergi Oranları'!$C$5),35)))))","v":0},{"$f":"IF(E196=0,0,IF(D196=0,0,IF(G196=0,0,IF(Q196=0,0,IF(F196+E196>=+'Vergi Oranları'!$C$5,G196-(F196+I196+L196+O196),+'Vergi Oranları'!$C$5-(F196+I196+L196+O196))))))","v":0},{"$f":"IF(Q196=0,0,ROUND((R196-$S$3)*+'Vergi Oranları'!$G$6/100,2))","v":0},0]
[null,null,null,null,null,null,0,{"$f":"IF(E197=0,0,IF(D197=0,0,IF(G197=0,0,IF(F197>+'Vergi Oranları'!$C$3,0,IF(OR(G197<='Vergi Oranları'!$C$3,F197+E197<+'Vergi Oranları'!$C$3),15,IF(G197-(E197+F197)<='Vergi Oranları'!$C$3,15,))))))","v":0},{"$f":"IF(E197=0,0,IF(D197=0,0,IF(G197=0,0,IF(H197=0,0,IF(F197+E197<='Vergi Oranları'!$C$3,G197-F197,'Vergi Oranları'!$C$3-F197)))))","v":0},{"$f":"IF(I197=0,0,IF(ROUND((I197-$J$3)*'Vergi Oranları'!$G$3/100,2)<0,0,ROUND((I197-$M$3)*'Vergi Oranları'!$G$3/100,2)))","v":0},{"$f":"IF(E197=0,0,IF(D197=0,0,IF(G197=0,0,IF(F197>+'Vergi Oranları'!$C$4,0,IF(OR(G197<='Vergi Oranları'!$C$4,F197+E197<'Vergi Oranları'!$C$4),20,IF(G197-(E197+F197)<='Vergi Oranları'!$C$4,20,))))))","v":0},{"$f":"IF(E197=0,0,IF(D197=0,0,IF(G197=0,0,IF(K197=0,0,IF(F197+E197<=+'Vergi Oranları'!$C$4,G197-(F197+I197),+'Vergi Oranları'!$C$4-(F197+I197))))))","v":0},{"$f":"IF(L197=0,0,IF(ROUND((L197-$M$3)*+'Vergi Oranları'!$G$4/100,2)<0,0,ROUND((L197-$M$3)*+'Vergi Oranları'!$G$4/100,2)))","v":0},{"$f":"IF(E197=0,0,IF(D197=0,0,IF(G197=0,0,IF(OR(G197>+'Vergi Oranları'!$C$4,G197<=+'Vergi Oranları'!$C$5),27))))","v":0},{"$f":"IF(E197=0,0,IF(D197=0,0,IF(G197=0,0,IF(N197=0,0,IF(F197>'Vergi Oranları'!$C$5,0,IF(G197<=+'Vergi Oranları'!$C$5,G197-(F197+I197+L197),+'Vergi Oranları'!$C$5-(F197+I197+L197)))))))","v":0},{"$f":"ROUND(IF(N197=0,0,IF(E197<O197,(E197-$P$3)*'Vergi Oranları'!$G$5/100,(O197-$P$3)*'Vergi Oranları'!$G$5/100)),2)","v":0},{"$f":"IF(E197=0,0,IF(D197=0,0,IF(G197=0,0,IF(G197<=+'Vergi Oranları'!$C$5,0,IF(OR(G197>+'Vergi Oranları'!$C$5,F197+E197<=+'Vergi Oranları'!$C$5),35)))))","v":0},{"$f":"IF(E197=0,0,IF(D197=0,0,IF(G197=0,0,IF(Q197=0,0,IF(F197+E197>=+'Vergi Oranları'!$C$5,G197-(F197+I197+L197+O197),+'Vergi Oranları'!$C$5-(F197+I197+L197+O197))))))","v":0},{"$f":"IF(Q197=0,0,ROUND((R197-$S$3)*+'Vergi Oranları'!$G$6/100,2))","v":0},0]
[null,null,null,null,null,null,{"$f":"F198+E198","v":0},{"$f":"IF(E198=0,0,IF(D198=0,0,IF(G198=0,0,IF(F198>+'Vergi Oranları'!$C$3,0,IF(OR(G198<='Vergi Oranları'!$C$3,F198+E198<+'Vergi Oranları'!$C$3),15,IF(G198-(E198+F198)<='Vergi Oranları'!$C$3,15,))))))","v":0},{"$f":"IF(E198=0,0,IF(D198=0,0,IF(G198=0,0,IF(H198=0,0,IF(F198+E198<='Vergi Oranları'!$C$3,G198-F198,'Vergi Oranları'!$C$3-F198)))))","v":0},{"$f":"IF(I198=0,0,IF(ROUND((I198-$J$3)*'Vergi Oranları'!$G$3/100,2)<0,0,ROUND((I198-$M$3)*'Vergi Oranları'!$G$3/100,2)))","v":0},{"$f":"IF(E198=0,0,IF(D198=0,0,IF(G198=0,0,IF(F198>+'Vergi Oranları'!$C$4,0,IF(OR(G198<='Vergi Oranları'!$C$4,F198+E198<'Vergi Oranları'!$C$4),20,IF(G198-(E198+F198)<='Vergi Oranları'!$C$4,20,))))))","v":0},{"$f":"IF(E198=0,0,IF(D198=0,0,IF(G198=0,0,IF(K198=0,0,IF(F198+E198<=+'Vergi Oranları'!$C$4,G198-(F198+I198),+'Vergi Oranları'!$C$4-(F198+I198))))))","v":0},{"$f":"IF(L198=0,0,IF(ROUND((L198-$M$3)*+'Vergi Oranları'!$G$4/100,2)<0,0,ROUND((L198-$M$3)*+'Vergi Oranları'!$G$4/100,2)))","v":0},{"$f":"IF(E198=0,0,IF(D198=0,0,IF(G198=0,0,IF(OR(G198>+'Vergi Oranları'!$C$4,G198<=+'Vergi Oranları'!$C$5),27))))","v":0},{"$f":"IF(E198=0,0,IF(D198=0,0,IF(G198=0,0,IF(N198=0,0,IF(F198>'Vergi Oranları'!$C$5,0,IF(G198<=+'Vergi Oranları'!$C$5,G198-(F198+I198+L198),+'Vergi Oranları'!$C$5-(F198+I198+L198)))))))","v":0},{"$f":"ROUND(IF(N198=0,0,IF(E198<O198,(E198-$P$3)*'Vergi Oranları'!$G$5/100,(O198-$P$3)*'Vergi Oranları'!$G$5/100)),2)","v":0},{"$f":"IF(E198=0,0,IF(D198=0,0,IF(G198=0,0,IF(G198<=+'Vergi Oranları'!$C$5,0,IF(OR(G198>+'Vergi Oranları'!$C$5,F198+E198<=+'Vergi Oranları'!$C$5),35)))))","v":0},{"$f":"IF(E198=0,0,IF(D198=0,0,IF(G198=0,0,IF(Q198=0,0,IF(F198+E198>=+'Vergi Oranları'!$C$5,G198-(F198+I198+L198+O198),+'Vergi Oranları'!$C$5-(F198+I198+L198+O198))))))","v":0},{"$f":"IF(Q198=0,0,ROUND((R198-$S$3)*+'Vergi Oranları'!$G$6/100,2))","v":0},{"$f":"SUM(J198+M198+P198+S198)","v":0}]
[null,null,null,null,null,null,0,{"$f":"IF(E199=0,0,IF(D199=0,0,IF(G199=0,0,IF(F199>+'Vergi Oranları'!$C$3,0,IF(OR(G199<='Vergi Oranları'!$C$3,F199+E199<+'Vergi Oranları'!$C$3),15,IF(G199-(E199+F199)<='Vergi Oranları'!$C$3,15,))))))","v":0},{"$f":"IF(E199=0,0,IF(D199=0,0,IF(G199=0,0,IF(H199=0,0,IF(F199+E199<='Vergi Oranları'!$C$3,G199-F199,'Vergi Oranları'!$C$3-F199)))))","v":0},{"$f":"IF(I199=0,0,IF(ROUND((I199-$J$3)*'Vergi Oranları'!$G$3/100,2)<0,0,ROUND((I199-$M$3)*'Vergi Oranları'!$G$3/100,2)))","v":0},{"$f":"IF(E199=0,0,IF(D199=0,0,IF(G199=0,0,IF(F199>+'Vergi Oranları'!$C$4,0,IF(OR(G199<='Vergi Oranları'!$C$4,F199+E199<'Vergi Oranları'!$C$4),20,IF(G199-(E199+F199)<='Vergi Oranları'!$C$4,20,))))))","v":0},{"$f":"IF(E199=0,0,IF(D199=0,0,IF(G199=0,0,IF(K199=0,0,IF(F199+E199<=+'Vergi Oranları'!$C$4,G199-(F199+I199),+'Vergi Oranları'!$C$4-(F199+I199))))))","v":0},{"$f":"IF(L199=0,0,IF(ROUND((L199-$M$3)*+'Vergi Oranları'!$G$4/100,2)<0,0,ROUND((L199-$M$3)*+'Vergi Oranları'!$G$4/100,2)))","v":0},{"$f":"IF(E199=0,0,IF(D199=0,0,IF(G199=0,0,IF(OR(G199>+'Vergi Oranları'!$C$4,G199<=+'Vergi Oranları'!$C$5),27))))","v":0},{"$f":"IF(E199=0,0,IF(D199=0,0,IF(G199=0,0,IF(N199=0,0,IF(F199>'Vergi Oranları'!$C$5,0,IF(G199<=+'Vergi Oranları'!$C$5,G199-(F199+I199+L199),+'Vergi Oranları'!$C$5-(F199+I199+L199)))))))","v":0},{"$f":"ROUND(IF(N199=0,0,IF(E199<O199,(E199-$P$3)*'Vergi Oranları'!$G$5/100,(O199-$P$3)*'Vergi Oranları'!$G$5/100)),2)","v":0},{"$f":"IF(E199=0,0,IF(D199=0,0,IF(G199=0,0,IF(G199<=+'Vergi Oranları'!$C$5,0,IF(OR(G199>+'Vergi Oranları'!$C$5,F199+E199<=+'Vergi Oranları'!$C$5),35)))))","v":0},{"$f":"IF(E199=0,0,IF(D199=0,0,IF(G199=0,0,IF(Q199=0,0,IF(F199+E199>=+'Vergi Oranları'!$C$5,G199-(F199+I199+L199+O199),+'Vergi Oranları'!$C$5-(F199+I199+L199+O199))))))","v":0},{"$f":"IF(Q199=0,0,ROUND((R199-$S$3)*+'Vergi Oranları'!$G$6/100,2))","v":0},0]
[null,null,null,null,null,null,0,{"$f":"IF(E200=0,0,IF(D200=0,0,IF(G200=0,0,IF(F200>+'Vergi Oranları'!$C$3,0,IF(OR(G200<='Vergi Oranları'!$C$3,F200+E200<+'Vergi Oranları'!$C$3),15,IF(G200-(E200+F200)<='Vergi Oranları'!$C$3,15,))))))","v":0},{"$f":"IF(E200=0,0,IF(D200=0,0,IF(G200=0,0,IF(H200=0,0,IF(F200+E200<='Vergi Oranları'!$C$3,G200-F200,'Vergi Oranları'!$C$3-F200)))))","v":0},{"$f":"IF(I200=0,0,IF(ROUND((I200-$J$3)*'Vergi Oranları'!$G$3/100,2)<0,0,ROUND((I200-$M$3)*'Vergi Oranları'!$G$3/100,2)))","v":0},{"$f":"IF(E200=0,0,IF(D200=0,0,IF(G200=0,0,IF(F200>+'Vergi Oranları'!$C$4,0,IF(OR(G200<='Vergi Oranları'!$C$4,F200+E200<'Vergi Oranları'!$C$4),20,IF(G200-(E200+F200)<='Vergi Oranları'!$C$4,20,))))))","v":0},{"$f":"IF(E200=0,0,IF(D200=0,0,IF(G200=0,0,IF(K200=0,0,IF(F200+E200<=+'Vergi Oranları'!$C$4,G200-(F200+I200),+'Vergi Oranları'!$C$4-(F200+I200))))))","v":0},{"$f":"IF(L200=0,0,IF(ROUND((L200-$M$3)*+'Vergi Oranları'!$G$4/100,2)<0,0,ROUND((L200-$M$3)*+'Vergi Oranları'!$G$4/100,2)))","v":0},{"$f":"IF(E200=0,0,IF(D200=0,0,IF(G200=0,0,IF(OR(G200>+'Vergi Oranları'!$C$4,G200<=+'Vergi Oranları'!$C$5),27))))","v":0},{"$f":"IF(E200=0,0,IF(D200=0,0,IF(G200=0,0,IF(N200=0,0,IF(F200>'Vergi Oranları'!$C$5,0,IF(G200<=+'Vergi Oranları'!$C$5,G200-(F200+I200+L200),+'Vergi Oranları'!$C$5-(F200+I200+L200)))))))","v":0},{"$f":"ROUND(IF(N200=0,0,IF(E200<O200,(E200-$P$3)*'Vergi Oranları'!$G$5/100,(O200-$P$3)*'Vergi Oranları'!$G$5/100)),2)","v":0},{"$f":"IF(E200=0,0,IF(D200=0,0,IF(G200=0,0,IF(G200<=+'Vergi Oranları'!$C$5,0,IF(OR(G200>+'Vergi Oranları'!$C$5,F200+E200<=+'Vergi Oranları'!$C$5),35)))))","v":0},{"$f":"IF(E200=0,0,IF(D200=0,0,IF(G200=0,0,IF(Q200=0,0,IF(F200+E200>=+'Vergi Oranları'!$C$5,G200-(F200+I200+L200+O200),+'Vergi Oranları'!$C$5-(F200+I200+L200+O200))))))","v":0},{"$f":"IF(Q200=0,0,ROUND((R200-$S$3)*+'Vergi Oranları'!$G$6/100,2))","v":0},0]
[null,null,null,null,null,null,0,{"$f":"IF(E201=0,0,IF(D201=0,0,IF(G201=0,0,IF(F201>+'Vergi Oranları'!$C$3,0,IF(OR(G201<='Vergi Oranları'!$C$3,F201+E201<+'Vergi Oranları'!$C$3),15,IF(G201-(E201+F201)<='Vergi Oranları'!$C$3,15,))))))","v":0},{"$f":"IF(E201=0,0,IF(D201=0,0,IF(G201=0,0,IF(H201=0,0,IF(F201+E201<='Vergi Oranları'!$C$3,G201-F201,'Vergi Oranları'!$C$3-F201)))))","v":0},{"$f":"IF(I201=0,0,IF(ROUND((I201-$J$3)*'Vergi Oranları'!$G$3/100,2)<0,0,ROUND((I201-$M$3)*'Vergi Oranları'!$G$3/100,2)))","v":0},{"$f":"IF(E201=0,0,IF(D201=0,0,IF(G201=0,0,IF(F201>+'Vergi Oranları'!$C$4,0,IF(OR(G201<='Vergi Oranları'!$C$4,F201+E201<'Vergi Oranları'!$C$4),20,IF(G201-(E201+F201)<='Vergi Oranları'!$C$4,20,))))))","v":0},{"$f":"IF(E201=0,0,IF(D201=0,0,IF(G201=0,0,IF(K201=0,0,IF(F201+E201<=+'Vergi Oranları'!$C$4,G201-(F201+I201),+'Vergi Oranları'!$C$4-(F201+I201))))))","v":0},{"$f":"IF(L201=0,0,IF(ROUND((L201-$M$3)*+'Vergi Oranları'!$G$4/100,2)<0,0,ROUND((L201-$M$3)*+'Vergi Oranları'!$G$4/100,2)))","v":0},{"$f":"IF(E201=0,0,IF(D201=0,0,IF(G201=0,0,IF(OR(G201>+'Vergi Oranları'!$C$4,G201<=+'Vergi Oranları'!$C$5),27))))","v":0},{"$f":"IF(E201=0,0,IF(D201=0,0,IF(G201=0,0,IF(N201=0,0,IF(F201>'Vergi Oranları'!$C$5,0,IF(G201<=+'Vergi Oranları'!$C$5,G201-(F201+I201+L201),+'Vergi Oranları'!$C$5-(F201+I201+L201)))))))","v":0},{"$f":"ROUND(IF(N201=0,0,IF(E201<O201,(E201-$P$3)*'Vergi Oranları'!$G$5/100,(O201-$P$3)*'Vergi Oranları'!$G$5/100)),2)","v":0},{"$f":"IF(E201=0,0,IF(D201=0,0,IF(G201=0,0,IF(G201<=+'Vergi Oranları'!$C$5,0,IF(OR(G201>+'Vergi Oranları'!$C$5,F201+E201<=+'Vergi Oranları'!$C$5),35)))))","v":0},{"$f":"IF(E201=0,0,IF(D201=0,0,IF(G201=0,0,IF(Q201=0,0,IF(F201+E201>=+'Vergi Oranları'!$C$5,G201-(F201+I201+L201+O201),+'Vergi Oranları'!$C$5-(F201+I201+L201+O201))))))","v":0},{"$f":"IF(Q201=0,0,ROUND((R201-$S$3)*+'Vergi Oranları'!$G$6/100,2))","v":0},0]
[null,null,null,null,null,null,0,{"$f":"IF(E202=0,0,IF(D202=0,0,IF(G202=0,0,IF(F202>+'Vergi Oranları'!$C$3,0,IF(OR(G202<='Vergi Oranları'!$C$3,F202+E202<+'Vergi Oranları'!$C$3),15,IF(G202-(E202+F202)<='Vergi Oranları'!$C$3,15,))))))","v":0},{"$f":"IF(E202=0,0,IF(D202=0,0,IF(G202=0,0,IF(H202=0,0,IF(F202+E202<='Vergi Oranları'!$C$3,G202-F202,'Vergi Oranları'!$C$3-F202)))))","v":0},{"$f":"IF(I202=0,0,IF(ROUND((I202-$J$3)*'Vergi Oranları'!$G$3/100,2)<0,0,ROUND((I202-$M$3)*'Vergi Oranları'!$G$3/100,2)))","v":0},{"$f":"IF(E202=0,0,IF(D202=0,0,IF(G202=0,0,IF(F202>+'Vergi Oranları'!$C$4,0,IF(OR(G202<='Vergi Oranları'!$C$4,F202+E202<'Vergi Oranları'!$C$4),20,IF(G202-(E202+F202)<='Vergi Oranları'!$C$4,20,))))))","v":0},{"$f":"IF(E202=0,0,IF(D202=0,0,IF(G202=0,0,IF(K202=0,0,IF(F202+E202<=+'Vergi Oranları'!$C$4,G202-(F202+I202),+'Vergi Oranları'!$C$4-(F202+I202))))))","v":0},{"$f":"IF(L202=0,0,IF(ROUND((L202-$M$3)*+'Vergi Oranları'!$G$4/100,2)<0,0,ROUND((L202-$M$3)*+'Vergi Oranları'!$G$4/100,2)))","v":0},{"$f":"IF(E202=0,0,IF(D202=0,0,IF(G202=0,0,IF(OR(G202>+'Vergi Oranları'!$C$4,G202<=+'Vergi Oranları'!$C$5),27))))","v":0},{"$f":"IF(E202=0,0,IF(D202=0,0,IF(G202=0,0,IF(N202=0,0,IF(F202>'Vergi Oranları'!$C$5,0,IF(G202<=+'Vergi Oranları'!$C$5,G202-(F202+I202+L202),+'Vergi Oranları'!$C$5-(F202+I202+L202)))))))","v":0},{"$f":"ROUND(IF(N202=0,0,IF(E202<O202,(E202-$P$3)*'Vergi Oranları'!$G$5/100,(O202-$P$3)*'Vergi Oranları'!$G$5/100)),2)","v":0},{"$f":"IF(E202=0,0,IF(D202=0,0,IF(G202=0,0,IF(G202<=+'Vergi Oranları'!$C$5,0,IF(OR(G202>+'Vergi Oranları'!$C$5,F202+E202<=+'Vergi Oranları'!$C$5),35)))))","v":0},{"$f":"IF(E202=0,0,IF(D202=0,0,IF(G202=0,0,IF(Q202=0,0,IF(F202+E202>=+'Vergi Oranları'!$C$5,G202-(F202+I202+L202+O202),+'Vergi Oranları'!$C$5-(F202+I202+L202+O202))))))","v":0},{"$f":"IF(Q202=0,0,ROUND((R202-$S$3)*+'Vergi Oranları'!$G$6/100,2))","v":0},0]
[null,null,null,null,null,null,0,{"$f":"IF(E203=0,0,IF(D203=0,0,IF(G203=0,0,IF(F203>+'Vergi Oranları'!$C$3,0,IF(OR(G203<='Vergi Oranları'!$C$3,F203+E203<+'Vergi Oranları'!$C$3),15,IF(G203-(E203+F203)<='Vergi Oranları'!$C$3,15,))))))","v":0},{"$f":"IF(E203=0,0,IF(D203=0,0,IF(G203=0,0,IF(H203=0,0,IF(F203+E203<='Vergi Oranları'!$C$3,G203-F203,'Vergi Oranları'!$C$3-F203)))))","v":0},{"$f":"IF(I203=0,0,IF(ROUND((I203-$J$3)*'Vergi Oranları'!$G$3/100,2)<0,0,ROUND((I203-$M$3)*'Vergi Oranları'!$G$3/100,2)))","v":0},{"$f":"IF(E203=0,0,IF(D203=0,0,IF(G203=0,0,IF(F203>+'Vergi Oranları'!$C$4,0,IF(OR(G203<='Vergi Oranları'!$C$4,F203+E203<'Vergi Oranları'!$C$4),20,IF(G203-(E203+F203)<='Vergi Oranları'!$C$4,20,))))))","v":0},{"$f":"IF(E203=0,0,IF(D203=0,0,IF(G203=0,0,IF(K203=0,0,IF(F203+E203<=+'Vergi Oranları'!$C$4,G203-(F203+I203),+'Vergi Oranları'!$C$4-(F203+I203))))))","v":0},{"$f":"IF(L203=0,0,IF(ROUND((L203-$M$3)*+'Vergi Oranları'!$G$4/100,2)<0,0,ROUND((L203-$M$3)*+'Vergi Oranları'!$G$4/100,2)))","v":0},{"$f":"IF(E203=0,0,IF(D203=0,0,IF(G203=0,0,IF(OR(G203>+'Vergi Oranları'!$C$4,G203<=+'Vergi Oranları'!$C$5),27))))","v":0},{"$f":"IF(E203=0,0,IF(D203=0,0,IF(G203=0,0,IF(N203=0,0,IF(F203>'Vergi Oranları'!$C$5,0,IF(G203<=+'Vergi Oranları'!$C$5,G203-(F203+I203+L203),+'Vergi Oranları'!$C$5-(F203+I203+L203)))))))","v":0},{"$f":"ROUND(IF(N203=0,0,IF(E203<O203,(E203-$P$3)*'Vergi Oranları'!$G$5/100,(O203-$P$3)*'Vergi Oranları'!$G$5/100)),2)","v":0},{"$f":"IF(E203=0,0,IF(D203=0,0,IF(G203=0,0,IF(G203<=+'Vergi Oranları'!$C$5,0,IF(OR(G203>+'Vergi Oranları'!$C$5,F203+E203<=+'Vergi Oranları'!$C$5),35)))))","v":0},{"$f":"IF(E203=0,0,IF(D203=0,0,IF(G203=0,0,IF(Q203=0,0,IF(F203+E203>=+'Vergi Oranları'!$C$5,G203-(F203+I203+L203+O203),+'Vergi Oranları'!$C$5-(F203+I203+L203+O203))))))","v":0},{"$f":"IF(Q203=0,0,ROUND((R203-$S$3)*+'Vergi Oranları'!$G$6/100,2))","v":0},0]
[null,null,null,null,null,null,0,{"$f":"IF(E204=0,0,IF(D204=0,0,IF(G204=0,0,IF(F204>+'Vergi Oranları'!$C$3,0,IF(OR(G204<='Vergi Oranları'!$C$3,F204+E204<+'Vergi Oranları'!$C$3),15,IF(G204-(E204+F204)<='Vergi Oranları'!$C$3,15,))))))","v":0},{"$f":"IF(E204=0,0,IF(D204=0,0,IF(G204=0,0,IF(H204=0,0,IF(F204+E204<='Vergi Oranları'!$C$3,G204-F204,'Vergi Oranları'!$C$3-F204)))))","v":0},{"$f":"IF(I204=0,0,IF(ROUND((I204-$J$3)*'Vergi Oranları'!$G$3/100,2)<0,0,ROUND((I204-$M$3)*'Vergi Oranları'!$G$3/100,2)))","v":0},{"$f":"IF(E204=0,0,IF(D204=0,0,IF(G204=0,0,IF(F204>+'Vergi Oranları'!$C$4,0,IF(OR(G204<='Vergi Oranları'!$C$4,F204+E204<'Vergi Oranları'!$C$4),20,IF(G204-(E204+F204)<='Vergi Oranları'!$C$4,20,))))))","v":0},{"$f":"IF(E204=0,0,IF(D204=0,0,IF(G204=0,0,IF(K204=0,0,IF(F204+E204<=+'Vergi Oranları'!$C$4,G204-(F204+I204),+'Vergi Oranları'!$C$4-(F204+I204))))))","v":0},{"$f":"IF(L204=0,0,IF(ROUND((L204-$M$3)*+'Vergi Oranları'!$G$4/100,2)<0,0,ROUND((L204-$M$3)*+'Vergi Oranları'!$G$4/100,2)))","v":0},{"$f":"IF(E204=0,0,IF(D204=0,0,IF(G204=0,0,IF(OR(G204>+'Vergi Oranları'!$C$4,G204<=+'Vergi Oranları'!$C$5),27))))","v":0},{"$f":"IF(E204=0,0,IF(D204=0,0,IF(G204=0,0,IF(N204=0,0,IF(F204>'Vergi Oranları'!$C$5,0,IF(G204<=+'Vergi Oranları'!$C$5,G204-(F204+I204+L204),+'Vergi Oranları'!$C$5-(F204+I204+L204)))))))","v":0},{"$f":"ROUND(IF(N204=0,0,IF(E204<O204,(E204-$P$3)*'Vergi Oranları'!$G$5/100,(O204-$P$3)*'Vergi Oranları'!$G$5/100)),2)","v":0},{"$f":"IF(E204=0,0,IF(D204=0,0,IF(G204=0,0,IF(G204<=+'Vergi Oranları'!$C$5,0,IF(OR(G204>+'Vergi Oranları'!$C$5,F204+E204<=+'Vergi Oranları'!$C$5),35)))))","v":0},{"$f":"IF(E204=0,0,IF(D204=0,0,IF(G204=0,0,IF(Q204=0,0,IF(F204+E204>=+'Vergi Oranları'!$C$5,G204-(F204+I204+L204+O204),+'Vergi Oranları'!$C$5-(F204+I204+L204+O204))))))","v":0},{"$f":"IF(Q204=0,0,ROUND((R204-$S$3)*+'Vergi Oranları'!$G$6/100,2))","v":0},0]
[null,null,null,null,null,null,0,{"$f":"IF(E205=0,0,IF(D205=0,0,IF(G205=0,0,IF(F205>+'Vergi Oranları'!$C$3,0,IF(OR(G205<='Vergi Oranları'!$C$3,F205+E205<+'Vergi Oranları'!$C$3),15,IF(G205-(E205+F205)<='Vergi Oranları'!$C$3,15,))))))","v":0},{"$f":"IF(E205=0,0,IF(D205=0,0,IF(G205=0,0,IF(H205=0,0,IF(F205+E205<='Vergi Oranları'!$C$3,G205-F205,'Vergi Oranları'!$C$3-F205)))))","v":0},{"$f":"IF(I205=0,0,IF(ROUND((I205-$J$3)*'Vergi Oranları'!$G$3/100,2)<0,0,ROUND((I205-$M$3)*'Vergi Oranları'!$G$3/100,2)))","v":0},{"$f":"IF(E205=0,0,IF(D205=0,0,IF(G205=0,0,IF(F205>+'Vergi Oranları'!$C$4,0,IF(OR(G205<='Vergi Oranları'!$C$4,F205+E205<'Vergi Oranları'!$C$4),20,IF(G205-(E205+F205)<='Vergi Oranları'!$C$4,20,))))))","v":0},{"$f":"IF(E205=0,0,IF(D205=0,0,IF(G205=0,0,IF(K205=0,0,IF(F205+E205<=+'Vergi Oranları'!$C$4,G205-(F205+I205),+'Vergi Oranları'!$C$4-(F205+I205))))))","v":0},{"$f":"IF(L205=0,0,IF(ROUND((L205-$M$3)*+'Vergi Oranları'!$G$4/100,2)<0,0,ROUND((L205-$M$3)*+'Vergi Oranları'!$G$4/100,2)))","v":0},{"$f":"IF(E205=0,0,IF(D205=0,0,IF(G205=0,0,IF(OR(G205>+'Vergi Oranları'!$C$4,G205<=+'Vergi Oranları'!$C$5),27))))","v":0},{"$f":"IF(E205=0,0,IF(D205=0,0,IF(G205=0,0,IF(N205=0,0,IF(F205>'Vergi Oranları'!$C$5,0,IF(G205<=+'Vergi Oranları'!$C$5,G205-(F205+I205+L205),+'Vergi Oranları'!$C$5-(F205+I205+L205)))))))","v":0},{"$f":"ROUND(IF(N205=0,0,IF(E205<O205,(E205-$P$3)*'Vergi Oranları'!$G$5/100,(O205-$P$3)*'Vergi Oranları'!$G$5/100)),2)","v":0},{"$f":"IF(E205=0,0,IF(D205=0,0,IF(G205=0,0,IF(G205<=+'Vergi Oranları'!$C$5,0,IF(OR(G205>+'Vergi Oranları'!$C$5,F205+E205<=+'Vergi Oranları'!$C$5),35)))))","v":0},{"$f":"IF(E205=0,0,IF(D205=0,0,IF(G205=0,0,IF(Q205=0,0,IF(F205+E205>=+'Vergi Oranları'!$C$5,G205-(F205+I205+L205+O205),+'Vergi Oranları'!$C$5-(F205+I205+L205+O205))))))","v":0},{"$f":"IF(Q205=0,0,ROUND((R205-$S$3)*+'Vergi Oranları'!$G$6/100,2))","v":0},0]
[null,null,null,null,null,null,0,{"$f":"IF(E206=0,0,IF(D206=0,0,IF(G206=0,0,IF(F206>+'Vergi Oranları'!$C$3,0,IF(OR(G206<='Vergi Oranları'!$C$3,F206+E206<+'Vergi Oranları'!$C$3),15,IF(G206-(E206+F206)<='Vergi Oranları'!$C$3,15,))))))","v":0},{"$f":"IF(E206=0,0,IF(D206=0,0,IF(G206=0,0,IF(H206=0,0,IF(F206+E206<='Vergi Oranları'!$C$3,G206-F206,'Vergi Oranları'!$C$3-F206)))))","v":0},{"$f":"IF(I206=0,0,IF(ROUND((I206-$J$3)*'Vergi Oranları'!$G$3/100,2)<0,0,ROUND((I206-$M$3)*'Vergi Oranları'!$G$3/100,2)))","v":0},{"$f":"IF(E206=0,0,IF(D206=0,0,IF(G206=0,0,IF(F206>+'Vergi Oranları'!$C$4,0,IF(OR(G206<='Vergi Oranları'!$C$4,F206+E206<'Vergi Oranları'!$C$4),20,IF(G206-(E206+F206)<='Vergi Oranları'!$C$4,20,))))))","v":0},{"$f":"IF(E206=0,0,IF(D206=0,0,IF(G206=0,0,IF(K206=0,0,IF(F206+E206<=+'Vergi Oranları'!$C$4,G206-(F206+I206),+'Vergi Oranları'!$C$4-(F206+I206))))))","v":0},{"$f":"IF(L206=0,0,IF(ROUND((L206-$M$3)*+'Vergi Oranları'!$G$4/100,2)<0,0,ROUND((L206-$M$3)*+'Vergi Oranları'!$G$4/100,2)))","v":0},{"$f":"IF(E206=0,0,IF(D206=0,0,IF(G206=0,0,IF(OR(G206>+'Vergi Oranları'!$C$4,G206<=+'Vergi Oranları'!$C$5),27))))","v":0},{"$f":"IF(E206=0,0,IF(D206=0,0,IF(G206=0,0,IF(N206=0,0,IF(F206>'Vergi Oranları'!$C$5,0,IF(G206<=+'Vergi Oranları'!$C$5,G206-(F206+I206+L206),+'Vergi Oranları'!$C$5-(F206+I206+L206)))))))","v":0},{"$f":"ROUND(IF(N206=0,0,IF(E206<O206,(E206-$P$3)*'Vergi Oranları'!$G$5/100,(O206-$P$3)*'Vergi Oranları'!$G$5/100)),2)","v":0},{"$f":"IF(E206=0,0,IF(D206=0,0,IF(G206=0,0,IF(G206<=+'Vergi Oranları'!$C$5,0,IF(OR(G206>+'Vergi Oranları'!$C$5,F206+E206<=+'Vergi Oranları'!$C$5),35)))))","v":0},{"$f":"IF(E206=0,0,IF(D206=0,0,IF(G206=0,0,IF(Q206=0,0,IF(F206+E206>=+'Vergi Oranları'!$C$5,G206-(F206+I206+L206+O206),+'Vergi Oranları'!$C$5-(F206+I206+L206+O206))))))","v":0},{"$f":"IF(Q206=0,0,ROUND((R206-$S$3)*+'Vergi Oranları'!$G$6/100,2))","v":0},0]
[null,null,null,null,null,null,0,{"$f":"IF(E207=0,0,IF(D207=0,0,IF(G207=0,0,IF(F207>+'Vergi Oranları'!$C$3,0,IF(OR(G207<='Vergi Oranları'!$C$3,F207+E207<+'Vergi Oranları'!$C$3),15,IF(G207-(E207+F207)<='Vergi Oranları'!$C$3,15,))))))","v":0},{"$f":"IF(E207=0,0,IF(D207=0,0,IF(G207=0,0,IF(H207=0,0,IF(F207+E207<='Vergi Oranları'!$C$3,G207-F207,'Vergi Oranları'!$C$3-F207)))))","v":0},{"$f":"IF(I207=0,0,IF(ROUND((I207-$J$3)*'Vergi Oranları'!$G$3/100,2)<0,0,ROUND((I207-$M$3)*'Vergi Oranları'!$G$3/100,2)))","v":0},{"$f":"IF(E207=0,0,IF(D207=0,0,IF(G207=0,0,IF(F207>+'Vergi Oranları'!$C$4,0,IF(OR(G207<='Vergi Oranları'!$C$4,F207+E207<'Vergi Oranları'!$C$4),20,IF(G207-(E207+F207)<='Vergi Oranları'!$C$4,20,))))))","v":0},{"$f":"IF(E207=0,0,IF(D207=0,0,IF(G207=0,0,IF(K207=0,0,IF(F207+E207<=+'Vergi Oranları'!$C$4,G207-(F207+I207),+'Vergi Oranları'!$C$4-(F207+I207))))))","v":0},{"$f":"IF(L207=0,0,IF(ROUND((L207-$M$3)*+'Vergi Oranları'!$G$4/100,2)<0,0,ROUND((L207-$M$3)*+'Vergi Oranları'!$G$4/100,2)))","v":0},{"$f":"IF(E207=0,0,IF(D207=0,0,IF(G207=0,0,IF(OR(G207>+'Vergi Oranları'!$C$4,G207<=+'Vergi Oranları'!$C$5),27))))","v":0},{"$f":"IF(E207=0,0,IF(D207=0,0,IF(G207=0,0,IF(N207=0,0,IF(F207>'Vergi Oranları'!$C$5,0,IF(G207<=+'Vergi Oranları'!$C$5,G207-(F207+I207+L207),+'Vergi Oranları'!$C$5-(F207+I207+L207)))))))","v":0},{"$f":"ROUND(IF(N207=0,0,IF(E207<O207,(E207-$P$3)*'Vergi Oranları'!$G$5/100,(O207-$P$3)*'Vergi Oranları'!$G$5/100)),2)","v":0},{"$f":"IF(E207=0,0,IF(D207=0,0,IF(G207=0,0,IF(G207<=+'Vergi Oranları'!$C$5,0,IF(OR(G207>+'Vergi Oranları'!$C$5,F207+E207<=+'Vergi Oranları'!$C$5),35)))))","v":0},{"$f":"IF(E207=0,0,IF(D207=0,0,IF(G207=0,0,IF(Q207=0,0,IF(F207+E207>=+'Vergi Oranları'!$C$5,G207-(F207+I207+L207+O207),+'Vergi Oranları'!$C$5-(F207+I207+L207+O207))))))","v":0},{"$f":"IF(Q207=0,0,ROUND((R207-$S$3)*+'Vergi Oranları'!$G$6/100,2))","v":0},0]
[null,null,null,null,null,null,0,{"$f":"IF(E208=0,0,IF(D208=0,0,IF(G208=0,0,IF(F208>+'Vergi Oranları'!$C$3,0,IF(OR(G208<='Vergi Oranları'!$C$3,F208+E208<+'Vergi Oranları'!$C$3),15,IF(G208-(E208+F208)<='Vergi Oranları'!$C$3,15,))))))","v":0},{"$f":"IF(E208=0,0,IF(D208=0,0,IF(G208=0,0,IF(H208=0,0,IF(F208+E208<='Vergi Oranları'!$C$3,G208-F208,'Vergi Oranları'!$C$3-F208)))))","v":0},{"$f":"IF(I208=0,0,IF(ROUND((I208-$J$3)*'Vergi Oranları'!$G$3/100,2)<0,0,ROUND((I208-$M$3)*'Vergi Oranları'!$G$3/100,2)))","v":0},{"$f":"IF(E208=0,0,IF(D208=0,0,IF(G208=0,0,IF(F208>+'Vergi Oranları'!$C$4,0,IF(OR(G208<='Vergi Oranları'!$C$4,F208+E208<'Vergi Oranları'!$C$4),20,IF(G208-(E208+F208)<='Vergi Oranları'!$C$4,20,))))))","v":0},{"$f":"IF(E208=0,0,IF(D208=0,0,IF(G208=0,0,IF(K208=0,0,IF(F208+E208<=+'Vergi Oranları'!$C$4,G208-(F208+I208),+'Vergi Oranları'!$C$4-(F208+I208))))))","v":0},{"$f":"IF(L208=0,0,IF(ROUND((L208-$M$3)*+'Vergi Oranları'!$G$4/100,2)<0,0,ROUND((L208-$M$3)*+'Vergi Oranları'!$G$4/100,2)))","v":0},{"$f":"IF(E208=0,0,IF(D208=0,0,IF(G208=0,0,IF(OR(G208>+'Vergi Oranları'!$C$4,G208<=+'Vergi Oranları'!$C$5),27))))","v":0},{"$f":"IF(E208=0,0,IF(D208=0,0,IF(G208=0,0,IF(N208=0,0,IF(F208>'Vergi Oranları'!$C$5,0,IF(G208<=+'Vergi Oranları'!$C$5,G208-(F208+I208+L208),+'Vergi Oranları'!$C$5-(F208+I208+L208)))))))","v":0},{"$f":"ROUND(IF(N208=0,0,IF(E208<O208,(E208-$P$3)*'Vergi Oranları'!$G$5/100,(O208-$P$3)*'Vergi Oranları'!$G$5/100)),2)","v":0},{"$f":"IF(E208=0,0,IF(D208=0,0,IF(G208=0,0,IF(G208<=+'Vergi Oranları'!$C$5,0,IF(OR(G208>+'Vergi Oranları'!$C$5,F208+E208<=+'Vergi Oranları'!$C$5),35)))))","v":0},{"$f":"IF(E208=0,0,IF(D208=0,0,IF(G208=0,0,IF(Q208=0,0,IF(F208+E208>=+'Vergi Oranları'!$C$5,G208-(F208+I208+L208+O208),+'Vergi Oranları'!$C$5-(F208+I208+L208+O208))))))","v":0},{"$f":"IF(Q208=0,0,ROUND((R208-$S$3)*+'Vergi Oranları'!$G$6/100,2))","v":0},0]
[null,null,null,null,null,null,0,{"$f":"IF(E209=0,0,IF(D209=0,0,IF(G209=0,0,IF(F209>+'Vergi Oranları'!$C$3,0,IF(OR(G209<='Vergi Oranları'!$C$3,F209+E209<+'Vergi Oranları'!$C$3),15,IF(G209-(E209+F209)<='Vergi Oranları'!$C$3,15,))))))","v":0},{"$f":"IF(E209=0,0,IF(D209=0,0,IF(G209=0,0,IF(H209=0,0,IF(F209+E209<='Vergi Oranları'!$C$3,G209-F209,'Vergi Oranları'!$C$3-F209)))))","v":0},{"$f":"IF(I209=0,0,IF(ROUND((I209-$J$3)*'Vergi Oranları'!$G$3/100,2)<0,0,ROUND((I209-$M$3)*'Vergi Oranları'!$G$3/100,2)))","v":0},{"$f":"IF(E209=0,0,IF(D209=0,0,IF(G209=0,0,IF(F209>+'Vergi Oranları'!$C$4,0,IF(OR(G209<='Vergi Oranları'!$C$4,F209+E209<'Vergi Oranları'!$C$4),20,IF(G209-(E209+F209)<='Vergi Oranları'!$C$4,20,))))))","v":0},{"$f":"IF(E209=0,0,IF(D209=0,0,IF(G209=0,0,IF(K209=0,0,IF(F209+E209<=+'Vergi Oranları'!$C$4,G209-(F209+I209),+'Vergi Oranları'!$C$4-(F209+I209))))))","v":0},{"$f":"IF(L209=0,0,IF(ROUND((L209-$M$3)*+'Vergi Oranları'!$G$4/100,2)<0,0,ROUND((L209-$M$3)*+'Vergi Oranları'!$G$4/100,2)))","v":0},{"$f":"IF(E209=0,0,IF(D209=0,0,IF(G209=0,0,IF(OR(G209>+'Vergi Oranları'!$C$4,G209<=+'Vergi Oranları'!$C$5),27))))","v":0},{"$f":"IF(E209=0,0,IF(D209=0,0,IF(G209=0,0,IF(N209=0,0,IF(F209>'Vergi Oranları'!$C$5,0,IF(G209<=+'Vergi Oranları'!$C$5,G209-(F209+I209+L209),+'Vergi Oranları'!$C$5-(F209+I209+L209)))))))","v":0},{"$f":"ROUND(IF(N209=0,0,IF(E209<O209,(E209-$P$3)*'Vergi Oranları'!$G$5/100,(O209-$P$3)*'Vergi Oranları'!$G$5/100)),2)","v":0},{"$f":"IF(E209=0,0,IF(D209=0,0,IF(G209=0,0,IF(G209<=+'Vergi Oranları'!$C$5,0,IF(OR(G209>+'Vergi Oranları'!$C$5,F209+E209<=+'Vergi Oranları'!$C$5),35)))))","v":0},{"$f":"IF(E209=0,0,IF(D209=0,0,IF(G209=0,0,IF(Q209=0,0,IF(F209+E209>=+'Vergi Oranları'!$C$5,G209-(F209+I209+L209+O209),+'Vergi Oranları'!$C$5-(F209+I209+L209+O209))))))","v":0},{"$f":"IF(Q209=0,0,ROUND((R209-$S$3)*+'Vergi Oranları'!$G$6/100,2))","v":0},0]
[null,null,null,null,null,null,0,{"$f":"IF(E210=0,0,IF(D210=0,0,IF(G210=0,0,IF(F210>+'Vergi Oranları'!$C$3,0,IF(OR(G210<='Vergi Oranları'!$C$3,F210+E210<+'Vergi Oranları'!$C$3),15,IF(G210-(E210+F210)<='Vergi Oranları'!$C$3,15,))))))","v":0},{"$f":"IF(E210=0,0,IF(D210=0,0,IF(G210=0,0,IF(H210=0,0,IF(F210+E210<='Vergi Oranları'!$C$3,G210-F210,'Vergi Oranları'!$C$3-F210)))))","v":0},{"$f":"IF(I210=0,0,IF(ROUND((I210-$J$3)*'Vergi Oranları'!$G$3/100,2)<0,0,ROUND((I210-$M$3)*'Vergi Oranları'!$G$3/100,2)))","v":0},{"$f":"IF(E210=0,0,IF(D210=0,0,IF(G210=0,0,IF(F210>+'Vergi Oranları'!$C$4,0,IF(OR(G210<='Vergi Oranları'!$C$4,F210+E210<'Vergi Oranları'!$C$4),20,IF(G210-(E210+F210)<='Vergi Oranları'!$C$4,20,))))))","v":0},{"$f":"IF(E210=0,0,IF(D210=0,0,IF(G210=0,0,IF(K210=0,0,IF(F210+E210<=+'Vergi Oranları'!$C$4,G210-(F210+I210),+'Vergi Oranları'!$C$4-(F210+I210))))))","v":0},{"$f":"IF(L210=0,0,IF(ROUND((L210-$M$3)*+'Vergi Oranları'!$G$4/100,2)<0,0,ROUND((L210-$M$3)*+'Vergi Oranları'!$G$4/100,2)))","v":0},{"$f":"IF(E210=0,0,IF(D210=0,0,IF(G210=0,0,IF(OR(G210>+'Vergi Oranları'!$C$4,G210<=+'Vergi Oranları'!$C$5),27))))","v":0},{"$f":"IF(E210=0,0,IF(D210=0,0,IF(G210=0,0,IF(N210=0,0,IF(F210>'Vergi Oranları'!$C$5,0,IF(G210<=+'Vergi Oranları'!$C$5,G210-(F210+I210+L210),+'Vergi Oranları'!$C$5-(F210+I210+L210)))))))","v":0},{"$f":"ROUND(IF(N210=0,0,IF(E210<O210,(E210-$P$3)*'Vergi Oranları'!$G$5/100,(O210-$P$3)*'Vergi Oranları'!$G$5/100)),2)","v":0},{"$f":"IF(E210=0,0,IF(D210=0,0,IF(G210=0,0,IF(G210<=+'Vergi Oranları'!$C$5,0,IF(OR(G210>+'Vergi Oranları'!$C$5,F210+E210<=+'Vergi Oranları'!$C$5),35)))))","v":0},{"$f":"IF(E210=0,0,IF(D210=0,0,IF(G210=0,0,IF(Q210=0,0,IF(F210+E210>=+'Vergi Oranları'!$C$5,G210-(F210+I210+L210+O210),+'Vergi Oranları'!$C$5-(F210+I210+L210+O210))))))","v":0},{"$f":"IF(Q210=0,0,ROUND((R210-$S$3)*+'Vergi Oranları'!$G$6/100,2))","v":0},0]
[null,null,null,null,null,null,0,{"$f":"IF(E211=0,0,IF(D211=0,0,IF(G211=0,0,IF(F211>+'Vergi Oranları'!$C$3,0,IF(OR(G211<='Vergi Oranları'!$C$3,F211+E211<+'Vergi Oranları'!$C$3),15,IF(G211-(E211+F211)<='Vergi Oranları'!$C$3,15,))))))","v":0},{"$f":"IF(E211=0,0,IF(D211=0,0,IF(G211=0,0,IF(H211=0,0,IF(F211+E211<='Vergi Oranları'!$C$3,G211-F211,'Vergi Oranları'!$C$3-F211)))))","v":0},{"$f":"IF(I211=0,0,IF(ROUND((I211-$J$3)*'Vergi Oranları'!$G$3/100,2)<0,0,ROUND((I211-$M$3)*'Vergi Oranları'!$G$3/100,2)))","v":0},{"$f":"IF(E211=0,0,IF(D211=0,0,IF(G211=0,0,IF(F211>+'Vergi Oranları'!$C$4,0,IF(OR(G211<='Vergi Oranları'!$C$4,F211+E211<'Vergi Oranları'!$C$4),20,IF(G211-(E211+F211)<='Vergi Oranları'!$C$4,20,))))))","v":0},{"$f":"IF(E211=0,0,IF(D211=0,0,IF(G211=0,0,IF(K211=0,0,IF(F211+E211<=+'Vergi Oranları'!$C$4,G211-(F211+I211),+'Vergi Oranları'!$C$4-(F211+I211))))))","v":0},{"$f":"IF(L211=0,0,IF(ROUND((L211-$M$3)*+'Vergi Oranları'!$G$4/100,2)<0,0,ROUND((L211-$M$3)*+'Vergi Oranları'!$G$4/100,2)))","v":0},{"$f":"IF(E211=0,0,IF(D211=0,0,IF(G211=0,0,IF(OR(G211>+'Vergi Oranları'!$C$4,G211<=+'Vergi Oranları'!$C$5),27))))","v":0},{"$f":"IF(E211=0,0,IF(D211=0,0,IF(G211=0,0,IF(N211=0,0,IF(F211>'Vergi Oranları'!$C$5,0,IF(G211<=+'Vergi Oranları'!$C$5,G211-(F211+I211+L211),+'Vergi Oranları'!$C$5-(F211+I211+L211)))))))","v":0},{"$f":"ROUND(IF(N211=0,0,IF(E211<O211,(E211-$P$3)*'Vergi Oranları'!$G$5/100,(O211-$P$3)*'Vergi Oranları'!$G$5/100)),2)","v":0},{"$f":"IF(E211=0,0,IF(D211=0,0,IF(G211=0,0,IF(G211<=+'Vergi Oranları'!$C$5,0,IF(OR(G211>+'Vergi Oranları'!$C$5,F211+E211<=+'Vergi Oranları'!$C$5),35)))))","v":0},{"$f":"IF(E211=0,0,IF(D211=0,0,IF(G211=0,0,IF(Q211=0,0,IF(F211+E211>=+'Vergi Oranları'!$C$5,G211-(F211+I211+L211+O211),+'Vergi Oranları'!$C$5-(F211+I211+L211+O211))))))","v":0},{"$f":"IF(Q211=0,0,ROUND((R211-$S$3)*+'Vergi Oranları'!$G$6/100,2))","v":0},0]
[null,null,null,null,null,null,0,{"$f":"IF(E212=0,0,IF(D212=0,0,IF(G212=0,0,IF(F212>+'Vergi Oranları'!$C$3,0,IF(OR(G212<='Vergi Oranları'!$C$3,F212+E212<+'Vergi Oranları'!$C$3),15,IF(G212-(E212+F212)<='Vergi Oranları'!$C$3,15,))))))","v":0},{"$f":"IF(E212=0,0,IF(D212=0,0,IF(G212=0,0,IF(H212=0,0,IF(F212+E212<='Vergi Oranları'!$C$3,G212-F212,'Vergi Oranları'!$C$3-F212)))))","v":0},{"$f":"IF(I212=0,0,IF(ROUND((I212-$J$3)*'Vergi Oranları'!$G$3/100,2)<0,0,ROUND((I212-$M$3)*'Vergi Oranları'!$G$3/100,2)))","v":0},{"$f":"IF(E212=0,0,IF(D212=0,0,IF(G212=0,0,IF(F212>+'Vergi Oranları'!$C$4,0,IF(OR(G212<='Vergi Oranları'!$C$4,F212+E212<'Vergi Oranları'!$C$4),20,IF(G212-(E212+F212)<='Vergi Oranları'!$C$4,20,))))))","v":0},{"$f":"IF(E212=0,0,IF(D212=0,0,IF(G212=0,0,IF(K212=0,0,IF(F212+E212<=+'Vergi Oranları'!$C$4,G212-(F212+I212),+'Vergi Oranları'!$C$4-(F212+I212))))))","v":0},{"$f":"IF(L212=0,0,IF(ROUND((L212-$M$3)*+'Vergi Oranları'!$G$4/100,2)<0,0,ROUND((L212-$M$3)*+'Vergi Oranları'!$G$4/100,2)))","v":0},{"$f":"IF(E212=0,0,IF(D212=0,0,IF(G212=0,0,IF(OR(G212>+'Vergi Oranları'!$C$4,G212<=+'Vergi Oranları'!$C$5),27))))","v":0},{"$f":"IF(E212=0,0,IF(D212=0,0,IF(G212=0,0,IF(N212=0,0,IF(F212>'Vergi Oranları'!$C$5,0,IF(G212<=+'Vergi Oranları'!$C$5,G212-(F212+I212+L212),+'Vergi Oranları'!$C$5-(F212+I212+L212)))))))","v":0},{"$f":"ROUND(IF(N212=0,0,IF(E212<O212,(E212-$P$3)*'Vergi Oranları'!$G$5/100,(O212-$P$3)*'Vergi Oranları'!$G$5/100)),2)","v":0},{"$f":"IF(E212=0,0,IF(D212=0,0,IF(G212=0,0,IF(G212<=+'Vergi Oranları'!$C$5,0,IF(OR(G212>+'Vergi Oranları'!$C$5,F212+E212<=+'Vergi Oranları'!$C$5),35)))))","v":0},{"$f":"IF(E212=0,0,IF(D212=0,0,IF(G212=0,0,IF(Q212=0,0,IF(F212+E212>=+'Vergi Oranları'!$C$5,G212-(F212+I212+L212+O212),+'Vergi Oranları'!$C$5-(F212+I212+L212+O212))))))","v":0},{"$f":"IF(Q212=0,0,ROUND((R212-$S$3)*+'Vergi Oranları'!$G$6/100,2))","v":0},0]
[null,null,null,null,null,null,0,{"$f":"IF(E213=0,0,IF(D213=0,0,IF(G213=0,0,IF(F213>+'Vergi Oranları'!$C$3,0,IF(OR(G213<='Vergi Oranları'!$C$3,F213+E213<+'Vergi Oranları'!$C$3),15,IF(G213-(E213+F213)<='Vergi Oranları'!$C$3,15,))))))","v":0},{"$f":"IF(E213=0,0,IF(D213=0,0,IF(G213=0,0,IF(H213=0,0,IF(F213+E213<='Vergi Oranları'!$C$3,G213-F213,'Vergi Oranları'!$C$3-F213)))))","v":0},{"$f":"IF(I213=0,0,IF(ROUND((I213-$J$3)*'Vergi Oranları'!$G$3/100,2)<0,0,ROUND((I213-$M$3)*'Vergi Oranları'!$G$3/100,2)))","v":0},{"$f":"IF(E213=0,0,IF(D213=0,0,IF(G213=0,0,IF(F213>+'Vergi Oranları'!$C$4,0,IF(OR(G213<='Vergi Oranları'!$C$4,F213+E213<'Vergi Oranları'!$C$4),20,IF(G213-(E213+F213)<='Vergi Oranları'!$C$4,20,))))))","v":0},{"$f":"IF(E213=0,0,IF(D213=0,0,IF(G213=0,0,IF(K213=0,0,IF(F213+E213<=+'Vergi Oranları'!$C$4,G213-(F213+I213),+'Vergi Oranları'!$C$4-(F213+I213))))))","v":0},{"$f":"IF(L213=0,0,IF(ROUND((L213-$M$3)*+'Vergi Oranları'!$G$4/100,2)<0,0,ROUND((L213-$M$3)*+'Vergi Oranları'!$G$4/100,2)))","v":0},{"$f":"IF(E213=0,0,IF(D213=0,0,IF(G213=0,0,IF(OR(G213>+'Vergi Oranları'!$C$4,G213<=+'Vergi Oranları'!$C$5),27))))","v":0},{"$f":"IF(E213=0,0,IF(D213=0,0,IF(G213=0,0,IF(N213=0,0,IF(F213>'Vergi Oranları'!$C$5,0,IF(G213<=+'Vergi Oranları'!$C$5,G213-(F213+I213+L213),+'Vergi Oranları'!$C$5-(F213+I213+L213)))))))","v":0},{"$f":"ROUND(IF(N213=0,0,IF(E213<O213,(E213-$P$3)*'Vergi Oranları'!$G$5/100,(O213-$P$3)*'Vergi Oranları'!$G$5/100)),2)","v":0},{"$f":"IF(E213=0,0,IF(D213=0,0,IF(G213=0,0,IF(G213<=+'Vergi Oranları'!$C$5,0,IF(OR(G213>+'Vergi Oranları'!$C$5,F213+E213<=+'Vergi Oranları'!$C$5),35)))))","v":0},{"$f":"IF(E213=0,0,IF(D213=0,0,IF(G213=0,0,IF(Q213=0,0,IF(F213+E213>=+'Vergi Oranları'!$C$5,G213-(F213+I213+L213+O213),+'Vergi Oranları'!$C$5-(F213+I213+L213+O213))))))","v":0},{"$f":"IF(Q213=0,0,ROUND((R213-$S$3)*+'Vergi Oranları'!$G$6/100,2))","v":0},0]
[null,null,null,null,null,null,0,{"$f":"IF(E214=0,0,IF(D214=0,0,IF(G214=0,0,IF(F214>+'Vergi Oranları'!$C$3,0,IF(OR(G214<='Vergi Oranları'!$C$3,F214+E214<+'Vergi Oranları'!$C$3),15,IF(G214-(E214+F214)<='Vergi Oranları'!$C$3,15,))))))","v":0},{"$f":"IF(E214=0,0,IF(D214=0,0,IF(G214=0,0,IF(H214=0,0,IF(F214+E214<='Vergi Oranları'!$C$3,G214-F214,'Vergi Oranları'!$C$3-F214)))))","v":0},{"$f":"IF(I214=0,0,IF(ROUND((I214-$J$3)*'Vergi Oranları'!$G$3/100,2)<0,0,ROUND((I214-$M$3)*'Vergi Oranları'!$G$3/100,2)))","v":0},{"$f":"IF(E214=0,0,IF(D214=0,0,IF(G214=0,0,IF(F214>+'Vergi Oranları'!$C$4,0,IF(OR(G214<='Vergi Oranları'!$C$4,F214+E214<'Vergi Oranları'!$C$4),20,IF(G214-(E214+F214)<='Vergi Oranları'!$C$4,20,))))))","v":0},{"$f":"IF(E214=0,0,IF(D214=0,0,IF(G214=0,0,IF(K214=0,0,IF(F214+E214<=+'Vergi Oranları'!$C$4,G214-(F214+I214),+'Vergi Oranları'!$C$4-(F214+I214))))))","v":0},{"$f":"IF(L214=0,0,IF(ROUND((L214-$M$3)*+'Vergi Oranları'!$G$4/100,2)<0,0,ROUND((L214-$M$3)*+'Vergi Oranları'!$G$4/100,2)))","v":0},{"$f":"IF(E214=0,0,IF(D214=0,0,IF(G214=0,0,IF(OR(G214>+'Vergi Oranları'!$C$4,G214<=+'Vergi Oranları'!$C$5),27))))","v":0},{"$f":"IF(E214=0,0,IF(D214=0,0,IF(G214=0,0,IF(N214=0,0,IF(F214>'Vergi Oranları'!$C$5,0,IF(G214<=+'Vergi Oranları'!$C$5,G214-(F214+I214+L214),+'Vergi Oranları'!$C$5-(F214+I214+L214)))))))","v":0},{"$f":"ROUND(IF(N214=0,0,IF(E214<O214,(E214-$P$3)*'Vergi Oranları'!$G$5/100,(O214-$P$3)*'Vergi Oranları'!$G$5/100)),2)","v":0},{"$f":"IF(E214=0,0,IF(D214=0,0,IF(G214=0,0,IF(G214<=+'Vergi Oranları'!$C$5,0,IF(OR(G214>+'Vergi Oranları'!$C$5,F214+E214<=+'Vergi Oranları'!$C$5),35)))))","v":0},{"$f":"IF(E214=0,0,IF(D214=0,0,IF(G214=0,0,IF(Q214=0,0,IF(F214+E214>=+'Vergi Oranları'!$C$5,G214-(F214+I214+L214+O214),+'Vergi Oranları'!$C$5-(F214+I214+L214+O214))))))","v":0},{"$f":"IF(Q214=0,0,ROUND((R214-$S$3)*+'Vergi Oranları'!$G$6/100,2))","v":0},0]
[null,null,null,null,null,null,0,{"$f":"IF(E215=0,0,IF(D215=0,0,IF(G215=0,0,IF(F215>+'Vergi Oranları'!$C$3,0,IF(OR(G215<='Vergi Oranları'!$C$3,F215+E215<+'Vergi Oranları'!$C$3),15,IF(G215-(E215+F215)<='Vergi Oranları'!$C$3,15,))))))","v":0},{"$f":"IF(E215=0,0,IF(D215=0,0,IF(G215=0,0,IF(H215=0,0,IF(F215+E215<='Vergi Oranları'!$C$3,G215-F215,'Vergi Oranları'!$C$3-F215)))))","v":0},{"$f":"IF(I215=0,0,IF(ROUND((I215-$J$3)*'Vergi Oranları'!$G$3/100,2)<0,0,ROUND((I215-$M$3)*'Vergi Oranları'!$G$3/100,2)))","v":0},{"$f":"IF(E215=0,0,IF(D215=0,0,IF(G215=0,0,IF(F215>+'Vergi Oranları'!$C$4,0,IF(OR(G215<='Vergi Oranları'!$C$4,F215+E215<'Vergi Oranları'!$C$4),20,IF(G215-(E215+F215)<='Vergi Oranları'!$C$4,20,))))))","v":0},{"$f":"IF(E215=0,0,IF(D215=0,0,IF(G215=0,0,IF(K215=0,0,IF(F215+E215<=+'Vergi Oranları'!$C$4,G215-(F215+I215),+'Vergi Oranları'!$C$4-(F215+I215))))))","v":0},{"$f":"IF(L215=0,0,IF(ROUND((L215-$M$3)*+'Vergi Oranları'!$G$4/100,2)<0,0,ROUND((L215-$M$3)*+'Vergi Oranları'!$G$4/100,2)))","v":0},{"$f":"IF(E215=0,0,IF(D215=0,0,IF(G215=0,0,IF(OR(G215>+'Vergi Oranları'!$C$4,G215<=+'Vergi Oranları'!$C$5),27))))","v":0},{"$f":"IF(E215=0,0,IF(D215=0,0,IF(G215=0,0,IF(N215=0,0,IF(F215>'Vergi Oranları'!$C$5,0,IF(G215<=+'Vergi Oranları'!$C$5,G215-(F215+I215+L215),+'Vergi Oranları'!$C$5-(F215+I215+L215)))))))","v":0},{"$f":"ROUND(IF(N215=0,0,IF(E215<O215,(E215-$P$3)*'Vergi Oranları'!$G$5/100,(O215-$P$3)*'Vergi Oranları'!$G$5/100)),2)","v":0},{"$f":"IF(E215=0,0,IF(D215=0,0,IF(G215=0,0,IF(G215<=+'Vergi Oranları'!$C$5,0,IF(OR(G215>+'Vergi Oranları'!$C$5,F215+E215<=+'Vergi Oranları'!$C$5),35)))))","v":0},{"$f":"IF(E215=0,0,IF(D215=0,0,IF(G215=0,0,IF(Q215=0,0,IF(F215+E215>=+'Vergi Oranları'!$C$5,G215-(F215+I215+L215+O215),+'Vergi Oranları'!$C$5-(F215+I215+L215+O215))))))","v":0},{"$f":"IF(Q215=0,0,ROUND((R215-$S$3)*+'Vergi Oranları'!$G$6/100,2))","v":0},0]
[null,null,null,null,null,null,0,{"$f":"IF(E216=0,0,IF(D216=0,0,IF(G216=0,0,IF(F216>+'Vergi Oranları'!$C$3,0,IF(OR(G216<='Vergi Oranları'!$C$3,F216+E216<+'Vergi Oranları'!$C$3),15,IF(G216-(E216+F216)<='Vergi Oranları'!$C$3,15,))))))","v":0},{"$f":"IF(E216=0,0,IF(D216=0,0,IF(G216=0,0,IF(H216=0,0,IF(F216+E216<='Vergi Oranları'!$C$3,G216-F216,'Vergi Oranları'!$C$3-F216)))))","v":0},{"$f":"IF(I216=0,0,IF(ROUND((I216-$J$3)*'Vergi Oranları'!$G$3/100,2)<0,0,ROUND((I216-$M$3)*'Vergi Oranları'!$G$3/100,2)))","v":0},{"$f":"IF(E216=0,0,IF(D216=0,0,IF(G216=0,0,IF(F216>+'Vergi Oranları'!$C$4,0,IF(OR(G216<='Vergi Oranları'!$C$4,F216+E216<'Vergi Oranları'!$C$4),20,IF(G216-(E216+F216)<='Vergi Oranları'!$C$4,20,))))))","v":0},{"$f":"IF(E216=0,0,IF(D216=0,0,IF(G216=0,0,IF(K216=0,0,IF(F216+E216<=+'Vergi Oranları'!$C$4,G216-(F216+I216),+'Vergi Oranları'!$C$4-(F216+I216))))))","v":0},{"$f":"IF(L216=0,0,IF(ROUND((L216-$M$3)*+'Vergi Oranları'!$G$4/100,2)<0,0,ROUND((L216-$M$3)*+'Vergi Oranları'!$G$4/100,2)))","v":0},{"$f":"IF(E216=0,0,IF(D216=0,0,IF(G216=0,0,IF(OR(G216>+'Vergi Oranları'!$C$4,G216<=+'Vergi Oranları'!$C$5),27))))","v":0},{"$f":"IF(E216=0,0,IF(D216=0,0,IF(G216=0,0,IF(N216=0,0,IF(F216>'Vergi Oranları'!$C$5,0,IF(G216<=+'Vergi Oranları'!$C$5,G216-(F216+I216+L216),+'Vergi Oranları'!$C$5-(F216+I216+L216)))))))","v":0},{"$f":"ROUND(IF(N216=0,0,IF(E216<O216,(E216-$P$3)*'Vergi Oranları'!$G$5/100,(O216-$P$3)*'Vergi Oranları'!$G$5/100)),2)","v":0},{"$f":"IF(E216=0,0,IF(D216=0,0,IF(G216=0,0,IF(G216<=+'Vergi Oranları'!$C$5,0,IF(OR(G216>+'Vergi Oranları'!$C$5,F216+E216<=+'Vergi Oranları'!$C$5),35)))))","v":0},{"$f":"IF(E216=0,0,IF(D216=0,0,IF(G216=0,0,IF(Q216=0,0,IF(F216+E216>=+'Vergi Oranları'!$C$5,G216-(F216+I216+L216+O216),+'Vergi Oranları'!$C$5-(F216+I216+L216+O216))))))","v":0},{"$f":"IF(Q216=0,0,ROUND((R216-$S$3)*+'Vergi Oranları'!$G$6/100,2))","v":0},0]
[null,null,null,null,null,null,0,{"$f":"IF(E217=0,0,IF(D217=0,0,IF(G217=0,0,IF(F217>+'Vergi Oranları'!$C$3,0,IF(OR(G217<='Vergi Oranları'!$C$3,F217+E217<+'Vergi Oranları'!$C$3),15,IF(G217-(E217+F217)<='Vergi Oranları'!$C$3,15,))))))","v":0},{"$f":"IF(E217=0,0,IF(D217=0,0,IF(G217=0,0,IF(H217=0,0,IF(F217+E217<='Vergi Oranları'!$C$3,G217-F217,'Vergi Oranları'!$C$3-F217)))))","v":0},{"$f":"IF(I217=0,0,IF(ROUND((I217-$J$3)*'Vergi Oranları'!$G$3/100,2)<0,0,ROUND((I217-$M$3)*'Vergi Oranları'!$G$3/100,2)))","v":0},{"$f":"IF(E217=0,0,IF(D217=0,0,IF(G217=0,0,IF(F217>+'Vergi Oranları'!$C$4,0,IF(OR(G217<='Vergi Oranları'!$C$4,F217+E217<'Vergi Oranları'!$C$4),20,IF(G217-(E217+F217)<='Vergi Oranları'!$C$4,20,))))))","v":0},{"$f":"IF(E217=0,0,IF(D217=0,0,IF(G217=0,0,IF(K217=0,0,IF(F217+E217<=+'Vergi Oranları'!$C$4,G217-(F217+I217),+'Vergi Oranları'!$C$4-(F217+I217))))))","v":0},{"$f":"IF(L217=0,0,IF(ROUND((L217-$M$3)*+'Vergi Oranları'!$G$4/100,2)<0,0,ROUND((L217-$M$3)*+'Vergi Oranları'!$G$4/100,2)))","v":0},{"$f":"IF(E217=0,0,IF(D217=0,0,IF(G217=0,0,IF(OR(G217>+'Vergi Oranları'!$C$4,G217<=+'Vergi Oranları'!$C$5),27))))","v":0},{"$f":"IF(E217=0,0,IF(D217=0,0,IF(G217=0,0,IF(N217=0,0,IF(F217>'Vergi Oranları'!$C$5,0,IF(G217<=+'Vergi Oranları'!$C$5,G217-(F217+I217+L217),+'Vergi Oranları'!$C$5-(F217+I217+L217)))))))","v":0},{"$f":"ROUND(IF(N217=0,0,IF(E217<O217,(E217-$P$3)*'Vergi Oranları'!$G$5/100,(O217-$P$3)*'Vergi Oranları'!$G$5/100)),2)","v":0},{"$f":"IF(E217=0,0,IF(D217=0,0,IF(G217=0,0,IF(G217<=+'Vergi Oranları'!$C$5,0,IF(OR(G217>+'Vergi Oranları'!$C$5,F217+E217<=+'Vergi Oranları'!$C$5),35)))))","v":0},{"$f":"IF(E217=0,0,IF(D217=0,0,IF(G217=0,0,IF(Q217=0,0,IF(F217+E217>=+'Vergi Oranları'!$C$5,G217-(F217+I217+L217+O217),+'Vergi Oranları'!$C$5-(F217+I217+L217+O217))))))","v":0},{"$f":"IF(Q217=0,0,ROUND((R217-$S$3)*+'Vergi Oranları'!$G$6/100,2))","v":0},0]
[null,null,null,null,null,null,0,{"$f":"IF(E218=0,0,IF(D218=0,0,IF(G218=0,0,IF(F218>+'Vergi Oranları'!$C$3,0,IF(OR(G218<='Vergi Oranları'!$C$3,F218+E218<+'Vergi Oranları'!$C$3),15,IF(G218-(E218+F218)<='Vergi Oranları'!$C$3,15,))))))","v":0},{"$f":"IF(E218=0,0,IF(D218=0,0,IF(G218=0,0,IF(H218=0,0,IF(F218+E218<='Vergi Oranları'!$C$3,G218-F218,'Vergi Oranları'!$C$3-F218)))))","v":0},{"$f":"IF(I218=0,0,IF(ROUND((I218-$J$3)*'Vergi Oranları'!$G$3/100,2)<0,0,ROUND((I218-$M$3)*'Vergi Oranları'!$G$3/100,2)))","v":0},{"$f":"IF(E218=0,0,IF(D218=0,0,IF(G218=0,0,IF(F218>+'Vergi Oranları'!$C$4,0,IF(OR(G218<='Vergi Oranları'!$C$4,F218+E218<'Vergi Oranları'!$C$4),20,IF(G218-(E218+F218)<='Vergi Oranları'!$C$4,20,))))))","v":0},{"$f":"IF(E218=0,0,IF(D218=0,0,IF(G218=0,0,IF(K218=0,0,IF(F218+E218<=+'Vergi Oranları'!$C$4,G218-(F218+I218),+'Vergi Oranları'!$C$4-(F218+I218))))))","v":0},{"$f":"IF(L218=0,0,IF(ROUND((L218-$M$3)*+'Vergi Oranları'!$G$4/100,2)<0,0,ROUND((L218-$M$3)*+'Vergi Oranları'!$G$4/100,2)))","v":0},{"$f":"IF(E218=0,0,IF(D218=0,0,IF(G218=0,0,IF(OR(G218>+'Vergi Oranları'!$C$4,G218<=+'Vergi Oranları'!$C$5),27))))","v":0},{"$f":"IF(E218=0,0,IF(D218=0,0,IF(G218=0,0,IF(N218=0,0,IF(F218>'Vergi Oranları'!$C$5,0,IF(G218<=+'Vergi Oranları'!$C$5,G218-(F218+I218+L218),+'Vergi Oranları'!$C$5-(F218+I218+L218)))))))","v":0},{"$f":"ROUND(IF(N218=0,0,IF(E218<O218,(E218-$P$3)*'Vergi Oranları'!$G$5/100,(O218-$P$3)*'Vergi Oranları'!$G$5/100)),2)","v":0},{"$f":"IF(E218=0,0,IF(D218=0,0,IF(G218=0,0,IF(G218<=+'Vergi Oranları'!$C$5,0,IF(OR(G218>+'Vergi Oranları'!$C$5,F218+E218<=+'Vergi Oranları'!$C$5),35)))))","v":0},{"$f":"IF(E218=0,0,IF(D218=0,0,IF(G218=0,0,IF(Q218=0,0,IF(F218+E218>=+'Vergi Oranları'!$C$5,G218-(F218+I218+L218+O218),+'Vergi Oranları'!$C$5-(F218+I218+L218+O218))))))","v":0},{"$f":"IF(Q218=0,0,ROUND((R218-$S$3)*+'Vergi Oranları'!$G$6/100,2))","v":0},0]
[null,null,null,null,null,null,0,{"$f":"IF(E219=0,0,IF(D219=0,0,IF(G219=0,0,IF(F219>+'Vergi Oranları'!$C$3,0,IF(OR(G219<='Vergi Oranları'!$C$3,F219+E219<+'Vergi Oranları'!$C$3),15,IF(G219-(E219+F219)<='Vergi Oranları'!$C$3,15,))))))","v":0},{"$f":"IF(E219=0,0,IF(D219=0,0,IF(G219=0,0,IF(H219=0,0,IF(F219+E219<='Vergi Oranları'!$C$3,G219-F219,'Vergi Oranları'!$C$3-F219)))))","v":0},{"$f":"IF(I219=0,0,IF(ROUND((I219-$J$3)*'Vergi Oranları'!$G$3/100,2)<0,0,ROUND((I219-$M$3)*'Vergi Oranları'!$G$3/100,2)))","v":0},{"$f":"IF(E219=0,0,IF(D219=0,0,IF(G219=0,0,IF(F219>+'Vergi Oranları'!$C$4,0,IF(OR(G219<='Vergi Oranları'!$C$4,F219+E219<'Vergi Oranları'!$C$4),20,IF(G219-(E219+F219)<='Vergi Oranları'!$C$4,20,))))))","v":0},{"$f":"IF(E219=0,0,IF(D219=0,0,IF(G219=0,0,IF(K219=0,0,IF(F219+E219<=+'Vergi Oranları'!$C$4,G219-(F219+I219),+'Vergi Oranları'!$C$4-(F219+I219))))))","v":0},{"$f":"IF(L219=0,0,IF(ROUND((L219-$M$3)*+'Vergi Oranları'!$G$4/100,2)<0,0,ROUND((L219-$M$3)*+'Vergi Oranları'!$G$4/100,2)))","v":0},{"$f":"IF(E219=0,0,IF(D219=0,0,IF(G219=0,0,IF(OR(G219>+'Vergi Oranları'!$C$4,G219<=+'Vergi Oranları'!$C$5),27))))","v":0},{"$f":"IF(E219=0,0,IF(D219=0,0,IF(G219=0,0,IF(N219=0,0,IF(F219>'Vergi Oranları'!$C$5,0,IF(G219<=+'Vergi Oranları'!$C$5,G219-(F219+I219+L219),+'Vergi Oranları'!$C$5-(F219+I219+L219)))))))","v":0},{"$f":"ROUND(IF(N219=0,0,IF(E219<O219,(E219-$P$3)*'Vergi Oranları'!$G$5/100,(O219-$P$3)*'Vergi Oranları'!$G$5/100)),2)","v":0},{"$f":"IF(E219=0,0,IF(D219=0,0,IF(G219=0,0,IF(G219<=+'Vergi Oranları'!$C$5,0,IF(OR(G219>+'Vergi Oranları'!$C$5,F219+E219<=+'Vergi Oranları'!$C$5),35)))))","v":0},{"$f":"IF(E219=0,0,IF(D219=0,0,IF(G219=0,0,IF(Q219=0,0,IF(F219+E219>=+'Vergi Oranları'!$C$5,G219-(F219+I219+L219+O219),+'Vergi Oranları'!$C$5-(F219+I219+L219+O219))))))","v":0},{"$f":"IF(Q219=0,0,ROUND((R219-$S$3)*+'Vergi Oranları'!$G$6/100,2))","v":0},0]
[null,null,null,null,null,null,0,{"$f":"IF(E220=0,0,IF(D220=0,0,IF(G220=0,0,IF(F220>+'Vergi Oranları'!$C$3,0,IF(OR(G220<='Vergi Oranları'!$C$3,F220+E220<+'Vergi Oranları'!$C$3),15,IF(G220-(E220+F220)<='Vergi Oranları'!$C$3,15,))))))","v":0},{"$f":"IF(E220=0,0,IF(D220=0,0,IF(G220=0,0,IF(H220=0,0,IF(F220+E220<='Vergi Oranları'!$C$3,G220-F220,'Vergi Oranları'!$C$3-F220)))))","v":0},{"$f":"IF(I220=0,0,IF(ROUND((I220-$J$3)*'Vergi Oranları'!$G$3/100,2)<0,0,ROUND((I220-$M$3)*'Vergi Oranları'!$G$3/100,2)))","v":0},{"$f":"IF(E220=0,0,IF(D220=0,0,IF(G220=0,0,IF(F220>+'Vergi Oranları'!$C$4,0,IF(OR(G220<='Vergi Oranları'!$C$4,F220+E220<'Vergi Oranları'!$C$4),20,IF(G220-(E220+F220)<='Vergi Oranları'!$C$4,20,))))))","v":0},{"$f":"IF(E220=0,0,IF(D220=0,0,IF(G220=0,0,IF(K220=0,0,IF(F220+E220<=+'Vergi Oranları'!$C$4,G220-(F220+I220),+'Vergi Oranları'!$C$4-(F220+I220))))))","v":0},{"$f":"IF(L220=0,0,IF(ROUND((L220-$M$3)*+'Vergi Oranları'!$G$4/100,2)<0,0,ROUND((L220-$M$3)*+'Vergi Oranları'!$G$4/100,2)))","v":0},{"$f":"IF(E220=0,0,IF(D220=0,0,IF(G220=0,0,IF(OR(G220>+'Vergi Oranları'!$C$4,G220<=+'Vergi Oranları'!$C$5),27))))","v":0},{"$f":"IF(E220=0,0,IF(D220=0,0,IF(G220=0,0,IF(N220=0,0,IF(F220>'Vergi Oranları'!$C$5,0,IF(G220<=+'Vergi Oranları'!$C$5,G220-(F220+I220+L220),+'Vergi Oranları'!$C$5-(F220+I220+L220)))))))","v":0},{"$f":"ROUND(IF(N220=0,0,IF(E220<O220,(E220-$P$3)*'Vergi Oranları'!$G$5/100,(O220-$P$3)*'Vergi Oranları'!$G$5/100)),2)","v":0},{"$f":"IF(E220=0,0,IF(D220=0,0,IF(G220=0,0,IF(G220<=+'Vergi Oranları'!$C$5,0,IF(OR(G220>+'Vergi Oranları'!$C$5,F220+E220<=+'Vergi Oranları'!$C$5),35)))))","v":0},{"$f":"IF(E220=0,0,IF(D220=0,0,IF(G220=0,0,IF(Q220=0,0,IF(F220+E220>=+'Vergi Oranları'!$C$5,G220-(F220+I220+L220+O220),+'Vergi Oranları'!$C$5-(F220+I220+L220+O220))))))","v":0},{"$f":"IF(Q220=0,0,ROUND((R220-$S$3)*+'Vergi Oranları'!$G$6/100,2))","v":0},0]
[null,null,null,null,null,null,0,{"$f":"IF(E221=0,0,IF(D221=0,0,IF(G221=0,0,IF(F221>+'Vergi Oranları'!$C$3,0,IF(OR(G221<='Vergi Oranları'!$C$3,F221+E221<+'Vergi Oranları'!$C$3),15,IF(G221-(E221+F221)<='Vergi Oranları'!$C$3,15,))))))","v":0},{"$f":"IF(E221=0,0,IF(D221=0,0,IF(G221=0,0,IF(H221=0,0,IF(F221+E221<='Vergi Oranları'!$C$3,G221-F221,'Vergi Oranları'!$C$3-F221)))))","v":0},{"$f":"IF(I221=0,0,IF(ROUND((I221-$J$3)*'Vergi Oranları'!$G$3/100,2)<0,0,ROUND((I221-$M$3)*'Vergi Oranları'!$G$3/100,2)))","v":0},{"$f":"IF(E221=0,0,IF(D221=0,0,IF(G221=0,0,IF(F221>+'Vergi Oranları'!$C$4,0,IF(OR(G221<='Vergi Oranları'!$C$4,F221+E221<'Vergi Oranları'!$C$4),20,IF(G221-(E221+F221)<='Vergi Oranları'!$C$4,20,))))))","v":0},{"$f":"IF(E221=0,0,IF(D221=0,0,IF(G221=0,0,IF(K221=0,0,IF(F221+E221<=+'Vergi Oranları'!$C$4,G221-(F221+I221),+'Vergi Oranları'!$C$4-(F221+I221))))))","v":0},{"$f":"IF(L221=0,0,IF(ROUND((L221-$M$3)*+'Vergi Oranları'!$G$4/100,2)<0,0,ROUND((L221-$M$3)*+'Vergi Oranları'!$G$4/100,2)))","v":0},{"$f":"IF(E221=0,0,IF(D221=0,0,IF(G221=0,0,IF(OR(G221>+'Vergi Oranları'!$C$4,G221<=+'Vergi Oranları'!$C$5),27))))","v":0},{"$f":"IF(E221=0,0,IF(D221=0,0,IF(G221=0,0,IF(N221=0,0,IF(F221>'Vergi Oranları'!$C$5,0,IF(G221<=+'Vergi Oranları'!$C$5,G221-(F221+I221+L221),+'Vergi Oranları'!$C$5-(F221+I221+L221)))))))","v":0},{"$f":"ROUND(IF(N221=0,0,IF(E221<O221,(E221-$P$3)*'Vergi Oranları'!$G$5/100,(O221-$P$3)*'Vergi Oranları'!$G$5/100)),2)","v":0},{"$f":"IF(E221=0,0,IF(D221=0,0,IF(G221=0,0,IF(G221<=+'Vergi Oranları'!$C$5,0,IF(OR(G221>+'Vergi Oranları'!$C$5,F221+E221<=+'Vergi Oranları'!$C$5),35)))))","v":0},{"$f":"IF(E221=0,0,IF(D221=0,0,IF(G221=0,0,IF(Q221=0,0,IF(F221+E221>=+'Vergi Oranları'!$C$5,G221-(F221+I221+L221+O221),+'Vergi Oranları'!$C$5-(F221+I221+L221+O221))))))","v":0},{"$f":"IF(Q221=0,0,ROUND((R221-$S$3)*+'Vergi Oranları'!$G$6/100,2))","v":0},0]
[null,null,null,null,null,null,0,{"$f":"IF(E222=0,0,IF(D222=0,0,IF(G222=0,0,IF(F222>+'Vergi Oranları'!$C$3,0,IF(OR(G222<='Vergi Oranları'!$C$3,F222+E222<+'Vergi Oranları'!$C$3),15,IF(G222-(E222+F222)<='Vergi Oranları'!$C$3,15,))))))","v":0},{"$f":"IF(E222=0,0,IF(D222=0,0,IF(G222=0,0,IF(H222=0,0,IF(F222+E222<='Vergi Oranları'!$C$3,G222-F222,'Vergi Oranları'!$C$3-F222)))))","v":0},{"$f":"IF(I222=0,0,IF(ROUND((I222-$J$3)*'Vergi Oranları'!$G$3/100,2)<0,0,ROUND((I222-$M$3)*'Vergi Oranları'!$G$3/100,2)))","v":0},{"$f":"IF(E222=0,0,IF(D222=0,0,IF(G222=0,0,IF(F222>+'Vergi Oranları'!$C$4,0,IF(OR(G222<='Vergi Oranları'!$C$4,F222+E222<'Vergi Oranları'!$C$4),20,IF(G222-(E222+F222)<='Vergi Oranları'!$C$4,20,))))))","v":0},{"$f":"IF(E222=0,0,IF(D222=0,0,IF(G222=0,0,IF(K222=0,0,IF(F222+E222<=+'Vergi Oranları'!$C$4,G222-(F222+I222),+'Vergi Oranları'!$C$4-(F222+I222))))))","v":0},{"$f":"IF(L222=0,0,IF(ROUND((L222-$M$3)*+'Vergi Oranları'!$G$4/100,2)<0,0,ROUND((L222-$M$3)*+'Vergi Oranları'!$G$4/100,2)))","v":0},{"$f":"IF(E222=0,0,IF(D222=0,0,IF(G222=0,0,IF(OR(G222>+'Vergi Oranları'!$C$4,G222<=+'Vergi Oranları'!$C$5),27))))","v":0},{"$f":"IF(E222=0,0,IF(D222=0,0,IF(G222=0,0,IF(N222=0,0,IF(F222>'Vergi Oranları'!$C$5,0,IF(G222<=+'Vergi Oranları'!$C$5,G222-(F222+I222+L222),+'Vergi Oranları'!$C$5-(F222+I222+L222)))))))","v":0},{"$f":"ROUND(IF(N222=0,0,IF(E222<O222,(E222-$P$3)*'Vergi Oranları'!$G$5/100,(O222-$P$3)*'Vergi Oranları'!$G$5/100)),2)","v":0},{"$f":"IF(E222=0,0,IF(D222=0,0,IF(G222=0,0,IF(G222<=+'Vergi Oranları'!$C$5,0,IF(OR(G222>+'Vergi Oranları'!$C$5,F222+E222<=+'Vergi Oranları'!$C$5),35)))))","v":0},{"$f":"IF(E222=0,0,IF(D222=0,0,IF(G222=0,0,IF(Q222=0,0,IF(F222+E222>=+'Vergi Oranları'!$C$5,G222-(F222+I222+L222+O222),+'Vergi Oranları'!$C$5-(F222+I222+L222+O222))))))","v":0},{"$f":"IF(Q222=0,0,ROUND((R222-$S$3)*+'Vergi Oranları'!$G$6/100,2))","v":0},0]
[null,null,null,null,null,null,0,{"$f":"IF(E223=0,0,IF(D223=0,0,IF(G223=0,0,IF(F223>+'Vergi Oranları'!$C$3,0,IF(OR(G223<='Vergi Oranları'!$C$3,F223+E223<+'Vergi Oranları'!$C$3),15,IF(G223-(E223+F223)<='Vergi Oranları'!$C$3,15,))))))","v":0},{"$f":"IF(E223=0,0,IF(D223=0,0,IF(G223=0,0,IF(H223=0,0,IF(F223+E223<='Vergi Oranları'!$C$3,G223-F223,'Vergi Oranları'!$C$3-F223)))))","v":0},{"$f":"IF(I223=0,0,IF(ROUND((I223-$J$3)*'Vergi Oranları'!$G$3/100,2)<0,0,ROUND((I223-$M$3)*'Vergi Oranları'!$G$3/100,2)))","v":0},{"$f":"IF(E223=0,0,IF(D223=0,0,IF(G223=0,0,IF(F223>+'Vergi Oranları'!$C$4,0,IF(OR(G223<='Vergi Oranları'!$C$4,F223+E223<'Vergi Oranları'!$C$4),20,IF(G223-(E223+F223)<='Vergi Oranları'!$C$4,20,))))))","v":0},{"$f":"IF(E223=0,0,IF(D223=0,0,IF(G223=0,0,IF(K223=0,0,IF(F223+E223<=+'Vergi Oranları'!$C$4,G223-(F223+I223),+'Vergi Oranları'!$C$4-(F223+I223))))))","v":0},{"$f":"IF(L223=0,0,IF(ROUND((L223-$M$3)*+'Vergi Oranları'!$G$4/100,2)<0,0,ROUND((L223-$M$3)*+'Vergi Oranları'!$G$4/100,2)))","v":0},{"$f":"IF(E223=0,0,IF(D223=0,0,IF(G223=0,0,IF(OR(G223>+'Vergi Oranları'!$C$4,G223<=+'Vergi Oranları'!$C$5),27))))","v":0},{"$f":"IF(E223=0,0,IF(D223=0,0,IF(G223=0,0,IF(N223=0,0,IF(F223>'Vergi Oranları'!$C$5,0,IF(G223<=+'Vergi Oranları'!$C$5,G223-(F223+I223+L223),+'Vergi Oranları'!$C$5-(F223+I223+L223)))))))","v":0},{"$f":"ROUND(IF(N223=0,0,IF(E223<O223,(E223-$P$3)*'Vergi Oranları'!$G$5/100,(O223-$P$3)*'Vergi Oranları'!$G$5/100)),2)","v":0},{"$f":"IF(E223=0,0,IF(D223=0,0,IF(G223=0,0,IF(G223<=+'Vergi Oranları'!$C$5,0,IF(OR(G223>+'Vergi Oranları'!$C$5,F223+E223<=+'Vergi Oranları'!$C$5),35)))))","v":0},{"$f":"IF(E223=0,0,IF(D223=0,0,IF(G223=0,0,IF(Q223=0,0,IF(F223+E223>=+'Vergi Oranları'!$C$5,G223-(F223+I223+L223+O223),+'Vergi Oranları'!$C$5-(F223+I223+L223+O223))))))","v":0},{"$f":"IF(Q223=0,0,ROUND((R223-$S$3)*+'Vergi Oranları'!$G$6/100,2))","v":0},0]
[null,null,null,null,null,null,0,{"$f":"IF(E224=0,0,IF(D224=0,0,IF(G224=0,0,IF(F224>+'Vergi Oranları'!$C$3,0,IF(OR(G224<='Vergi Oranları'!$C$3,F224+E224<+'Vergi Oranları'!$C$3),15,IF(G224-(E224+F224)<='Vergi Oranları'!$C$3,15,))))))","v":0},{"$f":"IF(E224=0,0,IF(D224=0,0,IF(G224=0,0,IF(H224=0,0,IF(F224+E224<='Vergi Oranları'!$C$3,G224-F224,'Vergi Oranları'!$C$3-F224)))))","v":0},{"$f":"IF(I224=0,0,IF(ROUND((I224-$J$3)*'Vergi Oranları'!$G$3/100,2)<0,0,ROUND((I224-$M$3)*'Vergi Oranları'!$G$3/100,2)))","v":0},{"$f":"IF(E224=0,0,IF(D224=0,0,IF(G224=0,0,IF(F224>+'Vergi Oranları'!$C$4,0,IF(OR(G224<='Vergi Oranları'!$C$4,F224+E224<'Vergi Oranları'!$C$4),20,IF(G224-(E224+F224)<='Vergi Oranları'!$C$4,20,))))))","v":0},{"$f":"IF(E224=0,0,IF(D224=0,0,IF(G224=0,0,IF(K224=0,0,IF(F224+E224<=+'Vergi Oranları'!$C$4,G224-(F224+I224),+'Vergi Oranları'!$C$4-(F224+I224))))))","v":0},{"$f":"IF(L224=0,0,IF(ROUND((L224-$M$3)*+'Vergi Oranları'!$G$4/100,2)<0,0,ROUND((L224-$M$3)*+'Vergi Oranları'!$G$4/100,2)))","v":0},{"$f":"IF(E224=0,0,IF(D224=0,0,IF(G224=0,0,IF(OR(G224>+'Vergi Oranları'!$C$4,G224<=+'Vergi Oranları'!$C$5),27))))","v":0},{"$f":"IF(E224=0,0,IF(D224=0,0,IF(G224=0,0,IF(N224=0,0,IF(F224>'Vergi Oranları'!$C$5,0,IF(G224<=+'Vergi Oranları'!$C$5,G224-(F224+I224+L224),+'Vergi Oranları'!$C$5-(F224+I224+L224)))))))","v":0},{"$f":"ROUND(IF(N224=0,0,IF(E224<O224,(E224-$P$3)*'Vergi Oranları'!$G$5/100,(O224-$P$3)*'Vergi Oranları'!$G$5/100)),2)","v":0},{"$f":"IF(E224=0,0,IF(D224=0,0,IF(G224=0,0,IF(G224<=+'Vergi Oranları'!$C$5,0,IF(OR(G224>+'Vergi Oranları'!$C$5,F224+E224<=+'Vergi Oranları'!$C$5),35)))))","v":0},{"$f":"IF(E224=0,0,IF(D224=0,0,IF(G224=0,0,IF(Q224=0,0,IF(F224+E224>=+'Vergi Oranları'!$C$5,G224-(F224+I224+L224+O224),+'Vergi Oranları'!$C$5-(F224+I224+L224+O224))))))","v":0},{"$f":"IF(Q224=0,0,ROUND((R224-$S$3)*+'Vergi Oranları'!$G$6/100,2))","v":0},0]
[null,null,null,null,null,null,0,{"$f":"IF(E225=0,0,IF(D225=0,0,IF(G225=0,0,IF(F225>+'Vergi Oranları'!$C$3,0,IF(OR(G225<='Vergi Oranları'!$C$3,F225+E225<+'Vergi Oranları'!$C$3),15,IF(G225-(E225+F225)<='Vergi Oranları'!$C$3,15,))))))","v":0},{"$f":"IF(E225=0,0,IF(D225=0,0,IF(G225=0,0,IF(H225=0,0,IF(F225+E225<='Vergi Oranları'!$C$3,G225-F225,'Vergi Oranları'!$C$3-F225)))))","v":0},{"$f":"IF(I225=0,0,IF(ROUND((I225-$J$3)*'Vergi Oranları'!$G$3/100,2)<0,0,ROUND((I225-$M$3)*'Vergi Oranları'!$G$3/100,2)))","v":0},{"$f":"IF(E225=0,0,IF(D225=0,0,IF(G225=0,0,IF(F225>+'Vergi Oranları'!$C$4,0,IF(OR(G225<='Vergi Oranları'!$C$4,F225+E225<'Vergi Oranları'!$C$4),20,IF(G225-(E225+F225)<='Vergi Oranları'!$C$4,20,))))))","v":0},{"$f":"IF(E225=0,0,IF(D225=0,0,IF(G225=0,0,IF(K225=0,0,IF(F225+E225<=+'Vergi Oranları'!$C$4,G225-(F225+I225),+'Vergi Oranları'!$C$4-(F225+I225))))))","v":0},{"$f":"IF(L225=0,0,IF(ROUND((L225-$M$3)*+'Vergi Oranları'!$G$4/100,2)<0,0,ROUND((L225-$M$3)*+'Vergi Oranları'!$G$4/100,2)))","v":0},{"$f":"IF(E225=0,0,IF(D225=0,0,IF(G225=0,0,IF(OR(G225>+'Vergi Oranları'!$C$4,G225<=+'Vergi Oranları'!$C$5),27))))","v":0},{"$f":"IF(E225=0,0,IF(D225=0,0,IF(G225=0,0,IF(N225=0,0,IF(F225>'Vergi Oranları'!$C$5,0,IF(G225<=+'Vergi Oranları'!$C$5,G225-(F225+I225+L225),+'Vergi Oranları'!$C$5-(F225+I225+L225)))))))","v":0},{"$f":"ROUND(IF(N225=0,0,IF(E225<O225,(E225-$P$3)*'Vergi Oranları'!$G$5/100,(O225-$P$3)*'Vergi Oranları'!$G$5/100)),2)","v":0},{"$f":"IF(E225=0,0,IF(D225=0,0,IF(G225=0,0,IF(G225<=+'Vergi Oranları'!$C$5,0,IF(OR(G225>+'Vergi Oranları'!$C$5,F225+E225<=+'Vergi Oranları'!$C$5),35)))))","v":0},{"$f":"IF(E225=0,0,IF(D225=0,0,IF(G225=0,0,IF(Q225=0,0,IF(F225+E225>=+'Vergi Oranları'!$C$5,G225-(F225+I225+L225+O225),+'Vergi Oranları'!$C$5-(F225+I225+L225+O225))))))","v":0},{"$f":"IF(Q225=0,0,ROUND((R225-$S$3)*+'Vergi Oranları'!$G$6/100,2))","v":0},0]
[null,null,null,null,null,null,0,{"$f":"IF(E226=0,0,IF(D226=0,0,IF(G226=0,0,IF(F226>+'Vergi Oranları'!$C$3,0,IF(OR(G226<='Vergi Oranları'!$C$3,F226+E226<+'Vergi Oranları'!$C$3),15,IF(G226-(E226+F226)<='Vergi Oranları'!$C$3,15,))))))","v":0},{"$f":"IF(E226=0,0,IF(D226=0,0,IF(G226=0,0,IF(H226=0,0,IF(F226+E226<='Vergi Oranları'!$C$3,G226-F226,'Vergi Oranları'!$C$3-F226)))))","v":0},{"$f":"IF(I226=0,0,IF(ROUND((I226-$J$3)*'Vergi Oranları'!$G$3/100,2)<0,0,ROUND((I226-$M$3)*'Vergi Oranları'!$G$3/100,2)))","v":0},{"$f":"IF(E226=0,0,IF(D226=0,0,IF(G226=0,0,IF(F226>+'Vergi Oranları'!$C$4,0,IF(OR(G226<='Vergi Oranları'!$C$4,F226+E226<'Vergi Oranları'!$C$4),20,IF(G226-(E226+F226)<='Vergi Oranları'!$C$4,20,))))))","v":0},{"$f":"IF(E226=0,0,IF(D226=0,0,IF(G226=0,0,IF(K226=0,0,IF(F226+E226<=+'Vergi Oranları'!$C$4,G226-(F226+I226),+'Vergi Oranları'!$C$4-(F226+I226))))))","v":0},{"$f":"IF(L226=0,0,IF(ROUND((L226-$M$3)*+'Vergi Oranları'!$G$4/100,2)<0,0,ROUND((L226-$M$3)*+'Vergi Oranları'!$G$4/100,2)))","v":0},{"$f":"IF(E226=0,0,IF(D226=0,0,IF(G226=0,0,IF(OR(G226>+'Vergi Oranları'!$C$4,G226<=+'Vergi Oranları'!$C$5),27))))","v":0},{"$f":"IF(E226=0,0,IF(D226=0,0,IF(G226=0,0,IF(N226=0,0,IF(F226>'Vergi Oranları'!$C$5,0,IF(G226<=+'Vergi Oranları'!$C$5,G226-(F226+I226+L226),+'Vergi Oranları'!$C$5-(F226+I226+L226)))))))","v":0},{"$f":"ROUND(IF(N226=0,0,IF(E226<O226,(E226-$P$3)*'Vergi Oranları'!$G$5/100,(O226-$P$3)*'Vergi Oranları'!$G$5/100)),2)","v":0},{"$f":"IF(E226=0,0,IF(D226=0,0,IF(G226=0,0,IF(G226<=+'Vergi Oranları'!$C$5,0,IF(OR(G226>+'Vergi Oranları'!$C$5,F226+E226<=+'Vergi Oranları'!$C$5),35)))))","v":0},{"$f":"IF(E226=0,0,IF(D226=0,0,IF(G226=0,0,IF(Q226=0,0,IF(F226+E226>=+'Vergi Oranları'!$C$5,G226-(F226+I226+L226+O226),+'Vergi Oranları'!$C$5-(F226+I226+L226+O226))))))","v":0},{"$f":"IF(Q226=0,0,ROUND((R226-$S$3)*+'Vergi Oranları'!$G$6/100,2))","v":0},0]
[null,null,null,null,null,null,0,{"$f":"IF(E227=0,0,IF(D227=0,0,IF(G227=0,0,IF(F227>+'Vergi Oranları'!$C$3,0,IF(OR(G227<='Vergi Oranları'!$C$3,F227+E227<+'Vergi Oranları'!$C$3),15,IF(G227-(E227+F227)<='Vergi Oranları'!$C$3,15,))))))","v":0},{"$f":"IF(E227=0,0,IF(D227=0,0,IF(G227=0,0,IF(H227=0,0,IF(F227+E227<='Vergi Oranları'!$C$3,G227-F227,'Vergi Oranları'!$C$3-F227)))))","v":0},{"$f":"IF(I227=0,0,IF(ROUND((I227-$J$3)*'Vergi Oranları'!$G$3/100,2)<0,0,ROUND((I227-$M$3)*'Vergi Oranları'!$G$3/100,2)))","v":0},{"$f":"IF(E227=0,0,IF(D227=0,0,IF(G227=0,0,IF(F227>+'Vergi Oranları'!$C$4,0,IF(OR(G227<='Vergi Oranları'!$C$4,F227+E227<'Vergi Oranları'!$C$4),20,IF(G227-(E227+F227)<='Vergi Oranları'!$C$4,20,))))))","v":0},{"$f":"IF(E227=0,0,IF(D227=0,0,IF(G227=0,0,IF(K227=0,0,IF(F227+E227<=+'Vergi Oranları'!$C$4,G227-(F227+I227),+'Vergi Oranları'!$C$4-(F227+I227))))))","v":0},{"$f":"IF(L227=0,0,IF(ROUND((L227-$M$3)*+'Vergi Oranları'!$G$4/100,2)<0,0,ROUND((L227-$M$3)*+'Vergi Oranları'!$G$4/100,2)))","v":0},{"$f":"IF(E227=0,0,IF(D227=0,0,IF(G227=0,0,IF(OR(G227>+'Vergi Oranları'!$C$4,G227<=+'Vergi Oranları'!$C$5),27))))","v":0},{"$f":"IF(E227=0,0,IF(D227=0,0,IF(G227=0,0,IF(N227=0,0,IF(F227>'Vergi Oranları'!$C$5,0,IF(G227<=+'Vergi Oranları'!$C$5,G227-(F227+I227+L227),+'Vergi Oranları'!$C$5-(F227+I227+L227)))))))","v":0},{"$f":"ROUND(IF(N227=0,0,IF(E227<O227,(E227-$P$3)*'Vergi Oranları'!$G$5/100,(O227-$P$3)*'Vergi Oranları'!$G$5/100)),2)","v":0},{"$f":"IF(E227=0,0,IF(D227=0,0,IF(G227=0,0,IF(G227<=+'Vergi Oranları'!$C$5,0,IF(OR(G227>+'Vergi Oranları'!$C$5,F227+E227<=+'Vergi Oranları'!$C$5),35)))))","v":0},{"$f":"IF(E227=0,0,IF(D227=0,0,IF(G227=0,0,IF(Q227=0,0,IF(F227+E227>=+'Vergi Oranları'!$C$5,G227-(F227+I227+L227+O227),+'Vergi Oranları'!$C$5-(F227+I227+L227+O227))))))","v":0},{"$f":"IF(Q227=0,0,ROUND((R227-$S$3)*+'Vergi Oranları'!$G$6/100,2))","v":0},0]
[null,null,null,null,null,null,0,{"$f":"IF(E228=0,0,IF(D228=0,0,IF(G228=0,0,IF(F228>+'Vergi Oranları'!$C$3,0,IF(OR(G228<='Vergi Oranları'!$C$3,F228+E228<+'Vergi Oranları'!$C$3),15,IF(G228-(E228+F228)<='Vergi Oranları'!$C$3,15,))))))","v":0},{"$f":"IF(E228=0,0,IF(D228=0,0,IF(G228=0,0,IF(H228=0,0,IF(F228+E228<='Vergi Oranları'!$C$3,G228-F228,'Vergi Oranları'!$C$3-F228)))))","v":0},{"$f":"IF(I228=0,0,IF(ROUND((I228-$J$3)*'Vergi Oranları'!$G$3/100,2)<0,0,ROUND((I228-$M$3)*'Vergi Oranları'!$G$3/100,2)))","v":0},{"$f":"IF(E228=0,0,IF(D228=0,0,IF(G228=0,0,IF(F228>+'Vergi Oranları'!$C$4,0,IF(OR(G228<='Vergi Oranları'!$C$4,F228+E228<'Vergi Oranları'!$C$4),20,IF(G228-(E228+F228)<='Vergi Oranları'!$C$4,20,))))))","v":0},{"$f":"IF(E228=0,0,IF(D228=0,0,IF(G228=0,0,IF(K228=0,0,IF(F228+E228<=+'Vergi Oranları'!$C$4,G228-(F228+I228),+'Vergi Oranları'!$C$4-(F228+I228))))))","v":0},{"$f":"IF(L228=0,0,IF(ROUND((L228-$M$3)*+'Vergi Oranları'!$G$4/100,2)<0,0,ROUND((L228-$M$3)*+'Vergi Oranları'!$G$4/100,2)))","v":0},{"$f":"IF(E228=0,0,IF(D228=0,0,IF(G228=0,0,IF(OR(G228>+'Vergi Oranları'!$C$4,G228<=+'Vergi Oranları'!$C$5),27))))","v":0},{"$f":"IF(E228=0,0,IF(D228=0,0,IF(G228=0,0,IF(N228=0,0,IF(F228>'Vergi Oranları'!$C$5,0,IF(G228<=+'Vergi Oranları'!$C$5,G228-(F228+I228+L228),+'Vergi Oranları'!$C$5-(F228+I228+L228)))))))","v":0},{"$f":"ROUND(IF(N228=0,0,IF(E228<O228,(E228-$P$3)*'Vergi Oranları'!$G$5/100,(O228-$P$3)*'Vergi Oranları'!$G$5/100)),2)","v":0},{"$f":"IF(E228=0,0,IF(D228=0,0,IF(G228=0,0,IF(G228<=+'Vergi Oranları'!$C$5,0,IF(OR(G228>+'Vergi Oranları'!$C$5,F228+E228<=+'Vergi Oranları'!$C$5),35)))))","v":0},{"$f":"IF(E228=0,0,IF(D228=0,0,IF(G228=0,0,IF(Q228=0,0,IF(F228+E228>=+'Vergi Oranları'!$C$5,G228-(F228+I228+L228+O228),+'Vergi Oranları'!$C$5-(F228+I228+L228+O228))))))","v":0},{"$f":"IF(Q228=0,0,ROUND((R228-$S$3)*+'Vergi Oranları'!$G$6/100,2))","v":0},0]
[null,null,null,null,null,null,0,{"$f":"IF(E229=0,0,IF(D229=0,0,IF(G229=0,0,IF(F229>+'Vergi Oranları'!$C$3,0,IF(OR(G229<='Vergi Oranları'!$C$3,F229+E229<+'Vergi Oranları'!$C$3),15,IF(G229-(E229+F229)<='Vergi Oranları'!$C$3,15,))))))","v":0},{"$f":"IF(E229=0,0,IF(D229=0,0,IF(G229=0,0,IF(H229=0,0,IF(F229+E229<='Vergi Oranları'!$C$3,G229-F229,'Vergi Oranları'!$C$3-F229)))))","v":0},{"$f":"IF(I229=0,0,IF(ROUND((I229-$J$3)*'Vergi Oranları'!$G$3/100,2)<0,0,ROUND((I229-$M$3)*'Vergi Oranları'!$G$3/100,2)))","v":0},{"$f":"IF(E229=0,0,IF(D229=0,0,IF(G229=0,0,IF(F229>+'Vergi Oranları'!$C$4,0,IF(OR(G229<='Vergi Oranları'!$C$4,F229+E229<'Vergi Oranları'!$C$4),20,IF(G229-(E229+F229)<='Vergi Oranları'!$C$4,20,))))))","v":0},{"$f":"IF(E229=0,0,IF(D229=0,0,IF(G229=0,0,IF(K229=0,0,IF(F229+E229<=+'Vergi Oranları'!$C$4,G229-(F229+I229),+'Vergi Oranları'!$C$4-(F229+I229))))))","v":0},{"$f":"IF(L229=0,0,IF(ROUND((L229-$M$3)*+'Vergi Oranları'!$G$4/100,2)<0,0,ROUND((L229-$M$3)*+'Vergi Oranları'!$G$4/100,2)))","v":0},{"$f":"IF(E229=0,0,IF(D229=0,0,IF(G229=0,0,IF(OR(G229>+'Vergi Oranları'!$C$4,G229<=+'Vergi Oranları'!$C$5),27))))","v":0},{"$f":"IF(E229=0,0,IF(D229=0,0,IF(G229=0,0,IF(N229=0,0,IF(F229>'Vergi Oranları'!$C$5,0,IF(G229<=+'Vergi Oranları'!$C$5,G229-(F229+I229+L229),+'Vergi Oranları'!$C$5-(F229+I229+L229)))))))","v":0},{"$f":"ROUND(IF(N229=0,0,IF(E229<O229,(E229-$P$3)*'Vergi Oranları'!$G$5/100,(O229-$P$3)*'Vergi Oranları'!$G$5/100)),2)","v":0},{"$f":"IF(E229=0,0,IF(D229=0,0,IF(G229=0,0,IF(G229<=+'Vergi Oranları'!$C$5,0,IF(OR(G229>+'Vergi Oranları'!$C$5,F229+E229<=+'Vergi Oranları'!$C$5),35)))))","v":0},{"$f":"IF(E229=0,0,IF(D229=0,0,IF(G229=0,0,IF(Q229=0,0,IF(F229+E229>=+'Vergi Oranları'!$C$5,G229-(F229+I229+L229+O229),+'Vergi Oranları'!$C$5-(F229+I229+L229+O229))))))","v":0},{"$f":"IF(Q229=0,0,ROUND((R229-$S$3)*+'Vergi Oranları'!$G$6/100,2))","v":0},0]
[null,null,null,null,null,null,0,{"$f":"IF(E230=0,0,IF(D230=0,0,IF(G230=0,0,IF(F230>+'Vergi Oranları'!$C$3,0,IF(OR(G230<='Vergi Oranları'!$C$3,F230+E230<+'Vergi Oranları'!$C$3),15,IF(G230-(E230+F230)<='Vergi Oranları'!$C$3,15,))))))","v":0},{"$f":"IF(E230=0,0,IF(D230=0,0,IF(G230=0,0,IF(H230=0,0,IF(F230+E230<='Vergi Oranları'!$C$3,G230-F230,'Vergi Oranları'!$C$3-F230)))))","v":0},{"$f":"IF(I230=0,0,IF(ROUND((I230-$J$3)*'Vergi Oranları'!$G$3/100,2)<0,0,ROUND((I230-$M$3)*'Vergi Oranları'!$G$3/100,2)))","v":0},{"$f":"IF(E230=0,0,IF(D230=0,0,IF(G230=0,0,IF(F230>+'Vergi Oranları'!$C$4,0,IF(OR(G230<='Vergi Oranları'!$C$4,F230+E230<'Vergi Oranları'!$C$4),20,IF(G230-(E230+F230)<='Vergi Oranları'!$C$4,20,))))))","v":0},{"$f":"IF(E230=0,0,IF(D230=0,0,IF(G230=0,0,IF(K230=0,0,IF(F230+E230<=+'Vergi Oranları'!$C$4,G230-(F230+I230),+'Vergi Oranları'!$C$4-(F230+I230))))))","v":0},{"$f":"IF(L230=0,0,IF(ROUND((L230-$M$3)*+'Vergi Oranları'!$G$4/100,2)<0,0,ROUND((L230-$M$3)*+'Vergi Oranları'!$G$4/100,2)))","v":0},{"$f":"IF(E230=0,0,IF(D230=0,0,IF(G230=0,0,IF(OR(G230>+'Vergi Oranları'!$C$4,G230<=+'Vergi Oranları'!$C$5),27))))","v":0},{"$f":"IF(E230=0,0,IF(D230=0,0,IF(G230=0,0,IF(N230=0,0,IF(F230>'Vergi Oranları'!$C$5,0,IF(G230<=+'Vergi Oranları'!$C$5,G230-(F230+I230+L230),+'Vergi Oranları'!$C$5-(F230+I230+L230)))))))","v":0},{"$f":"ROUND(IF(N230=0,0,IF(E230<O230,(E230-$P$3)*'Vergi Oranları'!$G$5/100,(O230-$P$3)*'Vergi Oranları'!$G$5/100)),2)","v":0},{"$f":"IF(E230=0,0,IF(D230=0,0,IF(G230=0,0,IF(G230<=+'Vergi Oranları'!$C$5,0,IF(OR(G230>+'Vergi Oranları'!$C$5,F230+E230<=+'Vergi Oranları'!$C$5),35)))))","v":0},{"$f":"IF(E230=0,0,IF(D230=0,0,IF(G230=0,0,IF(Q230=0,0,IF(F230+E230>=+'Vergi Oranları'!$C$5,G230-(F230+I230+L230+O230),+'Vergi Oranları'!$C$5-(F230+I230+L230+O230))))))","v":0},{"$f":"IF(Q230=0,0,ROUND((R230-$S$3)*+'Vergi Oranları'!$G$6/100,2))","v":0},0]
[null,null,null,null,null,null,0,{"$f":"IF(E231=0,0,IF(D231=0,0,IF(G231=0,0,IF(F231>+'Vergi Oranları'!$C$3,0,IF(OR(G231<='Vergi Oranları'!$C$3,F231+E231<+'Vergi Oranları'!$C$3),15,IF(G231-(E231+F231)<='Vergi Oranları'!$C$3,15,))))))","v":0},{"$f":"IF(E231=0,0,IF(D231=0,0,IF(G231=0,0,IF(H231=0,0,IF(F231+E231<='Vergi Oranları'!$C$3,G231-F231,'Vergi Oranları'!$C$3-F231)))))","v":0},{"$f":"IF(I231=0,0,IF(ROUND((I231-$J$3)*'Vergi Oranları'!$G$3/100,2)<0,0,ROUND((I231-$M$3)*'Vergi Oranları'!$G$3/100,2)))","v":0},{"$f":"IF(E231=0,0,IF(D231=0,0,IF(G231=0,0,IF(F231>+'Vergi Oranları'!$C$4,0,IF(OR(G231<='Vergi Oranları'!$C$4,F231+E231<'Vergi Oranları'!$C$4),20,IF(G231-(E231+F231)<='Vergi Oranları'!$C$4,20,))))))","v":0},{"$f":"IF(E231=0,0,IF(D231=0,0,IF(G231=0,0,IF(K231=0,0,IF(F231+E231<=+'Vergi Oranları'!$C$4,G231-(F231+I231),+'Vergi Oranları'!$C$4-(F231+I231))))))","v":0},{"$f":"IF(L231=0,0,IF(ROUND((L231-$M$3)*+'Vergi Oranları'!$G$4/100,2)<0,0,ROUND((L231-$M$3)*+'Vergi Oranları'!$G$4/100,2)))","v":0},{"$f":"IF(E231=0,0,IF(D231=0,0,IF(G231=0,0,IF(OR(G231>+'Vergi Oranları'!$C$4,G231<=+'Vergi Oranları'!$C$5),27))))","v":0},{"$f":"IF(E231=0,0,IF(D231=0,0,IF(G231=0,0,IF(N231=0,0,IF(F231>'Vergi Oranları'!$C$5,0,IF(G231<=+'Vergi Oranları'!$C$5,G231-(F231+I231+L231),+'Vergi Oranları'!$C$5-(F231+I231+L231)))))))","v":0},{"$f":"ROUND(IF(N231=0,0,IF(E231<O231,(E231-$P$3)*'Vergi Oranları'!$G$5/100,(O231-$P$3)*'Vergi Oranları'!$G$5/100)),2)","v":0},{"$f":"IF(E231=0,0,IF(D231=0,0,IF(G231=0,0,IF(G231<=+'Vergi Oranları'!$C$5,0,IF(OR(G231>+'Vergi Oranları'!$C$5,F231+E231<=+'Vergi Oranları'!$C$5),35)))))","v":0},{"$f":"IF(E231=0,0,IF(D231=0,0,IF(G231=0,0,IF(Q231=0,0,IF(F231+E231>=+'Vergi Oranları'!$C$5,G231-(F231+I231+L231+O231),+'Vergi Oranları'!$C$5-(F231+I231+L231+O231))))))","v":0},{"$f":"IF(Q231=0,0,ROUND((R231-$S$3)*+'Vergi Oranları'!$G$6/100,2))","v":0},0]
[null,null,null,null,null,null,0,{"$f":"IF(E232=0,0,IF(D232=0,0,IF(G232=0,0,IF(F232>+'Vergi Oranları'!$C$3,0,IF(OR(G232<='Vergi Oranları'!$C$3,F232+E232<+'Vergi Oranları'!$C$3),15,IF(G232-(E232+F232)<='Vergi Oranları'!$C$3,15,))))))","v":0},{"$f":"IF(E232=0,0,IF(D232=0,0,IF(G232=0,0,IF(H232=0,0,IF(F232+E232<='Vergi Oranları'!$C$3,G232-F232,'Vergi Oranları'!$C$3-F232)))))","v":0},{"$f":"IF(I232=0,0,IF(ROUND((I232-$J$3)*'Vergi Oranları'!$G$3/100,2)<0,0,ROUND((I232-$M$3)*'Vergi Oranları'!$G$3/100,2)))","v":0},{"$f":"IF(E232=0,0,IF(D232=0,0,IF(G232=0,0,IF(F232>+'Vergi Oranları'!$C$4,0,IF(OR(G232<='Vergi Oranları'!$C$4,F232+E232<'Vergi Oranları'!$C$4),20,IF(G232-(E232+F232)<='Vergi Oranları'!$C$4,20,))))))","v":0},{"$f":"IF(E232=0,0,IF(D232=0,0,IF(G232=0,0,IF(K232=0,0,IF(F232+E232<=+'Vergi Oranları'!$C$4,G232-(F232+I232),+'Vergi Oranları'!$C$4-(F232+I232))))))","v":0},{"$f":"IF(L232=0,0,IF(ROUND((L232-$M$3)*+'Vergi Oranları'!$G$4/100,2)<0,0,ROUND((L232-$M$3)*+'Vergi Oranları'!$G$4/100,2)))","v":0},{"$f":"IF(E232=0,0,IF(D232=0,0,IF(G232=0,0,IF(OR(G232>+'Vergi Oranları'!$C$4,G232<=+'Vergi Oranları'!$C$5),27))))","v":0},{"$f":"IF(E232=0,0,IF(D232=0,0,IF(G232=0,0,IF(N232=0,0,IF(F232>'Vergi Oranları'!$C$5,0,IF(G232<=+'Vergi Oranları'!$C$5,G232-(F232+I232+L232),+'Vergi Oranları'!$C$5-(F232+I232+L232)))))))","v":0},{"$f":"ROUND(IF(N232=0,0,IF(E232<O232,(E232-$P$3)*'Vergi Oranları'!$G$5/100,(O232-$P$3)*'Vergi Oranları'!$G$5/100)),2)","v":0},{"$f":"IF(E232=0,0,IF(D232=0,0,IF(G232=0,0,IF(G232<=+'Vergi Oranları'!$C$5,0,IF(OR(G232>+'Vergi Oranları'!$C$5,F232+E232<=+'Vergi Oranları'!$C$5),35)))))","v":0},{"$f":"IF(E232=0,0,IF(D232=0,0,IF(G232=0,0,IF(Q232=0,0,IF(F232+E232>=+'Vergi Oranları'!$C$5,G232-(F232+I232+L232+O232),+'Vergi Oranları'!$C$5-(F232+I232+L232+O232))))))","v":0},{"$f":"IF(Q232=0,0,ROUND((R232-$S$3)*+'Vergi Oranları'!$G$6/100,2))","v":0},0]
[null,null,null,null,null,null,0,{"$f":"IF(E233=0,0,IF(D233=0,0,IF(G233=0,0,IF(F233>+'Vergi Oranları'!$C$3,0,IF(OR(G233<='Vergi Oranları'!$C$3,F233+E233<+'Vergi Oranları'!$C$3),15,IF(G233-(E233+F233)<='Vergi Oranları'!$C$3,15,))))))","v":0},{"$f":"IF(E233=0,0,IF(D233=0,0,IF(G233=0,0,IF(H233=0,0,IF(F233+E233<='Vergi Oranları'!$C$3,G233-F233,'Vergi Oranları'!$C$3-F233)))))","v":0},{"$f":"IF(I233=0,0,IF(ROUND((I233-$J$3)*'Vergi Oranları'!$G$3/100,2)<0,0,ROUND((I233-$M$3)*'Vergi Oranları'!$G$3/100,2)))","v":0},{"$f":"IF(E233=0,0,IF(D233=0,0,IF(G233=0,0,IF(F233>+'Vergi Oranları'!$C$4,0,IF(OR(G233<='Vergi Oranları'!$C$4,F233+E233<'Vergi Oranları'!$C$4),20,IF(G233-(E233+F233)<='Vergi Oranları'!$C$4,20,))))))","v":0},{"$f":"IF(E233=0,0,IF(D233=0,0,IF(G233=0,0,IF(K233=0,0,IF(F233+E233<=+'Vergi Oranları'!$C$4,G233-(F233+I233),+'Vergi Oranları'!$C$4-(F233+I233))))))","v":0},{"$f":"IF(L233=0,0,IF(ROUND((L233-$M$3)*+'Vergi Oranları'!$G$4/100,2)<0,0,ROUND((L233-$M$3)*+'Vergi Oranları'!$G$4/100,2)))","v":0},{"$f":"IF(E233=0,0,IF(D233=0,0,IF(G233=0,0,IF(OR(G233>+'Vergi Oranları'!$C$4,G233<=+'Vergi Oranları'!$C$5),27))))","v":0},{"$f":"IF(E233=0,0,IF(D233=0,0,IF(G233=0,0,IF(N233=0,0,IF(F233>'Vergi Oranları'!$C$5,0,IF(G233<=+'Vergi Oranları'!$C$5,G233-(F233+I233+L233),+'Vergi Oranları'!$C$5-(F233+I233+L233)))))))","v":0},{"$f":"ROUND(IF(N233=0,0,IF(E233<O233,(E233-$P$3)*'Vergi Oranları'!$G$5/100,(O233-$P$3)*'Vergi Oranları'!$G$5/100)),2)","v":0},{"$f":"IF(E233=0,0,IF(D233=0,0,IF(G233=0,0,IF(G233<=+'Vergi Oranları'!$C$5,0,IF(OR(G233>+'Vergi Oranları'!$C$5,F233+E233<=+'Vergi Oranları'!$C$5),35)))))","v":0},{"$f":"IF(E233=0,0,IF(D233=0,0,IF(G233=0,0,IF(Q233=0,0,IF(F233+E233>=+'Vergi Oranları'!$C$5,G233-(F233+I233+L233+O233),+'Vergi Oranları'!$C$5-(F233+I233+L233+O233))))))","v":0},{"$f":"IF(Q233=0,0,ROUND((R233-$S$3)*+'Vergi Oranları'!$G$6/100,2))","v":0},0]
[null,null,null,null,null,null,0,{"$f":"IF(E234=0,0,IF(D234=0,0,IF(G234=0,0,IF(F234>+'Vergi Oranları'!$C$3,0,IF(OR(G234<='Vergi Oranları'!$C$3,F234+E234<+'Vergi Oranları'!$C$3),15,IF(G234-(E234+F234)<='Vergi Oranları'!$C$3,15,))))))","v":0},{"$f":"IF(E234=0,0,IF(D234=0,0,IF(G234=0,0,IF(H234=0,0,IF(F234+E234<='Vergi Oranları'!$C$3,G234-F234,'Vergi Oranları'!$C$3-F234)))))","v":0},{"$f":"IF(I234=0,0,IF(ROUND((I234-$J$3)*'Vergi Oranları'!$G$3/100,2)<0,0,ROUND((I234-$M$3)*'Vergi Oranları'!$G$3/100,2)))","v":0},{"$f":"IF(E234=0,0,IF(D234=0,0,IF(G234=0,0,IF(F234>+'Vergi Oranları'!$C$4,0,IF(OR(G234<='Vergi Oranları'!$C$4,F234+E234<'Vergi Oranları'!$C$4),20,IF(G234-(E234+F234)<='Vergi Oranları'!$C$4,20,))))))","v":0},{"$f":"IF(E234=0,0,IF(D234=0,0,IF(G234=0,0,IF(K234=0,0,IF(F234+E234<=+'Vergi Oranları'!$C$4,G234-(F234+I234),+'Vergi Oranları'!$C$4-(F234+I234))))))","v":0},{"$f":"IF(L234=0,0,IF(ROUND((L234-$M$3)*+'Vergi Oranları'!$G$4/100,2)<0,0,ROUND((L234-$M$3)*+'Vergi Oranları'!$G$4/100,2)))","v":0},{"$f":"IF(E234=0,0,IF(D234=0,0,IF(G234=0,0,IF(OR(G234>+'Vergi Oranları'!$C$4,G234<=+'Vergi Oranları'!$C$5),27))))","v":0},{"$f":"IF(E234=0,0,IF(D234=0,0,IF(G234=0,0,IF(N234=0,0,IF(F234>'Vergi Oranları'!$C$5,0,IF(G234<=+'Vergi Oranları'!$C$5,G234-(F234+I234+L234),+'Vergi Oranları'!$C$5-(F234+I234+L234)))))))","v":0},{"$f":"ROUND(IF(N234=0,0,IF(E234<O234,(E234-$P$3)*'Vergi Oranları'!$G$5/100,(O234-$P$3)*'Vergi Oranları'!$G$5/100)),2)","v":0},{"$f":"IF(E234=0,0,IF(D234=0,0,IF(G234=0,0,IF(G234<=+'Vergi Oranları'!$C$5,0,IF(OR(G234>+'Vergi Oranları'!$C$5,F234+E234<=+'Vergi Oranları'!$C$5),35)))))","v":0},{"$f":"IF(E234=0,0,IF(D234=0,0,IF(G234=0,0,IF(Q234=0,0,IF(F234+E234>=+'Vergi Oranları'!$C$5,G234-(F234+I234+L234+O234),+'Vergi Oranları'!$C$5-(F234+I234+L234+O234))))))","v":0},{"$f":"IF(Q234=0,0,ROUND((R234-$S$3)*+'Vergi Oranları'!$G$6/100,2))","v":0},0]
[null,null,null,null,null,null,0,{"$f":"IF(E235=0,0,IF(D235=0,0,IF(G235=0,0,IF(F235>+'Vergi Oranları'!$C$3,0,IF(OR(G235<='Vergi Oranları'!$C$3,F235+E235<+'Vergi Oranları'!$C$3),15,IF(G235-(E235+F235)<='Vergi Oranları'!$C$3,15,))))))","v":0},{"$f":"IF(E235=0,0,IF(D235=0,0,IF(G235=0,0,IF(H235=0,0,IF(F235+E235<='Vergi Oranları'!$C$3,G235-F235,'Vergi Oranları'!$C$3-F235)))))","v":0},{"$f":"IF(I235=0,0,IF(ROUND((I235-$J$3)*'Vergi Oranları'!$G$3/100,2)<0,0,ROUND((I235-$M$3)*'Vergi Oranları'!$G$3/100,2)))","v":0},{"$f":"IF(E235=0,0,IF(D235=0,0,IF(G235=0,0,IF(F235>+'Vergi Oranları'!$C$4,0,IF(OR(G235<='Vergi Oranları'!$C$4,F235+E235<'Vergi Oranları'!$C$4),20,IF(G235-(E235+F235)<='Vergi Oranları'!$C$4,20,))))))","v":0},{"$f":"IF(E235=0,0,IF(D235=0,0,IF(G235=0,0,IF(K235=0,0,IF(F235+E235<=+'Vergi Oranları'!$C$4,G235-(F235+I235),+'Vergi Oranları'!$C$4-(F235+I235))))))","v":0},{"$f":"IF(L235=0,0,IF(ROUND((L235-$M$3)*+'Vergi Oranları'!$G$4/100,2)<0,0,ROUND((L235-$M$3)*+'Vergi Oranları'!$G$4/100,2)))","v":0},{"$f":"IF(E235=0,0,IF(D235=0,0,IF(G235=0,0,IF(OR(G235>+'Vergi Oranları'!$C$4,G235<=+'Vergi Oranları'!$C$5),27))))","v":0},{"$f":"IF(E235=0,0,IF(D235=0,0,IF(G235=0,0,IF(N235=0,0,IF(F235>'Vergi Oranları'!$C$5,0,IF(G235<=+'Vergi Oranları'!$C$5,G235-(F235+I235+L235),+'Vergi Oranları'!$C$5-(F235+I235+L235)))))))","v":0},{"$f":"ROUND(IF(N235=0,0,IF(E235<O235,(E235-$P$3)*'Vergi Oranları'!$G$5/100,(O235-$P$3)*'Vergi Oranları'!$G$5/100)),2)","v":0},{"$f":"IF(E235=0,0,IF(D235=0,0,IF(G235=0,0,IF(G235<=+'Vergi Oranları'!$C$5,0,IF(OR(G235>+'Vergi Oranları'!$C$5,F235+E235<=+'Vergi Oranları'!$C$5),35)))))","v":0},{"$f":"IF(E235=0,0,IF(D235=0,0,IF(G235=0,0,IF(Q235=0,0,IF(F235+E235>=+'Vergi Oranları'!$C$5,G235-(F235+I235+L235+O235),+'Vergi Oranları'!$C$5-(F235+I235+L235+O235))))))","v":0},{"$f":"IF(Q235=0,0,ROUND((R235-$S$3)*+'Vergi Oranları'!$G$6/100,2))","v":0},0]
[null,null,null,null,null,null,0,{"$f":"IF(E236=0,0,IF(D236=0,0,IF(G236=0,0,IF(F236>+'Vergi Oranları'!$C$3,0,IF(OR(G236<='Vergi Oranları'!$C$3,F236+E236<+'Vergi Oranları'!$C$3),15,IF(G236-(E236+F236)<='Vergi Oranları'!$C$3,15,))))))","v":0},{"$f":"IF(E236=0,0,IF(D236=0,0,IF(G236=0,0,IF(H236=0,0,IF(F236+E236<='Vergi Oranları'!$C$3,G236-F236,'Vergi Oranları'!$C$3-F236)))))","v":0},{"$f":"IF(I236=0,0,IF(ROUND((I236-$J$3)*'Vergi Oranları'!$G$3/100,2)<0,0,ROUND((I236-$M$3)*'Vergi Oranları'!$G$3/100,2)))","v":0},{"$f":"IF(E236=0,0,IF(D236=0,0,IF(G236=0,0,IF(F236>+'Vergi Oranları'!$C$4,0,IF(OR(G236<='Vergi Oranları'!$C$4,F236+E236<'Vergi Oranları'!$C$4),20,IF(G236-(E236+F236)<='Vergi Oranları'!$C$4,20,))))))","v":0},{"$f":"IF(E236=0,0,IF(D236=0,0,IF(G236=0,0,IF(K236=0,0,IF(F236+E236<=+'Vergi Oranları'!$C$4,G236-(F236+I236),+'Vergi Oranları'!$C$4-(F236+I236))))))","v":0},{"$f":"IF(L236=0,0,IF(ROUND((L236-$M$3)*+'Vergi Oranları'!$G$4/100,2)<0,0,ROUND((L236-$M$3)*+'Vergi Oranları'!$G$4/100,2)))","v":0},{"$f":"IF(E236=0,0,IF(D236=0,0,IF(G236=0,0,IF(OR(G236>+'Vergi Oranları'!$C$4,G236<=+'Vergi Oranları'!$C$5),27))))","v":0},{"$f":"IF(E236=0,0,IF(D236=0,0,IF(G236=0,0,IF(N236=0,0,IF(F236>'Vergi Oranları'!$C$5,0,IF(G236<=+'Vergi Oranları'!$C$5,G236-(F236+I236+L236),+'Vergi Oranları'!$C$5-(F236+I236+L236)))))))","v":0},{"$f":"ROUND(IF(N236=0,0,IF(E236<O236,(E236-$P$3)*'Vergi Oranları'!$G$5/100,(O236-$P$3)*'Vergi Oranları'!$G$5/100)),2)","v":0},{"$f":"IF(E236=0,0,IF(D236=0,0,IF(G236=0,0,IF(G236<=+'Vergi Oranları'!$C$5,0,IF(OR(G236>+'Vergi Oranları'!$C$5,F236+E236<=+'Vergi Oranları'!$C$5),35)))))","v":0},{"$f":"IF(E236=0,0,IF(D236=0,0,IF(G236=0,0,IF(Q236=0,0,IF(F236+E236>=+'Vergi Oranları'!$C$5,G236-(F236+I236+L236+O236),+'Vergi Oranları'!$C$5-(F236+I236+L236+O236))))))","v":0},{"$f":"IF(Q236=0,0,ROUND((R236-$S$3)*+'Vergi Oranları'!$G$6/100,2))","v":0},0]
[null,null,null,null,null,null,0,{"$f":"IF(E237=0,0,IF(D237=0,0,IF(G237=0,0,IF(F237>+'Vergi Oranları'!$C$3,0,IF(OR(G237<='Vergi Oranları'!$C$3,F237+E237<+'Vergi Oranları'!$C$3),15,IF(G237-(E237+F237)<='Vergi Oranları'!$C$3,15,))))))","v":0},{"$f":"IF(E237=0,0,IF(D237=0,0,IF(G237=0,0,IF(H237=0,0,IF(F237+E237<='Vergi Oranları'!$C$3,G237-F237,'Vergi Oranları'!$C$3-F237)))))","v":0},{"$f":"IF(I237=0,0,IF(ROUND((I237-$J$3)*'Vergi Oranları'!$G$3/100,2)<0,0,ROUND((I237-$M$3)*'Vergi Oranları'!$G$3/100,2)))","v":0},{"$f":"IF(E237=0,0,IF(D237=0,0,IF(G237=0,0,IF(F237>+'Vergi Oranları'!$C$4,0,IF(OR(G237<='Vergi Oranları'!$C$4,F237+E237<'Vergi Oranları'!$C$4),20,IF(G237-(E237+F237)<='Vergi Oranları'!$C$4,20,))))))","v":0},{"$f":"IF(E237=0,0,IF(D237=0,0,IF(G237=0,0,IF(K237=0,0,IF(F237+E237<=+'Vergi Oranları'!$C$4,G237-(F237+I237),+'Vergi Oranları'!$C$4-(F237+I237))))))","v":0},{"$f":"IF(L237=0,0,IF(ROUND((L237-$M$3)*+'Vergi Oranları'!$G$4/100,2)<0,0,ROUND((L237-$M$3)*+'Vergi Oranları'!$G$4/100,2)))","v":0},{"$f":"IF(E237=0,0,IF(D237=0,0,IF(G237=0,0,IF(OR(G237>+'Vergi Oranları'!$C$4,G237<=+'Vergi Oranları'!$C$5),27))))","v":0},{"$f":"IF(E237=0,0,IF(D237=0,0,IF(G237=0,0,IF(N237=0,0,IF(F237>'Vergi Oranları'!$C$5,0,IF(G237<=+'Vergi Oranları'!$C$5,G237-(F237+I237+L237),+'Vergi Oranları'!$C$5-(F237+I237+L237)))))))","v":0},{"$f":"ROUND(IF(N237=0,0,IF(E237<O237,(E237-$P$3)*'Vergi Oranları'!$G$5/100,(O237-$P$3)*'Vergi Oranları'!$G$5/100)),2)","v":0},{"$f":"IF(E237=0,0,IF(D237=0,0,IF(G237=0,0,IF(G237<=+'Vergi Oranları'!$C$5,0,IF(OR(G237>+'Vergi Oranları'!$C$5,F237+E237<=+'Vergi Oranları'!$C$5),35)))))","v":0},{"$f":"IF(E237=0,0,IF(D237=0,0,IF(G237=0,0,IF(Q237=0,0,IF(F237+E237>=+'Vergi Oranları'!$C$5,G237-(F237+I237+L237+O237),+'Vergi Oranları'!$C$5-(F237+I237+L237+O237))))))","v":0},{"$f":"IF(Q237=0,0,ROUND((R237-$S$3)*+'Vergi Oranları'!$G$6/100,2))","v":0},0]
[null,null,null,null,null,null,0,{"$f":"IF(E238=0,0,IF(D238=0,0,IF(G238=0,0,IF(F238>+'Vergi Oranları'!$C$3,0,IF(OR(G238<='Vergi Oranları'!$C$3,F238+E238<+'Vergi Oranları'!$C$3),15,IF(G238-(E238+F238)<='Vergi Oranları'!$C$3,15,))))))","v":0},{"$f":"IF(E238=0,0,IF(D238=0,0,IF(G238=0,0,IF(H238=0,0,IF(F238+E238<='Vergi Oranları'!$C$3,G238-F238,'Vergi Oranları'!$C$3-F238)))))","v":0},{"$f":"IF(I238=0,0,IF(ROUND((I238-$J$3)*'Vergi Oranları'!$G$3/100,2)<0,0,ROUND((I238-$M$3)*'Vergi Oranları'!$G$3/100,2)))","v":0},{"$f":"IF(E238=0,0,IF(D238=0,0,IF(G238=0,0,IF(F238>+'Vergi Oranları'!$C$4,0,IF(OR(G238<='Vergi Oranları'!$C$4,F238+E238<'Vergi Oranları'!$C$4),20,IF(G238-(E238+F238)<='Vergi Oranları'!$C$4,20,))))))","v":0},{"$f":"IF(E238=0,0,IF(D238=0,0,IF(G238=0,0,IF(K238=0,0,IF(F238+E238<=+'Vergi Oranları'!$C$4,G238-(F238+I238),+'Vergi Oranları'!$C$4-(F238+I238))))))","v":0},{"$f":"IF(L238=0,0,IF(ROUND((L238-$M$3)*+'Vergi Oranları'!$G$4/100,2)<0,0,ROUND((L238-$M$3)*+'Vergi Oranları'!$G$4/100,2)))","v":0},{"$f":"IF(E238=0,0,IF(D238=0,0,IF(G238=0,0,IF(OR(G238>+'Vergi Oranları'!$C$4,G238<=+'Vergi Oranları'!$C$5),27))))","v":0},{"$f":"IF(E238=0,0,IF(D238=0,0,IF(G238=0,0,IF(N238=0,0,IF(F238>'Vergi Oranları'!$C$5,0,IF(G238<=+'Vergi Oranları'!$C$5,G238-(F238+I238+L238),+'Vergi Oranları'!$C$5-(F238+I238+L238)))))))","v":0},{"$f":"ROUND(IF(N238=0,0,IF(E238<O238,(E238-$P$3)*'Vergi Oranları'!$G$5/100,(O238-$P$3)*'Vergi Oranları'!$G$5/100)),2)","v":0},{"$f":"IF(E238=0,0,IF(D238=0,0,IF(G238=0,0,IF(G238<=+'Vergi Oranları'!$C$5,0,IF(OR(G238>+'Vergi Oranları'!$C$5,F238+E238<=+'Vergi Oranları'!$C$5),35)))))","v":0},{"$f":"IF(E238=0,0,IF(D238=0,0,IF(G238=0,0,IF(Q238=0,0,IF(F238+E238>=+'Vergi Oranları'!$C$5,G238-(F238+I238+L238+O238),+'Vergi Oranları'!$C$5-(F238+I238+L238+O238))))))","v":0},{"$f":"IF(Q238=0,0,ROUND((R238-$S$3)*+'Vergi Oranları'!$G$6/100,2))","v":0},0]
[null,null,null,null,null,null,0,{"$f":"IF(E239=0,0,IF(D239=0,0,IF(G239=0,0,IF(F239>+'Vergi Oranları'!$C$3,0,IF(OR(G239<='Vergi Oranları'!$C$3,F239+E239<+'Vergi Oranları'!$C$3),15,IF(G239-(E239+F239)<='Vergi Oranları'!$C$3,15,))))))","v":0},{"$f":"IF(E239=0,0,IF(D239=0,0,IF(G239=0,0,IF(H239=0,0,IF(F239+E239<='Vergi Oranları'!$C$3,G239-F239,'Vergi Oranları'!$C$3-F239)))))","v":0},{"$f":"IF(I239=0,0,IF(ROUND((I239-$J$3)*'Vergi Oranları'!$G$3/100,2)<0,0,ROUND((I239-$M$3)*'Vergi Oranları'!$G$3/100,2)))","v":0},{"$f":"IF(E239=0,0,IF(D239=0,0,IF(G239=0,0,IF(F239>+'Vergi Oranları'!$C$4,0,IF(OR(G239<='Vergi Oranları'!$C$4,F239+E239<'Vergi Oranları'!$C$4),20,IF(G239-(E239+F239)<='Vergi Oranları'!$C$4,20,))))))","v":0},{"$f":"IF(E239=0,0,IF(D239=0,0,IF(G239=0,0,IF(K239=0,0,IF(F239+E239<=+'Vergi Oranları'!$C$4,G239-(F239+I239),+'Vergi Oranları'!$C$4-(F239+I239))))))","v":0},{"$f":"IF(L239=0,0,IF(ROUND((L239-$M$3)*+'Vergi Oranları'!$G$4/100,2)<0,0,ROUND((L239-$M$3)*+'Vergi Oranları'!$G$4/100,2)))","v":0},{"$f":"IF(E239=0,0,IF(D239=0,0,IF(G239=0,0,IF(OR(G239>+'Vergi Oranları'!$C$4,G239<=+'Vergi Oranları'!$C$5),27))))","v":0},{"$f":"IF(E239=0,0,IF(D239=0,0,IF(G239=0,0,IF(N239=0,0,IF(F239>'Vergi Oranları'!$C$5,0,IF(G239<=+'Vergi Oranları'!$C$5,G239-(F239+I239+L239),+'Vergi Oranları'!$C$5-(F239+I239+L239)))))))","v":0},{"$f":"ROUND(IF(N239=0,0,IF(E239<O239,(E239-$P$3)*'Vergi Oranları'!$G$5/100,(O239-$P$3)*'Vergi Oranları'!$G$5/100)),2)","v":0},{"$f":"IF(E239=0,0,IF(D239=0,0,IF(G239=0,0,IF(G239<=+'Vergi Oranları'!$C$5,0,IF(OR(G239>+'Vergi Oranları'!$C$5,F239+E239<=+'Vergi Oranları'!$C$5),35)))))","v":0},{"$f":"IF(E239=0,0,IF(D239=0,0,IF(G239=0,0,IF(Q239=0,0,IF(F239+E239>=+'Vergi Oranları'!$C$5,G239-(F239+I239+L239+O239),+'Vergi Oranları'!$C$5-(F239+I239+L239+O239))))))","v":0},{"$f":"IF(Q239=0,0,ROUND((R239-$S$3)*+'Vergi Oranları'!$G$6/100,2))","v":0},0]
[null,null,null,null,null,null,0,{"$f":"IF(E240=0,0,IF(D240=0,0,IF(G240=0,0,IF(F240>+'Vergi Oranları'!$C$3,0,IF(OR(G240<='Vergi Oranları'!$C$3,F240+E240<+'Vergi Oranları'!$C$3),15,IF(G240-(E240+F240)<='Vergi Oranları'!$C$3,15,))))))","v":0},{"$f":"IF(E240=0,0,IF(D240=0,0,IF(G240=0,0,IF(H240=0,0,IF(F240+E240<='Vergi Oranları'!$C$3,G240-F240,'Vergi Oranları'!$C$3-F240)))))","v":0},{"$f":"IF(I240=0,0,IF(ROUND((I240-$J$3)*'Vergi Oranları'!$G$3/100,2)<0,0,ROUND((I240-$M$3)*'Vergi Oranları'!$G$3/100,2)))","v":0},{"$f":"IF(E240=0,0,IF(D240=0,0,IF(G240=0,0,IF(F240>+'Vergi Oranları'!$C$4,0,IF(OR(G240<='Vergi Oranları'!$C$4,F240+E240<'Vergi Oranları'!$C$4),20,IF(G240-(E240+F240)<='Vergi Oranları'!$C$4,20,))))))","v":0},{"$f":"IF(E240=0,0,IF(D240=0,0,IF(G240=0,0,IF(K240=0,0,IF(F240+E240<=+'Vergi Oranları'!$C$4,G240-(F240+I240),+'Vergi Oranları'!$C$4-(F240+I240))))))","v":0},{"$f":"IF(L240=0,0,IF(ROUND((L240-$M$3)*+'Vergi Oranları'!$G$4/100,2)<0,0,ROUND((L240-$M$3)*+'Vergi Oranları'!$G$4/100,2)))","v":0},{"$f":"IF(E240=0,0,IF(D240=0,0,IF(G240=0,0,IF(OR(G240>+'Vergi Oranları'!$C$4,G240<=+'Vergi Oranları'!$C$5),27))))","v":0},{"$f":"IF(E240=0,0,IF(D240=0,0,IF(G240=0,0,IF(N240=0,0,IF(F240>'Vergi Oranları'!$C$5,0,IF(G240<=+'Vergi Oranları'!$C$5,G240-(F240+I240+L240),+'Vergi Oranları'!$C$5-(F240+I240+L240)))))))","v":0},{"$f":"ROUND(IF(N240=0,0,IF(E240<O240,(E240-$P$3)*'Vergi Oranları'!$G$5/100,(O240-$P$3)*'Vergi Oranları'!$G$5/100)),2)","v":0},{"$f":"IF(E240=0,0,IF(D240=0,0,IF(G240=0,0,IF(G240<=+'Vergi Oranları'!$C$5,0,IF(OR(G240>+'Vergi Oranları'!$C$5,F240+E240<=+'Vergi Oranları'!$C$5),35)))))","v":0},{"$f":"IF(E240=0,0,IF(D240=0,0,IF(G240=0,0,IF(Q240=0,0,IF(F240+E240>=+'Vergi Oranları'!$C$5,G240-(F240+I240+L240+O240),+'Vergi Oranları'!$C$5-(F240+I240+L240+O240))))))","v":0},{"$f":"IF(Q240=0,0,ROUND((R240-$S$3)*+'Vergi Oranları'!$G$6/100,2))","v":0},0]
[null,null,null,null,null,null,0,{"$f":"IF(E241=0,0,IF(D241=0,0,IF(G241=0,0,IF(F241>+'Vergi Oranları'!$C$3,0,IF(OR(G241<='Vergi Oranları'!$C$3,F241+E241<+'Vergi Oranları'!$C$3),15,IF(G241-(E241+F241)<='Vergi Oranları'!$C$3,15,))))))","v":0},{"$f":"IF(E241=0,0,IF(D241=0,0,IF(G241=0,0,IF(H241=0,0,IF(F241+E241<='Vergi Oranları'!$C$3,G241-F241,'Vergi Oranları'!$C$3-F241)))))","v":0},{"$f":"IF(I241=0,0,IF(ROUND((I241-$J$3)*'Vergi Oranları'!$G$3/100,2)<0,0,ROUND((I241-$M$3)*'Vergi Oranları'!$G$3/100,2)))","v":0},{"$f":"IF(E241=0,0,IF(D241=0,0,IF(G241=0,0,IF(F241>+'Vergi Oranları'!$C$4,0,IF(OR(G241<='Vergi Oranları'!$C$4,F241+E241<'Vergi Oranları'!$C$4),20,IF(G241-(E241+F241)<='Vergi Oranları'!$C$4,20,))))))","v":0},{"$f":"IF(E241=0,0,IF(D241=0,0,IF(G241=0,0,IF(K241=0,0,IF(F241+E241<=+'Vergi Oranları'!$C$4,G241-(F241+I241),+'Vergi Oranları'!$C$4-(F241+I241))))))","v":0},{"$f":"IF(L241=0,0,IF(ROUND((L241-$M$3)*+'Vergi Oranları'!$G$4/100,2)<0,0,ROUND((L241-$M$3)*+'Vergi Oranları'!$G$4/100,2)))","v":0},{"$f":"IF(E241=0,0,IF(D241=0,0,IF(G241=0,0,IF(OR(G241>+'Vergi Oranları'!$C$4,G241<=+'Vergi Oranları'!$C$5),27))))","v":0},{"$f":"IF(E241=0,0,IF(D241=0,0,IF(G241=0,0,IF(N241=0,0,IF(F241>'Vergi Oranları'!$C$5,0,IF(G241<=+'Vergi Oranları'!$C$5,G241-(F241+I241+L241),+'Vergi Oranları'!$C$5-(F241+I241+L241)))))))","v":0},{"$f":"ROUND(IF(N241=0,0,IF(E241<O241,(E241-$P$3)*'Vergi Oranları'!$G$5/100,(O241-$P$3)*'Vergi Oranları'!$G$5/100)),2)","v":0},{"$f":"IF(E241=0,0,IF(D241=0,0,IF(G241=0,0,IF(G241<=+'Vergi Oranları'!$C$5,0,IF(OR(G241>+'Vergi Oranları'!$C$5,F241+E241<=+'Vergi Oranları'!$C$5),35)))))","v":0},{"$f":"IF(E241=0,0,IF(D241=0,0,IF(G241=0,0,IF(Q241=0,0,IF(F241+E241>=+'Vergi Oranları'!$C$5,G241-(F241+I241+L241+O241),+'Vergi Oranları'!$C$5-(F241+I241+L241+O241))))))","v":0},{"$f":"IF(Q241=0,0,ROUND((R241-$S$3)*+'Vergi Oranları'!$G$6/100,2))","v":0},0]
[null,null,null,null,null,null,0,{"$f":"IF(E242=0,0,IF(D242=0,0,IF(G242=0,0,IF(F242>+'Vergi Oranları'!$C$3,0,IF(OR(G242<='Vergi Oranları'!$C$3,F242+E242<+'Vergi Oranları'!$C$3),15,IF(G242-(E242+F242)<='Vergi Oranları'!$C$3,15,))))))","v":0},{"$f":"IF(E242=0,0,IF(D242=0,0,IF(G242=0,0,IF(H242=0,0,IF(F242+E242<='Vergi Oranları'!$C$3,G242-F242,'Vergi Oranları'!$C$3-F242)))))","v":0},{"$f":"IF(I242=0,0,IF(ROUND((I242-$J$3)*'Vergi Oranları'!$G$3/100,2)<0,0,ROUND((I242-$M$3)*'Vergi Oranları'!$G$3/100,2)))","v":0},{"$f":"IF(E242=0,0,IF(D242=0,0,IF(G242=0,0,IF(F242>+'Vergi Oranları'!$C$4,0,IF(OR(G242<='Vergi Oranları'!$C$4,F242+E242<'Vergi Oranları'!$C$4),20,IF(G242-(E242+F242)<='Vergi Oranları'!$C$4,20,))))))","v":0},{"$f":"IF(E242=0,0,IF(D242=0,0,IF(G242=0,0,IF(K242=0,0,IF(F242+E242<=+'Vergi Oranları'!$C$4,G242-(F242+I242),+'Vergi Oranları'!$C$4-(F242+I242))))))","v":0},{"$f":"IF(L242=0,0,IF(ROUND((L242-$M$3)*+'Vergi Oranları'!$G$4/100,2)<0,0,ROUND((L242-$M$3)*+'Vergi Oranları'!$G$4/100,2)))","v":0},{"$f":"IF(E242=0,0,IF(D242=0,0,IF(G242=0,0,IF(OR(G242>+'Vergi Oranları'!$C$4,G242<=+'Vergi Oranları'!$C$5),27))))","v":0},{"$f":"IF(E242=0,0,IF(D242=0,0,IF(G242=0,0,IF(N242=0,0,IF(F242>'Vergi Oranları'!$C$5,0,IF(G242<=+'Vergi Oranları'!$C$5,G242-(F242+I242+L242),+'Vergi Oranları'!$C$5-(F242+I242+L242)))))))","v":0},{"$f":"ROUND(IF(N242=0,0,IF(E242<O242,(E242-$P$3)*'Vergi Oranları'!$G$5/100,(O242-$P$3)*'Vergi Oranları'!$G$5/100)),2)","v":0},{"$f":"IF(E242=0,0,IF(D242=0,0,IF(G242=0,0,IF(G242<=+'Vergi Oranları'!$C$5,0,IF(OR(G242>+'Vergi Oranları'!$C$5,F242+E242<=+'Vergi Oranları'!$C$5),35)))))","v":0},{"$f":"IF(E242=0,0,IF(D242=0,0,IF(G242=0,0,IF(Q242=0,0,IF(F242+E242>=+'Vergi Oranları'!$C$5,G242-(F242+I242+L242+O242),+'Vergi Oranları'!$C$5-(F242+I242+L242+O242))))))","v":0},{"$f":"IF(Q242=0,0,ROUND((R242-$S$3)*+'Vergi Oranları'!$G$6/100,2))","v":0},0]
[null,null,null,null,null,null,0,{"$f":"IF(E243=0,0,IF(D243=0,0,IF(G243=0,0,IF(F243>+'Vergi Oranları'!$C$3,0,IF(OR(G243<='Vergi Oranları'!$C$3,F243+E243<+'Vergi Oranları'!$C$3),15,IF(G243-(E243+F243)<='Vergi Oranları'!$C$3,15,))))))","v":0},{"$f":"IF(E243=0,0,IF(D243=0,0,IF(G243=0,0,IF(H243=0,0,IF(F243+E243<='Vergi Oranları'!$C$3,G243-F243,'Vergi Oranları'!$C$3-F243)))))","v":0},{"$f":"IF(I243=0,0,IF(ROUND((I243-$J$3)*'Vergi Oranları'!$G$3/100,2)<0,0,ROUND((I243-$M$3)*'Vergi Oranları'!$G$3/100,2)))","v":0},{"$f":"IF(E243=0,0,IF(D243=0,0,IF(G243=0,0,IF(F243>+'Vergi Oranları'!$C$4,0,IF(OR(G243<='Vergi Oranları'!$C$4,F243+E243<'Vergi Oranları'!$C$4),20,IF(G243-(E243+F243)<='Vergi Oranları'!$C$4,20,))))))","v":0},{"$f":"IF(E243=0,0,IF(D243=0,0,IF(G243=0,0,IF(K243=0,0,IF(F243+E243<=+'Vergi Oranları'!$C$4,G243-(F243+I243),+'Vergi Oranları'!$C$4-(F243+I243))))))","v":0},{"$f":"IF(L243=0,0,IF(ROUND((L243-$M$3)*+'Vergi Oranları'!$G$4/100,2)<0,0,ROUND((L243-$M$3)*+'Vergi Oranları'!$G$4/100,2)))","v":0},{"$f":"IF(E243=0,0,IF(D243=0,0,IF(G243=0,0,IF(OR(G243>+'Vergi Oranları'!$C$4,G243<=+'Vergi Oranları'!$C$5),27))))","v":0},{"$f":"IF(E243=0,0,IF(D243=0,0,IF(G243=0,0,IF(N243=0,0,IF(F243>'Vergi Oranları'!$C$5,0,IF(G243<=+'Vergi Oranları'!$C$5,G243-(F243+I243+L243),+'Vergi Oranları'!$C$5-(F243+I243+L243)))))))","v":0},{"$f":"ROUND(IF(N243=0,0,IF(E243<O243,(E243-$P$3)*'Vergi Oranları'!$G$5/100,(O243-$P$3)*'Vergi Oranları'!$G$5/100)),2)","v":0},{"$f":"IF(E243=0,0,IF(D243=0,0,IF(G243=0,0,IF(G243<=+'Vergi Oranları'!$C$5,0,IF(OR(G243>+'Vergi Oranları'!$C$5,F243+E243<=+'Vergi Oranları'!$C$5),35)))))","v":0},{"$f":"IF(E243=0,0,IF(D243=0,0,IF(G243=0,0,IF(Q243=0,0,IF(F243+E243>=+'Vergi Oranları'!$C$5,G243-(F243+I243+L243+O243),+'Vergi Oranları'!$C$5-(F243+I243+L243+O243))))))","v":0},{"$f":"IF(Q243=0,0,ROUND((R243-$S$3)*+'Vergi Oranları'!$G$6/100,2))","v":0},0]
[null,null,null,null,null,null,0,{"$f":"IF(E244=0,0,IF(D244=0,0,IF(G244=0,0,IF(F244>+'Vergi Oranları'!$C$3,0,IF(OR(G244<='Vergi Oranları'!$C$3,F244+E244<+'Vergi Oranları'!$C$3),15,IF(G244-(E244+F244)<='Vergi Oranları'!$C$3,15,))))))","v":0},{"$f":"IF(E244=0,0,IF(D244=0,0,IF(G244=0,0,IF(H244=0,0,IF(F244+E244<='Vergi Oranları'!$C$3,G244-F244,'Vergi Oranları'!$C$3-F244)))))","v":0},{"$f":"IF(I244=0,0,IF(ROUND((I244-$J$3)*'Vergi Oranları'!$G$3/100,2)<0,0,ROUND((I244-$M$3)*'Vergi Oranları'!$G$3/100,2)))","v":0},{"$f":"IF(E244=0,0,IF(D244=0,0,IF(G244=0,0,IF(F244>+'Vergi Oranları'!$C$4,0,IF(OR(G244<='Vergi Oranları'!$C$4,F244+E244<'Vergi Oranları'!$C$4),20,IF(G244-(E244+F244)<='Vergi Oranları'!$C$4,20,))))))","v":0},{"$f":"IF(E244=0,0,IF(D244=0,0,IF(G244=0,0,IF(K244=0,0,IF(F244+E244<=+'Vergi Oranları'!$C$4,G244-(F244+I244),+'Vergi Oranları'!$C$4-(F244+I244))))))","v":0},{"$f":"IF(L244=0,0,IF(ROUND((L244-$M$3)*+'Vergi Oranları'!$G$4/100,2)<0,0,ROUND((L244-$M$3)*+'Vergi Oranları'!$G$4/100,2)))","v":0},{"$f":"IF(E244=0,0,IF(D244=0,0,IF(G244=0,0,IF(OR(G244>+'Vergi Oranları'!$C$4,G244<=+'Vergi Oranları'!$C$5),27))))","v":0},{"$f":"IF(E244=0,0,IF(D244=0,0,IF(G244=0,0,IF(N244=0,0,IF(F244>'Vergi Oranları'!$C$5,0,IF(G244<=+'Vergi Oranları'!$C$5,G244-(F244+I244+L244),+'Vergi Oranları'!$C$5-(F244+I244+L244)))))))","v":0},{"$f":"ROUND(IF(N244=0,0,IF(E244<O244,(E244-$P$3)*'Vergi Oranları'!$G$5/100,(O244-$P$3)*'Vergi Oranları'!$G$5/100)),2)","v":0},{"$f":"IF(E244=0,0,IF(D244=0,0,IF(G244=0,0,IF(G244<=+'Vergi Oranları'!$C$5,0,IF(OR(G244>+'Vergi Oranları'!$C$5,F244+E244<=+'Vergi Oranları'!$C$5),35)))))","v":0},{"$f":"IF(E244=0,0,IF(D244=0,0,IF(G244=0,0,IF(Q244=0,0,IF(F244+E244>=+'Vergi Oranları'!$C$5,G244-(F244+I244+L244+O244),+'Vergi Oranları'!$C$5-(F244+I244+L244+O244))))))","v":0},{"$f":"IF(Q244=0,0,ROUND((R244-$S$3)*+'Vergi Oranları'!$G$6/100,2))","v":0},0]
[null,null,null,null,null,null,0,{"$f":"IF(E245=0,0,IF(D245=0,0,IF(G245=0,0,IF(F245>+'Vergi Oranları'!$C$3,0,IF(OR(G245<='Vergi Oranları'!$C$3,F245+E245<+'Vergi Oranları'!$C$3),15,IF(G245-(E245+F245)<='Vergi Oranları'!$C$3,15,))))))","v":0},{"$f":"IF(E245=0,0,IF(D245=0,0,IF(G245=0,0,IF(H245=0,0,IF(F245+E245<='Vergi Oranları'!$C$3,G245-F245,'Vergi Oranları'!$C$3-F245)))))","v":0},{"$f":"IF(I245=0,0,IF(ROUND((I245-$J$3)*'Vergi Oranları'!$G$3/100,2)<0,0,ROUND((I245-$M$3)*'Vergi Oranları'!$G$3/100,2)))","v":0},{"$f":"IF(E245=0,0,IF(D245=0,0,IF(G245=0,0,IF(F245>+'Vergi Oranları'!$C$4,0,IF(OR(G245<='Vergi Oranları'!$C$4,F245+E245<'Vergi Oranları'!$C$4),20,IF(G245-(E245+F245)<='Vergi Oranları'!$C$4,20,))))))","v":0},{"$f":"IF(E245=0,0,IF(D245=0,0,IF(G245=0,0,IF(K245=0,0,IF(F245+E245<=+'Vergi Oranları'!$C$4,G245-(F245+I245),+'Vergi Oranları'!$C$4-(F245+I245))))))","v":0},{"$f":"IF(L245=0,0,IF(ROUND((L245-$M$3)*+'Vergi Oranları'!$G$4/100,2)<0,0,ROUND((L245-$M$3)*+'Vergi Oranları'!$G$4/100,2)))","v":0},{"$f":"IF(E245=0,0,IF(D245=0,0,IF(G245=0,0,IF(OR(G245>+'Vergi Oranları'!$C$4,G245<=+'Vergi Oranları'!$C$5),27))))","v":0},{"$f":"IF(E245=0,0,IF(D245=0,0,IF(G245=0,0,IF(N245=0,0,IF(F245>'Vergi Oranları'!$C$5,0,IF(G245<=+'Vergi Oranları'!$C$5,G245-(F245+I245+L245),+'Vergi Oranları'!$C$5-(F245+I245+L245)))))))","v":0},{"$f":"ROUND(IF(N245=0,0,IF(E245<O245,(E245-$P$3)*'Vergi Oranları'!$G$5/100,(O245-$P$3)*'Vergi Oranları'!$G$5/100)),2)","v":0},{"$f":"IF(E245=0,0,IF(D245=0,0,IF(G245=0,0,IF(G245<=+'Vergi Oranları'!$C$5,0,IF(OR(G245>+'Vergi Oranları'!$C$5,F245+E245<=+'Vergi Oranları'!$C$5),35)))))","v":0},{"$f":"IF(E245=0,0,IF(D245=0,0,IF(G245=0,0,IF(Q245=0,0,IF(F245+E245>=+'Vergi Oranları'!$C$5,G245-(F245+I245+L245+O245),+'Vergi Oranları'!$C$5-(F245+I245+L245+O245))))))","v":0},{"$f":"IF(Q245=0,0,ROUND((R245-$S$3)*+'Vergi Oranları'!$G$6/100,2))","v":0},0]
[null,null,null,null,null,null,0,{"$f":"IF(E246=0,0,IF(D246=0,0,IF(G246=0,0,IF(F246>+'Vergi Oranları'!$C$3,0,IF(OR(G246<='Vergi Oranları'!$C$3,F246+E246<+'Vergi Oranları'!$C$3),15,IF(G246-(E246+F246)<='Vergi Oranları'!$C$3,15,))))))","v":0},{"$f":"IF(E246=0,0,IF(D246=0,0,IF(G246=0,0,IF(H246=0,0,IF(F246+E246<='Vergi Oranları'!$C$3,G246-F246,'Vergi Oranları'!$C$3-F246)))))","v":0},{"$f":"IF(I246=0,0,IF(ROUND((I246-$J$3)*'Vergi Oranları'!$G$3/100,2)<0,0,ROUND((I246-$M$3)*'Vergi Oranları'!$G$3/100,2)))","v":0},{"$f":"IF(E246=0,0,IF(D246=0,0,IF(G246=0,0,IF(F246>+'Vergi Oranları'!$C$4,0,IF(OR(G246<='Vergi Oranları'!$C$4,F246+E246<'Vergi Oranları'!$C$4),20,IF(G246-(E246+F246)<='Vergi Oranları'!$C$4,20,))))))","v":0},{"$f":"IF(E246=0,0,IF(D246=0,0,IF(G246=0,0,IF(K246=0,0,IF(F246+E246<=+'Vergi Oranları'!$C$4,G246-(F246+I246),+'Vergi Oranları'!$C$4-(F246+I246))))))","v":0},{"$f":"IF(L246=0,0,IF(ROUND((L246-$M$3)*+'Vergi Oranları'!$G$4/100,2)<0,0,ROUND((L246-$M$3)*+'Vergi Oranları'!$G$4/100,2)))","v":0},{"$f":"IF(E246=0,0,IF(D246=0,0,IF(G246=0,0,IF(OR(G246>+'Vergi Oranları'!$C$4,G246<=+'Vergi Oranları'!$C$5),27))))","v":0},{"$f":"IF(E246=0,0,IF(D246=0,0,IF(G246=0,0,IF(N246=0,0,IF(F246>'Vergi Oranları'!$C$5,0,IF(G246<=+'Vergi Oranları'!$C$5,G246-(F246+I246+L246),+'Vergi Oranları'!$C$5-(F246+I246+L246)))))))","v":0},{"$f":"ROUND(IF(N246=0,0,IF(E246<O246,(E246-$P$3)*'Vergi Oranları'!$G$5/100,(O246-$P$3)*'Vergi Oranları'!$G$5/100)),2)","v":0},{"$f":"IF(E246=0,0,IF(D246=0,0,IF(G246=0,0,IF(G246<=+'Vergi Oranları'!$C$5,0,IF(OR(G246>+'Vergi Oranları'!$C$5,F246+E246<=+'Vergi Oranları'!$C$5),35)))))","v":0},{"$f":"IF(E246=0,0,IF(D246=0,0,IF(G246=0,0,IF(Q246=0,0,IF(F246+E246>=+'Vergi Oranları'!$C$5,G246-(F246+I246+L246+O246),+'Vergi Oranları'!$C$5-(F246+I246+L246+O246))))))","v":0},{"$f":"IF(Q246=0,0,ROUND((R246-$S$3)*+'Vergi Oranları'!$G$6/100,2))","v":0},0]
[null,null,null,null,null,null,0,{"$f":"IF(E247=0,0,IF(D247=0,0,IF(G247=0,0,IF(F247>+'Vergi Oranları'!$C$3,0,IF(OR(G247<='Vergi Oranları'!$C$3,F247+E247<+'Vergi Oranları'!$C$3),15,IF(G247-(E247+F247)<='Vergi Oranları'!$C$3,15,))))))","v":0},{"$f":"IF(E247=0,0,IF(D247=0,0,IF(G247=0,0,IF(H247=0,0,IF(F247+E247<='Vergi Oranları'!$C$3,G247-F247,'Vergi Oranları'!$C$3-F247)))))","v":0},{"$f":"IF(I247=0,0,IF(ROUND((I247-$J$3)*'Vergi Oranları'!$G$3/100,2)<0,0,ROUND((I247-$M$3)*'Vergi Oranları'!$G$3/100,2)))","v":0},{"$f":"IF(E247=0,0,IF(D247=0,0,IF(G247=0,0,IF(F247>+'Vergi Oranları'!$C$4,0,IF(OR(G247<='Vergi Oranları'!$C$4,F247+E247<'Vergi Oranları'!$C$4),20,IF(G247-(E247+F247)<='Vergi Oranları'!$C$4,20,))))))","v":0},{"$f":"IF(E247=0,0,IF(D247=0,0,IF(G247=0,0,IF(K247=0,0,IF(F247+E247<=+'Vergi Oranları'!$C$4,G247-(F247+I247),+'Vergi Oranları'!$C$4-(F247+I247))))))","v":0},{"$f":"IF(L247=0,0,IF(ROUND((L247-$M$3)*+'Vergi Oranları'!$G$4/100,2)<0,0,ROUND((L247-$M$3)*+'Vergi Oranları'!$G$4/100,2)))","v":0},{"$f":"IF(E247=0,0,IF(D247=0,0,IF(G247=0,0,IF(OR(G247>+'Vergi Oranları'!$C$4,G247<=+'Vergi Oranları'!$C$5),27))))","v":0},{"$f":"IF(E247=0,0,IF(D247=0,0,IF(G247=0,0,IF(N247=0,0,IF(F247>'Vergi Oranları'!$C$5,0,IF(G247<=+'Vergi Oranları'!$C$5,G247-(F247+I247+L247),+'Vergi Oranları'!$C$5-(F247+I247+L247)))))))","v":0},{"$f":"ROUND(IF(N247=0,0,IF(E247<O247,(E247-$P$3)*'Vergi Oranları'!$G$5/100,(O247-$P$3)*'Vergi Oranları'!$G$5/100)),2)","v":0},{"$f":"IF(E247=0,0,IF(D247=0,0,IF(G247=0,0,IF(G247<=+'Vergi Oranları'!$C$5,0,IF(OR(G247>+'Vergi Oranları'!$C$5,F247+E247<=+'Vergi Oranları'!$C$5),35)))))","v":0},{"$f":"IF(E247=0,0,IF(D247=0,0,IF(G247=0,0,IF(Q247=0,0,IF(F247+E247>=+'Vergi Oranları'!$C$5,G247-(F247+I247+L247+O247),+'Vergi Oranları'!$C$5-(F247+I247+L247+O247))))))","v":0},{"$f":"IF(Q247=0,0,ROUND((R247-$S$3)*+'Vergi Oranları'!$G$6/100,2))","v":0},0]
[null,null,null,null,null,null,0,{"$f":"IF(E248=0,0,IF(D248=0,0,IF(G248=0,0,IF(F248>+'Vergi Oranları'!$C$3,0,IF(OR(G248<='Vergi Oranları'!$C$3,F248+E248<+'Vergi Oranları'!$C$3),15,IF(G248-(E248+F248)<='Vergi Oranları'!$C$3,15,))))))","v":0},{"$f":"IF(E248=0,0,IF(D248=0,0,IF(G248=0,0,IF(H248=0,0,IF(F248+E248<='Vergi Oranları'!$C$3,G248-F248,'Vergi Oranları'!$C$3-F248)))))","v":0},{"$f":"IF(I248=0,0,IF(ROUND((I248-$J$3)*'Vergi Oranları'!$G$3/100,2)<0,0,ROUND((I248-$M$3)*'Vergi Oranları'!$G$3/100,2)))","v":0},{"$f":"IF(E248=0,0,IF(D248=0,0,IF(G248=0,0,IF(F248>+'Vergi Oranları'!$C$4,0,IF(OR(G248<='Vergi Oranları'!$C$4,F248+E248<'Vergi Oranları'!$C$4),20,IF(G248-(E248+F248)<='Vergi Oranları'!$C$4,20,))))))","v":0},{"$f":"IF(E248=0,0,IF(D248=0,0,IF(G248=0,0,IF(K248=0,0,IF(F248+E248<=+'Vergi Oranları'!$C$4,G248-(F248+I248),+'Vergi Oranları'!$C$4-(F248+I248))))))","v":0},{"$f":"IF(L248=0,0,IF(ROUND((L248-$M$3)*+'Vergi Oranları'!$G$4/100,2)<0,0,ROUND((L248-$M$3)*+'Vergi Oranları'!$G$4/100,2)))","v":0},{"$f":"IF(E248=0,0,IF(D248=0,0,IF(G248=0,0,IF(OR(G248>+'Vergi Oranları'!$C$4,G248<=+'Vergi Oranları'!$C$5),27))))","v":0},{"$f":"IF(E248=0,0,IF(D248=0,0,IF(G248=0,0,IF(N248=0,0,IF(F248>'Vergi Oranları'!$C$5,0,IF(G248<=+'Vergi Oranları'!$C$5,G248-(F248+I248+L248),+'Vergi Oranları'!$C$5-(F248+I248+L248)))))))","v":0},{"$f":"ROUND(IF(N248=0,0,IF(E248<O248,(E248-$P$3)*'Vergi Oranları'!$G$5/100,(O248-$P$3)*'Vergi Oranları'!$G$5/100)),2)","v":0},{"$f":"IF(E248=0,0,IF(D248=0,0,IF(G248=0,0,IF(G248<=+'Vergi Oranları'!$C$5,0,IF(OR(G248>+'Vergi Oranları'!$C$5,F248+E248<=+'Vergi Oranları'!$C$5),35)))))","v":0},{"$f":"IF(E248=0,0,IF(D248=0,0,IF(G248=0,0,IF(Q248=0,0,IF(F248+E248>=+'Vergi Oranları'!$C$5,G248-(F248+I248+L248+O248),+'Vergi Oranları'!$C$5-(F248+I248+L248+O248))))))","v":0},{"$f":"IF(Q248=0,0,ROUND((R248-$S$3)*+'Vergi Oranları'!$G$6/100,2))","v":0},0]
[null,null,null,null,null,null,0,{"$f":"IF(E249=0,0,IF(D249=0,0,IF(G249=0,0,IF(F249>+'Vergi Oranları'!$C$3,0,IF(OR(G249<='Vergi Oranları'!$C$3,F249+E249<+'Vergi Oranları'!$C$3),15,IF(G249-(E249+F249)<='Vergi Oranları'!$C$3,15,))))))","v":0},{"$f":"IF(E249=0,0,IF(D249=0,0,IF(G249=0,0,IF(H249=0,0,IF(F249+E249<='Vergi Oranları'!$C$3,G249-F249,'Vergi Oranları'!$C$3-F249)))))","v":0},{"$f":"IF(I249=0,0,IF(ROUND((I249-$J$3)*'Vergi Oranları'!$G$3/100,2)<0,0,ROUND((I249-$M$3)*'Vergi Oranları'!$G$3/100,2)))","v":0},{"$f":"IF(E249=0,0,IF(D249=0,0,IF(G249=0,0,IF(F249>+'Vergi Oranları'!$C$4,0,IF(OR(G249<='Vergi Oranları'!$C$4,F249+E249<'Vergi Oranları'!$C$4),20,IF(G249-(E249+F249)<='Vergi Oranları'!$C$4,20,))))))","v":0},{"$f":"IF(E249=0,0,IF(D249=0,0,IF(G249=0,0,IF(K249=0,0,IF(F249+E249<=+'Vergi Oranları'!$C$4,G249-(F249+I249),+'Vergi Oranları'!$C$4-(F249+I249))))))","v":0},{"$f":"IF(L249=0,0,IF(ROUND((L249-$M$3)*+'Vergi Oranları'!$G$4/100,2)<0,0,ROUND((L249-$M$3)*+'Vergi Oranları'!$G$4/100,2)))","v":0},{"$f":"IF(E249=0,0,IF(D249=0,0,IF(G249=0,0,IF(OR(G249>+'Vergi Oranları'!$C$4,G249<=+'Vergi Oranları'!$C$5),27))))","v":0},{"$f":"IF(E249=0,0,IF(D249=0,0,IF(G249=0,0,IF(N249=0,0,IF(F249>'Vergi Oranları'!$C$5,0,IF(G249<=+'Vergi Oranları'!$C$5,G249-(F249+I249+L249),+'Vergi Oranları'!$C$5-(F249+I249+L249)))))))","v":0},{"$f":"ROUND(IF(N249=0,0,IF(E249<O249,(E249-$P$3)*'Vergi Oranları'!$G$5/100,(O249-$P$3)*'Vergi Oranları'!$G$5/100)),2)","v":0},{"$f":"IF(E249=0,0,IF(D249=0,0,IF(G249=0,0,IF(G249<=+'Vergi Oranları'!$C$5,0,IF(OR(G249>+'Vergi Oranları'!$C$5,F249+E249<=+'Vergi Oranları'!$C$5),35)))))","v":0},{"$f":"IF(E249=0,0,IF(D249=0,0,IF(G249=0,0,IF(Q249=0,0,IF(F249+E249>=+'Vergi Oranları'!$C$5,G249-(F249+I249+L249+O249),+'Vergi Oranları'!$C$5-(F249+I249+L249+O249))))))","v":0},{"$f":"IF(Q249=0,0,ROUND((R249-$S$3)*+'Vergi Oranları'!$G$6/100,2))","v":0},0]
[null,null,null,null,null,null,0,{"$f":"IF(E250=0,0,IF(D250=0,0,IF(G250=0,0,IF(F250>+'Vergi Oranları'!$C$3,0,IF(OR(G250<='Vergi Oranları'!$C$3,F250+E250<+'Vergi Oranları'!$C$3),15,IF(G250-(E250+F250)<='Vergi Oranları'!$C$3,15,))))))","v":0},{"$f":"IF(E250=0,0,IF(D250=0,0,IF(G250=0,0,IF(H250=0,0,IF(F250+E250<='Vergi Oranları'!$C$3,G250-F250,'Vergi Oranları'!$C$3-F250)))))","v":0},{"$f":"IF(I250=0,0,IF(ROUND((I250-$J$3)*'Vergi Oranları'!$G$3/100,2)<0,0,ROUND((I250-$M$3)*'Vergi Oranları'!$G$3/100,2)))","v":0},{"$f":"IF(E250=0,0,IF(D250=0,0,IF(G250=0,0,IF(F250>+'Vergi Oranları'!$C$4,0,IF(OR(G250<='Vergi Oranları'!$C$4,F250+E250<'Vergi Oranları'!$C$4),20,IF(G250-(E250+F250)<='Vergi Oranları'!$C$4,20,))))))","v":0},{"$f":"IF(E250=0,0,IF(D250=0,0,IF(G250=0,0,IF(K250=0,0,IF(F250+E250<=+'Vergi Oranları'!$C$4,G250-(F250+I250),+'Vergi Oranları'!$C$4-(F250+I250))))))","v":0},{"$f":"IF(L250=0,0,IF(ROUND((L250-$M$3)*+'Vergi Oranları'!$G$4/100,2)<0,0,ROUND((L250-$M$3)*+'Vergi Oranları'!$G$4/100,2)))","v":0},{"$f":"IF(E250=0,0,IF(D250=0,0,IF(G250=0,0,IF(OR(G250>+'Vergi Oranları'!$C$4,G250<=+'Vergi Oranları'!$C$5),27))))","v":0},{"$f":"IF(E250=0,0,IF(D250=0,0,IF(G250=0,0,IF(N250=0,0,IF(F250>'Vergi Oranları'!$C$5,0,IF(G250<=+'Vergi Oranları'!$C$5,G250-(F250+I250+L250),+'Vergi Oranları'!$C$5-(F250+I250+L250)))))))","v":0},{"$f":"ROUND(IF(N250=0,0,IF(E250<O250,(E250-$P$3)*'Vergi Oranları'!$G$5/100,(O250-$P$3)*'Vergi Oranları'!$G$5/100)),2)","v":0},{"$f":"IF(E250=0,0,IF(D250=0,0,IF(G250=0,0,IF(G250<=+'Vergi Oranları'!$C$5,0,IF(OR(G250>+'Vergi Oranları'!$C$5,F250+E250<=+'Vergi Oranları'!$C$5),35)))))","v":0},{"$f":"IF(E250=0,0,IF(D250=0,0,IF(G250=0,0,IF(Q250=0,0,IF(F250+E250>=+'Vergi Oranları'!$C$5,G250-(F250+I250+L250+O250),+'Vergi Oranları'!$C$5-(F250+I250+L250+O250))))))","v":0},{"$f":"IF(Q250=0,0,ROUND((R250-$S$3)*+'Vergi Oranları'!$G$6/100,2))","v":0},0]
[null,null,null,null,null,null,0,{"$f":"IF(E251=0,0,IF(D251=0,0,IF(G251=0,0,IF(F251>+'Vergi Oranları'!$C$3,0,IF(OR(G251<='Vergi Oranları'!$C$3,F251+E251<+'Vergi Oranları'!$C$3),15,IF(G251-(E251+F251)<='Vergi Oranları'!$C$3,15,))))))","v":0},{"$f":"IF(E251=0,0,IF(D251=0,0,IF(G251=0,0,IF(H251=0,0,IF(F251+E251<='Vergi Oranları'!$C$3,G251-F251,'Vergi Oranları'!$C$3-F251)))))","v":0},{"$f":"IF(I251=0,0,IF(ROUND((I251-$J$3)*'Vergi Oranları'!$G$3/100,2)<0,0,ROUND((I251-$M$3)*'Vergi Oranları'!$G$3/100,2)))","v":0},{"$f":"IF(E251=0,0,IF(D251=0,0,IF(G251=0,0,IF(F251>+'Vergi Oranları'!$C$4,0,IF(OR(G251<='Vergi Oranları'!$C$4,F251+E251<'Vergi Oranları'!$C$4),20,IF(G251-(E251+F251)<='Vergi Oranları'!$C$4,20,))))))","v":0},{"$f":"IF(E251=0,0,IF(D251=0,0,IF(G251=0,0,IF(K251=0,0,IF(F251+E251<=+'Vergi Oranları'!$C$4,G251-(F251+I251),+'Vergi Oranları'!$C$4-(F251+I251))))))","v":0},{"$f":"IF(L251=0,0,IF(ROUND((L251-$M$3)*+'Vergi Oranları'!$G$4/100,2)<0,0,ROUND((L251-$M$3)*+'Vergi Oranları'!$G$4/100,2)))","v":0},{"$f":"IF(E251=0,0,IF(D251=0,0,IF(G251=0,0,IF(OR(G251>+'Vergi Oranları'!$C$4,G251<=+'Vergi Oranları'!$C$5),27))))","v":0},{"$f":"IF(E251=0,0,IF(D251=0,0,IF(G251=0,0,IF(N251=0,0,IF(F251>'Vergi Oranları'!$C$5,0,IF(G251<=+'Vergi Oranları'!$C$5,G251-(F251+I251+L251),+'Vergi Oranları'!$C$5-(F251+I251+L251)))))))","v":0},{"$f":"ROUND(IF(N251=0,0,IF(E251<O251,(E251-$P$3)*'Vergi Oranları'!$G$5/100,(O251-$P$3)*'Vergi Oranları'!$G$5/100)),2)","v":0},{"$f":"IF(E251=0,0,IF(D251=0,0,IF(G251=0,0,IF(G251<=+'Vergi Oranları'!$C$5,0,IF(OR(G251>+'Vergi Oranları'!$C$5,F251+E251<=+'Vergi Oranları'!$C$5),35)))))","v":0},{"$f":"IF(E251=0,0,IF(D251=0,0,IF(G251=0,0,IF(Q251=0,0,IF(F251+E251>=+'Vergi Oranları'!$C$5,G251-(F251+I251+L251+O251),+'Vergi Oranları'!$C$5-(F251+I251+L251+O251))))))","v":0},{"$f":"IF(Q251=0,0,ROUND((R251-$S$3)*+'Vergi Oranları'!$G$6/100,2))","v":0},0]
[null,null,null,null,null,null,0,{"$f":"IF(E252=0,0,IF(D252=0,0,IF(G252=0,0,IF(F252>+'Vergi Oranları'!$C$3,0,IF(OR(G252<='Vergi Oranları'!$C$3,F252+E252<+'Vergi Oranları'!$C$3),15,IF(G252-(E252+F252)<='Vergi Oranları'!$C$3,15,))))))","v":0},{"$f":"IF(E252=0,0,IF(D252=0,0,IF(G252=0,0,IF(H252=0,0,IF(F252+E252<='Vergi Oranları'!$C$3,G252-F252,'Vergi Oranları'!$C$3-F252)))))","v":0},{"$f":"IF(I252=0,0,IF(ROUND((I252-$J$3)*'Vergi Oranları'!$G$3/100,2)<0,0,ROUND((I252-$M$3)*'Vergi Oranları'!$G$3/100,2)))","v":0},{"$f":"IF(E252=0,0,IF(D252=0,0,IF(G252=0,0,IF(F252>+'Vergi Oranları'!$C$4,0,IF(OR(G252<='Vergi Oranları'!$C$4,F252+E252<'Vergi Oranları'!$C$4),20,IF(G252-(E252+F252)<='Vergi Oranları'!$C$4,20,))))))","v":0},{"$f":"IF(E252=0,0,IF(D252=0,0,IF(G252=0,0,IF(K252=0,0,IF(F252+E252<=+'Vergi Oranları'!$C$4,G252-(F252+I252),+'Vergi Oranları'!$C$4-(F252+I252))))))","v":0},{"$f":"IF(L252=0,0,IF(ROUND((L252-$M$3)*+'Vergi Oranları'!$G$4/100,2)<0,0,ROUND((L252-$M$3)*+'Vergi Oranları'!$G$4/100,2)))","v":0},{"$f":"IF(E252=0,0,IF(D252=0,0,IF(G252=0,0,IF(OR(G252>+'Vergi Oranları'!$C$4,G252<=+'Vergi Oranları'!$C$5),27))))","v":0},{"$f":"IF(E252=0,0,IF(D252=0,0,IF(G252=0,0,IF(N252=0,0,IF(F252>'Vergi Oranları'!$C$5,0,IF(G252<=+'Vergi Oranları'!$C$5,G252-(F252+I252+L252),+'Vergi Oranları'!$C$5-(F252+I252+L252)))))))","v":0},{"$f":"ROUND(IF(N252=0,0,IF(E252<O252,(E252-$P$3)*'Vergi Oranları'!$G$5/100,(O252-$P$3)*'Vergi Oranları'!$G$5/100)),2)","v":0},{"$f":"IF(E252=0,0,IF(D252=0,0,IF(G252=0,0,IF(G252<=+'Vergi Oranları'!$C$5,0,IF(OR(G252>+'Vergi Oranları'!$C$5,F252+E252<=+'Vergi Oranları'!$C$5),35)))))","v":0},{"$f":"IF(E252=0,0,IF(D252=0,0,IF(G252=0,0,IF(Q252=0,0,IF(F252+E252>=+'Vergi Oranları'!$C$5,G252-(F252+I252+L252+O252),+'Vergi Oranları'!$C$5-(F252+I252+L252+O252))))))","v":0},{"$f":"IF(Q252=0,0,ROUND((R252-$S$3)*+'Vergi Oranları'!$G$6/100,2))","v":0},0]
[null,null,null,null,null,null,0,{"$f":"IF(E253=0,0,IF(D253=0,0,IF(G253=0,0,IF(F253>+'Vergi Oranları'!$C$3,0,IF(OR(G253<='Vergi Oranları'!$C$3,F253+E253<+'Vergi Oranları'!$C$3),15,IF(G253-(E253+F253)<='Vergi Oranları'!$C$3,15,))))))","v":0},{"$f":"IF(E253=0,0,IF(D253=0,0,IF(G253=0,0,IF(H253=0,0,IF(F253+E253<='Vergi Oranları'!$C$3,G253-F253,'Vergi Oranları'!$C$3-F253)))))","v":0},{"$f":"IF(I253=0,0,IF(ROUND((I253-$J$3)*'Vergi Oranları'!$G$3/100,2)<0,0,ROUND((I253-$M$3)*'Vergi Oranları'!$G$3/100,2)))","v":0},{"$f":"IF(E253=0,0,IF(D253=0,0,IF(G253=0,0,IF(F253>+'Vergi Oranları'!$C$4,0,IF(OR(G253<='Vergi Oranları'!$C$4,F253+E253<'Vergi Oranları'!$C$4),20,IF(G253-(E253+F253)<='Vergi Oranları'!$C$4,20,))))))","v":0},{"$f":"IF(E253=0,0,IF(D253=0,0,IF(G253=0,0,IF(K253=0,0,IF(F253+E253<=+'Vergi Oranları'!$C$4,G253-(F253+I253),+'Vergi Oranları'!$C$4-(F253+I253))))))","v":0},{"$f":"IF(L253=0,0,IF(ROUND((L253-$M$3)*+'Vergi Oranları'!$G$4/100,2)<0,0,ROUND((L253-$M$3)*+'Vergi Oranları'!$G$4/100,2)))","v":0},{"$f":"IF(E253=0,0,IF(D253=0,0,IF(G253=0,0,IF(OR(G253>+'Vergi Oranları'!$C$4,G253<=+'Vergi Oranları'!$C$5),27))))","v":0},{"$f":"IF(E253=0,0,IF(D253=0,0,IF(G253=0,0,IF(N253=0,0,IF(F253>'Vergi Oranları'!$C$5,0,IF(G253<=+'Vergi Oranları'!$C$5,G253-(F253+I253+L253),+'Vergi Oranları'!$C$5-(F253+I253+L253)))))))","v":0},{"$f":"ROUND(IF(N253=0,0,IF(E253<O253,(E253-$P$3)*'Vergi Oranları'!$G$5/100,(O253-$P$3)*'Vergi Oranları'!$G$5/100)),2)","v":0},{"$f":"IF(E253=0,0,IF(D253=0,0,IF(G253=0,0,IF(G253<=+'Vergi Oranları'!$C$5,0,IF(OR(G253>+'Vergi Oranları'!$C$5,F253+E253<=+'Vergi Oranları'!$C$5),35)))))","v":0},{"$f":"IF(E253=0,0,IF(D253=0,0,IF(G253=0,0,IF(Q253=0,0,IF(F253+E253>=+'Vergi Oranları'!$C$5,G253-(F253+I253+L253+O253),+'Vergi Oranları'!$C$5-(F253+I253+L253+O253))))))","v":0},{"$f":"IF(Q253=0,0,ROUND((R253-$S$3)*+'Vergi Oranları'!$G$6/100,2))","v":0},0]
[null,null,null,null,null,null,0,{"$f":"IF(E254=0,0,IF(D254=0,0,IF(G254=0,0,IF(F254>+'Vergi Oranları'!$C$3,0,IF(OR(G254<='Vergi Oranları'!$C$3,F254+E254<+'Vergi Oranları'!$C$3),15,IF(G254-(E254+F254)<='Vergi Oranları'!$C$3,15,))))))","v":0},{"$f":"IF(E254=0,0,IF(D254=0,0,IF(G254=0,0,IF(H254=0,0,IF(F254+E254<='Vergi Oranları'!$C$3,G254-F254,'Vergi Oranları'!$C$3-F254)))))","v":0},{"$f":"IF(I254=0,0,IF(ROUND((I254-$J$3)*'Vergi Oranları'!$G$3/100,2)<0,0,ROUND((I254-$M$3)*'Vergi Oranları'!$G$3/100,2)))","v":0},{"$f":"IF(E254=0,0,IF(D254=0,0,IF(G254=0,0,IF(F254>+'Vergi Oranları'!$C$4,0,IF(OR(G254<='Vergi Oranları'!$C$4,F254+E254<'Vergi Oranları'!$C$4),20,IF(G254-(E254+F254)<='Vergi Oranları'!$C$4,20,))))))","v":0},{"$f":"IF(E254=0,0,IF(D254=0,0,IF(G254=0,0,IF(K254=0,0,IF(F254+E254<=+'Vergi Oranları'!$C$4,G254-(F254+I254),+'Vergi Oranları'!$C$4-(F254+I254))))))","v":0},{"$f":"IF(L254=0,0,IF(ROUND((L254-$M$3)*+'Vergi Oranları'!$G$4/100,2)<0,0,ROUND((L254-$M$3)*+'Vergi Oranları'!$G$4/100,2)))","v":0},{"$f":"IF(E254=0,0,IF(D254=0,0,IF(G254=0,0,IF(OR(G254>+'Vergi Oranları'!$C$4,G254<=+'Vergi Oranları'!$C$5),27))))","v":0},{"$f":"IF(E254=0,0,IF(D254=0,0,IF(G254=0,0,IF(N254=0,0,IF(F254>'Vergi Oranları'!$C$5,0,IF(G254<=+'Vergi Oranları'!$C$5,G254-(F254+I254+L254),+'Vergi Oranları'!$C$5-(F254+I254+L254)))))))","v":0},{"$f":"ROUND(IF(N254=0,0,IF(E254<O254,(E254-$P$3)*'Vergi Oranları'!$G$5/100,(O254-$P$3)*'Vergi Oranları'!$G$5/100)),2)","v":0},{"$f":"IF(E254=0,0,IF(D254=0,0,IF(G254=0,0,IF(G254<=+'Vergi Oranları'!$C$5,0,IF(OR(G254>+'Vergi Oranları'!$C$5,F254+E254<=+'Vergi Oranları'!$C$5),35)))))","v":0},{"$f":"IF(E254=0,0,IF(D254=0,0,IF(G254=0,0,IF(Q254=0,0,IF(F254+E254>=+'Vergi Oranları'!$C$5,G254-(F254+I254+L254+O254),+'Vergi Oranları'!$C$5-(F254+I254+L254+O254))))))","v":0},{"$f":"IF(Q254=0,0,ROUND((R254-$S$3)*+'Vergi Oranları'!$G$6/100,2))","v":0},0]
[null,null,null,null,null,null,0,{"$f":"IF(E255=0,0,IF(D255=0,0,IF(G255=0,0,IF(F255>+'Vergi Oranları'!$C$3,0,IF(OR(G255<='Vergi Oranları'!$C$3,F255+E255<+'Vergi Oranları'!$C$3),15,IF(G255-(E255+F255)<='Vergi Oranları'!$C$3,15,))))))","v":0},{"$f":"IF(E255=0,0,IF(D255=0,0,IF(G255=0,0,IF(H255=0,0,IF(F255+E255<='Vergi Oranları'!$C$3,G255-F255,'Vergi Oranları'!$C$3-F255)))))","v":0},{"$f":"IF(I255=0,0,IF(ROUND((I255-$J$3)*'Vergi Oranları'!$G$3/100,2)<0,0,ROUND((I255-$M$3)*'Vergi Oranları'!$G$3/100,2)))","v":0},{"$f":"IF(E255=0,0,IF(D255=0,0,IF(G255=0,0,IF(F255>+'Vergi Oranları'!$C$4,0,IF(OR(G255<='Vergi Oranları'!$C$4,F255+E255<'Vergi Oranları'!$C$4),20,IF(G255-(E255+F255)<='Vergi Oranları'!$C$4,20,))))))","v":0},{"$f":"IF(E255=0,0,IF(D255=0,0,IF(G255=0,0,IF(K255=0,0,IF(F255+E255<=+'Vergi Oranları'!$C$4,G255-(F255+I255),+'Vergi Oranları'!$C$4-(F255+I255))))))","v":0},{"$f":"IF(L255=0,0,IF(ROUND((L255-$M$3)*+'Vergi Oranları'!$G$4/100,2)<0,0,ROUND((L255-$M$3)*+'Vergi Oranları'!$G$4/100,2)))","v":0},{"$f":"IF(E255=0,0,IF(D255=0,0,IF(G255=0,0,IF(OR(G255>+'Vergi Oranları'!$C$4,G255<=+'Vergi Oranları'!$C$5),27))))","v":0},{"$f":"IF(E255=0,0,IF(D255=0,0,IF(G255=0,0,IF(N255=0,0,IF(F255>'Vergi Oranları'!$C$5,0,IF(G255<=+'Vergi Oranları'!$C$5,G255-(F255+I255+L255),+'Vergi Oranları'!$C$5-(F255+I255+L255)))))))","v":0},{"$f":"ROUND(IF(N255=0,0,IF(E255<O255,(E255-$P$3)*'Vergi Oranları'!$G$5/100,(O255-$P$3)*'Vergi Oranları'!$G$5/100)),2)","v":0},{"$f":"IF(E255=0,0,IF(D255=0,0,IF(G255=0,0,IF(G255<=+'Vergi Oranları'!$C$5,0,IF(OR(G255>+'Vergi Oranları'!$C$5,F255+E255<=+'Vergi Oranları'!$C$5),35)))))","v":0},{"$f":"IF(E255=0,0,IF(D255=0,0,IF(G255=0,0,IF(Q255=0,0,IF(F255+E255>=+'Vergi Oranları'!$C$5,G255-(F255+I255+L255+O255),+'Vergi Oranları'!$C$5-(F255+I255+L255+O255))))))","v":0},{"$f":"IF(Q255=0,0,ROUND((R255-$S$3)*+'Vergi Oranları'!$G$6/100,2))","v":0},0]
[null,null,null,null,null,null,0,{"$f":"IF(E256=0,0,IF(D256=0,0,IF(G256=0,0,IF(F256>+'Vergi Oranları'!$C$3,0,IF(OR(G256<='Vergi Oranları'!$C$3,F256+E256<+'Vergi Oranları'!$C$3),15,IF(G256-(E256+F256)<='Vergi Oranları'!$C$3,15,))))))","v":0},{"$f":"IF(E256=0,0,IF(D256=0,0,IF(G256=0,0,IF(H256=0,0,IF(F256+E256<='Vergi Oranları'!$C$3,G256-F256,'Vergi Oranları'!$C$3-F256)))))","v":0},{"$f":"IF(I256=0,0,IF(ROUND((I256-$J$3)*'Vergi Oranları'!$G$3/100,2)<0,0,ROUND((I256-$M$3)*'Vergi Oranları'!$G$3/100,2)))","v":0},{"$f":"IF(E256=0,0,IF(D256=0,0,IF(G256=0,0,IF(F256>+'Vergi Oranları'!$C$4,0,IF(OR(G256<='Vergi Oranları'!$C$4,F256+E256<'Vergi Oranları'!$C$4),20,IF(G256-(E256+F256)<='Vergi Oranları'!$C$4,20,))))))","v":0},{"$f":"IF(E256=0,0,IF(D256=0,0,IF(G256=0,0,IF(K256=0,0,IF(F256+E256<=+'Vergi Oranları'!$C$4,G256-(F256+I256),+'Vergi Oranları'!$C$4-(F256+I256))))))","v":0},{"$f":"IF(L256=0,0,IF(ROUND((L256-$M$3)*+'Vergi Oranları'!$G$4/100,2)<0,0,ROUND((L256-$M$3)*+'Vergi Oranları'!$G$4/100,2)))","v":0},{"$f":"IF(E256=0,0,IF(D256=0,0,IF(G256=0,0,IF(OR(G256>+'Vergi Oranları'!$C$4,G256<=+'Vergi Oranları'!$C$5),27))))","v":0},{"$f":"IF(E256=0,0,IF(D256=0,0,IF(G256=0,0,IF(N256=0,0,IF(F256>'Vergi Oranları'!$C$5,0,IF(G256<=+'Vergi Oranları'!$C$5,G256-(F256+I256+L256),+'Vergi Oranları'!$C$5-(F256+I256+L256)))))))","v":0},{"$f":"ROUND(IF(N256=0,0,IF(E256<O256,(E256-$P$3)*'Vergi Oranları'!$G$5/100,(O256-$P$3)*'Vergi Oranları'!$G$5/100)),2)","v":0},{"$f":"IF(E256=0,0,IF(D256=0,0,IF(G256=0,0,IF(G256<=+'Vergi Oranları'!$C$5,0,IF(OR(G256>+'Vergi Oranları'!$C$5,F256+E256<=+'Vergi Oranları'!$C$5),35)))))","v":0},{"$f":"IF(E256=0,0,IF(D256=0,0,IF(G256=0,0,IF(Q256=0,0,IF(F256+E256>=+'Vergi Oranları'!$C$5,G256-(F256+I256+L256+O256),+'Vergi Oranları'!$C$5-(F256+I256+L256+O256))))))","v":0},{"$f":"IF(Q256=0,0,ROUND((R256-$S$3)*+'Vergi Oranları'!$G$6/100,2))","v":0},0]
[null,null,null,null,null,null,0,{"$f":"IF(E257=0,0,IF(D257=0,0,IF(G257=0,0,IF(F257>+'Vergi Oranları'!$C$3,0,IF(OR(G257<='Vergi Oranları'!$C$3,F257+E257<+'Vergi Oranları'!$C$3),15,IF(G257-(E257+F257)<='Vergi Oranları'!$C$3,15,))))))","v":0},{"$f":"IF(E257=0,0,IF(D257=0,0,IF(G257=0,0,IF(H257=0,0,IF(F257+E257<='Vergi Oranları'!$C$3,G257-F257,'Vergi Oranları'!$C$3-F257)))))","v":0},{"$f":"IF(I257=0,0,IF(ROUND((I257-$J$3)*'Vergi Oranları'!$G$3/100,2)<0,0,ROUND((I257-$M$3)*'Vergi Oranları'!$G$3/100,2)))","v":0},{"$f":"IF(E257=0,0,IF(D257=0,0,IF(G257=0,0,IF(F257>+'Vergi Oranları'!$C$4,0,IF(OR(G257<='Vergi Oranları'!$C$4,F257+E257<'Vergi Oranları'!$C$4),20,IF(G257-(E257+F257)<='Vergi Oranları'!$C$4,20,))))))","v":0},{"$f":"IF(E257=0,0,IF(D257=0,0,IF(G257=0,0,IF(K257=0,0,IF(F257+E257<=+'Vergi Oranları'!$C$4,G257-(F257+I257),+'Vergi Oranları'!$C$4-(F257+I257))))))","v":0},{"$f":"IF(L257=0,0,IF(ROUND((L257-$M$3)*+'Vergi Oranları'!$G$4/100,2)<0,0,ROUND((L257-$M$3)*+'Vergi Oranları'!$G$4/100,2)))","v":0},{"$f":"IF(E257=0,0,IF(D257=0,0,IF(G257=0,0,IF(OR(G257>+'Vergi Oranları'!$C$4,G257<=+'Vergi Oranları'!$C$5),27))))","v":0},{"$f":"IF(E257=0,0,IF(D257=0,0,IF(G257=0,0,IF(N257=0,0,IF(F257>'Vergi Oranları'!$C$5,0,IF(G257<=+'Vergi Oranları'!$C$5,G257-(F257+I257+L257),+'Vergi Oranları'!$C$5-(F257+I257+L257)))))))","v":0},{"$f":"ROUND(IF(N257=0,0,IF(E257<O257,(E257-$P$3)*'Vergi Oranları'!$G$5/100,(O257-$P$3)*'Vergi Oranları'!$G$5/100)),2)","v":0},{"$f":"IF(E257=0,0,IF(D257=0,0,IF(G257=0,0,IF(G257<=+'Vergi Oranları'!$C$5,0,IF(OR(G257>+'Vergi Oranları'!$C$5,F257+E257<=+'Vergi Oranları'!$C$5),35)))))","v":0},{"$f":"IF(E257=0,0,IF(D257=0,0,IF(G257=0,0,IF(Q257=0,0,IF(F257+E257>=+'Vergi Oranları'!$C$5,G257-(F257+I257+L257+O257),+'Vergi Oranları'!$C$5-(F257+I257+L257+O257))))))","v":0},{"$f":"IF(Q257=0,0,ROUND((R257-$S$3)*+'Vergi Oranları'!$G$6/100,2))","v":0},0]
[null,null,null,null,null,null,0,{"$f":"IF(E258=0,0,IF(D258=0,0,IF(G258=0,0,IF(F258>+'Vergi Oranları'!$C$3,0,IF(OR(G258<='Vergi Oranları'!$C$3,F258+E258<+'Vergi Oranları'!$C$3),15,IF(G258-(E258+F258)<='Vergi Oranları'!$C$3,15,))))))","v":0},{"$f":"IF(E258=0,0,IF(D258=0,0,IF(G258=0,0,IF(H258=0,0,IF(F258+E258<='Vergi Oranları'!$C$3,G258-F258,'Vergi Oranları'!$C$3-F258)))))","v":0},{"$f":"IF(I258=0,0,IF(ROUND((I258-$J$3)*'Vergi Oranları'!$G$3/100,2)<0,0,ROUND((I258-$M$3)*'Vergi Oranları'!$G$3/100,2)))","v":0},{"$f":"IF(E258=0,0,IF(D258=0,0,IF(G258=0,0,IF(F258>+'Vergi Oranları'!$C$4,0,IF(OR(G258<='Vergi Oranları'!$C$4,F258+E258<'Vergi Oranları'!$C$4),20,IF(G258-(E258+F258)<='Vergi Oranları'!$C$4,20,))))))","v":0},{"$f":"IF(E258=0,0,IF(D258=0,0,IF(G258=0,0,IF(K258=0,0,IF(F258+E258<=+'Vergi Oranları'!$C$4,G258-(F258+I258),+'Vergi Oranları'!$C$4-(F258+I258))))))","v":0},{"$f":"IF(L258=0,0,IF(ROUND((L258-$M$3)*+'Vergi Oranları'!$G$4/100,2)<0,0,ROUND((L258-$M$3)*+'Vergi Oranları'!$G$4/100,2)))","v":0},{"$f":"IF(E258=0,0,IF(D258=0,0,IF(G258=0,0,IF(OR(G258>+'Vergi Oranları'!$C$4,G258<=+'Vergi Oranları'!$C$5),27))))","v":0},{"$f":"IF(E258=0,0,IF(D258=0,0,IF(G258=0,0,IF(N258=0,0,IF(F258>'Vergi Oranları'!$C$5,0,IF(G258<=+'Vergi Oranları'!$C$5,G258-(F258+I258+L258),+'Vergi Oranları'!$C$5-(F258+I258+L258)))))))","v":0},{"$f":"ROUND(IF(N258=0,0,IF(E258<O258,(E258-$P$3)*'Vergi Oranları'!$G$5/100,(O258-$P$3)*'Vergi Oranları'!$G$5/100)),2)","v":0},{"$f":"IF(E258=0,0,IF(D258=0,0,IF(G258=0,0,IF(G258<=+'Vergi Oranları'!$C$5,0,IF(OR(G258>+'Vergi Oranları'!$C$5,F258+E258<=+'Vergi Oranları'!$C$5),35)))))","v":0},{"$f":"IF(E258=0,0,IF(D258=0,0,IF(G258=0,0,IF(Q258=0,0,IF(F258+E258>=+'Vergi Oranları'!$C$5,G258-(F258+I258+L258+O258),+'Vergi Oranları'!$C$5-(F258+I258+L258+O258))))))","v":0},{"$f":"IF(Q258=0,0,ROUND((R258-$S$3)*+'Vergi Oranları'!$G$6/100,2))","v":0},0]
[null,null,null,null,null,null,0,{"$f":"IF(E259=0,0,IF(D259=0,0,IF(G259=0,0,IF(F259>+'Vergi Oranları'!$C$3,0,IF(OR(G259<='Vergi Oranları'!$C$3,F259+E259<+'Vergi Oranları'!$C$3),15,IF(G259-(E259+F259)<='Vergi Oranları'!$C$3,15,))))))","v":0},{"$f":"IF(E259=0,0,IF(D259=0,0,IF(G259=0,0,IF(H259=0,0,IF(F259+E259<='Vergi Oranları'!$C$3,G259-F259,'Vergi Oranları'!$C$3-F259)))))","v":0},{"$f":"IF(I259=0,0,IF(ROUND((I259-$J$3)*'Vergi Oranları'!$G$3/100,2)<0,0,ROUND((I259-$M$3)*'Vergi Oranları'!$G$3/100,2)))","v":0},{"$f":"IF(E259=0,0,IF(D259=0,0,IF(G259=0,0,IF(F259>+'Vergi Oranları'!$C$4,0,IF(OR(G259<='Vergi Oranları'!$C$4,F259+E259<'Vergi Oranları'!$C$4),20,IF(G259-(E259+F259)<='Vergi Oranları'!$C$4,20,))))))","v":0},{"$f":"IF(E259=0,0,IF(D259=0,0,IF(G259=0,0,IF(K259=0,0,IF(F259+E259<=+'Vergi Oranları'!$C$4,G259-(F259+I259),+'Vergi Oranları'!$C$4-(F259+I259))))))","v":0},{"$f":"IF(L259=0,0,IF(ROUND((L259-$M$3)*+'Vergi Oranları'!$G$4/100,2)<0,0,ROUND((L259-$M$3)*+'Vergi Oranları'!$G$4/100,2)))","v":0},{"$f":"IF(E259=0,0,IF(D259=0,0,IF(G259=0,0,IF(OR(G259>+'Vergi Oranları'!$C$4,G259<=+'Vergi Oranları'!$C$5),27))))","v":0},{"$f":"IF(E259=0,0,IF(D259=0,0,IF(G259=0,0,IF(N259=0,0,IF(F259>'Vergi Oranları'!$C$5,0,IF(G259<=+'Vergi Oranları'!$C$5,G259-(F259+I259+L259),+'Vergi Oranları'!$C$5-(F259+I259+L259)))))))","v":0},{"$f":"ROUND(IF(N259=0,0,IF(E259<O259,(E259-$P$3)*'Vergi Oranları'!$G$5/100,(O259-$P$3)*'Vergi Oranları'!$G$5/100)),2)","v":0},{"$f":"IF(E259=0,0,IF(D259=0,0,IF(G259=0,0,IF(G259<=+'Vergi Oranları'!$C$5,0,IF(OR(G259>+'Vergi Oranları'!$C$5,F259+E259<=+'Vergi Oranları'!$C$5),35)))))","v":0},{"$f":"IF(E259=0,0,IF(D259=0,0,IF(G259=0,0,IF(Q259=0,0,IF(F259+E259>=+'Vergi Oranları'!$C$5,G259-(F259+I259+L259+O259),+'Vergi Oranları'!$C$5-(F259+I259+L259+O259))))))","v":0},{"$f":"IF(Q259=0,0,ROUND((R259-$S$3)*+'Vergi Oranları'!$G$6/100,2))","v":0},0]
[null,null,null,null,null,null,0,{"$f":"IF(E260=0,0,IF(D260=0,0,IF(G260=0,0,IF(F260>+'Vergi Oranları'!$C$3,0,IF(OR(G260<='Vergi Oranları'!$C$3,F260+E260<+'Vergi Oranları'!$C$3),15,IF(G260-(E260+F260)<='Vergi Oranları'!$C$3,15,))))))","v":0},{"$f":"IF(E260=0,0,IF(D260=0,0,IF(G260=0,0,IF(H260=0,0,IF(F260+E260<='Vergi Oranları'!$C$3,G260-F260,'Vergi Oranları'!$C$3-F260)))))","v":0},{"$f":"IF(I260=0,0,IF(ROUND((I260-$J$3)*'Vergi Oranları'!$G$3/100,2)<0,0,ROUND((I260-$M$3)*'Vergi Oranları'!$G$3/100,2)))","v":0},{"$f":"IF(E260=0,0,IF(D260=0,0,IF(G260=0,0,IF(F260>+'Vergi Oranları'!$C$4,0,IF(OR(G260<='Vergi Oranları'!$C$4,F260+E260<'Vergi Oranları'!$C$4),20,IF(G260-(E260+F260)<='Vergi Oranları'!$C$4,20,))))))","v":0},{"$f":"IF(E260=0,0,IF(D260=0,0,IF(G260=0,0,IF(K260=0,0,IF(F260+E260<=+'Vergi Oranları'!$C$4,G260-(F260+I260),+'Vergi Oranları'!$C$4-(F260+I260))))))","v":0},{"$f":"IF(L260=0,0,IF(ROUND((L260-$M$3)*+'Vergi Oranları'!$G$4/100,2)<0,0,ROUND((L260-$M$3)*+'Vergi Oranları'!$G$4/100,2)))","v":0},{"$f":"IF(E260=0,0,IF(D260=0,0,IF(G260=0,0,IF(OR(G260>+'Vergi Oranları'!$C$4,G260<=+'Vergi Oranları'!$C$5),27))))","v":0},{"$f":"IF(E260=0,0,IF(D260=0,0,IF(G260=0,0,IF(N260=0,0,IF(F260>'Vergi Oranları'!$C$5,0,IF(G260<=+'Vergi Oranları'!$C$5,G260-(F260+I260+L260),+'Vergi Oranları'!$C$5-(F260+I260+L260)))))))","v":0},{"$f":"ROUND(IF(N260=0,0,IF(E260<O260,(E260-$P$3)*'Vergi Oranları'!$G$5/100,(O260-$P$3)*'Vergi Oranları'!$G$5/100)),2)","v":0},{"$f":"IF(E260=0,0,IF(D260=0,0,IF(G260=0,0,IF(G260<=+'Vergi Oranları'!$C$5,0,IF(OR(G260>+'Vergi Oranları'!$C$5,F260+E260<=+'Vergi Oranları'!$C$5),35)))))","v":0},{"$f":"IF(E260=0,0,IF(D260=0,0,IF(G260=0,0,IF(Q260=0,0,IF(F260+E260>=+'Vergi Oranları'!$C$5,G260-(F260+I260+L260+O260),+'Vergi Oranları'!$C$5-(F260+I260+L260+O260))))))","v":0},{"$f":"IF(Q260=0,0,ROUND((R260-$S$3)*+'Vergi Oranları'!$G$6/100,2))","v":0},0]
[null,null,null,null,null,null,0,{"$f":"IF(E261=0,0,IF(D261=0,0,IF(G261=0,0,IF(F261>+'Vergi Oranları'!$C$3,0,IF(OR(G261<='Vergi Oranları'!$C$3,F261+E261<+'Vergi Oranları'!$C$3),15,IF(G261-(E261+F261)<='Vergi Oranları'!$C$3,15,))))))","v":0},{"$f":"IF(E261=0,0,IF(D261=0,0,IF(G261=0,0,IF(H261=0,0,IF(F261+E261<='Vergi Oranları'!$C$3,G261-F261,'Vergi Oranları'!$C$3-F261)))))","v":0},{"$f":"IF(I261=0,0,IF(ROUND((I261-$J$3)*'Vergi Oranları'!$G$3/100,2)<0,0,ROUND((I261-$M$3)*'Vergi Oranları'!$G$3/100,2)))","v":0},{"$f":"IF(E261=0,0,IF(D261=0,0,IF(G261=0,0,IF(F261>+'Vergi Oranları'!$C$4,0,IF(OR(G261<='Vergi Oranları'!$C$4,F261+E261<'Vergi Oranları'!$C$4),20,IF(G261-(E261+F261)<='Vergi Oranları'!$C$4,20,))))))","v":0},{"$f":"IF(E261=0,0,IF(D261=0,0,IF(G261=0,0,IF(K261=0,0,IF(F261+E261<=+'Vergi Oranları'!$C$4,G261-(F261+I261),+'Vergi Oranları'!$C$4-(F261+I261))))))","v":0},{"$f":"IF(L261=0,0,IF(ROUND((L261-$M$3)*+'Vergi Oranları'!$G$4/100,2)<0,0,ROUND((L261-$M$3)*+'Vergi Oranları'!$G$4/100,2)))","v":0},{"$f":"IF(E261=0,0,IF(D261=0,0,IF(G261=0,0,IF(OR(G261>+'Vergi Oranları'!$C$4,G261<=+'Vergi Oranları'!$C$5),27))))","v":0},{"$f":"IF(E261=0,0,IF(D261=0,0,IF(G261=0,0,IF(N261=0,0,IF(F261>'Vergi Oranları'!$C$5,0,IF(G261<=+'Vergi Oranları'!$C$5,G261-(F261+I261+L261),+'Vergi Oranları'!$C$5-(F261+I261+L261)))))))","v":0},{"$f":"ROUND(IF(N261=0,0,IF(E261<O261,(E261-$P$3)*'Vergi Oranları'!$G$5/100,(O261-$P$3)*'Vergi Oranları'!$G$5/100)),2)","v":0},{"$f":"IF(E261=0,0,IF(D261=0,0,IF(G261=0,0,IF(G261<=+'Vergi Oranları'!$C$5,0,IF(OR(G261>+'Vergi Oranları'!$C$5,F261+E261<=+'Vergi Oranları'!$C$5),35)))))","v":0},{"$f":"IF(E261=0,0,IF(D261=0,0,IF(G261=0,0,IF(Q261=0,0,IF(F261+E261>=+'Vergi Oranları'!$C$5,G261-(F261+I261+L261+O261),+'Vergi Oranları'!$C$5-(F261+I261+L261+O261))))))","v":0},{"$f":"IF(Q261=0,0,ROUND((R261-$S$3)*+'Vergi Oranları'!$G$6/100,2))","v":0},0]
[null,null,null,null,null,null,{"$f":"F262+E262","v":0},{"$f":"IF(E262=0,0,IF(D262=0,0,IF(G262=0,0,IF(F262>+'Vergi Oranları'!$C$3,0,IF(OR(G262<='Vergi Oranları'!$C$3,F262+E262<+'Vergi Oranları'!$C$3),15,IF(G262-(E262+F262)<='Vergi Oranları'!$C$3,15,))))))","v":0},{"$f":"IF(E262=0,0,IF(D262=0,0,IF(G262=0,0,IF(H262=0,0,IF(F262+E262<='Vergi Oranları'!$C$3,G262-F262,'Vergi Oranları'!$C$3-F262)))))","v":0},{"$f":"IF(I262=0,0,IF(ROUND((I262-$J$3)*'Vergi Oranları'!$G$3/100,2)<0,0,ROUND((I262-$M$3)*'Vergi Oranları'!$G$3/100,2)))","v":0},{"$f":"IF(E262=0,0,IF(D262=0,0,IF(G262=0,0,IF(F262>+'Vergi Oranları'!$C$4,0,IF(OR(G262<='Vergi Oranları'!$C$4,F262+E262<'Vergi Oranları'!$C$4),20,IF(G262-(E262+F262)<='Vergi Oranları'!$C$4,20,))))))","v":0},{"$f":"IF(E262=0,0,IF(D262=0,0,IF(G262=0,0,IF(K262=0,0,IF(F262+E262<=+'Vergi Oranları'!$C$4,G262-(F262+I262),+'Vergi Oranları'!$C$4-(F262+I262))))))","v":0},{"$f":"IF(L262=0,0,IF(ROUND((L262-$M$3)*+'Vergi Oranları'!$G$4/100,2)<0,0,ROUND((L262-$M$3)*+'Vergi Oranları'!$G$4/100,2)))","v":0},{"$f":"IF(E262=0,0,IF(D262=0,0,IF(G262=0,0,IF(OR(G262>+'Vergi Oranları'!$C$4,G262<=+'Vergi Oranları'!$C$5),27))))","v":0},{"$f":"IF(E262=0,0,IF(D262=0,0,IF(G262=0,0,IF(N262=0,0,IF(F262>'Vergi Oranları'!$C$5,0,IF(G262<=+'Vergi Oranları'!$C$5,G262-(F262+I262+L262),+'Vergi Oranları'!$C$5-(F262+I262+L262)))))))","v":0},{"$f":"ROUND(IF(N262=0,0,IF(E262<O262,(E262-$P$3)*'Vergi Oranları'!$G$5/100,(O262-$P$3)*'Vergi Oranları'!$G$5/100)),2)","v":0},{"$f":"IF(E262=0,0,IF(D262=0,0,IF(G262=0,0,IF(G262<=+'Vergi Oranları'!$C$5,0,IF(OR(G262>+'Vergi Oranları'!$C$5,F262+E262<=+'Vergi Oranları'!$C$5),35)))))","v":0},{"$f":"IF(E262=0,0,IF(D262=0,0,IF(G262=0,0,IF(Q262=0,0,IF(F262+E262>=+'Vergi Oranları'!$C$5,G262-(F262+I262+L262+O262),+'Vergi Oranları'!$C$5-(F262+I262+L262+O262))))))","v":0},{"$f":"IF(Q262=0,0,ROUND((R262-$S$3)*+'Vergi Oranları'!$G$6/100,2))","v":0},{"$f":"SUM(J262+M262+P262+S262)","v":0}]
[null,null,null,null,null,null,0,{"$f":"IF(E263=0,0,IF(D263=0,0,IF(G263=0,0,IF(F263>+'Vergi Oranları'!$C$3,0,IF(OR(G263<='Vergi Oranları'!$C$3,F263+E263<+'Vergi Oranları'!$C$3),15,IF(G263-(E263+F263)<='Vergi Oranları'!$C$3,15,))))))","v":0},{"$f":"IF(E263=0,0,IF(D263=0,0,IF(G263=0,0,IF(H263=0,0,IF(F263+E263<='Vergi Oranları'!$C$3,G263-F263,'Vergi Oranları'!$C$3-F263)))))","v":0},{"$f":"IF(I263=0,0,IF(ROUND((I263-$J$3)*'Vergi Oranları'!$G$3/100,2)<0,0,ROUND((I263-$M$3)*'Vergi Oranları'!$G$3/100,2)))","v":0},{"$f":"IF(E263=0,0,IF(D263=0,0,IF(G263=0,0,IF(F263>+'Vergi Oranları'!$C$4,0,IF(OR(G263<='Vergi Oranları'!$C$4,F263+E263<'Vergi Oranları'!$C$4),20,IF(G263-(E263+F263)<='Vergi Oranları'!$C$4,20,))))))","v":0},{"$f":"IF(E263=0,0,IF(D263=0,0,IF(G263=0,0,IF(K263=0,0,IF(F263+E263<=+'Vergi Oranları'!$C$4,G263-(F263+I263),+'Vergi Oranları'!$C$4-(F263+I263))))))","v":0},{"$f":"IF(L263=0,0,IF(ROUND((L263-$M$3)*+'Vergi Oranları'!$G$4/100,2)<0,0,ROUND((L263-$M$3)*+'Vergi Oranları'!$G$4/100,2)))","v":0},{"$f":"IF(E263=0,0,IF(D263=0,0,IF(G263=0,0,IF(OR(G263>+'Vergi Oranları'!$C$4,G263<=+'Vergi Oranları'!$C$5),27))))","v":0},{"$f":"IF(E263=0,0,IF(D263=0,0,IF(G263=0,0,IF(N263=0,0,IF(F263>'Vergi Oranları'!$C$5,0,IF(G263<=+'Vergi Oranları'!$C$5,G263-(F263+I263+L263),+'Vergi Oranları'!$C$5-(F263+I263+L263)))))))","v":0},{"$f":"ROUND(IF(N263=0,0,IF(E263<O263,(E263-$P$3)*'Vergi Oranları'!$G$5/100,(O263-$P$3)*'Vergi Oranları'!$G$5/100)),2)","v":0},{"$f":"IF(E263=0,0,IF(D263=0,0,IF(G263=0,0,IF(G263<=+'Vergi Oranları'!$C$5,0,IF(OR(G263>+'Vergi Oranları'!$C$5,F263+E263<=+'Vergi Oranları'!$C$5),35)))))","v":0},{"$f":"IF(E263=0,0,IF(D263=0,0,IF(G263=0,0,IF(Q263=0,0,IF(F263+E263>=+'Vergi Oranları'!$C$5,G263-(F263+I263+L263+O263),+'Vergi Oranları'!$C$5-(F263+I263+L263+O263))))))","v":0},{"$f":"IF(Q263=0,0,ROUND((R263-$S$3)*+'Vergi Oranları'!$G$6/100,2))","v":0},0]
[null,null,null,null,null,null,0,{"$f":"IF(E264=0,0,IF(D264=0,0,IF(G264=0,0,IF(F264>+'Vergi Oranları'!$C$3,0,IF(OR(G264<='Vergi Oranları'!$C$3,F264+E264<+'Vergi Oranları'!$C$3),15,IF(G264-(E264+F264)<='Vergi Oranları'!$C$3,15,))))))","v":0},{"$f":"IF(E264=0,0,IF(D264=0,0,IF(G264=0,0,IF(H264=0,0,IF(F264+E264<='Vergi Oranları'!$C$3,G264-F264,'Vergi Oranları'!$C$3-F264)))))","v":0},{"$f":"IF(I264=0,0,IF(ROUND((I264-$J$3)*'Vergi Oranları'!$G$3/100,2)<0,0,ROUND((I264-$M$3)*'Vergi Oranları'!$G$3/100,2)))","v":0},{"$f":"IF(E264=0,0,IF(D264=0,0,IF(G264=0,0,IF(F264>+'Vergi Oranları'!$C$4,0,IF(OR(G264<='Vergi Oranları'!$C$4,F264+E264<'Vergi Oranları'!$C$4),20,IF(G264-(E264+F264)<='Vergi Oranları'!$C$4,20,))))))","v":0},{"$f":"IF(E264=0,0,IF(D264=0,0,IF(G264=0,0,IF(K264=0,0,IF(F264+E264<=+'Vergi Oranları'!$C$4,G264-(F264+I264),+'Vergi Oranları'!$C$4-(F264+I264))))))","v":0},{"$f":"IF(L264=0,0,IF(ROUND((L264-$M$3)*+'Vergi Oranları'!$G$4/100,2)<0,0,ROUND((L264-$M$3)*+'Vergi Oranları'!$G$4/100,2)))","v":0},{"$f":"IF(E264=0,0,IF(D264=0,0,IF(G264=0,0,IF(OR(G264>+'Vergi Oranları'!$C$4,G264<=+'Vergi Oranları'!$C$5),27))))","v":0},{"$f":"IF(E264=0,0,IF(D264=0,0,IF(G264=0,0,IF(N264=0,0,IF(F264>'Vergi Oranları'!$C$5,0,IF(G264<=+'Vergi Oranları'!$C$5,G264-(F264+I264+L264),+'Vergi Oranları'!$C$5-(F264+I264+L264)))))))","v":0},{"$f":"ROUND(IF(N264=0,0,IF(E264<O264,(E264-$P$3)*'Vergi Oranları'!$G$5/100,(O264-$P$3)*'Vergi Oranları'!$G$5/100)),2)","v":0},{"$f":"IF(E264=0,0,IF(D264=0,0,IF(G264=0,0,IF(G264<=+'Vergi Oranları'!$C$5,0,IF(OR(G264>+'Vergi Oranları'!$C$5,F264+E264<=+'Vergi Oranları'!$C$5),35)))))","v":0},{"$f":"IF(E264=0,0,IF(D264=0,0,IF(G264=0,0,IF(Q264=0,0,IF(F264+E264>=+'Vergi Oranları'!$C$5,G264-(F264+I264+L264+O264),+'Vergi Oranları'!$C$5-(F264+I264+L264+O264))))))","v":0},{"$f":"IF(Q264=0,0,ROUND((R264-$S$3)*+'Vergi Oranları'!$G$6/100,2))","v":0},0]
[null,null,null,null,null,null,0,{"$f":"IF(E265=0,0,IF(D265=0,0,IF(G265=0,0,IF(F265>+'Vergi Oranları'!$C$3,0,IF(OR(G265<='Vergi Oranları'!$C$3,F265+E265<+'Vergi Oranları'!$C$3),15,IF(G265-(E265+F265)<='Vergi Oranları'!$C$3,15,))))))","v":0},{"$f":"IF(E265=0,0,IF(D265=0,0,IF(G265=0,0,IF(H265=0,0,IF(F265+E265<='Vergi Oranları'!$C$3,G265-F265,'Vergi Oranları'!$C$3-F265)))))","v":0},{"$f":"IF(I265=0,0,IF(ROUND((I265-$J$3)*'Vergi Oranları'!$G$3/100,2)<0,0,ROUND((I265-$M$3)*'Vergi Oranları'!$G$3/100,2)))","v":0},{"$f":"IF(E265=0,0,IF(D265=0,0,IF(G265=0,0,IF(F265>+'Vergi Oranları'!$C$4,0,IF(OR(G265<='Vergi Oranları'!$C$4,F265+E265<'Vergi Oranları'!$C$4),20,IF(G265-(E265+F265)<='Vergi Oranları'!$C$4,20,))))))","v":0},{"$f":"IF(E265=0,0,IF(D265=0,0,IF(G265=0,0,IF(K265=0,0,IF(F265+E265<=+'Vergi Oranları'!$C$4,G265-(F265+I265),+'Vergi Oranları'!$C$4-(F265+I265))))))","v":0},{"$f":"IF(L265=0,0,IF(ROUND((L265-$M$3)*+'Vergi Oranları'!$G$4/100,2)<0,0,ROUND((L265-$M$3)*+'Vergi Oranları'!$G$4/100,2)))","v":0},{"$f":"IF(E265=0,0,IF(D265=0,0,IF(G265=0,0,IF(OR(G265>+'Vergi Oranları'!$C$4,G265<=+'Vergi Oranları'!$C$5),27))))","v":0},{"$f":"IF(E265=0,0,IF(D265=0,0,IF(G265=0,0,IF(N265=0,0,IF(F265>'Vergi Oranları'!$C$5,0,IF(G265<=+'Vergi Oranları'!$C$5,G265-(F265+I265+L265),+'Vergi Oranları'!$C$5-(F265+I265+L265)))))))","v":0},{"$f":"ROUND(IF(N265=0,0,IF(E265<O265,(E265-$P$3)*'Vergi Oranları'!$G$5/100,(O265-$P$3)*'Vergi Oranları'!$G$5/100)),2)","v":0},{"$f":"IF(E265=0,0,IF(D265=0,0,IF(G265=0,0,IF(G265<=+'Vergi Oranları'!$C$5,0,IF(OR(G265>+'Vergi Oranları'!$C$5,F265+E265<=+'Vergi Oranları'!$C$5),35)))))","v":0},{"$f":"IF(E265=0,0,IF(D265=0,0,IF(G265=0,0,IF(Q265=0,0,IF(F265+E265>=+'Vergi Oranları'!$C$5,G265-(F265+I265+L265+O265),+'Vergi Oranları'!$C$5-(F265+I265+L265+O265))))))","v":0},{"$f":"IF(Q265=0,0,ROUND((R265-$S$3)*+'Vergi Oranları'!$G$6/100,2))","v":0},0]
[null,null,null,null,null,null,0,{"$f":"IF(E266=0,0,IF(D266=0,0,IF(G266=0,0,IF(F266>+'Vergi Oranları'!$C$3,0,IF(OR(G266<='Vergi Oranları'!$C$3,F266+E266<+'Vergi Oranları'!$C$3),15,IF(G266-(E266+F266)<='Vergi Oranları'!$C$3,15,))))))","v":0},{"$f":"IF(E266=0,0,IF(D266=0,0,IF(G266=0,0,IF(H266=0,0,IF(F266+E266<='Vergi Oranları'!$C$3,G266-F266,'Vergi Oranları'!$C$3-F266)))))","v":0},{"$f":"IF(I266=0,0,IF(ROUND((I266-$J$3)*'Vergi Oranları'!$G$3/100,2)<0,0,ROUND((I266-$M$3)*'Vergi Oranları'!$G$3/100,2)))","v":0},{"$f":"IF(E266=0,0,IF(D266=0,0,IF(G266=0,0,IF(F266>+'Vergi Oranları'!$C$4,0,IF(OR(G266<='Vergi Oranları'!$C$4,F266+E266<'Vergi Oranları'!$C$4),20,IF(G266-(E266+F266)<='Vergi Oranları'!$C$4,20,))))))","v":0},{"$f":"IF(E266=0,0,IF(D266=0,0,IF(G266=0,0,IF(K266=0,0,IF(F266+E266<=+'Vergi Oranları'!$C$4,G266-(F266+I266),+'Vergi Oranları'!$C$4-(F266+I266))))))","v":0},{"$f":"IF(L266=0,0,IF(ROUND((L266-$M$3)*+'Vergi Oranları'!$G$4/100,2)<0,0,ROUND((L266-$M$3)*+'Vergi Oranları'!$G$4/100,2)))","v":0},{"$f":"IF(E266=0,0,IF(D266=0,0,IF(G266=0,0,IF(OR(G266>+'Vergi Oranları'!$C$4,G266<=+'Vergi Oranları'!$C$5),27))))","v":0},{"$f":"IF(E266=0,0,IF(D266=0,0,IF(G266=0,0,IF(N266=0,0,IF(F266>'Vergi Oranları'!$C$5,0,IF(G266<=+'Vergi Oranları'!$C$5,G266-(F266+I266+L266),+'Vergi Oranları'!$C$5-(F266+I266+L266)))))))","v":0},{"$f":"ROUND(IF(N266=0,0,IF(E266<O266,(E266-$P$3)*'Vergi Oranları'!$G$5/100,(O266-$P$3)*'Vergi Oranları'!$G$5/100)),2)","v":0},{"$f":"IF(E266=0,0,IF(D266=0,0,IF(G266=0,0,IF(G266<=+'Vergi Oranları'!$C$5,0,IF(OR(G266>+'Vergi Oranları'!$C$5,F266+E266<=+'Vergi Oranları'!$C$5),35)))))","v":0},{"$f":"IF(E266=0,0,IF(D266=0,0,IF(G266=0,0,IF(Q266=0,0,IF(F266+E266>=+'Vergi Oranları'!$C$5,G266-(F266+I266+L266+O266),+'Vergi Oranları'!$C$5-(F266+I266+L266+O266))))))","v":0},{"$f":"IF(Q266=0,0,ROUND((R266-$S$3)*+'Vergi Oranları'!$G$6/100,2))","v":0},0]
[null,null,null,null,null,null,0,{"$f":"IF(E267=0,0,IF(D267=0,0,IF(G267=0,0,IF(F267>+'Vergi Oranları'!$C$3,0,IF(OR(G267<='Vergi Oranları'!$C$3,F267+E267<+'Vergi Oranları'!$C$3),15,IF(G267-(E267+F267)<='Vergi Oranları'!$C$3,15,))))))","v":0},{"$f":"IF(E267=0,0,IF(D267=0,0,IF(G267=0,0,IF(H267=0,0,IF(F267+E267<='Vergi Oranları'!$C$3,G267-F267,'Vergi Oranları'!$C$3-F267)))))","v":0},{"$f":"IF(I267=0,0,IF(ROUND((I267-$J$3)*'Vergi Oranları'!$G$3/100,2)<0,0,ROUND((I267-$M$3)*'Vergi Oranları'!$G$3/100,2)))","v":0},{"$f":"IF(E267=0,0,IF(D267=0,0,IF(G267=0,0,IF(F267>+'Vergi Oranları'!$C$4,0,IF(OR(G267<='Vergi Oranları'!$C$4,F267+E267<'Vergi Oranları'!$C$4),20,IF(G267-(E267+F267)<='Vergi Oranları'!$C$4,20,))))))","v":0},{"$f":"IF(E267=0,0,IF(D267=0,0,IF(G267=0,0,IF(K267=0,0,IF(F267+E267<=+'Vergi Oranları'!$C$4,G267-(F267+I267),+'Vergi Oranları'!$C$4-(F267+I267))))))","v":0},{"$f":"IF(L267=0,0,IF(ROUND((L267-$M$3)*+'Vergi Oranları'!$G$4/100,2)<0,0,ROUND((L267-$M$3)*+'Vergi Oranları'!$G$4/100,2)))","v":0},{"$f":"IF(E267=0,0,IF(D267=0,0,IF(G267=0,0,IF(OR(G267>+'Vergi Oranları'!$C$4,G267<=+'Vergi Oranları'!$C$5),27))))","v":0},{"$f":"IF(E267=0,0,IF(D267=0,0,IF(G267=0,0,IF(N267=0,0,IF(F267>'Vergi Oranları'!$C$5,0,IF(G267<=+'Vergi Oranları'!$C$5,G267-(F267+I267+L267),+'Vergi Oranları'!$C$5-(F267+I267+L267)))))))","v":0},{"$f":"ROUND(IF(N267=0,0,IF(E267<O267,(E267-$P$3)*'Vergi Oranları'!$G$5/100,(O267-$P$3)*'Vergi Oranları'!$G$5/100)),2)","v":0},{"$f":"IF(E267=0,0,IF(D267=0,0,IF(G267=0,0,IF(G267<=+'Vergi Oranları'!$C$5,0,IF(OR(G267>+'Vergi Oranları'!$C$5,F267+E267<=+'Vergi Oranları'!$C$5),35)))))","v":0},{"$f":"IF(E267=0,0,IF(D267=0,0,IF(G267=0,0,IF(Q267=0,0,IF(F267+E267>=+'Vergi Oranları'!$C$5,G267-(F267+I267+L267+O267),+'Vergi Oranları'!$C$5-(F267+I267+L267+O267))))))","v":0},{"$f":"IF(Q267=0,0,ROUND((R267-$S$3)*+'Vergi Oranları'!$G$6/100,2))","v":0},0]
[null,null,null,null,null,null,0,{"$f":"IF(E268=0,0,IF(D268=0,0,IF(G268=0,0,IF(F268>+'Vergi Oranları'!$C$3,0,IF(OR(G268<='Vergi Oranları'!$C$3,F268+E268<+'Vergi Oranları'!$C$3),15,IF(G268-(E268+F268)<='Vergi Oranları'!$C$3,15,))))))","v":0},{"$f":"IF(E268=0,0,IF(D268=0,0,IF(G268=0,0,IF(H268=0,0,IF(F268+E268<='Vergi Oranları'!$C$3,G268-F268,'Vergi Oranları'!$C$3-F268)))))","v":0},{"$f":"IF(I268=0,0,IF(ROUND((I268-$J$3)*'Vergi Oranları'!$G$3/100,2)<0,0,ROUND((I268-$M$3)*'Vergi Oranları'!$G$3/100,2)))","v":0},{"$f":"IF(E268=0,0,IF(D268=0,0,IF(G268=0,0,IF(F268>+'Vergi Oranları'!$C$4,0,IF(OR(G268<='Vergi Oranları'!$C$4,F268+E268<'Vergi Oranları'!$C$4),20,IF(G268-(E268+F268)<='Vergi Oranları'!$C$4,20,))))))","v":0},{"$f":"IF(E268=0,0,IF(D268=0,0,IF(G268=0,0,IF(K268=0,0,IF(F268+E268<=+'Vergi Oranları'!$C$4,G268-(F268+I268),+'Vergi Oranları'!$C$4-(F268+I268))))))","v":0},{"$f":"IF(L268=0,0,IF(ROUND((L268-$M$3)*+'Vergi Oranları'!$G$4/100,2)<0,0,ROUND((L268-$M$3)*+'Vergi Oranları'!$G$4/100,2)))","v":0},{"$f":"IF(E268=0,0,IF(D268=0,0,IF(G268=0,0,IF(OR(G268>+'Vergi Oranları'!$C$4,G268<=+'Vergi Oranları'!$C$5),27))))","v":0},{"$f":"IF(E268=0,0,IF(D268=0,0,IF(G268=0,0,IF(N268=0,0,IF(F268>'Vergi Oranları'!$C$5,0,IF(G268<=+'Vergi Oranları'!$C$5,G268-(F268+I268+L268),+'Vergi Oranları'!$C$5-(F268+I268+L268)))))))","v":0},{"$f":"ROUND(IF(N268=0,0,IF(E268<O268,(E268-$P$3)*'Vergi Oranları'!$G$5/100,(O268-$P$3)*'Vergi Oranları'!$G$5/100)),2)","v":0},{"$f":"IF(E268=0,0,IF(D268=0,0,IF(G268=0,0,IF(G268<=+'Vergi Oranları'!$C$5,0,IF(OR(G268>+'Vergi Oranları'!$C$5,F268+E268<=+'Vergi Oranları'!$C$5),35)))))","v":0},{"$f":"IF(E268=0,0,IF(D268=0,0,IF(G268=0,0,IF(Q268=0,0,IF(F268+E268>=+'Vergi Oranları'!$C$5,G268-(F268+I268+L268+O268),+'Vergi Oranları'!$C$5-(F268+I268+L268+O268))))))","v":0},{"$f":"IF(Q268=0,0,ROUND((R268-$S$3)*+'Vergi Oranları'!$G$6/100,2))","v":0},0]
[null,null,null,null,null,null,0,{"$f":"IF(E269=0,0,IF(D269=0,0,IF(G269=0,0,IF(F269>+'Vergi Oranları'!$C$3,0,IF(OR(G269<='Vergi Oranları'!$C$3,F269+E269<+'Vergi Oranları'!$C$3),15,IF(G269-(E269+F269)<='Vergi Oranları'!$C$3,15,))))))","v":0},{"$f":"IF(E269=0,0,IF(D269=0,0,IF(G269=0,0,IF(H269=0,0,IF(F269+E269<='Vergi Oranları'!$C$3,G269-F269,'Vergi Oranları'!$C$3-F269)))))","v":0},{"$f":"IF(I269=0,0,IF(ROUND((I269-$J$3)*'Vergi Oranları'!$G$3/100,2)<0,0,ROUND((I269-$M$3)*'Vergi Oranları'!$G$3/100,2)))","v":0},{"$f":"IF(E269=0,0,IF(D269=0,0,IF(G269=0,0,IF(F269>+'Vergi Oranları'!$C$4,0,IF(OR(G269<='Vergi Oranları'!$C$4,F269+E269<'Vergi Oranları'!$C$4),20,IF(G269-(E269+F269)<='Vergi Oranları'!$C$4,20,))))))","v":0},{"$f":"IF(E269=0,0,IF(D269=0,0,IF(G269=0,0,IF(K269=0,0,IF(F269+E269<=+'Vergi Oranları'!$C$4,G269-(F269+I269),+'Vergi Oranları'!$C$4-(F269+I269))))))","v":0},{"$f":"IF(L269=0,0,IF(ROUND((L269-$M$3)*+'Vergi Oranları'!$G$4/100,2)<0,0,ROUND((L269-$M$3)*+'Vergi Oranları'!$G$4/100,2)))","v":0},{"$f":"IF(E269=0,0,IF(D269=0,0,IF(G269=0,0,IF(OR(G269>+'Vergi Oranları'!$C$4,G269<=+'Vergi Oranları'!$C$5),27))))","v":0},{"$f":"IF(E269=0,0,IF(D269=0,0,IF(G269=0,0,IF(N269=0,0,IF(F269>'Vergi Oranları'!$C$5,0,IF(G269<=+'Vergi Oranları'!$C$5,G269-(F269+I269+L269),+'Vergi Oranları'!$C$5-(F269+I269+L269)))))))","v":0},{"$f":"ROUND(IF(N269=0,0,IF(E269<O269,(E269-$P$3)*'Vergi Oranları'!$G$5/100,(O269-$P$3)*'Vergi Oranları'!$G$5/100)),2)","v":0},{"$f":"IF(E269=0,0,IF(D269=0,0,IF(G269=0,0,IF(G269<=+'Vergi Oranları'!$C$5,0,IF(OR(G269>+'Vergi Oranları'!$C$5,F269+E269<=+'Vergi Oranları'!$C$5),35)))))","v":0},{"$f":"IF(E269=0,0,IF(D269=0,0,IF(G269=0,0,IF(Q269=0,0,IF(F269+E269>=+'Vergi Oranları'!$C$5,G269-(F269+I269+L269+O269),+'Vergi Oranları'!$C$5-(F269+I269+L269+O269))))))","v":0},{"$f":"IF(Q269=0,0,ROUND((R269-$S$3)*+'Vergi Oranları'!$G$6/100,2))","v":0},0]
[null,null,null,null,null,null,0,{"$f":"IF(E270=0,0,IF(D270=0,0,IF(G270=0,0,IF(F270>+'Vergi Oranları'!$C$3,0,IF(OR(G270<='Vergi Oranları'!$C$3,F270+E270<+'Vergi Oranları'!$C$3),15,IF(G270-(E270+F270)<='Vergi Oranları'!$C$3,15,))))))","v":0},{"$f":"IF(E270=0,0,IF(D270=0,0,IF(G270=0,0,IF(H270=0,0,IF(F270+E270<='Vergi Oranları'!$C$3,G270-F270,'Vergi Oranları'!$C$3-F270)))))","v":0},{"$f":"IF(I270=0,0,IF(ROUND((I270-$J$3)*'Vergi Oranları'!$G$3/100,2)<0,0,ROUND((I270-$M$3)*'Vergi Oranları'!$G$3/100,2)))","v":0},{"$f":"IF(E270=0,0,IF(D270=0,0,IF(G270=0,0,IF(F270>+'Vergi Oranları'!$C$4,0,IF(OR(G270<='Vergi Oranları'!$C$4,F270+E270<'Vergi Oranları'!$C$4),20,IF(G270-(E270+F270)<='Vergi Oranları'!$C$4,20,))))))","v":0},{"$f":"IF(E270=0,0,IF(D270=0,0,IF(G270=0,0,IF(K270=0,0,IF(F270+E270<=+'Vergi Oranları'!$C$4,G270-(F270+I270),+'Vergi Oranları'!$C$4-(F270+I270))))))","v":0},{"$f":"IF(L270=0,0,IF(ROUND((L270-$M$3)*+'Vergi Oranları'!$G$4/100,2)<0,0,ROUND((L270-$M$3)*+'Vergi Oranları'!$G$4/100,2)))","v":0},{"$f":"IF(E270=0,0,IF(D270=0,0,IF(G270=0,0,IF(OR(G270>+'Vergi Oranları'!$C$4,G270<=+'Vergi Oranları'!$C$5),27))))","v":0},{"$f":"IF(E270=0,0,IF(D270=0,0,IF(G270=0,0,IF(N270=0,0,IF(F270>'Vergi Oranları'!$C$5,0,IF(G270<=+'Vergi Oranları'!$C$5,G270-(F270+I270+L270),+'Vergi Oranları'!$C$5-(F270+I270+L270)))))))","v":0},{"$f":"ROUND(IF(N270=0,0,IF(E270<O270,(E270-$P$3)*'Vergi Oranları'!$G$5/100,(O270-$P$3)*'Vergi Oranları'!$G$5/100)),2)","v":0},{"$f":"IF(E270=0,0,IF(D270=0,0,IF(G270=0,0,IF(G270<=+'Vergi Oranları'!$C$5,0,IF(OR(G270>+'Vergi Oranları'!$C$5,F270+E270<=+'Vergi Oranları'!$C$5),35)))))","v":0},{"$f":"IF(E270=0,0,IF(D270=0,0,IF(G270=0,0,IF(Q270=0,0,IF(F270+E270>=+'Vergi Oranları'!$C$5,G270-(F270+I270+L270+O270),+'Vergi Oranları'!$C$5-(F270+I270+L270+O270))))))","v":0},{"$f":"IF(Q270=0,0,ROUND((R270-$S$3)*+'Vergi Oranları'!$G$6/100,2))","v":0},0]
[null,null,null,null,null,null,0,{"$f":"IF(E271=0,0,IF(D271=0,0,IF(G271=0,0,IF(F271>+'Vergi Oranları'!$C$3,0,IF(OR(G271<='Vergi Oranları'!$C$3,F271+E271<+'Vergi Oranları'!$C$3),15,IF(G271-(E271+F271)<='Vergi Oranları'!$C$3,15,))))))","v":0},{"$f":"IF(E271=0,0,IF(D271=0,0,IF(G271=0,0,IF(H271=0,0,IF(F271+E271<='Vergi Oranları'!$C$3,G271-F271,'Vergi Oranları'!$C$3-F271)))))","v":0},{"$f":"IF(I271=0,0,IF(ROUND((I271-$J$3)*'Vergi Oranları'!$G$3/100,2)<0,0,ROUND((I271-$M$3)*'Vergi Oranları'!$G$3/100,2)))","v":0},{"$f":"IF(E271=0,0,IF(D271=0,0,IF(G271=0,0,IF(F271>+'Vergi Oranları'!$C$4,0,IF(OR(G271<='Vergi Oranları'!$C$4,F271+E271<'Vergi Oranları'!$C$4),20,IF(G271-(E271+F271)<='Vergi Oranları'!$C$4,20,))))))","v":0},{"$f":"IF(E271=0,0,IF(D271=0,0,IF(G271=0,0,IF(K271=0,0,IF(F271+E271<=+'Vergi Oranları'!$C$4,G271-(F271+I271),+'Vergi Oranları'!$C$4-(F271+I271))))))","v":0},{"$f":"IF(L271=0,0,IF(ROUND((L271-$M$3)*+'Vergi Oranları'!$G$4/100,2)<0,0,ROUND((L271-$M$3)*+'Vergi Oranları'!$G$4/100,2)))","v":0},{"$f":"IF(E271=0,0,IF(D271=0,0,IF(G271=0,0,IF(OR(G271>+'Vergi Oranları'!$C$4,G271<=+'Vergi Oranları'!$C$5),27))))","v":0},{"$f":"IF(E271=0,0,IF(D271=0,0,IF(G271=0,0,IF(N271=0,0,IF(F271>'Vergi Oranları'!$C$5,0,IF(G271<=+'Vergi Oranları'!$C$5,G271-(F271+I271+L271),+'Vergi Oranları'!$C$5-(F271+I271+L271)))))))","v":0},{"$f":"ROUND(IF(N271=0,0,IF(E271<O271,(E271-$P$3)*'Vergi Oranları'!$G$5/100,(O271-$P$3)*'Vergi Oranları'!$G$5/100)),2)","v":0},{"$f":"IF(E271=0,0,IF(D271=0,0,IF(G271=0,0,IF(G271<=+'Vergi Oranları'!$C$5,0,IF(OR(G271>+'Vergi Oranları'!$C$5,F271+E271<=+'Vergi Oranları'!$C$5),35)))))","v":0},{"$f":"IF(E271=0,0,IF(D271=0,0,IF(G271=0,0,IF(Q271=0,0,IF(F271+E271>=+'Vergi Oranları'!$C$5,G271-(F271+I271+L271+O271),+'Vergi Oranları'!$C$5-(F271+I271+L271+O271))))))","v":0},{"$f":"IF(Q271=0,0,ROUND((R271-$S$3)*+'Vergi Oranları'!$G$6/100,2))","v":0},0]
[null,null,null,null,null,null,0,{"$f":"IF(E272=0,0,IF(D272=0,0,IF(G272=0,0,IF(F272>+'Vergi Oranları'!$C$3,0,IF(OR(G272<='Vergi Oranları'!$C$3,F272+E272<+'Vergi Oranları'!$C$3),15,IF(G272-(E272+F272)<='Vergi Oranları'!$C$3,15,))))))","v":0},{"$f":"IF(E272=0,0,IF(D272=0,0,IF(G272=0,0,IF(H272=0,0,IF(F272+E272<='Vergi Oranları'!$C$3,G272-F272,'Vergi Oranları'!$C$3-F272)))))","v":0},{"$f":"IF(I272=0,0,IF(ROUND((I272-$J$3)*'Vergi Oranları'!$G$3/100,2)<0,0,ROUND((I272-$M$3)*'Vergi Oranları'!$G$3/100,2)))","v":0},{"$f":"IF(E272=0,0,IF(D272=0,0,IF(G272=0,0,IF(F272>+'Vergi Oranları'!$C$4,0,IF(OR(G272<='Vergi Oranları'!$C$4,F272+E272<'Vergi Oranları'!$C$4),20,IF(G272-(E272+F272)<='Vergi Oranları'!$C$4,20,))))))","v":0},{"$f":"IF(E272=0,0,IF(D272=0,0,IF(G272=0,0,IF(K272=0,0,IF(F272+E272<=+'Vergi Oranları'!$C$4,G272-(F272+I272),+'Vergi Oranları'!$C$4-(F272+I272))))))","v":0},{"$f":"IF(L272=0,0,IF(ROUND((L272-$M$3)*+'Vergi Oranları'!$G$4/100,2)<0,0,ROUND((L272-$M$3)*+'Vergi Oranları'!$G$4/100,2)))","v":0},{"$f":"IF(E272=0,0,IF(D272=0,0,IF(G272=0,0,IF(OR(G272>+'Vergi Oranları'!$C$4,G272<=+'Vergi Oranları'!$C$5),27))))","v":0},{"$f":"IF(E272=0,0,IF(D272=0,0,IF(G272=0,0,IF(N272=0,0,IF(F272>'Vergi Oranları'!$C$5,0,IF(G272<=+'Vergi Oranları'!$C$5,G272-(F272+I272+L272),+'Vergi Oranları'!$C$5-(F272+I272+L272)))))))","v":0},{"$f":"ROUND(IF(N272=0,0,IF(E272<O272,(E272-$P$3)*'Vergi Oranları'!$G$5/100,(O272-$P$3)*'Vergi Oranları'!$G$5/100)),2)","v":0},{"$f":"IF(E272=0,0,IF(D272=0,0,IF(G272=0,0,IF(G272<=+'Vergi Oranları'!$C$5,0,IF(OR(G272>+'Vergi Oranları'!$C$5,F272+E272<=+'Vergi Oranları'!$C$5),35)))))","v":0},{"$f":"IF(E272=0,0,IF(D272=0,0,IF(G272=0,0,IF(Q272=0,0,IF(F272+E272>=+'Vergi Oranları'!$C$5,G272-(F272+I272+L272+O272),+'Vergi Oranları'!$C$5-(F272+I272+L272+O272))))))","v":0},{"$f":"IF(Q272=0,0,ROUND((R272-$S$3)*+'Vergi Oranları'!$G$6/100,2))","v":0},0]
[null,null,null,null,null,null,0,{"$f":"IF(E273=0,0,IF(D273=0,0,IF(G273=0,0,IF(F273>+'Vergi Oranları'!$C$3,0,IF(OR(G273<='Vergi Oranları'!$C$3,F273+E273<+'Vergi Oranları'!$C$3),15,IF(G273-(E273+F273)<='Vergi Oranları'!$C$3,15,))))))","v":0},{"$f":"IF(E273=0,0,IF(D273=0,0,IF(G273=0,0,IF(H273=0,0,IF(F273+E273<='Vergi Oranları'!$C$3,G273-F273,'Vergi Oranları'!$C$3-F273)))))","v":0},{"$f":"IF(I273=0,0,IF(ROUND((I273-$J$3)*'Vergi Oranları'!$G$3/100,2)<0,0,ROUND((I273-$M$3)*'Vergi Oranları'!$G$3/100,2)))","v":0},{"$f":"IF(E273=0,0,IF(D273=0,0,IF(G273=0,0,IF(F273>+'Vergi Oranları'!$C$4,0,IF(OR(G273<='Vergi Oranları'!$C$4,F273+E273<'Vergi Oranları'!$C$4),20,IF(G273-(E273+F273)<='Vergi Oranları'!$C$4,20,))))))","v":0},{"$f":"IF(E273=0,0,IF(D273=0,0,IF(G273=0,0,IF(K273=0,0,IF(F273+E273<=+'Vergi Oranları'!$C$4,G273-(F273+I273),+'Vergi Oranları'!$C$4-(F273+I273))))))","v":0},{"$f":"IF(L273=0,0,IF(ROUND((L273-$M$3)*+'Vergi Oranları'!$G$4/100,2)<0,0,ROUND((L273-$M$3)*+'Vergi Oranları'!$G$4/100,2)))","v":0},{"$f":"IF(E273=0,0,IF(D273=0,0,IF(G273=0,0,IF(OR(G273>+'Vergi Oranları'!$C$4,G273<=+'Vergi Oranları'!$C$5),27))))","v":0},{"$f":"IF(E273=0,0,IF(D273=0,0,IF(G273=0,0,IF(N273=0,0,IF(F273>'Vergi Oranları'!$C$5,0,IF(G273<=+'Vergi Oranları'!$C$5,G273-(F273+I273+L273),+'Vergi Oranları'!$C$5-(F273+I273+L273)))))))","v":0},{"$f":"ROUND(IF(N273=0,0,IF(E273<O273,(E273-$P$3)*'Vergi Oranları'!$G$5/100,(O273-$P$3)*'Vergi Oranları'!$G$5/100)),2)","v":0},{"$f":"IF(E273=0,0,IF(D273=0,0,IF(G273=0,0,IF(G273<=+'Vergi Oranları'!$C$5,0,IF(OR(G273>+'Vergi Oranları'!$C$5,F273+E273<=+'Vergi Oranları'!$C$5),35)))))","v":0},{"$f":"IF(E273=0,0,IF(D273=0,0,IF(G273=0,0,IF(Q273=0,0,IF(F273+E273>=+'Vergi Oranları'!$C$5,G273-(F273+I273+L273+O273),+'Vergi Oranları'!$C$5-(F273+I273+L273+O273))))))","v":0},{"$f":"IF(Q273=0,0,ROUND((R273-$S$3)*+'Vergi Oranları'!$G$6/100,2))","v":0},0]
[null,null,null,null,null,null,0,{"$f":"IF(E274=0,0,IF(D274=0,0,IF(G274=0,0,IF(F274>+'Vergi Oranları'!$C$3,0,IF(OR(G274<='Vergi Oranları'!$C$3,F274+E274<+'Vergi Oranları'!$C$3),15,IF(G274-(E274+F274)<='Vergi Oranları'!$C$3,15,))))))","v":0},{"$f":"IF(E274=0,0,IF(D274=0,0,IF(G274=0,0,IF(H274=0,0,IF(F274+E274<='Vergi Oranları'!$C$3,G274-F274,'Vergi Oranları'!$C$3-F274)))))","v":0},{"$f":"IF(I274=0,0,IF(ROUND((I274-$J$3)*'Vergi Oranları'!$G$3/100,2)<0,0,ROUND((I274-$M$3)*'Vergi Oranları'!$G$3/100,2)))","v":0},{"$f":"IF(E274=0,0,IF(D274=0,0,IF(G274=0,0,IF(F274>+'Vergi Oranları'!$C$4,0,IF(OR(G274<='Vergi Oranları'!$C$4,F274+E274<'Vergi Oranları'!$C$4),20,IF(G274-(E274+F274)<='Vergi Oranları'!$C$4,20,))))))","v":0},{"$f":"IF(E274=0,0,IF(D274=0,0,IF(G274=0,0,IF(K274=0,0,IF(F274+E274<=+'Vergi Oranları'!$C$4,G274-(F274+I274),+'Vergi Oranları'!$C$4-(F274+I274))))))","v":0},{"$f":"IF(L274=0,0,IF(ROUND((L274-$M$3)*+'Vergi Oranları'!$G$4/100,2)<0,0,ROUND((L274-$M$3)*+'Vergi Oranları'!$G$4/100,2)))","v":0},{"$f":"IF(E274=0,0,IF(D274=0,0,IF(G274=0,0,IF(OR(G274>+'Vergi Oranları'!$C$4,G274<=+'Vergi Oranları'!$C$5),27))))","v":0},{"$f":"IF(E274=0,0,IF(D274=0,0,IF(G274=0,0,IF(N274=0,0,IF(F274>'Vergi Oranları'!$C$5,0,IF(G274<=+'Vergi Oranları'!$C$5,G274-(F274+I274+L274),+'Vergi Oranları'!$C$5-(F274+I274+L274)))))))","v":0},{"$f":"ROUND(IF(N274=0,0,IF(E274<O274,(E274-$P$3)*'Vergi Oranları'!$G$5/100,(O274-$P$3)*'Vergi Oranları'!$G$5/100)),2)","v":0},{"$f":"IF(E274=0,0,IF(D274=0,0,IF(G274=0,0,IF(G274<=+'Vergi Oranları'!$C$5,0,IF(OR(G274>+'Vergi Oranları'!$C$5,F274+E274<=+'Vergi Oranları'!$C$5),35)))))","v":0},{"$f":"IF(E274=0,0,IF(D274=0,0,IF(G274=0,0,IF(Q274=0,0,IF(F274+E274>=+'Vergi Oranları'!$C$5,G274-(F274+I274+L274+O274),+'Vergi Oranları'!$C$5-(F274+I274+L274+O274))))))","v":0},{"$f":"IF(Q274=0,0,ROUND((R274-$S$3)*+'Vergi Oranları'!$G$6/100,2))","v":0},0]
[null,null,null,null,null,null,0,{"$f":"IF(E275=0,0,IF(D275=0,0,IF(G275=0,0,IF(F275>+'Vergi Oranları'!$C$3,0,IF(OR(G275<='Vergi Oranları'!$C$3,F275+E275<+'Vergi Oranları'!$C$3),15,IF(G275-(E275+F275)<='Vergi Oranları'!$C$3,15,))))))","v":0},{"$f":"IF(E275=0,0,IF(D275=0,0,IF(G275=0,0,IF(H275=0,0,IF(F275+E275<='Vergi Oranları'!$C$3,G275-F275,'Vergi Oranları'!$C$3-F275)))))","v":0},{"$f":"IF(I275=0,0,IF(ROUND((I275-$J$3)*'Vergi Oranları'!$G$3/100,2)<0,0,ROUND((I275-$M$3)*'Vergi Oranları'!$G$3/100,2)))","v":0},{"$f":"IF(E275=0,0,IF(D275=0,0,IF(G275=0,0,IF(F275>+'Vergi Oranları'!$C$4,0,IF(OR(G275<='Vergi Oranları'!$C$4,F275+E275<'Vergi Oranları'!$C$4),20,IF(G275-(E275+F275)<='Vergi Oranları'!$C$4,20,))))))","v":0},{"$f":"IF(E275=0,0,IF(D275=0,0,IF(G275=0,0,IF(K275=0,0,IF(F275+E275<=+'Vergi Oranları'!$C$4,G275-(F275+I275),+'Vergi Oranları'!$C$4-(F275+I275))))))","v":0},{"$f":"IF(L275=0,0,IF(ROUND((L275-$M$3)*+'Vergi Oranları'!$G$4/100,2)<0,0,ROUND((L275-$M$3)*+'Vergi Oranları'!$G$4/100,2)))","v":0},{"$f":"IF(E275=0,0,IF(D275=0,0,IF(G275=0,0,IF(OR(G275>+'Vergi Oranları'!$C$4,G275<=+'Vergi Oranları'!$C$5),27))))","v":0},{"$f":"IF(E275=0,0,IF(D275=0,0,IF(G275=0,0,IF(N275=0,0,IF(F275>'Vergi Oranları'!$C$5,0,IF(G275<=+'Vergi Oranları'!$C$5,G275-(F275+I275+L275),+'Vergi Oranları'!$C$5-(F275+I275+L275)))))))","v":0},{"$f":"ROUND(IF(N275=0,0,IF(E275<O275,(E275-$P$3)*'Vergi Oranları'!$G$5/100,(O275-$P$3)*'Vergi Oranları'!$G$5/100)),2)","v":0},{"$f":"IF(E275=0,0,IF(D275=0,0,IF(G275=0,0,IF(G275<=+'Vergi Oranları'!$C$5,0,IF(OR(G275>+'Vergi Oranları'!$C$5,F275+E275<=+'Vergi Oranları'!$C$5),35)))))","v":0},{"$f":"IF(E275=0,0,IF(D275=0,0,IF(G275=0,0,IF(Q275=0,0,IF(F275+E275>=+'Vergi Oranları'!$C$5,G275-(F275+I275+L275+O275),+'Vergi Oranları'!$C$5-(F275+I275+L275+O275))))))","v":0},{"$f":"IF(Q275=0,0,ROUND((R275-$S$3)*+'Vergi Oranları'!$G$6/100,2))","v":0},0]
[null,null,null,null,null,null,0,{"$f":"IF(E276=0,0,IF(D276=0,0,IF(G276=0,0,IF(F276>+'Vergi Oranları'!$C$3,0,IF(OR(G276<='Vergi Oranları'!$C$3,F276+E276<+'Vergi Oranları'!$C$3),15,IF(G276-(E276+F276)<='Vergi Oranları'!$C$3,15,))))))","v":0},{"$f":"IF(E276=0,0,IF(D276=0,0,IF(G276=0,0,IF(H276=0,0,IF(F276+E276<='Vergi Oranları'!$C$3,G276-F276,'Vergi Oranları'!$C$3-F276)))))","v":0},{"$f":"IF(I276=0,0,IF(ROUND((I276-$J$3)*'Vergi Oranları'!$G$3/100,2)<0,0,ROUND((I276-$M$3)*'Vergi Oranları'!$G$3/100,2)))","v":0},{"$f":"IF(E276=0,0,IF(D276=0,0,IF(G276=0,0,IF(F276>+'Vergi Oranları'!$C$4,0,IF(OR(G276<='Vergi Oranları'!$C$4,F276+E276<'Vergi Oranları'!$C$4),20,IF(G276-(E276+F276)<='Vergi Oranları'!$C$4,20,))))))","v":0},{"$f":"IF(E276=0,0,IF(D276=0,0,IF(G276=0,0,IF(K276=0,0,IF(F276+E276<=+'Vergi Oranları'!$C$4,G276-(F276+I276),+'Vergi Oranları'!$C$4-(F276+I276))))))","v":0},{"$f":"IF(L276=0,0,IF(ROUND((L276-$M$3)*+'Vergi Oranları'!$G$4/100,2)<0,0,ROUND((L276-$M$3)*+'Vergi Oranları'!$G$4/100,2)))","v":0},{"$f":"IF(E276=0,0,IF(D276=0,0,IF(G276=0,0,IF(OR(G276>+'Vergi Oranları'!$C$4,G276<=+'Vergi Oranları'!$C$5),27))))","v":0},{"$f":"IF(E276=0,0,IF(D276=0,0,IF(G276=0,0,IF(N276=0,0,IF(F276>'Vergi Oranları'!$C$5,0,IF(G276<=+'Vergi Oranları'!$C$5,G276-(F276+I276+L276),+'Vergi Oranları'!$C$5-(F276+I276+L276)))))))","v":0},{"$f":"ROUND(IF(N276=0,0,IF(E276<O276,(E276-$P$3)*'Vergi Oranları'!$G$5/100,(O276-$P$3)*'Vergi Oranları'!$G$5/100)),2)","v":0},{"$f":"IF(E276=0,0,IF(D276=0,0,IF(G276=0,0,IF(G276<=+'Vergi Oranları'!$C$5,0,IF(OR(G276>+'Vergi Oranları'!$C$5,F276+E276<=+'Vergi Oranları'!$C$5),35)))))","v":0},{"$f":"IF(E276=0,0,IF(D276=0,0,IF(G276=0,0,IF(Q276=0,0,IF(F276+E276>=+'Vergi Oranları'!$C$5,G276-(F276+I276+L276+O276),+'Vergi Oranları'!$C$5-(F276+I276+L276+O276))))))","v":0},{"$f":"IF(Q276=0,0,ROUND((R276-$S$3)*+'Vergi Oranları'!$G$6/100,2))","v":0},0]
[null,null,null,null,null,null,0,{"$f":"IF(E277=0,0,IF(D277=0,0,IF(G277=0,0,IF(F277>+'Vergi Oranları'!$C$3,0,IF(OR(G277<='Vergi Oranları'!$C$3,F277+E277<+'Vergi Oranları'!$C$3),15,IF(G277-(E277+F277)<='Vergi Oranları'!$C$3,15,))))))","v":0},{"$f":"IF(E277=0,0,IF(D277=0,0,IF(G277=0,0,IF(H277=0,0,IF(F277+E277<='Vergi Oranları'!$C$3,G277-F277,'Vergi Oranları'!$C$3-F277)))))","v":0},{"$f":"IF(I277=0,0,IF(ROUND((I277-$J$3)*'Vergi Oranları'!$G$3/100,2)<0,0,ROUND((I277-$M$3)*'Vergi Oranları'!$G$3/100,2)))","v":0},{"$f":"IF(E277=0,0,IF(D277=0,0,IF(G277=0,0,IF(F277>+'Vergi Oranları'!$C$4,0,IF(OR(G277<='Vergi Oranları'!$C$4,F277+E277<'Vergi Oranları'!$C$4),20,IF(G277-(E277+F277)<='Vergi Oranları'!$C$4,20,))))))","v":0},{"$f":"IF(E277=0,0,IF(D277=0,0,IF(G277=0,0,IF(K277=0,0,IF(F277+E277<=+'Vergi Oranları'!$C$4,G277-(F277+I277),+'Vergi Oranları'!$C$4-(F277+I277))))))","v":0},{"$f":"IF(L277=0,0,IF(ROUND((L277-$M$3)*+'Vergi Oranları'!$G$4/100,2)<0,0,ROUND((L277-$M$3)*+'Vergi Oranları'!$G$4/100,2)))","v":0},{"$f":"IF(E277=0,0,IF(D277=0,0,IF(G277=0,0,IF(OR(G277>+'Vergi Oranları'!$C$4,G277<=+'Vergi Oranları'!$C$5),27))))","v":0},{"$f":"IF(E277=0,0,IF(D277=0,0,IF(G277=0,0,IF(N277=0,0,IF(F277>'Vergi Oranları'!$C$5,0,IF(G277<=+'Vergi Oranları'!$C$5,G277-(F277+I277+L277),+'Vergi Oranları'!$C$5-(F277+I277+L277)))))))","v":0},{"$f":"ROUND(IF(N277=0,0,IF(E277<O277,(E277-$P$3)*'Vergi Oranları'!$G$5/100,(O277-$P$3)*'Vergi Oranları'!$G$5/100)),2)","v":0},{"$f":"IF(E277=0,0,IF(D277=0,0,IF(G277=0,0,IF(G277<=+'Vergi Oranları'!$C$5,0,IF(OR(G277>+'Vergi Oranları'!$C$5,F277+E277<=+'Vergi Oranları'!$C$5),35)))))","v":0},{"$f":"IF(E277=0,0,IF(D277=0,0,IF(G277=0,0,IF(Q277=0,0,IF(F277+E277>=+'Vergi Oranları'!$C$5,G277-(F277+I277+L277+O277),+'Vergi Oranları'!$C$5-(F277+I277+L277+O277))))))","v":0},{"$f":"IF(Q277=0,0,ROUND((R277-$S$3)*+'Vergi Oranları'!$G$6/100,2))","v":0},0]
[null,null,null,null,null,null,0,{"$f":"IF(E278=0,0,IF(D278=0,0,IF(G278=0,0,IF(F278>+'Vergi Oranları'!$C$3,0,IF(OR(G278<='Vergi Oranları'!$C$3,F278+E278<+'Vergi Oranları'!$C$3),15,IF(G278-(E278+F278)<='Vergi Oranları'!$C$3,15,))))))","v":0},{"$f":"IF(E278=0,0,IF(D278=0,0,IF(G278=0,0,IF(H278=0,0,IF(F278+E278<='Vergi Oranları'!$C$3,G278-F278,'Vergi Oranları'!$C$3-F278)))))","v":0},{"$f":"IF(I278=0,0,IF(ROUND((I278-$J$3)*'Vergi Oranları'!$G$3/100,2)<0,0,ROUND((I278-$M$3)*'Vergi Oranları'!$G$3/100,2)))","v":0},{"$f":"IF(E278=0,0,IF(D278=0,0,IF(G278=0,0,IF(F278>+'Vergi Oranları'!$C$4,0,IF(OR(G278<='Vergi Oranları'!$C$4,F278+E278<'Vergi Oranları'!$C$4),20,IF(G278-(E278+F278)<='Vergi Oranları'!$C$4,20,))))))","v":0},{"$f":"IF(E278=0,0,IF(D278=0,0,IF(G278=0,0,IF(K278=0,0,IF(F278+E278<=+'Vergi Oranları'!$C$4,G278-(F278+I278),+'Vergi Oranları'!$C$4-(F278+I278))))))","v":0},{"$f":"IF(L278=0,0,IF(ROUND((L278-$M$3)*+'Vergi Oranları'!$G$4/100,2)<0,0,ROUND((L278-$M$3)*+'Vergi Oranları'!$G$4/100,2)))","v":0},{"$f":"IF(E278=0,0,IF(D278=0,0,IF(G278=0,0,IF(OR(G278>+'Vergi Oranları'!$C$4,G278<=+'Vergi Oranları'!$C$5),27))))","v":0},{"$f":"IF(E278=0,0,IF(D278=0,0,IF(G278=0,0,IF(N278=0,0,IF(F278>'Vergi Oranları'!$C$5,0,IF(G278<=+'Vergi Oranları'!$C$5,G278-(F278+I278+L278),+'Vergi Oranları'!$C$5-(F278+I278+L278)))))))","v":0},{"$f":"ROUND(IF(N278=0,0,IF(E278<O278,(E278-$P$3)*'Vergi Oranları'!$G$5/100,(O278-$P$3)*'Vergi Oranları'!$G$5/100)),2)","v":0},{"$f":"IF(E278=0,0,IF(D278=0,0,IF(G278=0,0,IF(G278<=+'Vergi Oranları'!$C$5,0,IF(OR(G278>+'Vergi Oranları'!$C$5,F278+E278<=+'Vergi Oranları'!$C$5),35)))))","v":0},{"$f":"IF(E278=0,0,IF(D278=0,0,IF(G278=0,0,IF(Q278=0,0,IF(F278+E278>=+'Vergi Oranları'!$C$5,G278-(F278+I278+L278+O278),+'Vergi Oranları'!$C$5-(F278+I278+L278+O278))))))","v":0},{"$f":"IF(Q278=0,0,ROUND((R278-$S$3)*+'Vergi Oranları'!$G$6/100,2))","v":0},0]
[null,null,null,null,null,null,0,{"$f":"IF(E279=0,0,IF(D279=0,0,IF(G279=0,0,IF(F279>+'Vergi Oranları'!$C$3,0,IF(OR(G279<='Vergi Oranları'!$C$3,F279+E279<+'Vergi Oranları'!$C$3),15,IF(G279-(E279+F279)<='Vergi Oranları'!$C$3,15,))))))","v":0},{"$f":"IF(E279=0,0,IF(D279=0,0,IF(G279=0,0,IF(H279=0,0,IF(F279+E279<='Vergi Oranları'!$C$3,G279-F279,'Vergi Oranları'!$C$3-F279)))))","v":0},{"$f":"IF(I279=0,0,IF(ROUND((I279-$J$3)*'Vergi Oranları'!$G$3/100,2)<0,0,ROUND((I279-$M$3)*'Vergi Oranları'!$G$3/100,2)))","v":0},{"$f":"IF(E279=0,0,IF(D279=0,0,IF(G279=0,0,IF(F279>+'Vergi Oranları'!$C$4,0,IF(OR(G279<='Vergi Oranları'!$C$4,F279+E279<'Vergi Oranları'!$C$4),20,IF(G279-(E279+F279)<='Vergi Oranları'!$C$4,20,))))))","v":0},{"$f":"IF(E279=0,0,IF(D279=0,0,IF(G279=0,0,IF(K279=0,0,IF(F279+E279<=+'Vergi Oranları'!$C$4,G279-(F279+I279),+'Vergi Oranları'!$C$4-(F279+I279))))))","v":0},{"$f":"IF(L279=0,0,IF(ROUND((L279-$M$3)*+'Vergi Oranları'!$G$4/100,2)<0,0,ROUND((L279-$M$3)*+'Vergi Oranları'!$G$4/100,2)))","v":0},{"$f":"IF(E279=0,0,IF(D279=0,0,IF(G279=0,0,IF(OR(G279>+'Vergi Oranları'!$C$4,G279<=+'Vergi Oranları'!$C$5),27))))","v":0},{"$f":"IF(E279=0,0,IF(D279=0,0,IF(G279=0,0,IF(N279=0,0,IF(F279>'Vergi Oranları'!$C$5,0,IF(G279<=+'Vergi Oranları'!$C$5,G279-(F279+I279+L279),+'Vergi Oranları'!$C$5-(F279+I279+L279)))))))","v":0},{"$f":"ROUND(IF(N279=0,0,IF(E279<O279,(E279-$P$3)*'Vergi Oranları'!$G$5/100,(O279-$P$3)*'Vergi Oranları'!$G$5/100)),2)","v":0},{"$f":"IF(E279=0,0,IF(D279=0,0,IF(G279=0,0,IF(G279<=+'Vergi Oranları'!$C$5,0,IF(OR(G279>+'Vergi Oranları'!$C$5,F279+E279<=+'Vergi Oranları'!$C$5),35)))))","v":0},{"$f":"IF(E279=0,0,IF(D279=0,0,IF(G279=0,0,IF(Q279=0,0,IF(F279+E279>=+'Vergi Oranları'!$C$5,G279-(F279+I279+L279+O279),+'Vergi Oranları'!$C$5-(F279+I279+L279+O279))))))","v":0},{"$f":"IF(Q279=0,0,ROUND((R279-$S$3)*+'Vergi Oranları'!$G$6/100,2))","v":0},0]
[null,null,null,null,null,null,0,{"$f":"IF(E280=0,0,IF(D280=0,0,IF(G280=0,0,IF(F280>+'Vergi Oranları'!$C$3,0,IF(OR(G280<='Vergi Oranları'!$C$3,F280+E280<+'Vergi Oranları'!$C$3),15,IF(G280-(E280+F280)<='Vergi Oranları'!$C$3,15,))))))","v":0},{"$f":"IF(E280=0,0,IF(D280=0,0,IF(G280=0,0,IF(H280=0,0,IF(F280+E280<='Vergi Oranları'!$C$3,G280-F280,'Vergi Oranları'!$C$3-F280)))))","v":0},{"$f":"IF(I280=0,0,IF(ROUND((I280-$J$3)*'Vergi Oranları'!$G$3/100,2)<0,0,ROUND((I280-$M$3)*'Vergi Oranları'!$G$3/100,2)))","v":0},{"$f":"IF(E280=0,0,IF(D280=0,0,IF(G280=0,0,IF(F280>+'Vergi Oranları'!$C$4,0,IF(OR(G280<='Vergi Oranları'!$C$4,F280+E280<'Vergi Oranları'!$C$4),20,IF(G280-(E280+F280)<='Vergi Oranları'!$C$4,20,))))))","v":0},{"$f":"IF(E280=0,0,IF(D280=0,0,IF(G280=0,0,IF(K280=0,0,IF(F280+E280<=+'Vergi Oranları'!$C$4,G280-(F280+I280),+'Vergi Oranları'!$C$4-(F280+I280))))))","v":0},{"$f":"IF(L280=0,0,IF(ROUND((L280-$M$3)*+'Vergi Oranları'!$G$4/100,2)<0,0,ROUND((L280-$M$3)*+'Vergi Oranları'!$G$4/100,2)))","v":0},{"$f":"IF(E280=0,0,IF(D280=0,0,IF(G280=0,0,IF(OR(G280>+'Vergi Oranları'!$C$4,G280<=+'Vergi Oranları'!$C$5),27))))","v":0},{"$f":"IF(E280=0,0,IF(D280=0,0,IF(G280=0,0,IF(N280=0,0,IF(F280>'Vergi Oranları'!$C$5,0,IF(G280<=+'Vergi Oranları'!$C$5,G280-(F280+I280+L280),+'Vergi Oranları'!$C$5-(F280+I280+L280)))))))","v":0},{"$f":"ROUND(IF(N280=0,0,IF(E280<O280,(E280-$P$3)*'Vergi Oranları'!$G$5/100,(O280-$P$3)*'Vergi Oranları'!$G$5/100)),2)","v":0},{"$f":"IF(E280=0,0,IF(D280=0,0,IF(G280=0,0,IF(G280<=+'Vergi Oranları'!$C$5,0,IF(OR(G280>+'Vergi Oranları'!$C$5,F280+E280<=+'Vergi Oranları'!$C$5),35)))))","v":0},{"$f":"IF(E280=0,0,IF(D280=0,0,IF(G280=0,0,IF(Q280=0,0,IF(F280+E280>=+'Vergi Oranları'!$C$5,G280-(F280+I280+L280+O280),+'Vergi Oranları'!$C$5-(F280+I280+L280+O280))))))","v":0},{"$f":"IF(Q280=0,0,ROUND((R280-$S$3)*+'Vergi Oranları'!$G$6/100,2))","v":0},0]
[null,null,null,null,null,null,0,{"$f":"IF(E281=0,0,IF(D281=0,0,IF(G281=0,0,IF(F281>+'Vergi Oranları'!$C$3,0,IF(OR(G281<='Vergi Oranları'!$C$3,F281+E281<+'Vergi Oranları'!$C$3),15,IF(G281-(E281+F281)<='Vergi Oranları'!$C$3,15,))))))","v":0},{"$f":"IF(E281=0,0,IF(D281=0,0,IF(G281=0,0,IF(H281=0,0,IF(F281+E281<='Vergi Oranları'!$C$3,G281-F281,'Vergi Oranları'!$C$3-F281)))))","v":0},{"$f":"IF(I281=0,0,IF(ROUND((I281-$J$3)*'Vergi Oranları'!$G$3/100,2)<0,0,ROUND((I281-$M$3)*'Vergi Oranları'!$G$3/100,2)))","v":0},{"$f":"IF(E281=0,0,IF(D281=0,0,IF(G281=0,0,IF(F281>+'Vergi Oranları'!$C$4,0,IF(OR(G281<='Vergi Oranları'!$C$4,F281+E281<'Vergi Oranları'!$C$4),20,IF(G281-(E281+F281)<='Vergi Oranları'!$C$4,20,))))))","v":0},{"$f":"IF(E281=0,0,IF(D281=0,0,IF(G281=0,0,IF(K281=0,0,IF(F281+E281<=+'Vergi Oranları'!$C$4,G281-(F281+I281),+'Vergi Oranları'!$C$4-(F281+I281))))))","v":0},{"$f":"IF(L281=0,0,IF(ROUND((L281-$M$3)*+'Vergi Oranları'!$G$4/100,2)<0,0,ROUND((L281-$M$3)*+'Vergi Oranları'!$G$4/100,2)))","v":0},{"$f":"IF(E281=0,0,IF(D281=0,0,IF(G281=0,0,IF(OR(G281>+'Vergi Oranları'!$C$4,G281<=+'Vergi Oranları'!$C$5),27))))","v":0},{"$f":"IF(E281=0,0,IF(D281=0,0,IF(G281=0,0,IF(N281=0,0,IF(F281>'Vergi Oranları'!$C$5,0,IF(G281<=+'Vergi Oranları'!$C$5,G281-(F281+I281+L281),+'Vergi Oranları'!$C$5-(F281+I281+L281)))))))","v":0},{"$f":"ROUND(IF(N281=0,0,IF(E281<O281,(E281-$P$3)*'Vergi Oranları'!$G$5/100,(O281-$P$3)*'Vergi Oranları'!$G$5/100)),2)","v":0},{"$f":"IF(E281=0,0,IF(D281=0,0,IF(G281=0,0,IF(G281<=+'Vergi Oranları'!$C$5,0,IF(OR(G281>+'Vergi Oranları'!$C$5,F281+E281<=+'Vergi Oranları'!$C$5),35)))))","v":0},{"$f":"IF(E281=0,0,IF(D281=0,0,IF(G281=0,0,IF(Q281=0,0,IF(F281+E281>=+'Vergi Oranları'!$C$5,G281-(F281+I281+L281+O281),+'Vergi Oranları'!$C$5-(F281+I281+L281+O281))))))","v":0},{"$f":"IF(Q281=0,0,ROUND((R281-$S$3)*+'Vergi Oranları'!$G$6/100,2))","v":0},0]
[null,null,null,null,null,null,0,{"$f":"IF(E282=0,0,IF(D282=0,0,IF(G282=0,0,IF(F282>+'Vergi Oranları'!$C$3,0,IF(OR(G282<='Vergi Oranları'!$C$3,F282+E282<+'Vergi Oranları'!$C$3),15,IF(G282-(E282+F282)<='Vergi Oranları'!$C$3,15,))))))","v":0},{"$f":"IF(E282=0,0,IF(D282=0,0,IF(G282=0,0,IF(H282=0,0,IF(F282+E282<='Vergi Oranları'!$C$3,G282-F282,'Vergi Oranları'!$C$3-F282)))))","v":0},{"$f":"IF(I282=0,0,IF(ROUND((I282-$J$3)*'Vergi Oranları'!$G$3/100,2)<0,0,ROUND((I282-$M$3)*'Vergi Oranları'!$G$3/100,2)))","v":0},{"$f":"IF(E282=0,0,IF(D282=0,0,IF(G282=0,0,IF(F282>+'Vergi Oranları'!$C$4,0,IF(OR(G282<='Vergi Oranları'!$C$4,F282+E282<'Vergi Oranları'!$C$4),20,IF(G282-(E282+F282)<='Vergi Oranları'!$C$4,20,))))))","v":0},{"$f":"IF(E282=0,0,IF(D282=0,0,IF(G282=0,0,IF(K282=0,0,IF(F282+E282<=+'Vergi Oranları'!$C$4,G282-(F282+I282),+'Vergi Oranları'!$C$4-(F282+I282))))))","v":0},{"$f":"IF(L282=0,0,IF(ROUND((L282-$M$3)*+'Vergi Oranları'!$G$4/100,2)<0,0,ROUND((L282-$M$3)*+'Vergi Oranları'!$G$4/100,2)))","v":0},{"$f":"IF(E282=0,0,IF(D282=0,0,IF(G282=0,0,IF(OR(G282>+'Vergi Oranları'!$C$4,G282<=+'Vergi Oranları'!$C$5),27))))","v":0},{"$f":"IF(E282=0,0,IF(D282=0,0,IF(G282=0,0,IF(N282=0,0,IF(F282>'Vergi Oranları'!$C$5,0,IF(G282<=+'Vergi Oranları'!$C$5,G282-(F282+I282+L282),+'Vergi Oranları'!$C$5-(F282+I282+L282)))))))","v":0},{"$f":"ROUND(IF(N282=0,0,IF(E282<O282,(E282-$P$3)*'Vergi Oranları'!$G$5/100,(O282-$P$3)*'Vergi Oranları'!$G$5/100)),2)","v":0},{"$f":"IF(E282=0,0,IF(D282=0,0,IF(G282=0,0,IF(G282<=+'Vergi Oranları'!$C$5,0,IF(OR(G282>+'Vergi Oranları'!$C$5,F282+E282<=+'Vergi Oranları'!$C$5),35)))))","v":0},{"$f":"IF(E282=0,0,IF(D282=0,0,IF(G282=0,0,IF(Q282=0,0,IF(F282+E282>=+'Vergi Oranları'!$C$5,G282-(F282+I282+L282+O282),+'Vergi Oranları'!$C$5-(F282+I282+L282+O282))))))","v":0},{"$f":"IF(Q282=0,0,ROUND((R282-$S$3)*+'Vergi Oranları'!$G$6/100,2))","v":0},0]
[null,null,null,null,null,null,0,{"$f":"IF(E283=0,0,IF(D283=0,0,IF(G283=0,0,IF(F283>+'Vergi Oranları'!$C$3,0,IF(OR(G283<='Vergi Oranları'!$C$3,F283+E283<+'Vergi Oranları'!$C$3),15,IF(G283-(E283+F283)<='Vergi Oranları'!$C$3,15,))))))","v":0},{"$f":"IF(E283=0,0,IF(D283=0,0,IF(G283=0,0,IF(H283=0,0,IF(F283+E283<='Vergi Oranları'!$C$3,G283-F283,'Vergi Oranları'!$C$3-F283)))))","v":0},{"$f":"IF(I283=0,0,IF(ROUND((I283-$J$3)*'Vergi Oranları'!$G$3/100,2)<0,0,ROUND((I283-$M$3)*'Vergi Oranları'!$G$3/100,2)))","v":0},{"$f":"IF(E283=0,0,IF(D283=0,0,IF(G283=0,0,IF(F283>+'Vergi Oranları'!$C$4,0,IF(OR(G283<='Vergi Oranları'!$C$4,F283+E283<'Vergi Oranları'!$C$4),20,IF(G283-(E283+F283)<='Vergi Oranları'!$C$4,20,))))))","v":0},{"$f":"IF(E283=0,0,IF(D283=0,0,IF(G283=0,0,IF(K283=0,0,IF(F283+E283<=+'Vergi Oranları'!$C$4,G283-(F283+I283),+'Vergi Oranları'!$C$4-(F283+I283))))))","v":0},{"$f":"IF(L283=0,0,IF(ROUND((L283-$M$3)*+'Vergi Oranları'!$G$4/100,2)<0,0,ROUND((L283-$M$3)*+'Vergi Oranları'!$G$4/100,2)))","v":0},{"$f":"IF(E283=0,0,IF(D283=0,0,IF(G283=0,0,IF(OR(G283>+'Vergi Oranları'!$C$4,G283<=+'Vergi Oranları'!$C$5),27))))","v":0},{"$f":"IF(E283=0,0,IF(D283=0,0,IF(G283=0,0,IF(N283=0,0,IF(F283>'Vergi Oranları'!$C$5,0,IF(G283<=+'Vergi Oranları'!$C$5,G283-(F283+I283+L283),+'Vergi Oranları'!$C$5-(F283+I283+L283)))))))","v":0},{"$f":"ROUND(IF(N283=0,0,IF(E283<O283,(E283-$P$3)*'Vergi Oranları'!$G$5/100,(O283-$P$3)*'Vergi Oranları'!$G$5/100)),2)","v":0},{"$f":"IF(E283=0,0,IF(D283=0,0,IF(G283=0,0,IF(G283<=+'Vergi Oranları'!$C$5,0,IF(OR(G283>+'Vergi Oranları'!$C$5,F283+E283<=+'Vergi Oranları'!$C$5),35)))))","v":0},{"$f":"IF(E283=0,0,IF(D283=0,0,IF(G283=0,0,IF(Q283=0,0,IF(F283+E283>=+'Vergi Oranları'!$C$5,G283-(F283+I283+L283+O283),+'Vergi Oranları'!$C$5-(F283+I283+L283+O283))))))","v":0},{"$f":"IF(Q283=0,0,ROUND((R283-$S$3)*+'Vergi Oranları'!$G$6/100,2))","v":0},0]
[null,null,null,null,null,null,0,{"$f":"IF(E284=0,0,IF(D284=0,0,IF(G284=0,0,IF(F284>+'Vergi Oranları'!$C$3,0,IF(OR(G284<='Vergi Oranları'!$C$3,F284+E284<+'Vergi Oranları'!$C$3),15,IF(G284-(E284+F284)<='Vergi Oranları'!$C$3,15,))))))","v":0},{"$f":"IF(E284=0,0,IF(D284=0,0,IF(G284=0,0,IF(H284=0,0,IF(F284+E284<='Vergi Oranları'!$C$3,G284-F284,'Vergi Oranları'!$C$3-F284)))))","v":0},{"$f":"IF(I284=0,0,IF(ROUND((I284-$J$3)*'Vergi Oranları'!$G$3/100,2)<0,0,ROUND((I284-$M$3)*'Vergi Oranları'!$G$3/100,2)))","v":0},{"$f":"IF(E284=0,0,IF(D284=0,0,IF(G284=0,0,IF(F284>+'Vergi Oranları'!$C$4,0,IF(OR(G284<='Vergi Oranları'!$C$4,F284+E284<'Vergi Oranları'!$C$4),20,IF(G284-(E284+F284)<='Vergi Oranları'!$C$4,20,))))))","v":0},{"$f":"IF(E284=0,0,IF(D284=0,0,IF(G284=0,0,IF(K284=0,0,IF(F284+E284<=+'Vergi Oranları'!$C$4,G284-(F284+I284),+'Vergi Oranları'!$C$4-(F284+I284))))))","v":0},{"$f":"IF(L284=0,0,IF(ROUND((L284-$M$3)*+'Vergi Oranları'!$G$4/100,2)<0,0,ROUND((L284-$M$3)*+'Vergi Oranları'!$G$4/100,2)))","v":0},{"$f":"IF(E284=0,0,IF(D284=0,0,IF(G284=0,0,IF(OR(G284>+'Vergi Oranları'!$C$4,G284<=+'Vergi Oranları'!$C$5),27))))","v":0},{"$f":"IF(E284=0,0,IF(D284=0,0,IF(G284=0,0,IF(N284=0,0,IF(F284>'Vergi Oranları'!$C$5,0,IF(G284<=+'Vergi Oranları'!$C$5,G284-(F284+I284+L284),+'Vergi Oranları'!$C$5-(F284+I284+L284)))))))","v":0},{"$f":"ROUND(IF(N284=0,0,IF(E284<O284,(E284-$P$3)*'Vergi Oranları'!$G$5/100,(O284-$P$3)*'Vergi Oranları'!$G$5/100)),2)","v":0},{"$f":"IF(E284=0,0,IF(D284=0,0,IF(G284=0,0,IF(G284<=+'Vergi Oranları'!$C$5,0,IF(OR(G284>+'Vergi Oranları'!$C$5,F284+E284<=+'Vergi Oranları'!$C$5),35)))))","v":0},{"$f":"IF(E284=0,0,IF(D284=0,0,IF(G284=0,0,IF(Q284=0,0,IF(F284+E284>=+'Vergi Oranları'!$C$5,G284-(F284+I284+L284+O284),+'Vergi Oranları'!$C$5-(F284+I284+L284+O284))))))","v":0},{"$f":"IF(Q284=0,0,ROUND((R284-$S$3)*+'Vergi Oranları'!$G$6/100,2))","v":0},0]
[null,null,null,null,null,null,0,{"$f":"IF(E285=0,0,IF(D285=0,0,IF(G285=0,0,IF(F285>+'Vergi Oranları'!$C$3,0,IF(OR(G285<='Vergi Oranları'!$C$3,F285+E285<+'Vergi Oranları'!$C$3),15,IF(G285-(E285+F285)<='Vergi Oranları'!$C$3,15,))))))","v":0},{"$f":"IF(E285=0,0,IF(D285=0,0,IF(G285=0,0,IF(H285=0,0,IF(F285+E285<='Vergi Oranları'!$C$3,G285-F285,'Vergi Oranları'!$C$3-F285)))))","v":0},{"$f":"IF(I285=0,0,IF(ROUND((I285-$J$3)*'Vergi Oranları'!$G$3/100,2)<0,0,ROUND((I285-$M$3)*'Vergi Oranları'!$G$3/100,2)))","v":0},{"$f":"IF(E285=0,0,IF(D285=0,0,IF(G285=0,0,IF(F285>+'Vergi Oranları'!$C$4,0,IF(OR(G285<='Vergi Oranları'!$C$4,F285+E285<'Vergi Oranları'!$C$4),20,IF(G285-(E285+F285)<='Vergi Oranları'!$C$4,20,))))))","v":0},{"$f":"IF(E285=0,0,IF(D285=0,0,IF(G285=0,0,IF(K285=0,0,IF(F285+E285<=+'Vergi Oranları'!$C$4,G285-(F285+I285),+'Vergi Oranları'!$C$4-(F285+I285))))))","v":0},{"$f":"IF(L285=0,0,IF(ROUND((L285-$M$3)*+'Vergi Oranları'!$G$4/100,2)<0,0,ROUND((L285-$M$3)*+'Vergi Oranları'!$G$4/100,2)))","v":0},{"$f":"IF(E285=0,0,IF(D285=0,0,IF(G285=0,0,IF(OR(G285>+'Vergi Oranları'!$C$4,G285<=+'Vergi Oranları'!$C$5),27))))","v":0},{"$f":"IF(E285=0,0,IF(D285=0,0,IF(G285=0,0,IF(N285=0,0,IF(F285>'Vergi Oranları'!$C$5,0,IF(G285<=+'Vergi Oranları'!$C$5,G285-(F285+I285+L285),+'Vergi Oranları'!$C$5-(F285+I285+L285)))))))","v":0},{"$f":"ROUND(IF(N285=0,0,IF(E285<O285,(E285-$P$3)*'Vergi Oranları'!$G$5/100,(O285-$P$3)*'Vergi Oranları'!$G$5/100)),2)","v":0},{"$f":"IF(E285=0,0,IF(D285=0,0,IF(G285=0,0,IF(G285<=+'Vergi Oranları'!$C$5,0,IF(OR(G285>+'Vergi Oranları'!$C$5,F285+E285<=+'Vergi Oranları'!$C$5),35)))))","v":0},{"$f":"IF(E285=0,0,IF(D285=0,0,IF(G285=0,0,IF(Q285=0,0,IF(F285+E285>=+'Vergi Oranları'!$C$5,G285-(F285+I285+L285+O285),+'Vergi Oranları'!$C$5-(F285+I285+L285+O285))))))","v":0},{"$f":"IF(Q285=0,0,ROUND((R285-$S$3)*+'Vergi Oranları'!$G$6/100,2))","v":0},0]
[null,null,null,null,null,null,0,{"$f":"IF(E286=0,0,IF(D286=0,0,IF(G286=0,0,IF(F286>+'Vergi Oranları'!$C$3,0,IF(OR(G286<='Vergi Oranları'!$C$3,F286+E286<+'Vergi Oranları'!$C$3),15,IF(G286-(E286+F286)<='Vergi Oranları'!$C$3,15,))))))","v":0},{"$f":"IF(E286=0,0,IF(D286=0,0,IF(G286=0,0,IF(H286=0,0,IF(F286+E286<='Vergi Oranları'!$C$3,G286-F286,'Vergi Oranları'!$C$3-F286)))))","v":0},{"$f":"IF(I286=0,0,IF(ROUND((I286-$J$3)*'Vergi Oranları'!$G$3/100,2)<0,0,ROUND((I286-$M$3)*'Vergi Oranları'!$G$3/100,2)))","v":0},{"$f":"IF(E286=0,0,IF(D286=0,0,IF(G286=0,0,IF(F286>+'Vergi Oranları'!$C$4,0,IF(OR(G286<='Vergi Oranları'!$C$4,F286+E286<'Vergi Oranları'!$C$4),20,IF(G286-(E286+F286)<='Vergi Oranları'!$C$4,20,))))))","v":0},{"$f":"IF(E286=0,0,IF(D286=0,0,IF(G286=0,0,IF(K286=0,0,IF(F286+E286<=+'Vergi Oranları'!$C$4,G286-(F286+I286),+'Vergi Oranları'!$C$4-(F286+I286))))))","v":0},{"$f":"IF(L286=0,0,IF(ROUND((L286-$M$3)*+'Vergi Oranları'!$G$4/100,2)<0,0,ROUND((L286-$M$3)*+'Vergi Oranları'!$G$4/100,2)))","v":0},{"$f":"IF(E286=0,0,IF(D286=0,0,IF(G286=0,0,IF(OR(G286>+'Vergi Oranları'!$C$4,G286<=+'Vergi Oranları'!$C$5),27))))","v":0},{"$f":"IF(E286=0,0,IF(D286=0,0,IF(G286=0,0,IF(N286=0,0,IF(F286>'Vergi Oranları'!$C$5,0,IF(G286<=+'Vergi Oranları'!$C$5,G286-(F286+I286+L286),+'Vergi Oranları'!$C$5-(F286+I286+L286)))))))","v":0},{"$f":"ROUND(IF(N286=0,0,IF(E286<O286,(E286-$P$3)*'Vergi Oranları'!$G$5/100,(O286-$P$3)*'Vergi Oranları'!$G$5/100)),2)","v":0},{"$f":"IF(E286=0,0,IF(D286=0,0,IF(G286=0,0,IF(G286<=+'Vergi Oranları'!$C$5,0,IF(OR(G286>+'Vergi Oranları'!$C$5,F286+E286<=+'Vergi Oranları'!$C$5),35)))))","v":0},{"$f":"IF(E286=0,0,IF(D286=0,0,IF(G286=0,0,IF(Q286=0,0,IF(F286+E286>=+'Vergi Oranları'!$C$5,G286-(F286+I286+L286+O286),+'Vergi Oranları'!$C$5-(F286+I286+L286+O286))))))","v":0},{"$f":"IF(Q286=0,0,ROUND((R286-$S$3)*+'Vergi Oranları'!$G$6/100,2))","v":0},0]
[null,null,null,null,null,null,0,{"$f":"IF(E287=0,0,IF(D287=0,0,IF(G287=0,0,IF(F287>+'Vergi Oranları'!$C$3,0,IF(OR(G287<='Vergi Oranları'!$C$3,F287+E287<+'Vergi Oranları'!$C$3),15,IF(G287-(E287+F287)<='Vergi Oranları'!$C$3,15,))))))","v":0},{"$f":"IF(E287=0,0,IF(D287=0,0,IF(G287=0,0,IF(H287=0,0,IF(F287+E287<='Vergi Oranları'!$C$3,G287-F287,'Vergi Oranları'!$C$3-F287)))))","v":0},{"$f":"IF(I287=0,0,IF(ROUND((I287-$J$3)*'Vergi Oranları'!$G$3/100,2)<0,0,ROUND((I287-$M$3)*'Vergi Oranları'!$G$3/100,2)))","v":0},{"$f":"IF(E287=0,0,IF(D287=0,0,IF(G287=0,0,IF(F287>+'Vergi Oranları'!$C$4,0,IF(OR(G287<='Vergi Oranları'!$C$4,F287+E287<'Vergi Oranları'!$C$4),20,IF(G287-(E287+F287)<='Vergi Oranları'!$C$4,20,))))))","v":0},{"$f":"IF(E287=0,0,IF(D287=0,0,IF(G287=0,0,IF(K287=0,0,IF(F287+E287<=+'Vergi Oranları'!$C$4,G287-(F287+I287),+'Vergi Oranları'!$C$4-(F287+I287))))))","v":0},{"$f":"IF(L287=0,0,IF(ROUND((L287-$M$3)*+'Vergi Oranları'!$G$4/100,2)<0,0,ROUND((L287-$M$3)*+'Vergi Oranları'!$G$4/100,2)))","v":0},{"$f":"IF(E287=0,0,IF(D287=0,0,IF(G287=0,0,IF(OR(G287>+'Vergi Oranları'!$C$4,G287<=+'Vergi Oranları'!$C$5),27))))","v":0},{"$f":"IF(E287=0,0,IF(D287=0,0,IF(G287=0,0,IF(N287=0,0,IF(F287>'Vergi Oranları'!$C$5,0,IF(G287<=+'Vergi Oranları'!$C$5,G287-(F287+I287+L287),+'Vergi Oranları'!$C$5-(F287+I287+L287)))))))","v":0},{"$f":"ROUND(IF(N287=0,0,IF(E287<O287,(E287-$P$3)*'Vergi Oranları'!$G$5/100,(O287-$P$3)*'Vergi Oranları'!$G$5/100)),2)","v":0},{"$f":"IF(E287=0,0,IF(D287=0,0,IF(G287=0,0,IF(G287<=+'Vergi Oranları'!$C$5,0,IF(OR(G287>+'Vergi Oranları'!$C$5,F287+E287<=+'Vergi Oranları'!$C$5),35)))))","v":0},{"$f":"IF(E287=0,0,IF(D287=0,0,IF(G287=0,0,IF(Q287=0,0,IF(F287+E287>=+'Vergi Oranları'!$C$5,G287-(F287+I287+L287+O287),+'Vergi Oranları'!$C$5-(F287+I287+L287+O287))))))","v":0},{"$f":"IF(Q287=0,0,ROUND((R287-$S$3)*+'Vergi Oranları'!$G$6/100,2))","v":0},0]
[null,null,null,null,null,null,0,{"$f":"IF(E288=0,0,IF(D288=0,0,IF(G288=0,0,IF(F288>+'Vergi Oranları'!$C$3,0,IF(OR(G288<='Vergi Oranları'!$C$3,F288+E288<+'Vergi Oranları'!$C$3),15,IF(G288-(E288+F288)<='Vergi Oranları'!$C$3,15,))))))","v":0},{"$f":"IF(E288=0,0,IF(D288=0,0,IF(G288=0,0,IF(H288=0,0,IF(F288+E288<='Vergi Oranları'!$C$3,G288-F288,'Vergi Oranları'!$C$3-F288)))))","v":0},{"$f":"IF(I288=0,0,IF(ROUND((I288-$J$3)*'Vergi Oranları'!$G$3/100,2)<0,0,ROUND((I288-$M$3)*'Vergi Oranları'!$G$3/100,2)))","v":0},{"$f":"IF(E288=0,0,IF(D288=0,0,IF(G288=0,0,IF(F288>+'Vergi Oranları'!$C$4,0,IF(OR(G288<='Vergi Oranları'!$C$4,F288+E288<'Vergi Oranları'!$C$4),20,IF(G288-(E288+F288)<='Vergi Oranları'!$C$4,20,))))))","v":0},{"$f":"IF(E288=0,0,IF(D288=0,0,IF(G288=0,0,IF(K288=0,0,IF(F288+E288<=+'Vergi Oranları'!$C$4,G288-(F288+I288),+'Vergi Oranları'!$C$4-(F288+I288))))))","v":0},{"$f":"IF(L288=0,0,IF(ROUND((L288-$M$3)*+'Vergi Oranları'!$G$4/100,2)<0,0,ROUND((L288-$M$3)*+'Vergi Oranları'!$G$4/100,2)))","v":0},{"$f":"IF(E288=0,0,IF(D288=0,0,IF(G288=0,0,IF(OR(G288>+'Vergi Oranları'!$C$4,G288<=+'Vergi Oranları'!$C$5),27))))","v":0},{"$f":"IF(E288=0,0,IF(D288=0,0,IF(G288=0,0,IF(N288=0,0,IF(F288>'Vergi Oranları'!$C$5,0,IF(G288<=+'Vergi Oranları'!$C$5,G288-(F288+I288+L288),+'Vergi Oranları'!$C$5-(F288+I288+L288)))))))","v":0},{"$f":"ROUND(IF(N288=0,0,IF(E288<O288,(E288-$P$3)*'Vergi Oranları'!$G$5/100,(O288-$P$3)*'Vergi Oranları'!$G$5/100)),2)","v":0},{"$f":"IF(E288=0,0,IF(D288=0,0,IF(G288=0,0,IF(G288<=+'Vergi Oranları'!$C$5,0,IF(OR(G288>+'Vergi Oranları'!$C$5,F288+E288<=+'Vergi Oranları'!$C$5),35)))))","v":0},{"$f":"IF(E288=0,0,IF(D288=0,0,IF(G288=0,0,IF(Q288=0,0,IF(F288+E288>=+'Vergi Oranları'!$C$5,G288-(F288+I288+L288+O288),+'Vergi Oranları'!$C$5-(F288+I288+L288+O288))))))","v":0},{"$f":"IF(Q288=0,0,ROUND((R288-$S$3)*+'Vergi Oranları'!$G$6/100,2))","v":0},0]
[null,null,null,null,null,null,0,{"$f":"IF(E289=0,0,IF(D289=0,0,IF(G289=0,0,IF(F289>+'Vergi Oranları'!$C$3,0,IF(OR(G289<='Vergi Oranları'!$C$3,F289+E289<+'Vergi Oranları'!$C$3),15,IF(G289-(E289+F289)<='Vergi Oranları'!$C$3,15,))))))","v":0},{"$f":"IF(E289=0,0,IF(D289=0,0,IF(G289=0,0,IF(H289=0,0,IF(F289+E289<='Vergi Oranları'!$C$3,G289-F289,'Vergi Oranları'!$C$3-F289)))))","v":0},{"$f":"IF(I289=0,0,IF(ROUND((I289-$J$3)*'Vergi Oranları'!$G$3/100,2)<0,0,ROUND((I289-$M$3)*'Vergi Oranları'!$G$3/100,2)))","v":0},{"$f":"IF(E289=0,0,IF(D289=0,0,IF(G289=0,0,IF(F289>+'Vergi Oranları'!$C$4,0,IF(OR(G289<='Vergi Oranları'!$C$4,F289+E289<'Vergi Oranları'!$C$4),20,IF(G289-(E289+F289)<='Vergi Oranları'!$C$4,20,))))))","v":0},{"$f":"IF(E289=0,0,IF(D289=0,0,IF(G289=0,0,IF(K289=0,0,IF(F289+E289<=+'Vergi Oranları'!$C$4,G289-(F289+I289),+'Vergi Oranları'!$C$4-(F289+I289))))))","v":0},{"$f":"IF(L289=0,0,IF(ROUND((L289-$M$3)*+'Vergi Oranları'!$G$4/100,2)<0,0,ROUND((L289-$M$3)*+'Vergi Oranları'!$G$4/100,2)))","v":0},{"$f":"IF(E289=0,0,IF(D289=0,0,IF(G289=0,0,IF(OR(G289>+'Vergi Oranları'!$C$4,G289<=+'Vergi Oranları'!$C$5),27))))","v":0},{"$f":"IF(E289=0,0,IF(D289=0,0,IF(G289=0,0,IF(N289=0,0,IF(F289>'Vergi Oranları'!$C$5,0,IF(G289<=+'Vergi Oranları'!$C$5,G289-(F289+I289+L289),+'Vergi Oranları'!$C$5-(F289+I289+L289)))))))","v":0},{"$f":"ROUND(IF(N289=0,0,IF(E289<O289,(E289-$P$3)*'Vergi Oranları'!$G$5/100,(O289-$P$3)*'Vergi Oranları'!$G$5/100)),2)","v":0},{"$f":"IF(E289=0,0,IF(D289=0,0,IF(G289=0,0,IF(G289<=+'Vergi Oranları'!$C$5,0,IF(OR(G289>+'Vergi Oranları'!$C$5,F289+E289<=+'Vergi Oranları'!$C$5),35)))))","v":0},{"$f":"IF(E289=0,0,IF(D289=0,0,IF(G289=0,0,IF(Q289=0,0,IF(F289+E289>=+'Vergi Oranları'!$C$5,G289-(F289+I289+L289+O289),+'Vergi Oranları'!$C$5-(F289+I289+L289+O289))))))","v":0},{"$f":"IF(Q289=0,0,ROUND((R289-$S$3)*+'Vergi Oranları'!$G$6/100,2))","v":0},0]
[null,null,null,null,null,null,0,{"$f":"IF(E290=0,0,IF(D290=0,0,IF(G290=0,0,IF(F290>+'Vergi Oranları'!$C$3,0,IF(OR(G290<='Vergi Oranları'!$C$3,F290+E290<+'Vergi Oranları'!$C$3),15,IF(G290-(E290+F290)<='Vergi Oranları'!$C$3,15,))))))","v":0},{"$f":"IF(E290=0,0,IF(D290=0,0,IF(G290=0,0,IF(H290=0,0,IF(F290+E290<='Vergi Oranları'!$C$3,G290-F290,'Vergi Oranları'!$C$3-F290)))))","v":0},{"$f":"IF(I290=0,0,IF(ROUND((I290-$J$3)*'Vergi Oranları'!$G$3/100,2)<0,0,ROUND((I290-$M$3)*'Vergi Oranları'!$G$3/100,2)))","v":0},{"$f":"IF(E290=0,0,IF(D290=0,0,IF(G290=0,0,IF(F290>+'Vergi Oranları'!$C$4,0,IF(OR(G290<='Vergi Oranları'!$C$4,F290+E290<'Vergi Oranları'!$C$4),20,IF(G290-(E290+F290)<='Vergi Oranları'!$C$4,20,))))))","v":0},{"$f":"IF(E290=0,0,IF(D290=0,0,IF(G290=0,0,IF(K290=0,0,IF(F290+E290<=+'Vergi Oranları'!$C$4,G290-(F290+I290),+'Vergi Oranları'!$C$4-(F290+I290))))))","v":0},{"$f":"IF(L290=0,0,IF(ROUND((L290-$M$3)*+'Vergi Oranları'!$G$4/100,2)<0,0,ROUND((L290-$M$3)*+'Vergi Oranları'!$G$4/100,2)))","v":0},{"$f":"IF(E290=0,0,IF(D290=0,0,IF(G290=0,0,IF(OR(G290>+'Vergi Oranları'!$C$4,G290<=+'Vergi Oranları'!$C$5),27))))","v":0},{"$f":"IF(E290=0,0,IF(D290=0,0,IF(G290=0,0,IF(N290=0,0,IF(F290>'Vergi Oranları'!$C$5,0,IF(G290<=+'Vergi Oranları'!$C$5,G290-(F290+I290+L290),+'Vergi Oranları'!$C$5-(F290+I290+L290)))))))","v":0},{"$f":"ROUND(IF(N290=0,0,IF(E290<O290,(E290-$P$3)*'Vergi Oranları'!$G$5/100,(O290-$P$3)*'Vergi Oranları'!$G$5/100)),2)","v":0},{"$f":"IF(E290=0,0,IF(D290=0,0,IF(G290=0,0,IF(G290<=+'Vergi Oranları'!$C$5,0,IF(OR(G290>+'Vergi Oranları'!$C$5,F290+E290<=+'Vergi Oranları'!$C$5),35)))))","v":0},{"$f":"IF(E290=0,0,IF(D290=0,0,IF(G290=0,0,IF(Q290=0,0,IF(F290+E290>=+'Vergi Oranları'!$C$5,G290-(F290+I290+L290+O290),+'Vergi Oranları'!$C$5-(F290+I290+L290+O290))))))","v":0},{"$f":"IF(Q290=0,0,ROUND((R290-$S$3)*+'Vergi Oranları'!$G$6/100,2))","v":0},0]
[null,null,null,null,null,null,0,{"$f":"IF(E291=0,0,IF(D291=0,0,IF(G291=0,0,IF(F291>+'Vergi Oranları'!$C$3,0,IF(OR(G291<='Vergi Oranları'!$C$3,F291+E291<+'Vergi Oranları'!$C$3),15,IF(G291-(E291+F291)<='Vergi Oranları'!$C$3,15,))))))","v":0},{"$f":"IF(E291=0,0,IF(D291=0,0,IF(G291=0,0,IF(H291=0,0,IF(F291+E291<='Vergi Oranları'!$C$3,G291-F291,'Vergi Oranları'!$C$3-F291)))))","v":0},{"$f":"IF(I291=0,0,IF(ROUND((I291-$J$3)*'Vergi Oranları'!$G$3/100,2)<0,0,ROUND((I291-$M$3)*'Vergi Oranları'!$G$3/100,2)))","v":0},{"$f":"IF(E291=0,0,IF(D291=0,0,IF(G291=0,0,IF(F291>+'Vergi Oranları'!$C$4,0,IF(OR(G291<='Vergi Oranları'!$C$4,F291+E291<'Vergi Oranları'!$C$4),20,IF(G291-(E291+F291)<='Vergi Oranları'!$C$4,20,))))))","v":0},{"$f":"IF(E291=0,0,IF(D291=0,0,IF(G291=0,0,IF(K291=0,0,IF(F291+E291<=+'Vergi Oranları'!$C$4,G291-(F291+I291),+'Vergi Oranları'!$C$4-(F291+I291))))))","v":0},{"$f":"IF(L291=0,0,IF(ROUND((L291-$M$3)*+'Vergi Oranları'!$G$4/100,2)<0,0,ROUND((L291-$M$3)*+'Vergi Oranları'!$G$4/100,2)))","v":0},{"$f":"IF(E291=0,0,IF(D291=0,0,IF(G291=0,0,IF(OR(G291>+'Vergi Oranları'!$C$4,G291<=+'Vergi Oranları'!$C$5),27))))","v":0},{"$f":"IF(E291=0,0,IF(D291=0,0,IF(G291=0,0,IF(N291=0,0,IF(F291>'Vergi Oranları'!$C$5,0,IF(G291<=+'Vergi Oranları'!$C$5,G291-(F291+I291+L291),+'Vergi Oranları'!$C$5-(F291+I291+L291)))))))","v":0},{"$f":"ROUND(IF(N291=0,0,IF(E291<O291,(E291-$P$3)*'Vergi Oranları'!$G$5/100,(O291-$P$3)*'Vergi Oranları'!$G$5/100)),2)","v":0},{"$f":"IF(E291=0,0,IF(D291=0,0,IF(G291=0,0,IF(G291<=+'Vergi Oranları'!$C$5,0,IF(OR(G291>+'Vergi Oranları'!$C$5,F291+E291<=+'Vergi Oranları'!$C$5),35)))))","v":0},{"$f":"IF(E291=0,0,IF(D291=0,0,IF(G291=0,0,IF(Q291=0,0,IF(F291+E291>=+'Vergi Oranları'!$C$5,G291-(F291+I291+L291+O291),+'Vergi Oranları'!$C$5-(F291+I291+L291+O291))))))","v":0},{"$f":"IF(Q291=0,0,ROUND((R291-$S$3)*+'Vergi Oranları'!$G$6/100,2))","v":0},0]
[null,null,null,null,null,null,0,{"$f":"IF(E292=0,0,IF(D292=0,0,IF(G292=0,0,IF(F292>+'Vergi Oranları'!$C$3,0,IF(OR(G292<='Vergi Oranları'!$C$3,F292+E292<+'Vergi Oranları'!$C$3),15,IF(G292-(E292+F292)<='Vergi Oranları'!$C$3,15,))))))","v":0},{"$f":"IF(E292=0,0,IF(D292=0,0,IF(G292=0,0,IF(H292=0,0,IF(F292+E292<='Vergi Oranları'!$C$3,G292-F292,'Vergi Oranları'!$C$3-F292)))))","v":0},{"$f":"IF(I292=0,0,IF(ROUND((I292-$J$3)*'Vergi Oranları'!$G$3/100,2)<0,0,ROUND((I292-$M$3)*'Vergi Oranları'!$G$3/100,2)))","v":0},{"$f":"IF(E292=0,0,IF(D292=0,0,IF(G292=0,0,IF(F292>+'Vergi Oranları'!$C$4,0,IF(OR(G292<='Vergi Oranları'!$C$4,F292+E292<'Vergi Oranları'!$C$4),20,IF(G292-(E292+F292)<='Vergi Oranları'!$C$4,20,))))))","v":0},{"$f":"IF(E292=0,0,IF(D292=0,0,IF(G292=0,0,IF(K292=0,0,IF(F292+E292<=+'Vergi Oranları'!$C$4,G292-(F292+I292),+'Vergi Oranları'!$C$4-(F292+I292))))))","v":0},{"$f":"IF(L292=0,0,IF(ROUND((L292-$M$3)*+'Vergi Oranları'!$G$4/100,2)<0,0,ROUND((L292-$M$3)*+'Vergi Oranları'!$G$4/100,2)))","v":0},{"$f":"IF(E292=0,0,IF(D292=0,0,IF(G292=0,0,IF(OR(G292>+'Vergi Oranları'!$C$4,G292<=+'Vergi Oranları'!$C$5),27))))","v":0},{"$f":"IF(E292=0,0,IF(D292=0,0,IF(G292=0,0,IF(N292=0,0,IF(F292>'Vergi Oranları'!$C$5,0,IF(G292<=+'Vergi Oranları'!$C$5,G292-(F292+I292+L292),+'Vergi Oranları'!$C$5-(F292+I292+L292)))))))","v":0},{"$f":"ROUND(IF(N292=0,0,IF(E292<O292,(E292-$P$3)*'Vergi Oranları'!$G$5/100,(O292-$P$3)*'Vergi Oranları'!$G$5/100)),2)","v":0},{"$f":"IF(E292=0,0,IF(D292=0,0,IF(G292=0,0,IF(G292<=+'Vergi Oranları'!$C$5,0,IF(OR(G292>+'Vergi Oranları'!$C$5,F292+E292<=+'Vergi Oranları'!$C$5),35)))))","v":0},{"$f":"IF(E292=0,0,IF(D292=0,0,IF(G292=0,0,IF(Q292=0,0,IF(F292+E292>=+'Vergi Oranları'!$C$5,G292-(F292+I292+L292+O292),+'Vergi Oranları'!$C$5-(F292+I292+L292+O292))))))","v":0},{"$f":"IF(Q292=0,0,ROUND((R292-$S$3)*+'Vergi Oranları'!$G$6/100,2))","v":0},0]
[null,null,null,null,null,null,0,{"$f":"IF(E293=0,0,IF(D293=0,0,IF(G293=0,0,IF(F293>+'Vergi Oranları'!$C$3,0,IF(OR(G293<='Vergi Oranları'!$C$3,F293+E293<+'Vergi Oranları'!$C$3),15,IF(G293-(E293+F293)<='Vergi Oranları'!$C$3,15,))))))","v":0},{"$f":"IF(E293=0,0,IF(D293=0,0,IF(G293=0,0,IF(H293=0,0,IF(F293+E293<='Vergi Oranları'!$C$3,G293-F293,'Vergi Oranları'!$C$3-F293)))))","v":0},{"$f":"IF(I293=0,0,IF(ROUND((I293-$J$3)*'Vergi Oranları'!$G$3/100,2)<0,0,ROUND((I293-$M$3)*'Vergi Oranları'!$G$3/100,2)))","v":0},{"$f":"IF(E293=0,0,IF(D293=0,0,IF(G293=0,0,IF(F293>+'Vergi Oranları'!$C$4,0,IF(OR(G293<='Vergi Oranları'!$C$4,F293+E293<'Vergi Oranları'!$C$4),20,IF(G293-(E293+F293)<='Vergi Oranları'!$C$4,20,))))))","v":0},{"$f":"IF(E293=0,0,IF(D293=0,0,IF(G293=0,0,IF(K293=0,0,IF(F293+E293<=+'Vergi Oranları'!$C$4,G293-(F293+I293),+'Vergi Oranları'!$C$4-(F293+I293))))))","v":0},{"$f":"IF(L293=0,0,IF(ROUND((L293-$M$3)*+'Vergi Oranları'!$G$4/100,2)<0,0,ROUND((L293-$M$3)*+'Vergi Oranları'!$G$4/100,2)))","v":0},{"$f":"IF(E293=0,0,IF(D293=0,0,IF(G293=0,0,IF(OR(G293>+'Vergi Oranları'!$C$4,G293<=+'Vergi Oranları'!$C$5),27))))","v":0},{"$f":"IF(E293=0,0,IF(D293=0,0,IF(G293=0,0,IF(N293=0,0,IF(F293>'Vergi Oranları'!$C$5,0,IF(G293<=+'Vergi Oranları'!$C$5,G293-(F293+I293+L293),+'Vergi Oranları'!$C$5-(F293+I293+L293)))))))","v":0},{"$f":"ROUND(IF(N293=0,0,IF(E293<O293,(E293-$P$3)*'Vergi Oranları'!$G$5/100,(O293-$P$3)*'Vergi Oranları'!$G$5/100)),2)","v":0},{"$f":"IF(E293=0,0,IF(D293=0,0,IF(G293=0,0,IF(G293<=+'Vergi Oranları'!$C$5,0,IF(OR(G293>+'Vergi Oranları'!$C$5,F293+E293<=+'Vergi Oranları'!$C$5),35)))))","v":0},{"$f":"IF(E293=0,0,IF(D293=0,0,IF(G293=0,0,IF(Q293=0,0,IF(F293+E293>=+'Vergi Oranları'!$C$5,G293-(F293+I293+L293+O293),+'Vergi Oranları'!$C$5-(F293+I293+L293+O293))))))","v":0},{"$f":"IF(Q293=0,0,ROUND((R293-$S$3)*+'Vergi Oranları'!$G$6/100,2))","v":0},0]
[null,null,null,null,null,null,0,{"$f":"IF(E294=0,0,IF(D294=0,0,IF(G294=0,0,IF(F294>+'Vergi Oranları'!$C$3,0,IF(OR(G294<='Vergi Oranları'!$C$3,F294+E294<+'Vergi Oranları'!$C$3),15,IF(G294-(E294+F294)<='Vergi Oranları'!$C$3,15,))))))","v":0},{"$f":"IF(E294=0,0,IF(D294=0,0,IF(G294=0,0,IF(H294=0,0,IF(F294+E294<='Vergi Oranları'!$C$3,G294-F294,'Vergi Oranları'!$C$3-F294)))))","v":0},{"$f":"IF(I294=0,0,IF(ROUND((I294-$J$3)*'Vergi Oranları'!$G$3/100,2)<0,0,ROUND((I294-$M$3)*'Vergi Oranları'!$G$3/100,2)))","v":0},{"$f":"IF(E294=0,0,IF(D294=0,0,IF(G294=0,0,IF(F294>+'Vergi Oranları'!$C$4,0,IF(OR(G294<='Vergi Oranları'!$C$4,F294+E294<'Vergi Oranları'!$C$4),20,IF(G294-(E294+F294)<='Vergi Oranları'!$C$4,20,))))))","v":0},{"$f":"IF(E294=0,0,IF(D294=0,0,IF(G294=0,0,IF(K294=0,0,IF(F294+E294<=+'Vergi Oranları'!$C$4,G294-(F294+I294),+'Vergi Oranları'!$C$4-(F294+I294))))))","v":0},{"$f":"IF(L294=0,0,IF(ROUND((L294-$M$3)*+'Vergi Oranları'!$G$4/100,2)<0,0,ROUND((L294-$M$3)*+'Vergi Oranları'!$G$4/100,2)))","v":0},{"$f":"IF(E294=0,0,IF(D294=0,0,IF(G294=0,0,IF(OR(G294>+'Vergi Oranları'!$C$4,G294<=+'Vergi Oranları'!$C$5),27))))","v":0},{"$f":"IF(E294=0,0,IF(D294=0,0,IF(G294=0,0,IF(N294=0,0,IF(F294>'Vergi Oranları'!$C$5,0,IF(G294<=+'Vergi Oranları'!$C$5,G294-(F294+I294+L294),+'Vergi Oranları'!$C$5-(F294+I294+L294)))))))","v":0},{"$f":"ROUND(IF(N294=0,0,IF(E294<O294,(E294-$P$3)*'Vergi Oranları'!$G$5/100,(O294-$P$3)*'Vergi Oranları'!$G$5/100)),2)","v":0},{"$f":"IF(E294=0,0,IF(D294=0,0,IF(G294=0,0,IF(G294<=+'Vergi Oranları'!$C$5,0,IF(OR(G294>+'Vergi Oranları'!$C$5,F294+E294<=+'Vergi Oranları'!$C$5),35)))))","v":0},{"$f":"IF(E294=0,0,IF(D294=0,0,IF(G294=0,0,IF(Q294=0,0,IF(F294+E294>=+'Vergi Oranları'!$C$5,G294-(F294+I294+L294+O294),+'Vergi Oranları'!$C$5-(F294+I294+L294+O294))))))","v":0},{"$f":"IF(Q294=0,0,ROUND((R294-$S$3)*+'Vergi Oranları'!$G$6/100,2))","v":0},0]
[null,null,null,null,null,null,0,{"$f":"IF(E295=0,0,IF(D295=0,0,IF(G295=0,0,IF(F295>+'Vergi Oranları'!$C$3,0,IF(OR(G295<='Vergi Oranları'!$C$3,F295+E295<+'Vergi Oranları'!$C$3),15,IF(G295-(E295+F295)<='Vergi Oranları'!$C$3,15,))))))","v":0},{"$f":"IF(E295=0,0,IF(D295=0,0,IF(G295=0,0,IF(H295=0,0,IF(F295+E295<='Vergi Oranları'!$C$3,G295-F295,'Vergi Oranları'!$C$3-F295)))))","v":0},{"$f":"IF(I295=0,0,IF(ROUND((I295-$J$3)*'Vergi Oranları'!$G$3/100,2)<0,0,ROUND((I295-$M$3)*'Vergi Oranları'!$G$3/100,2)))","v":0},{"$f":"IF(E295=0,0,IF(D295=0,0,IF(G295=0,0,IF(F295>+'Vergi Oranları'!$C$4,0,IF(OR(G295<='Vergi Oranları'!$C$4,F295+E295<'Vergi Oranları'!$C$4),20,IF(G295-(E295+F295)<='Vergi Oranları'!$C$4,20,))))))","v":0},{"$f":"IF(E295=0,0,IF(D295=0,0,IF(G295=0,0,IF(K295=0,0,IF(F295+E295<=+'Vergi Oranları'!$C$4,G295-(F295+I295),+'Vergi Oranları'!$C$4-(F295+I295))))))","v":0},{"$f":"IF(L295=0,0,IF(ROUND((L295-$M$3)*+'Vergi Oranları'!$G$4/100,2)<0,0,ROUND((L295-$M$3)*+'Vergi Oranları'!$G$4/100,2)))","v":0},{"$f":"IF(E295=0,0,IF(D295=0,0,IF(G295=0,0,IF(OR(G295>+'Vergi Oranları'!$C$4,G295<=+'Vergi Oranları'!$C$5),27))))","v":0},{"$f":"IF(E295=0,0,IF(D295=0,0,IF(G295=0,0,IF(N295=0,0,IF(F295>'Vergi Oranları'!$C$5,0,IF(G295<=+'Vergi Oranları'!$C$5,G295-(F295+I295+L295),+'Vergi Oranları'!$C$5-(F295+I295+L295)))))))","v":0},{"$f":"ROUND(IF(N295=0,0,IF(E295<O295,(E295-$P$3)*'Vergi Oranları'!$G$5/100,(O295-$P$3)*'Vergi Oranları'!$G$5/100)),2)","v":0},{"$f":"IF(E295=0,0,IF(D295=0,0,IF(G295=0,0,IF(G295<=+'Vergi Oranları'!$C$5,0,IF(OR(G295>+'Vergi Oranları'!$C$5,F295+E295<=+'Vergi Oranları'!$C$5),35)))))","v":0},{"$f":"IF(E295=0,0,IF(D295=0,0,IF(G295=0,0,IF(Q295=0,0,IF(F295+E295>=+'Vergi Oranları'!$C$5,G295-(F295+I295+L295+O295),+'Vergi Oranları'!$C$5-(F295+I295+L295+O295))))))","v":0},{"$f":"IF(Q295=0,0,ROUND((R295-$S$3)*+'Vergi Oranları'!$G$6/100,2))","v":0},0]
[null,null,null,null,null,null,0,{"$f":"IF(E296=0,0,IF(D296=0,0,IF(G296=0,0,IF(F296>+'Vergi Oranları'!$C$3,0,IF(OR(G296<='Vergi Oranları'!$C$3,F296+E296<+'Vergi Oranları'!$C$3),15,IF(G296-(E296+F296)<='Vergi Oranları'!$C$3,15,))))))","v":0},{"$f":"IF(E296=0,0,IF(D296=0,0,IF(G296=0,0,IF(H296=0,0,IF(F296+E296<='Vergi Oranları'!$C$3,G296-F296,'Vergi Oranları'!$C$3-F296)))))","v":0},{"$f":"IF(I296=0,0,IF(ROUND((I296-$J$3)*'Vergi Oranları'!$G$3/100,2)<0,0,ROUND((I296-$M$3)*'Vergi Oranları'!$G$3/100,2)))","v":0},{"$f":"IF(E296=0,0,IF(D296=0,0,IF(G296=0,0,IF(F296>+'Vergi Oranları'!$C$4,0,IF(OR(G296<='Vergi Oranları'!$C$4,F296+E296<'Vergi Oranları'!$C$4),20,IF(G296-(E296+F296)<='Vergi Oranları'!$C$4,20,))))))","v":0},{"$f":"IF(E296=0,0,IF(D296=0,0,IF(G296=0,0,IF(K296=0,0,IF(F296+E296<=+'Vergi Oranları'!$C$4,G296-(F296+I296),+'Vergi Oranları'!$C$4-(F296+I296))))))","v":0},{"$f":"IF(L296=0,0,IF(ROUND((L296-$M$3)*+'Vergi Oranları'!$G$4/100,2)<0,0,ROUND((L296-$M$3)*+'Vergi Oranları'!$G$4/100,2)))","v":0},{"$f":"IF(E296=0,0,IF(D296=0,0,IF(G296=0,0,IF(OR(G296>+'Vergi Oranları'!$C$4,G296<=+'Vergi Oranları'!$C$5),27))))","v":0},{"$f":"IF(E296=0,0,IF(D296=0,0,IF(G296=0,0,IF(N296=0,0,IF(F296>'Vergi Oranları'!$C$5,0,IF(G296<=+'Vergi Oranları'!$C$5,G296-(F296+I296+L296),+'Vergi Oranları'!$C$5-(F296+I296+L296)))))))","v":0},{"$f":"ROUND(IF(N296=0,0,IF(E296<O296,(E296-$P$3)*'Vergi Oranları'!$G$5/100,(O296-$P$3)*'Vergi Oranları'!$G$5/100)),2)","v":0},{"$f":"IF(E296=0,0,IF(D296=0,0,IF(G296=0,0,IF(G296<=+'Vergi Oranları'!$C$5,0,IF(OR(G296>+'Vergi Oranları'!$C$5,F296+E296<=+'Vergi Oranları'!$C$5),35)))))","v":0},{"$f":"IF(E296=0,0,IF(D296=0,0,IF(G296=0,0,IF(Q296=0,0,IF(F296+E296>=+'Vergi Oranları'!$C$5,G296-(F296+I296+L296+O296),+'Vergi Oranları'!$C$5-(F296+I296+L296+O296))))))","v":0},{"$f":"IF(Q296=0,0,ROUND((R296-$S$3)*+'Vergi Oranları'!$G$6/100,2))","v":0},0]
[null,null,null,null,null,null,0,{"$f":"IF(E297=0,0,IF(D297=0,0,IF(G297=0,0,IF(F297>+'Vergi Oranları'!$C$3,0,IF(OR(G297<='Vergi Oranları'!$C$3,F297+E297<+'Vergi Oranları'!$C$3),15,IF(G297-(E297+F297)<='Vergi Oranları'!$C$3,15,))))))","v":0},{"$f":"IF(E297=0,0,IF(D297=0,0,IF(G297=0,0,IF(H297=0,0,IF(F297+E297<='Vergi Oranları'!$C$3,G297-F297,'Vergi Oranları'!$C$3-F297)))))","v":0},{"$f":"IF(I297=0,0,IF(ROUND((I297-$J$3)*'Vergi Oranları'!$G$3/100,2)<0,0,ROUND((I297-$M$3)*'Vergi Oranları'!$G$3/100,2)))","v":0},{"$f":"IF(E297=0,0,IF(D297=0,0,IF(G297=0,0,IF(F297>+'Vergi Oranları'!$C$4,0,IF(OR(G297<='Vergi Oranları'!$C$4,F297+E297<'Vergi Oranları'!$C$4),20,IF(G297-(E297+F297)<='Vergi Oranları'!$C$4,20,))))))","v":0},{"$f":"IF(E297=0,0,IF(D297=0,0,IF(G297=0,0,IF(K297=0,0,IF(F297+E297<=+'Vergi Oranları'!$C$4,G297-(F297+I297),+'Vergi Oranları'!$C$4-(F297+I297))))))","v":0},{"$f":"IF(L297=0,0,IF(ROUND((L297-$M$3)*+'Vergi Oranları'!$G$4/100,2)<0,0,ROUND((L297-$M$3)*+'Vergi Oranları'!$G$4/100,2)))","v":0},{"$f":"IF(E297=0,0,IF(D297=0,0,IF(G297=0,0,IF(OR(G297>+'Vergi Oranları'!$C$4,G297<=+'Vergi Oranları'!$C$5),27))))","v":0},{"$f":"IF(E297=0,0,IF(D297=0,0,IF(G297=0,0,IF(N297=0,0,IF(F297>'Vergi Oranları'!$C$5,0,IF(G297<=+'Vergi Oranları'!$C$5,G297-(F297+I297+L297),+'Vergi Oranları'!$C$5-(F297+I297+L297)))))))","v":0},{"$f":"ROUND(IF(N297=0,0,IF(E297<O297,(E297-$P$3)*'Vergi Oranları'!$G$5/100,(O297-$P$3)*'Vergi Oranları'!$G$5/100)),2)","v":0},{"$f":"IF(E297=0,0,IF(D297=0,0,IF(G297=0,0,IF(G297<=+'Vergi Oranları'!$C$5,0,IF(OR(G297>+'Vergi Oranları'!$C$5,F297+E297<=+'Vergi Oranları'!$C$5),35)))))","v":0},{"$f":"IF(E297=0,0,IF(D297=0,0,IF(G297=0,0,IF(Q297=0,0,IF(F297+E297>=+'Vergi Oranları'!$C$5,G297-(F297+I297+L297+O297),+'Vergi Oranları'!$C$5-(F297+I297+L297+O297))))))","v":0},{"$f":"IF(Q297=0,0,ROUND((R297-$S$3)*+'Vergi Oranları'!$G$6/100,2))","v":0},0]
[null,null,null,null,null,null,0,{"$f":"IF(E298=0,0,IF(D298=0,0,IF(G298=0,0,IF(F298>+'Vergi Oranları'!$C$3,0,IF(OR(G298<='Vergi Oranları'!$C$3,F298+E298<+'Vergi Oranları'!$C$3),15,IF(G298-(E298+F298)<='Vergi Oranları'!$C$3,15,))))))","v":0},{"$f":"IF(E298=0,0,IF(D298=0,0,IF(G298=0,0,IF(H298=0,0,IF(F298+E298<='Vergi Oranları'!$C$3,G298-F298,'Vergi Oranları'!$C$3-F298)))))","v":0},{"$f":"IF(I298=0,0,IF(ROUND((I298-$J$3)*'Vergi Oranları'!$G$3/100,2)<0,0,ROUND((I298-$M$3)*'Vergi Oranları'!$G$3/100,2)))","v":0},{"$f":"IF(E298=0,0,IF(D298=0,0,IF(G298=0,0,IF(F298>+'Vergi Oranları'!$C$4,0,IF(OR(G298<='Vergi Oranları'!$C$4,F298+E298<'Vergi Oranları'!$C$4),20,IF(G298-(E298+F298)<='Vergi Oranları'!$C$4,20,))))))","v":0},{"$f":"IF(E298=0,0,IF(D298=0,0,IF(G298=0,0,IF(K298=0,0,IF(F298+E298<=+'Vergi Oranları'!$C$4,G298-(F298+I298),+'Vergi Oranları'!$C$4-(F298+I298))))))","v":0},{"$f":"IF(L298=0,0,IF(ROUND((L298-$M$3)*+'Vergi Oranları'!$G$4/100,2)<0,0,ROUND((L298-$M$3)*+'Vergi Oranları'!$G$4/100,2)))","v":0},{"$f":"IF(E298=0,0,IF(D298=0,0,IF(G298=0,0,IF(OR(G298>+'Vergi Oranları'!$C$4,G298<=+'Vergi Oranları'!$C$5),27))))","v":0},{"$f":"IF(E298=0,0,IF(D298=0,0,IF(G298=0,0,IF(N298=0,0,IF(F298>'Vergi Oranları'!$C$5,0,IF(G298<=+'Vergi Oranları'!$C$5,G298-(F298+I298+L298),+'Vergi Oranları'!$C$5-(F298+I298+L298)))))))","v":0},{"$f":"ROUND(IF(N298=0,0,IF(E298<O298,(E298-$P$3)*'Vergi Oranları'!$G$5/100,(O298-$P$3)*'Vergi Oranları'!$G$5/100)),2)","v":0},{"$f":"IF(E298=0,0,IF(D298=0,0,IF(G298=0,0,IF(G298<=+'Vergi Oranları'!$C$5,0,IF(OR(G298>+'Vergi Oranları'!$C$5,F298+E298<=+'Vergi Oranları'!$C$5),35)))))","v":0},{"$f":"IF(E298=0,0,IF(D298=0,0,IF(G298=0,0,IF(Q298=0,0,IF(F298+E298>=+'Vergi Oranları'!$C$5,G298-(F298+I298+L298+O298),+'Vergi Oranları'!$C$5-(F298+I298+L298+O298))))))","v":0},{"$f":"IF(Q298=0,0,ROUND((R298-$S$3)*+'Vergi Oranları'!$G$6/100,2))","v":0},0]
[null,null,null,null,null,null,0,{"$f":"IF(E299=0,0,IF(D299=0,0,IF(G299=0,0,IF(F299>+'Vergi Oranları'!$C$3,0,IF(OR(G299<='Vergi Oranları'!$C$3,F299+E299<+'Vergi Oranları'!$C$3),15,IF(G299-(E299+F299)<='Vergi Oranları'!$C$3,15,))))))","v":0},{"$f":"IF(E299=0,0,IF(D299=0,0,IF(G299=0,0,IF(H299=0,0,IF(F299+E299<='Vergi Oranları'!$C$3,G299-F299,'Vergi Oranları'!$C$3-F299)))))","v":0},{"$f":"IF(I299=0,0,IF(ROUND((I299-$J$3)*'Vergi Oranları'!$G$3/100,2)<0,0,ROUND((I299-$M$3)*'Vergi Oranları'!$G$3/100,2)))","v":0},{"$f":"IF(E299=0,0,IF(D299=0,0,IF(G299=0,0,IF(F299>+'Vergi Oranları'!$C$4,0,IF(OR(G299<='Vergi Oranları'!$C$4,F299+E299<'Vergi Oranları'!$C$4),20,IF(G299-(E299+F299)<='Vergi Oranları'!$C$4,20,))))))","v":0},{"$f":"IF(E299=0,0,IF(D299=0,0,IF(G299=0,0,IF(K299=0,0,IF(F299+E299<=+'Vergi Oranları'!$C$4,G299-(F299+I299),+'Vergi Oranları'!$C$4-(F299+I299))))))","v":0},{"$f":"IF(L299=0,0,IF(ROUND((L299-$M$3)*+'Vergi Oranları'!$G$4/100,2)<0,0,ROUND((L299-$M$3)*+'Vergi Oranları'!$G$4/100,2)))","v":0},{"$f":"IF(E299=0,0,IF(D299=0,0,IF(G299=0,0,IF(OR(G299>+'Vergi Oranları'!$C$4,G299<=+'Vergi Oranları'!$C$5),27))))","v":0},{"$f":"IF(E299=0,0,IF(D299=0,0,IF(G299=0,0,IF(N299=0,0,IF(F299>'Vergi Oranları'!$C$5,0,IF(G299<=+'Vergi Oranları'!$C$5,G299-(F299+I299+L299),+'Vergi Oranları'!$C$5-(F299+I299+L299)))))))","v":0},{"$f":"ROUND(IF(N299=0,0,IF(E299<O299,(E299-$P$3)*'Vergi Oranları'!$G$5/100,(O299-$P$3)*'Vergi Oranları'!$G$5/100)),2)","v":0},{"$f":"IF(E299=0,0,IF(D299=0,0,IF(G299=0,0,IF(G299<=+'Vergi Oranları'!$C$5,0,IF(OR(G299>+'Vergi Oranları'!$C$5,F299+E299<=+'Vergi Oranları'!$C$5),35)))))","v":0},{"$f":"IF(E299=0,0,IF(D299=0,0,IF(G299=0,0,IF(Q299=0,0,IF(F299+E299>=+'Vergi Oranları'!$C$5,G299-(F299+I299+L299+O299),+'Vergi Oranları'!$C$5-(F299+I299+L299+O299))))))","v":0},{"$f":"IF(Q299=0,0,ROUND((R299-$S$3)*+'Vergi Oranları'!$G$6/100,2))","v":0},0]
[null,null,null,null,null,null,0,{"$f":"IF(E300=0,0,IF(D300=0,0,IF(G300=0,0,IF(F300>+'Vergi Oranları'!$C$3,0,IF(OR(G300<='Vergi Oranları'!$C$3,F300+E300<+'Vergi Oranları'!$C$3),15,IF(G300-(E300+F300)<='Vergi Oranları'!$C$3,15,))))))","v":0},{"$f":"IF(E300=0,0,IF(D300=0,0,IF(G300=0,0,IF(H300=0,0,IF(F300+E300<='Vergi Oranları'!$C$3,G300-F300,'Vergi Oranları'!$C$3-F300)))))","v":0},{"$f":"IF(I300=0,0,IF(ROUND((I300-$J$3)*'Vergi Oranları'!$G$3/100,2)<0,0,ROUND((I300-$M$3)*'Vergi Oranları'!$G$3/100,2)))","v":0},{"$f":"IF(E300=0,0,IF(D300=0,0,IF(G300=0,0,IF(F300>+'Vergi Oranları'!$C$4,0,IF(OR(G300<='Vergi Oranları'!$C$4,F300+E300<'Vergi Oranları'!$C$4),20,IF(G300-(E300+F300)<='Vergi Oranları'!$C$4,20,))))))","v":0},{"$f":"IF(E300=0,0,IF(D300=0,0,IF(G300=0,0,IF(K300=0,0,IF(F300+E300<=+'Vergi Oranları'!$C$4,G300-(F300+I300),+'Vergi Oranları'!$C$4-(F300+I300))))))","v":0},{"$f":"IF(L300=0,0,IF(ROUND((L300-$M$3)*+'Vergi Oranları'!$G$4/100,2)<0,0,ROUND((L300-$M$3)*+'Vergi Oranları'!$G$4/100,2)))","v":0},{"$f":"IF(E300=0,0,IF(D300=0,0,IF(G300=0,0,IF(OR(G300>+'Vergi Oranları'!$C$4,G300<=+'Vergi Oranları'!$C$5),27))))","v":0},{"$f":"IF(E300=0,0,IF(D300=0,0,IF(G300=0,0,IF(N300=0,0,IF(F300>'Vergi Oranları'!$C$5,0,IF(G300<=+'Vergi Oranları'!$C$5,G300-(F300+I300+L300),+'Vergi Oranları'!$C$5-(F300+I300+L300)))))))","v":0},{"$f":"ROUND(IF(N300=0,0,IF(E300<O300,(E300-$P$3)*'Vergi Oranları'!$G$5/100,(O300-$P$3)*'Vergi Oranları'!$G$5/100)),2)","v":0},{"$f":"IF(E300=0,0,IF(D300=0,0,IF(G300=0,0,IF(G300<=+'Vergi Oranları'!$C$5,0,IF(OR(G300>+'Vergi Oranları'!$C$5,F300+E300<=+'Vergi Oranları'!$C$5),35)))))","v":0},{"$f":"IF(E300=0,0,IF(D300=0,0,IF(G300=0,0,IF(Q300=0,0,IF(F300+E300>=+'Vergi Oranları'!$C$5,G300-(F300+I300+L300+O300),+'Vergi Oranları'!$C$5-(F300+I300+L300+O300))))))","v":0},{"$f":"IF(Q300=0,0,ROUND((R300-$S$3)*+'Vergi Oranları'!$G$6/100,2))","v":0},0]
[null,null,null,null,null,null,0,{"$f":"IF(E301=0,0,IF(D301=0,0,IF(G301=0,0,IF(F301>+'Vergi Oranları'!$C$3,0,IF(OR(G301<='Vergi Oranları'!$C$3,F301+E301<+'Vergi Oranları'!$C$3),15,IF(G301-(E301+F301)<='Vergi Oranları'!$C$3,15,))))))","v":0},{"$f":"IF(E301=0,0,IF(D301=0,0,IF(G301=0,0,IF(H301=0,0,IF(F301+E301<='Vergi Oranları'!$C$3,G301-F301,'Vergi Oranları'!$C$3-F301)))))","v":0},{"$f":"IF(I301=0,0,IF(ROUND((I301-$J$3)*'Vergi Oranları'!$G$3/100,2)<0,0,ROUND((I301-$M$3)*'Vergi Oranları'!$G$3/100,2)))","v":0},{"$f":"IF(E301=0,0,IF(D301=0,0,IF(G301=0,0,IF(F301>+'Vergi Oranları'!$C$4,0,IF(OR(G301<='Vergi Oranları'!$C$4,F301+E301<'Vergi Oranları'!$C$4),20,IF(G301-(E301+F301)<='Vergi Oranları'!$C$4,20,))))))","v":0},{"$f":"IF(E301=0,0,IF(D301=0,0,IF(G301=0,0,IF(K301=0,0,IF(F301+E301<=+'Vergi Oranları'!$C$4,G301-(F301+I301),+'Vergi Oranları'!$C$4-(F301+I301))))))","v":0},{"$f":"IF(L301=0,0,IF(ROUND((L301-$M$3)*+'Vergi Oranları'!$G$4/100,2)<0,0,ROUND((L301-$M$3)*+'Vergi Oranları'!$G$4/100,2)))","v":0},{"$f":"IF(E301=0,0,IF(D301=0,0,IF(G301=0,0,IF(OR(G301>+'Vergi Oranları'!$C$4,G301<=+'Vergi Oranları'!$C$5),27))))","v":0},{"$f":"IF(E301=0,0,IF(D301=0,0,IF(G301=0,0,IF(N301=0,0,IF(F301>'Vergi Oranları'!$C$5,0,IF(G301<=+'Vergi Oranları'!$C$5,G301-(F301+I301+L301),+'Vergi Oranları'!$C$5-(F301+I301+L301)))))))","v":0},{"$f":"ROUND(IF(N301=0,0,IF(E301<O301,(E301-$P$3)*'Vergi Oranları'!$G$5/100,(O301-$P$3)*'Vergi Oranları'!$G$5/100)),2)","v":0},{"$f":"IF(E301=0,0,IF(D301=0,0,IF(G301=0,0,IF(G301<=+'Vergi Oranları'!$C$5,0,IF(OR(G301>+'Vergi Oranları'!$C$5,F301+E301<=+'Vergi Oranları'!$C$5),35)))))","v":0},{"$f":"IF(E301=0,0,IF(D301=0,0,IF(G301=0,0,IF(Q301=0,0,IF(F301+E301>=+'Vergi Oranları'!$C$5,G301-(F301+I301+L301+O301),+'Vergi Oranları'!$C$5-(F301+I301+L301+O301))))))","v":0},{"$f":"IF(Q301=0,0,ROUND((R301-$S$3)*+'Vergi Oranları'!$G$6/100,2))","v":0},0]
[null,null,null,null,null,null,0,{"$f":"IF(E302=0,0,IF(D302=0,0,IF(G302=0,0,IF(F302>+'Vergi Oranları'!$C$3,0,IF(OR(G302<='Vergi Oranları'!$C$3,F302+E302<+'Vergi Oranları'!$C$3),15,IF(G302-(E302+F302)<='Vergi Oranları'!$C$3,15,))))))","v":0},{"$f":"IF(E302=0,0,IF(D302=0,0,IF(G302=0,0,IF(H302=0,0,IF(F302+E302<='Vergi Oranları'!$C$3,G302-F302,'Vergi Oranları'!$C$3-F302)))))","v":0},{"$f":"IF(I302=0,0,IF(ROUND((I302-$J$3)*'Vergi Oranları'!$G$3/100,2)<0,0,ROUND((I302-$M$3)*'Vergi Oranları'!$G$3/100,2)))","v":0},{"$f":"IF(E302=0,0,IF(D302=0,0,IF(G302=0,0,IF(F302>+'Vergi Oranları'!$C$4,0,IF(OR(G302<='Vergi Oranları'!$C$4,F302+E302<'Vergi Oranları'!$C$4),20,IF(G302-(E302+F302)<='Vergi Oranları'!$C$4,20,))))))","v":0},{"$f":"IF(E302=0,0,IF(D302=0,0,IF(G302=0,0,IF(K302=0,0,IF(F302+E302<=+'Vergi Oranları'!$C$4,G302-(F302+I302),+'Vergi Oranları'!$C$4-(F302+I302))))))","v":0},{"$f":"IF(L302=0,0,IF(ROUND((L302-$M$3)*+'Vergi Oranları'!$G$4/100,2)<0,0,ROUND((L302-$M$3)*+'Vergi Oranları'!$G$4/100,2)))","v":0},{"$f":"IF(E302=0,0,IF(D302=0,0,IF(G302=0,0,IF(OR(G302>+'Vergi Oranları'!$C$4,G302<=+'Vergi Oranları'!$C$5),27))))","v":0},{"$f":"IF(E302=0,0,IF(D302=0,0,IF(G302=0,0,IF(N302=0,0,IF(F302>'Vergi Oranları'!$C$5,0,IF(G302<=+'Vergi Oranları'!$C$5,G302-(F302+I302+L302),+'Vergi Oranları'!$C$5-(F302+I302+L302)))))))","v":0},{"$f":"ROUND(IF(N302=0,0,IF(E302<O302,(E302-$P$3)*'Vergi Oranları'!$G$5/100,(O302-$P$3)*'Vergi Oranları'!$G$5/100)),2)","v":0},{"$f":"IF(E302=0,0,IF(D302=0,0,IF(G302=0,0,IF(G302<=+'Vergi Oranları'!$C$5,0,IF(OR(G302>+'Vergi Oranları'!$C$5,F302+E302<=+'Vergi Oranları'!$C$5),35)))))","v":0},{"$f":"IF(E302=0,0,IF(D302=0,0,IF(G302=0,0,IF(Q302=0,0,IF(F302+E302>=+'Vergi Oranları'!$C$5,G302-(F302+I302+L302+O302),+'Vergi Oranları'!$C$5-(F302+I302+L302+O302))))))","v":0},{"$f":"IF(Q302=0,0,ROUND((R302-$S$3)*+'Vergi Oranları'!$G$6/100,2))","v":0},0]
[null,null,null,null,null,null,0,{"$f":"IF(E303=0,0,IF(D303=0,0,IF(G303=0,0,IF(F303>+'Vergi Oranları'!$C$3,0,IF(OR(G303<='Vergi Oranları'!$C$3,F303+E303<+'Vergi Oranları'!$C$3),15,IF(G303-(E303+F303)<='Vergi Oranları'!$C$3,15,))))))","v":0},{"$f":"IF(E303=0,0,IF(D303=0,0,IF(G303=0,0,IF(H303=0,0,IF(F303+E303<='Vergi Oranları'!$C$3,G303-F303,'Vergi Oranları'!$C$3-F303)))))","v":0},{"$f":"IF(I303=0,0,IF(ROUND((I303-$J$3)*'Vergi Oranları'!$G$3/100,2)<0,0,ROUND((I303-$M$3)*'Vergi Oranları'!$G$3/100,2)))","v":0},{"$f":"IF(E303=0,0,IF(D303=0,0,IF(G303=0,0,IF(F303>+'Vergi Oranları'!$C$4,0,IF(OR(G303<='Vergi Oranları'!$C$4,F303+E303<'Vergi Oranları'!$C$4),20,IF(G303-(E303+F303)<='Vergi Oranları'!$C$4,20,))))))","v":0},{"$f":"IF(E303=0,0,IF(D303=0,0,IF(G303=0,0,IF(K303=0,0,IF(F303+E303<=+'Vergi Oranları'!$C$4,G303-(F303+I303),+'Vergi Oranları'!$C$4-(F303+I303))))))","v":0},{"$f":"IF(L303=0,0,IF(ROUND((L303-$M$3)*+'Vergi Oranları'!$G$4/100,2)<0,0,ROUND((L303-$M$3)*+'Vergi Oranları'!$G$4/100,2)))","v":0},{"$f":"IF(E303=0,0,IF(D303=0,0,IF(G303=0,0,IF(OR(G303>+'Vergi Oranları'!$C$4,G303<=+'Vergi Oranları'!$C$5),27))))","v":0},{"$f":"IF(E303=0,0,IF(D303=0,0,IF(G303=0,0,IF(N303=0,0,IF(F303>'Vergi Oranları'!$C$5,0,IF(G303<=+'Vergi Oranları'!$C$5,G303-(F303+I303+L303),+'Vergi Oranları'!$C$5-(F303+I303+L303)))))))","v":0},{"$f":"ROUND(IF(N303=0,0,IF(E303<O303,(E303-$P$3)*'Vergi Oranları'!$G$5/100,(O303-$P$3)*'Vergi Oranları'!$G$5/100)),2)","v":0},{"$f":"IF(E303=0,0,IF(D303=0,0,IF(G303=0,0,IF(G303<=+'Vergi Oranları'!$C$5,0,IF(OR(G303>+'Vergi Oranları'!$C$5,F303+E303<=+'Vergi Oranları'!$C$5),35)))))","v":0},{"$f":"IF(E303=0,0,IF(D303=0,0,IF(G303=0,0,IF(Q303=0,0,IF(F303+E303>=+'Vergi Oranları'!$C$5,G303-(F303+I303+L303+O303),+'Vergi Oranları'!$C$5-(F303+I303+L303+O303))))))","v":0},{"$f":"IF(Q303=0,0,ROUND((R303-$S$3)*+'Vergi Oranları'!$G$6/100,2))","v":0},0]

{"sheet":"Vergi Oranları","index":1,"n_rows":62,"n_cols":20,"rows_kept":62,"cut":false,"hidden":false,"merged":[[15,1,15,3],[0,2,0,4],[2,4,2,5],[3,4,3,5],[4,4,4,5],[5,4,5,5],[11,5,13,5]]}
[null,null,{"$f":"CONCATENATE(C2,\" \",\"Yılı İçin\")","v":"2025 Yılı İçin"}]
[null,"Yıl",2025,null,null,null,"Oran %"]
[1,"1.Dilim",158000,null,{"$f":"CONCATENATE(C3,\" \",\"TL'ye kadar\",\" \",\"(0\",\"-\",C3,\".-TL)\")","v":"158000 TL'ye kadar (0-158000.-TL)"},null,15,null,null,null,{"$f":"ROUND(C3*0.15,2)","v":23700}]
[2,"2.Dilim",330000,null,{"$f":"CONCATENATE(C4,\"-TL'nin\",\" \",C3,\"-TL'si için\",\" \",K3,\"-TL, fazlası\",\"( \",C4,\"-\",C3,\"-TL)\")","v":"330000-TL'nin 158000-TL'si için 23700-TL, fazlası( 330000-158000-TL)"},null,20,null,null,null,{"$f":"ROUND((C4-C3)*0.2,2)","v":34400},{"$f":"K4+K3","v":58100}]
[3,"3:dilim",1200000,null,{"$f":"CONCATENATE(C5,\"-TL'nin\",\" \",C4,\" \",\"- TL'si için\",\" \",L4,\"-TL\",\" \",\"fazlası\",\"(\",C5,\"-\",C4,\"-TL)\")","v":"1200000-TL'nin 330000 - TL'si için 58100-TL fazlası(1200000-330000-TL)"},null,27]
[null,null,null,null,{"$f":"CONCATENATE(C5,\" \",\"-TL'den fazlası\")","v":"1200000 -TL'den fazlası"},null,35]
[]
[]
[]
[]
[null,null,"D.V.Oranı",7.5900000000000004E-3,null,"Yıl","Asgari Ücret Aylık Brüt"]
[null,null,null,null,null,{"$f":"+C2","v":2025},26005.5]
[null,null,null,null,null,null,"Asgari Ücret Aylık Net "]
[null,null,null,null,null,null,22104.67]
[]
[]
[]
[]
[null,null,15,16,17,18]
[null,null,"Uygulanacak Oran","Vergi Oranı1","Vergi Oranı2","Vergi Oranı2","Vergi Oranı3","Vergi Oranı3"]
[null,null,{"$f":"+D32","v":15},15,0,{"$f":"IF(E21=\"Evet\",G5,0)*100","v":0},0,{"$f":"IF(G21=\"Malesef\",G6,0)*100","v":0}]
[]
[]
[]
[]
[]
[null,null,null,{"$f":"+C19","v":15}]
[null,null,null,{"$f":"+D21","v":15}]
[null,null,null,{"$f":"+F21","v":0}]
[null,null,null,{"$f":"+H21","v":0}]
[]
[null,null,"En Büyük Oran",{"$f":"MAX(D27:D30)","v":15}]
[]
[]
[]
[]
[]
[]
[]
[]
[]
[null,"+"]
[]
[null,{"$f":"CONCATENATE(C2,\" \",\"Gelir Vergisi İstisna Tutarları\")","v":"2025 Gelir Vergisi İstisna Tutarları"}]
[]
[null,"Aylar","İstisna Miktarı"]
[1,"Ocak",{"$f":"IFERROR(VLOOKUP(A47,$G$59:$I$59,3,FALSE),ROUND(($G$14*D47)/100,2))","v":3315.7},{"$f":"IF((A47*$G$14<'Vergi Oranları'!$C$3),'Vergi Oranları'!$G$3,'Vergi Oranları'!$G$4)","v":15}]
[2,"Şubat",{"$f":"IFERROR(VLOOKUP(A48,$G$59:$I$59,3,FALSE),ROUND(($G$14*D48)/100,2))","v":3315.7},{"$f":"IF((A48*$G$14<'Vergi Oranları'!$C$3),'Vergi Oranları'!$G$3,'Vergi Oranları'!$G$4)","v":15}]
[3,"Mart",3315.7,{"$f":"IF((A49*$G$14<'Vergi Oranları'!$C$3),'Vergi Oranları'!$G$3,'Vergi Oranları'!$G$4)","v":15}]
[4,"Nisan",3315.7,{"$f":"IF((A50*$G$14<'Vergi Oranları'!$C$3),'Vergi Oranları'!$G$3,'Vergi Oranları'!$G$4)","v":15}]
[5,"Mayıs",3315.7,{"$f":"IF((A51*$G$14<'Vergi Oranları'!$C$3),'Vergi Oranları'!$G$3,'Vergi Oranları'!$G$4)","v":15}]
[6,"Haziran",3315.7,{"$f":"IF((A52*$G$14<'Vergi Oranları'!$C$3),'Vergi Oranları'!$G$3,'Vergi Oranları'!$G$4)","v":15}]
[7,"Temmuz",3315.7,{"$f":"IF((A53*$G$14<'Vergi Oranları'!$C$3),'Vergi Oranları'!$G$3,'Vergi Oranları'!$G$4)","v":15}]
[8,"Ağustos",4257.57,{"$f":"IF((A54*$G$14<'Vergi Oranları'!$C$3),'Vergi Oranları'!$G$3,'Vergi Oranları'!$G$4)","v":20}]
[9,"Eylül",4420.93,{"$f":"IF((A55*$G$14<'Vergi Oranları'!$C$3),'Vergi Oranları'!$G$3,'Vergi Oranları'!$G$4)","v":20}]
[10,"Ekim",4420.93,{"$f":"IF((A56*$G$14<'Vergi Oranları'!$C$3),'Vergi Oranları'!$G$3,'Vergi Oranları'!$G$4)","v":20}]
[11,"Kasım",4420.93,{"$f":"IF((A57*$G$14<'Vergi Oranları'!$C$3),'Vergi Oranları'!$G$3,'Vergi Oranları'!$G$4)","v":20}]
[12,"Aralık",4420.93,{"$f":"IF((A58*$G$14<'Vergi Oranları'!$C$3),'Vergi Oranları'!$G$3,'Vergi Oranları'!$G$4)","v":20}]
[null,null,{"$f":"SUM(C47:C58)","v":45151.19},null,{"$f":"VLOOKUP(G59,A47:C58,2,0)","v":"Ağustos"}," Geçiş Ayı Vergisi İçin",{"$f":"F60+1","v":8},"Ay",{"$f":"+T62","v":4257.57}]
[null,null,null,null,null,{"$f":"MROUND(C3/G14,1)","v":7}]
[null,"T.C",null,"Adı Soyadı","Yapılacak Ödeme Tutarı (Asgari Ücr İstisna tutarından sonra kalan)","Önceki Aylar Toplam Vergi Matrahı","Toplam Vergi\n Matrahı","Vergi Oranı1","15 Lik Kısmı","15 Lik Kısmın Vergisi","Vergi Oranı2","20 Lik Kısmı","20 Lik Kısmın Vergisi","Vergi Oranı3","27 Lik Kısmı","27 Lik Kısmın Vergisi","Vergi Oranı4","35 Lik Kısmı","35 Lik Kısmın Vergisi","Toplam Vergi Tutarı"]
[null,1,null,1,{"$f":"+G14","v":22104.67},{"$f":"E62*F60","v":154732.69},{"$f":"$F$62+G14","v":176837.36},{"$f":"IF(E62=0,0,IF(D62=0,0,IF(G62=0,0,IF(F62<=+'Vergi Oranları'!$C$3,15,IF(OR(G62<=+'Vergi Oranları'!$C$3,F62+E62<+'Vergi Oranları'!$C$3),15,IF(G62-(E62+F62)<=+'Vergi Oranları'!$C$3,15,))))))","v":15},{"$f":"IF(E62=0,0,IF(D62=0,0,IF(G62=0,0,IF(F62<=+'Vergi Oranları'!$C$3,C3-F62))))","v":3267.3099999999977},{"$f":"IF(I62=0,0,IF(ROUND((I62-$J$3)*'Vergi Oranları'!$G$3/100,2)<0,0,ROUND((I62-$M$3)*'Vergi Oranları'!$G$3/100,2)))","v":490.1},{"$f":"IF(E62=0,0,IF(D62=0,0,IF(G62=0,0,IF(OR(G62>+'Vergi Oranları'!$C$3,F62+E62<=+'Vergi Oranları'!$C$4),20))))","v":20},{"$f":"IF(E62=0,0,IF(D62=0,0,IF(G62=0,0,IF(K62=0,0,IF(G62>+'Vergi Oranları'!$C$3,E62-I62)))))","v":18837.36},{"$f":"IF(L62=0,0,IF(ROUND((L62-$M$3)*'Vergi Oranları'!$G$4/100,2)<0,0,ROUND((L62-$M$3)*'Vergi Oranları'!$G$4/100,2)))","v":3767.47},null,null,null,null,null,null,{"$f":"SUM(J62+M62+P62+S62)","v":4257.57}]